{"text_format":"1","workbook":"xlsx","n_sheets":8,"sheets":["RawScores","Setup","AdvImp","Plot","Approval","Conv","Ranked List","Structure"],"not_rendered":{"charts":0,"images":0,"macros":1,"external_links":0,"defined_names":12,"comments":0,"pivot_tables":0},"unopened":[],"bounds":{"document_bytes":16777216,"sheet_cells":100000,"rows_first":2000,"rows_last":500,"rows_between":2000,"halvings":0,"cell_chars":16384,"cell_head_chars":4096},"cells_cut":0,"cells_raw":0,"read":"whole","date_system":"1900"}

{"sheet":"RawScores","index":0,"n_rows":5,"n_cols":87,"rows_kept":5,"cut":false,"hidden":false,"merged":[]}
["Job Announcement"]
["Job Announcement Date"]
["Exam"]
["Current Date"]
["Applicant ID","Applicant Name","E-mail","Address1","Address2","City","State","Zip","Gender","Race","Vet Points","SSN","Application Submitted"," Item #1"," Item #2"," Item #3"," Item #4"," Item #5"," Item #6"," Item #7"," Item #8"," Item #9"," Item #10"," Item #11"," Item #12"," Item #13"," Item #14"," Item #15"," Item #16"," Item #17"," Item #18"," Item #19"," Item #20"," Item #21"," Item #22"," Item #23"," Item #24"," Item #25"," Item #26"," Item #27"," Item #28"," Item #29"," Item #30"," Item #31"," Item #32"," Item #33"," Item #34"," Item #35"," Item #36"," Item #37"," Item #38"," Item #39"," Item #40"," Item #41"," Item #42"," Item #43"," Item #44"," Item #45"," Item #46"," Item #47"," Item #48"," Item #49"," Item #50"," Item #51"," Item #52"," Item #53"," Item #54"," Item #55"," Item #56"," Item #57"," Item #58"," Item #59"," Item #60"," Item #61"," Item #62"," Item #63"," Item #64"," Item #65"," Item #66"," Item #67"," Item #68"," Item #69"," Item #70","IS TECHNICAL SERVICES SENIOR","CSS","Rank","MDF"]

{"sheet":"Setup","index":1,"n_rows":61,"n_cols":4,"rows_kept":61,"cut":false,"hidden":false,"merged":[[1,0,1,7],[0,0,0,6]]}
["DMRS OIQ Analysis version 10/7/2013"]
[{"$f":"RawScores!B1","v":0}]
[null,"Column ID","Column Number"]
["Last Column in RawScores",{"$f":"HLOOKUP(\"MDF\",OIQstructure,4,FALSE)","v":"CI"},{"$f":"MATCH(\"MDF\",OIQMarkers,0)","v":87}]
["First Item Score Column",{"$f":"HLOOKUP(\"Start\",OIQstructure,4,FALSE)","v":"N"},{"$f":"HLOOKUP(\"Start\",OIQstructure,2,FALSE)","v":14},"(verify this)"]
["Last Item Score Column",{"$f":"HLOOKUP(\"End\",OIQstructure,4,FALSE)","v":"CE"},{"$f":"HLOOKUP(\"End\",OIQstructure,2,FALSE)","v":83},"(verify this)"]
["Current Worksheel Size",{"$f":"COUNT(Conv!A2:A3001)","v":42}]
["Total Applicants",{"$f":"COUNT(RawScores!$A$6:$A$3004)","v":0}]
["Scored Applicants",{"$f":"COUNT(Conv!F:F)","v":0}]
["Passing Applicants",{"$f":"AdvImp!B13","v":0}]
[]
[]
[]
["Passing Score",{"$f":"ROUND(B16*0.75,0)","v":0},"(Enter this number)"]
["Maximum Score Possible",{"$f":"IF((C6-C5+1)*3>B16,(B18)*3,B16)","v":210},"(verify this)"]
["Maximum Obtained Score",{"$f":"MAX(Conv!F:F)","v":0}]
["Min Obtained Score",{"$f":"MIN(Conv!F:F)","v":0}]
["Items",{"$f":"C6-C5+1","v":70},"(verify this)"]
["Reliability",{"$f":"CORREL(Conv!$X$2:$X$2000,Conv!$Y$2:$Y$2000)","v":{"$error":"#DIV/0!"}}]
["Corrected",{"$f":"B19 * 2 / (B19 + 1)","v":{"$error":"#DIV/0!"}}]
[]
["Apply MDF Criteria",{"$f":"INDEX(A55:A56,A54,1)","v":"No"}]
["Set Correlation Scheme"]
[]
[]
[]
[]
[]
[]
[]
[]
[]
[]
[]
[]
[]
[]
[]
[]
[]
[]
[]
[]
[]
[]
[]
[]
[]
[]
[]
[]
[]
["Apply MDF Criteria"]
[2]
["Yes"]
["No"]
[]
["Set Correlation Plan"]
[1]
["Alternating EOT & PWE"]
["All EOT and then all PWE"]

{"sheet":"AdvImp","index":2,"n_rows":28,"n_cols":14,"rows_kept":28,"cut":false,"hidden":false,"merged":[[0,0,0,6],[1,0,1,6],[2,0,2,4],[2,5,2,6],[27,0,27,5],[15,0,15,6],[16,0,16,5],[17,0,17,5],[25,0,25,6],[26,0,26,5],[18,0,18,4],[18,5,18,6],[2,7,3,7],[2,8,3,8],[2,9,3,9],[18,7,19,7],[18,8,19,8],[18,9,19,9]]}
[{"$f":"\"Adverse Impact Analysis for \"","v":"Adverse Impact Analysis for "}]
[{"$f":"RawScores!B1","v":0}]
["Passing Point Impact Analysis for Minorities",null,null,null,null,"Score Stats",null,"Race/Ethnicity","# of Applicants","Adverse Impact?"]
["Ethnic Code","Pass","%","Fail","%","Average","SD"]
[1,{"$f":"SUMIF(Conv!$H$2:$H$3004,A5,Conv!$I$2:$I$3004)","v":0},{"$f":"IF((B5+D5)>0,B5/(B5+D5),\"\")","v":""},{"$f":"COUNTIF(Conv!$H$2:$H$3004,A5)-B5","v":0},{"$f":"IF((B5+D5)>0,D5/(B5+D5),\"\")","v":""},{"$f":"IF(B5+D5>0,AVERAGEIF(Conv!$H$2:$H$3004,A5,Conv!$F$2:$F$3004),\"\")","v":""},{"$f":"IF(B5+D5>1,_xlfn.STDEV.S(Conv!L$2:L$3004),\"\")","v":""},"Black or African American",{"$f":"SUM(B5,D5)","v":0},{"$f":"IF(COUNTBLANK(C5),\"\",IF(C5/$C$9<=0.8,\"Yes\",\"No\"))","v":""}]
[2,{"$f":"SUMIF(Conv!$H$2:$H$3004,A6,Conv!$I$2:$I$3004)","v":0},{"$f":"IF((B6+D6)>0,B6/(B6+D6),\"\")","v":""},{"$f":"COUNTIF(Conv!$H$2:$H$3004,A6)-B6","v":0},{"$f":"IF((B6+D6)>0,D6/(B6+D6),\"\")","v":""},{"$f":"IF(B6+D6>0,AVERAGEIF(Conv!$H$2:$H$3004,A6,Conv!$F$2:$F$3004),\"\")","v":""},{"$f":"IF(B6+D6>1,_xlfn.STDEV.S(Conv!M$2:M$3004),\"\")","v":""},"Asian",0,{"$f":"IF(COUNTBLANK(C6),\"\",IF(C6/$C$9<=0.8,\"Yes\",\"No\"))","v":""}]
[3,{"$f":"SUMIF(Conv!$H$2:$H$3004,A7,Conv!$I$2:$I$3004)","v":0},"",{"$f":"COUNTIF(Conv!$H$2:$H$3004,A7)-B7","v":0},"",{"$f":"IF(B7+D7>0,AVERAGEIF(Conv!$H$2:$H$3004,A7,Conv!$F$2:$F$3004),\"\")","v":""},{"$f":"IF(B7+D7>1,_xlfn.STDEV.S(Conv!N$2:N$3004),\"\")","v":""},"American Indian or Alaska Native",0,{"$f":"IF(COUNTBLANK(C7),\"\",IF(C7/$C$9<=0.8,\"Yes\",\"No\"))","v":""}]
[4,{"$f":"SUMIF(Conv!$H$2:$H$3004,A8,Conv!$I$2:$I$3004)","v":0},"",{"$f":"COUNTIF(Conv!$H$2:$H$3004,A8)-B8","v":0},"",{"$f":"IF(B8+D8>0,AVERAGEIF(Conv!$H$2:$H$3004,A8,Conv!$F$2:$F$3004),\"\")","v":""},{"$f":"IF(B8+D8>1,_xlfn.STDEV.S(Conv!O$2:O$3004),\"\")","v":""},"Hispanic or Latino",0,{"$f":"IF(COUNTBLANK(C8),\"\",IF(C8/$C$9<=0.8,\"Yes\",\"No\"))","v":""}]
[5,{"$f":"SUMIF(Conv!$H$2:$H$3004,A9,Conv!$I$2:$I$3004)","v":0},"",{"$f":"COUNTIF(Conv!$H$2:$H$3004,A9)-B9","v":0},"",{"$f":"IF(B9+D9>0,AVERAGEIF(Conv!$H$2:$H$3004,A9,Conv!$F$2:$F$3004),\"\")","v":""},{"$f":"IF(B9+D9>1,_xlfn.STDEV.S(Conv!P$2:P$3004),\"\")","v":""},"White",0]
[6,{"$f":"SUMIF(Conv!$H$2:$H$3004,A10,Conv!$I$2:$I$3004)","v":0},"",{"$f":"COUNTIF(Conv!$H$2:$H$3004,A10)-B10","v":0},"",{"$f":"IF(B10+D10>0,AVERAGEIF(Conv!$H$2:$H$3004,A10,Conv!$F$2:$F$3004),\"\")","v":""},{"$f":"IF(B10+D10>1,_xlfn.STDEV.S(Conv!Q$2:Q$3004),\"\")","v":""},"Native Hawaiian or Pacific Islander",0,{"$f":"IF(COUNTBLANK(C10),\"\",IF(C10/$C$9<=0.8,\"Yes\",\"No\"))","v":""}]
[7,{"$f":"SUMIF(Conv!$H$2:$H$3004,A11,Conv!$I$2:$I$3004)","v":0},"",{"$f":"COUNTIF(Conv!$H$2:$H$3004,A11)-B11","v":0},"",{"$f":"IF(B11+D11>0,AVERAGEIF(Conv!$H$2:$H$3004,A11,Conv!$F$2:$F$3004),\"\")","v":""},{"$f":"IF(B11+D11>1,_xlfn.STDEV.S(Conv!R$2:R$3004),\"\")","v":""},"Two or More Races",0,{"$f":"IF(COUNTBLANK(C11),\"\",IF(C11/$C$9<=0.8,\"Yes\",\"No\"))","v":""}]
[9,{"$f":"SUMIF(Conv!$H$2:$H$3004,A12,Conv!$I$2:$I$3004)","v":0},"",{"$f":"COUNTIF(Conv!$H$2:$H$3004,A12)-B12","v":0},"",{"$f":"IF(B12+D12>0,AVERAGEIF(Conv!$H$2:$H$3004,A12,Conv!$F$2:$F$3004),\"\")","v":""},{"$f":"IF(B12+D12>1,_xlfn.STDEV.S(Conv!S$2:S$3004),\"\")","v":""},"Not Specified",0]
["Total",{"$f":"SUM(B5:B12)","v":0},{"$f":"IF((B13+D13)>0,B13/(B13+D13),\"\")","v":""},{"$f":"SUM(D5:D12)","v":0},"",{"$f":"AVERAGE(Conv!$F$2:$F$3004)","v":{"$error":"#DIV/0!"}},{"$f":"_xlfn.STDEV.S(Conv!F$2:F$3004)","v":{"$error":"#DIV/0!"}},"Total",0]
["All Minorities",{"$f":"SUM(B5:B8,B10:B11)","v":0},{"$f":"IF((B14+D14)>0,B14/(B14+D14),\"\")","v":""},{"$f":"SUM(D5:D8,D10:D11)","v":0},"",{"$f":"IF(B14+D14>0,AVERAGEIF(Conv!$H$2:$H$3004,\"<5\",Conv!$F$2:$F$3004),\"\")","v":""},{"$f":"IF(B14+D14>1,_xlfn.STDEV.S(Conv!T$2:T$3004),\"\")","v":""},"All Minorities",0,{"$f":"IF(COUNTBLANK(C14),\"\",IF(C14/$C$9<=0.8,\"Yes\",\"No\"))","v":""}]
["80% Rule",{"$f":"C9*0.8","v":{"$error":"#VALUE!"}}]
[{"$f":"IF(AND(B14>0,D14+B14>2),\"Probability that the difference between Minority & White (5) score averages is due to chance = \"&TEXT(TTEST(Conv!P2:P3004,Conv!T2:T3004,2,3),\"0.00\"),\"\")","v":""},null,null,null,null,null,null,null,null,null,null,null,"White","Minority"]
[{"$f":"\"The Chi Square test of independence is\"&IF(G17>0.05,\" not\",\"\")&\" significant:\"","v":{"$error":"#VALUE!"}},null,null,null,null,null,{"$f":"_xlfn.CHISQ.TEST(M17:N17,M18:N18)","v":{"$error":"#VALUE!"}},null,null,null,null,"Observed",{"$f":"B9","v":0},{"$f":"B14","v":0}]
[{"$f":"\"The Z test of the difference in passing rates is\"&IF(AND(G18>-1.96,G18<1.96),\" not\",\"\")&\" significant at the .05 level:\"","v":{"$error":"#VALUE!"}},null,null,null,null,null,{"$f":"(C14-C9)/SQRT((C13*(1-C13))/(B13+D13)*((B14+D14)/(B13+D13))*(1-((B14+D14)/(B13+D13))))","v":{"$error":"#VALUE!"}},null,null,null,null,"Expected",{"$f":"(B9+D9)*C13","v":{"$error":"#VALUE!"}},{"$f":"(B14+D14)*C13","v":{"$error":"#VALUE!"}}]
["Passing Point Impact Analysis for Females",null,null,null,null,"Score Stats",null,"Gender","# of Applicants","Adverse Impact?"]
["Gender","Pass","%","Fail","%","Average","SD"]
["M",{"$f":"SUMIF(Conv!$G$2:$G$3004,A21,Conv!$I$2:$I$3004)","v":0},{"$f":"IF((B21+D21)>0,B21/(B21+D21),\"\")","v":""},{"$f":"COUNTIF(Conv!$G$2:$G$3004,A21)-B21","v":0},{"$f":"IF((B21+D21)>0,D21/(B21+D21),\"\")","v":""},{"$f":"IF(B21+D21>0,AVERAGEIF(Conv!$G$2:$G$3004,A21,Conv!$F$2:$F$3004),\"\")","v":""},{"$f":"IF(B21+D21>1,_xlfn.STDEV.S(Conv!U$2:U$3004),\"\")","v":""},"Male",{"$f":"SUM(B21,D21)","v":0}]
["F",{"$f":"SUMIF(Conv!$G$2:$G$3004,A22,Conv!$I$2:$I$3004)","v":0},{"$f":"IF((B22+D22)>0,B22/(B22+D22),\"\")","v":""},{"$f":"COUNTIF(Conv!$G$2:$G$3004,A22)-B22","v":0},{"$f":"IF((B22+D22)>0,D22/(B22+D22),\"\")","v":""},{"$f":"IF(B22+D22>0,AVERAGEIF(Conv!$G$2:$G$3004,A22,Conv!$F$2:$F$3004),\"\")","v":""},{"$f":"IF(B22+D22>1,_xlfn.STDEV.S(Conv!V$2:V$3004),\"\")","v":""},"Female",{"$f":"SUM(B22,D22)","v":0},{"$f":"IF(COUNTBLANK(C22),\"\",IF(C22/$C$21<=0.8,\"Yes\",\"No\"))","v":""}]
["U",{"$f":"SUMIF(Conv!$G$2:$G$3004,A23,Conv!$I$2:$I$3004)","v":0},{"$f":"IF((B23+D23)>0,B23/(B23+D23),\"\")","v":""},{"$f":"COUNTIF(Conv!$G$2:$G$3004,A23)-B23","v":0},{"$f":"IF((B23+D23)>0,D23/(B23+D23),\"\")","v":""},{"$f":"IF(B23+D23>0,AVERAGEIF(Conv!$G$2:$G$3004,A23,Conv!$F$2:$F$3004),\"\")","v":""},{"$f":"IF(B23+D23>1,_xlfn.STDEV.S(Conv!W$2:W$3004),\"\")","v":""},"Not Specified",{"$f":"SUM(B23,D23)","v":0}]
["Total",{"$f":"SUM(B21:B23)","v":0},{"$f":"IF((B24+D24)>0,B24/(B24+D24),\"\")","v":""},{"$f":"SUM(D21:D23)","v":0},{"$f":"IF((B24+D24)>0,D24/(B24+D24),\"\")","v":""},{"$f":"F13","v":{"$error":"#DIV/0!"}},{"$f":"G13","v":{"$error":"#DIV/0!"}},"Total",{"$f":"SUM(B24,D24)","v":0}]
["80% Rule",{"$f":"C21*0.8","v":{"$error":"#VALUE!"}}]
[{"$f":"IF(AND(B24>0,D24+B24>2),\"Probability that the difference between Minority & White (5) score averages is due to chance = \"&TEXT(TTEST(Conv!P13:P3015,Conv!T13:T3015,2,3),\"0.00\"),\"\")","v":""},null,null,null,null,null,null,null,null,null,null,null,"Males","Females"]
[{"$f":"\"The Chi Square test of independence is\"&IF(G27>0.05,\" not\",\"\")&\" significant:\"","v":{"$error":"#VALUE!"}},null,null,null,null,null,{"$f":"_xlfn.CHISQ.TEST(M27:N27,M28:N28)","v":{"$error":"#VALUE!"}},null,null,null,null,"Observed",{"$f":"B21","v":0},{"$f":"B22","v":0}]
[{"$f":"\"The Z test of the difference in passing rates is\"&IF(AND(G28>-1.96,G28<1.96),\" not\",\"\")&\" significant at the .05 level:\"","v":{"$error":"#VALUE!"}},null,null,null,null,null,{"$f":"(C22-C21)/SQRT((C13*(1-C13))/(B13+D13)*((B22+D22)/(B13+D13))*(1-((B22+D22)/(B13+D13))))","v":{"$error":"#VALUE!"}},null,null,null,null,"Expected",{"$f":"(B21+D21)*C24","v":{"$error":"#VALUE!"}},{"$f":"(B22+D22)*C24","v":{"$error":"#VALUE!"}}]

{"sheet":"Plot","index":3,"n_rows":78,"n_cols":440,"rows_kept":78,"cut":false,"hidden":false,"merged":[]}
[null,{"$f":"IF(B$78>-ROW()+71,\".\",\"\")","v":""},"","","","","","","","","","","","","","","",{"$f":"IF(R$78>-ROW()+71,\".\",\"\")","v":""},"","","","","","","","","","","","","","","",{"$f":"IF(AH$78>-ROW()+71,\".\",\"\")","v":""},"","","","","","","","","","","","","","","",{"$f":"IF(AX$78>-ROW()+71,\".\",\"\")","v":""},"","","","","","","","","","","","","","","",{"$f":"IF(BN$78>-ROW()+71,\".\",\"\")","v":""},"","","","","","","","","","","","","","","",{"$f":"IF(CD$78>-ROW()+71,\".\",\"\")","v":""},"","","","","","","","","","","","","","","",{"$f":"IF(CT$78>-ROW()+71,\".\",\"\")","v":""},"","","","","","","","","","","","","","","",{"$f":"IF(DJ$78>-ROW()+71,\".\",\"\")","v":""},"","","","","","","","","","","","","","","",{"$f":"IF(DZ$78>-ROW()+71,\".\",\"\")","v":""},"","","","","","","","","","","","","","","",{"$f":"IF(EP$78>-ROW()+71,\".\",\"\")","v":""},"","","","","","","","","","","","","","","",{"$f":"IF(FF$78>-ROW()+71,\".\",\"\")","v":""},"","","","","","","","","","","","","","","",{"$f":"IF(FV$78>-ROW()+71,\".\",\"\")","v":""},"","","","","","","","","","","","","","","",{"$f":"IF(GL$78>-ROW()+71,\".\",\"\")","v":""},"","","","","","","","","","","","","","","",{"$f":"IF(HB$78>-ROW()+71,\".\",\"\")","v":""},"","","","","","","","","","","","","","","",{"$f":"IF(HR$78>-ROW()+71,\".\",\"\")","v":""},"","","","","","","","","","","","","","","",{"$f":"IF(IH$78>-ROW()+71,\".\",\"\")","v":""},"","","","","","","","","","","","","","","",{"$f":"IF(IX$78>-ROW()+71,\".\",\"\")","v":""},"","","","","","","","","","","","","","","",{"$f":"IF(JN$78>-ROW()+71,\".\",\"\")","v":""},"","","","","","","","","","","","","","","",{"$f":"IF(KD$78>-ROW()+71,\".\",\"\")","v":""},"","","","","","","","","","","","","","","",{"$f":"IF(KT$78>-ROW()+71,\".\",\"\")","v":""},"","","","","","","","","","","","","","","",{"$f":"IF(LJ$78>-ROW()+71,\".\",\"\")","v":""},"","","","","","","","","","","","","","","","","","","","","","","","","","","","","","","","","","","","","","","","","","","","","","","","","","","","","","","","","","","","","","","",{"$f":"IF(NV$78>-ROW()+71,\".\",\"\")","v":""},"","","","","","","","","","","","","","","","","","","","","","","","","","","","","","","","","","","","","","","","","","","","","","","","","","","","","",""]
[null,"","","","","","","","","","","","","","","","","","","","","","","","","","","","","","","","","","","","","","","","","","","","","","","","","","","","","","","","","","","","","","","","","","","","","","","","","","","","","","","","","","","","","","","","","","","","","","","","","","","","","","","","","","","","","","","","","","","","","","","","","","","","","","","","","","","","","","","","","","","","","","","","","","","","","","","","","","","","","","","","","","","","","","","","","","","","","","","","","","","","","","","","","","","","","","","","","","","","","","","","","","","","","","","","","","","","","","","","","","","","","","","","","","","","","","","","","","","","","","","","","","","","","","","","","","","","","","","","","","","","","","","","","","","","","","","","","","","","","","","","","","","","","","","","","","","","","","","","","","","","","","","","","","","","","","","","",{"$f":"IF(LB$78>-ROW()+71,\".\",\"\")","v":""},"","","","","","","","","","","","","","","","","","","","","","","","","","","","","","","","","","","","","","","","","","","","","","","","","","","","","","","","","","","","","","","","","","","","","","","","","","","","","","","","","","","","","","","","","","","","","","","","","","","","","","","","","","","","","","","","","","","","","","","","","","","","","",""]
[null,"","","","","","","","","","","","","","","","","","","","","","","","","","","","","","","","","","","","","","","","","","","","","","","","","","","","","","","","","","","","","","","","","","","","","","","","","","","","","","","","","","","","","","","","","","","","","","","","","","","","","","","","","","","","","","","","","","","","","","","","","","","","","","","","","","","","","","","","","","","","","","","","","","","","","","","","","","","","","","","","","","","","","","","","","","","","","","","","","","","","","","","","","","","","","","","","","","","","","","","","","","","","","","","","","","","","","","","","","","","","","","","","","","","","","","","","","","","","","","","","","","","","","","","","","","","","","","","","","","","","","","","","","","","","","","","","","","","","","","","","","","","","","","","","","","","","","","","","","","","","","","","","","","","","","","","","","","","","","","","","","","","","","","","","","","","","","","","","","","","","","","","","","","","","","","","","","","","","","","","","","","","","","","","","","","","","","","","","","","","","","","","","","","","","","","","","","","","","","","","","","","","","","","","","","","","","","","","","","","","","","","","","","","","","","","","","","","","","","","",""]
[null,"","","","","","","","","","","","","","","","","","","","","","","","","","","","","","","","","","","","","","","","","","","","","","","","","","","","","","","","","","","","","","","","","","","","","","","","","","","","","","","","","","","","","","","","","","","","","","","","","","","","","","","","","","","","","","","","","","","","","","","","","","","","","","","","","","","","","","","","","","","","","","","","","","","","","","","","","","","","","","","","","","","","","","","","","","","","","","","","","","","","","","","","","","","","","","","","","","","","","","","","","","","","","","","","","","","","","","","","","","","","","","","","","","","","","","","","","","","","","","","","","","","","","","","","","","","","","","","","","","","","","","","","","","","","","","","","","","","","","","","","","","","","","","","","","","","","","","","","","","","","","","","","","","","","","","","","","","","","","","","","","","","","","","","","","","","","","","","","","","","","","","","","","","","","","","","","","","","","","","","","","","","","","","","","","","","","","","","","","","","","","","","","","","","","","","","","","","","","","","","","","","","","","","","","","","","","","","","","","","","","","","","","","","","","","","","","","","","","","","",""]
[null,"","","","","","","","","","","","","","","","","","","","","","","","","","","","","","","","","","","","","","","","","","","","","","","","","","","","","","","","","","","","","","","","","","","","","","","","","","","","","","","","","","","","","","","","","","","","","","","","","","","","","","","","","","","","","","","","","","","","","","","","","","","","","","","","","","","","","","","","","","","","","","","","","","","","","","","","","","","","","","","","","","","","","","","","","","","","","","","","","","","","","","","","","","","","","","","","","","","","","","","","","","","","","","","","","","","","","","","","","","","","","","","","","","","","","","","","","","","","","","","","","","","","","","","","","","","","","","","","","","","","","","","","","","","","","","","","","","","","","","","","","","","","","","","","","","","","","","","","","","","","","","","","","","","","","","","","","","","","","","","","","","","","","","","","","","","","","","","","","","","","","","","","","","","","","","","","","","","","","","","","","","","","","","","","","","","","","","","",{"$f":"IF(NM$78>-ROW()+71,\".\",\"\")","v":""},"","","","","","","","","","","","","","","","","","","","","","","","","","","","","","","","","","","","","","","","","","","","","","","","","","","","","","","","","","","","","","",""]
[null,"","","","","","","","","","","","","","","","","","","","","","","","","","","","","","","","","","","","","","","","","","","","","","","","","","","","","","","","","","","","","","","","","","","","","","","","","","","","","","","","","","","","","","","","","","","","","","","","","","","","","","","","","","","","","","","","","","","","","","","","","","","","","","","","","","","","","","","","","","","","","","","","","","","","","","","","","","","","","","","","","","","","","","","","","","","","","","","","","","","","","","","","","","","","","","","","","","","","","","","","","","","","","","","","","","","","","","","","","","","","","","","","","","","","","","","","","","","","","","","","","","","","","","","","","","","","","","","","","","","","","","","","","","","","","","","","","","","","","","","","","","","","","","","","","","","","","","","","","","","","","","","","","","","","","","","","",{"$f":"IF(LB$78>-ROW()+71,\".\",\"\")","v":""},"","","","","","","","","","","","","","","","","","","","","","","","","","","","","","","","","","","","","","","","","","","","","","","","","","","","","","","","","","","","","","","","","","","","","","","","","","","","","","","","","","","","","","","","","","","","","","","","","","","","","","","","","","","","","","","","","","","","","","","","","","","","","",""]
[null,"","","","","","","","","","","","","","","","","","","","","","","","","","","","","","","","","","","","","","","","","","","","","","","","","","","","","","","","","","","","","","","","","","","","","","","","","","","","","","","","","","","","","","","","","","","","","","","","","","","","","","","","","","","","","","","","","","","","","","","","","","","","","","","","","","","","","","","","","","","","","","","","","","","","","","","","","","","","","","","","","","","","","","","","","","","","","","","","","","","","","","","","","","","","","","","","","","","","","","","","","","","","","","","","","","","","","","","","","","","","","","","","","","","","","","","","","","","","","","","","","","","","","","","","","","","","","","","","","","","","","","","","","","","","","","","","","","","","","","","","","","","","","","","","","","","","","","","","","","","","","","","","","","","","","","","","","","","","","","","","","","","","","","","","","","","","","","","","","","","","","","","","","","","","","","","","","","","","","","","","","","","","","","","","","","","","","","","","","","","","","","","","","","","","","","","","","","","","","","","","","","","","","","","","","","","","","","","","","","","","","","","","","","","","","","","","","","","","","","",""]
[null,"","","","","","","","","","","","","","","","","","","","","","","","","","","","","","","","","","","","","","","","","","","","","","","","","","","","","","","","","","","","","","","","","","","","","","","","","","","","","","","","","","","","","","","","","","","","","","","","","","","","","","","","","","","","","","","","","","","","","","","","","","","","","","","","","","","","","","","","","","","","","","","","","","","","","","","","","","","","","","","","","","","","","","","","","","","","","","","","","","","","","","","","","","","","","","","","","","","","","","","","","","","","","","","","","","","","","","","","","","","","","","","","","","","","","","","","","","","","","","","","","","","","","","","","","","","","","","","","","","","","","","","","","","","","","","","","","","","","","","","","","","","","","","","","","","","","","","","","","","","","","","","","","","","","","","","","","","","","","","","","","","","","","","","","","","","","","","","","","","","","","","","","","","","","","","","","","","","","","","","","","","","","","","","","","","","","","","","","","","","","","","","","","","","","","","","","","","","","","","","","","","","","","","","","","","","","","","","","","","","","","","","","","","","","","","","","","","","","","","",""]
[null,"","","","","","","","","","","","","","","","","","","","","","","","","","","","","","","","","","","","","","","","","","","","","","","","","","","","","","","","","","","","","","","","","","","","","","","","","","","","","","","","","","","","","","","","","","","","","","","","","","","","","","","","","","","","","","","","","","","","","","","","","","","","","","","","","","","","","","","","","","","","","","","","","","","","","","","","","","","","","","","","","","","","","","","","","","","","","","","","","","","","","","","","","","","","","","","","","","","","","","","","","","","","","","","","","","","","","","","","","","","","","","","","","","","","","","","","","","","","","","","","","","","","","","","","","","","","","","","","","","","","","","","","","","","","","","","","","","","","","","","","","","","","","","","","","","","","","","","","","","","","","","","","","","","","","","","","","","","","","","","","","","","","","","","","","","","","","","","","","","","","","","","","","","","","","","","","","","","","","","","","","","","","","","","","","","","","","","","",{"$f":"IF(NM$78>-ROW()+71,\".\",\"\")","v":""},"","","","","","","","","","","","","","","","","","","","","","","","","","","","","","","","","","","","","","","","","","","","","","","","","","","","","","","","","","","","","","",""]
[null,"","","","","","","","","","","","","","","","","","","","","","","","","","","","","","","","","","","","","","","","","","","","","","","","","","","","","","","","","","","","","","","","","","","","","","","","","","","","","","","","","","","","","","","","","","","","","","","","","","","","","","","","","","","","","","","","","","","","","","","","","","","","","","","","","","","","","","","","","","","","","","","","","","","","","","","","","","","","","","","","","","","","","","","","","","","","","","","","","","","","","","","","","","","","","","","","","","","","","","","","","","","","","","","","","","","","","","","","","","","","","","","","","","","","","","","","","","","","","","","","","","","","","","","","","","","","","","","","","","","","","","","","","","","","","","","","","","","","","","","","","","","","","","","","","","","","","","","","","","","","","","","","","","","","","","","","",{"$f":"IF(LB$78>-ROW()+71,\".\",\"\")","v":""},"","","","","","","","","","","","","","","","","","","","","","","","","","","","","","","","","","","","","","","","","","","","","","","","","","","","","","","","","","","","","","","","","","","","","","","","","","","","","","","","","","","","","","","","","","","","","","","","","","","","","","","","","","","","","","","","","","","","","","","","","","","","","",""]
[null,"","","","","","","","","","","","","","","","","","","","","","","","","","","","","","","","","","","","","","","","","","","","","","","","","","","","","","","","","","","","","","","","","","","","","","","","","","","","","","","","","","","","","","","","","","","","","","","","","","","","","","","","","","","","","","","","","","","","","","","","","","","","","","","","","","","","","","","","","","","","","","","","","","","","","","","","","","","","","","","","","","","","","","","","","","","","","","","","","","","","","","","","","","","","","","","","","","","","","","","","","","","","","","","","","","","","","","","","","","","","","","","","","","","","","","","","","","","","","","","","","","","","","","","","","","","","","","","","","","","","","","","","","","","","","","","","","","","","","","","","","","","","","","","","","","","","","","","","","","","","","","","","","","","","","","","","","","","","","","","","","","","","","","","","","","","","","","","","","","","","","","","","","","","","","","","","","","","","","","","","","","","","","","","","","","","","","","","","","","","","","","","","","","","","","","","","","","","","","","","","","","","","","","","","","","","","","","","","","","","","","","","","","","","","","","","","","","","","","","",""]
[null,"","","","","","","","","","","","","","","","","","","","","","","","","","","","","","","","","","","","","","","","","","","","","","","","","","","","","","","","","","","","","","","","","","","","","","","","","","","","","","","","","","","","","","","","","","","","","","","","","","","","","","","","","","","","","","","","","","","","","","","","","","","","","","","","","","","","","","","","","","","","","","","","","","","","","","","","","","","","","","","","","","","","","","","","","","","","","","","","","","","","","","","","","","","","","","","","","","","","","","","","","","","","","","","","","","","","","","","","","","","","","","","","","","","","","","","","","","","","","","","","","","","","","","","","","","","","","","","","","","","","","","","","","","","","","","","","","","","","","","","","","","","","","","","","","","","","","","","","","","","","","","","","","","","","","","","","","","","","","","","","","","","","","","","","","","","","","","","","","","","","","","","","","","","","","","","","","","","","","","","","","","","","","","","","","","","","","","","","","","","","","","","","","","","","","","","","","","","","","","","","","","","","","","","","","","","","","","","","","","","","","","","","","","","","","","","","","","","","","","",""]
[null,"","","","","","","","","","","","","","","","","","","","","","","","","","","","","","","","","","","","","","","","","","","","","","","","","","","","","","","","","","","","","","","","","","","","","","","","","","","","","","","","","","","","","","","","","","","","","","","","","","","","","","","","","","","","","","","","","","","","","","","","","","","","","","","","","","","","","","","","","","","","","","","","","","","","","","","","","","","","","","","","","","","","","","","","","","","","","","","","","","","","","","","","","","","","","","","","","","","","","","","","","","","","","","","","","","","","","","","","","","","","","","","","","","","","","","","","","","","","","","","","","","","","","","","","","","","","","","","","","","","","","","","","","","","","","","","","","","","","","","","","","","","","","","","","","","","","","","","","","","","","","","","","","","","","","","","","","","","","","","","","","","","","","","","","","","","","","","","","","","","","","","","","","","","","","","","","","","","","","","","","","","","","","","","","","","","","","","","",{"$f":"IF(NM$78>-ROW()+71,\".\",\"\")","v":""},"","","","","","","","","","","","","","","","","","","","","","","","","","","","","","","","","","","","","","","","","","","","","","","","","","","","","","","","","","","","","","",""]
[null,"","","","","","","","","","","","","","","","","","","","","","","","","","","","","","","","","","","","","","","","","","","","","","","","","","","","","","","","","","","","","","","","","","","","","","","","","","","","","","","","","","","","","","","","","","","","","","","","","","","","","","","","","","","","","","","","","","","","","","","","","","","","","","","","","","","","","","","","","","","","","","","","","","","","","","","","","","","","","","","","","","","","","","","","","","","","","","","","","","","","","","","","","","","","","","","","","","","","","","","","","","","","","","","","","","","","","","","","","","","","","","","","","","","","","","","","","","","","","","","","","","","","","","","","","","","","","","","","","","","","","","","","","","","","","","","","","","","","","","","","","","","","","","","","","","","","","","","","","","","","","","","","","","","","","","","","",{"$f":"IF(LB$78>-ROW()+71,\".\",\"\")","v":""},"","","","","","","","","","","","","","","","","","","","","","","","","","","","","","","","","","","","","","","","","","","","","","","","","","","","","","","","","","","","","","","","","","","","","","","","","","","","","","","","","","","","","","","","","","","","","","","","","","","","","","","","","","","","","","","","","","","","","","","","","","","","","",""]
[null,"","","","","","","","","","","","","","","","","","","","","","","","","","","","","","","","","","","","","","","","","","","","","","","","","","","","","","","","","","","","","","","","","","","","","","","","","","","","","","","","","","","","","","","","","","","","","","","","","","","","","","","","","","","","","","","","","","","","","","","","","","","","","","","","","","","","","","","","","","","","","","","","","","","","","","","","","","","","","","","","","","","","","","","","","","","","","","","","","","","","","","","","","","","","","","","","","","","","","","","","","","","","","","","","","","","","","","","","","","","","","","","","","","","","","","","","","","","","","","","","","","","","","","","","","","","","","","","","","","","","","","","","","","","","","","","","","","","","","","","","","","","","","","","","","","","","","","","","","","","","","","","","","","","","","","","","","","","","","","","","","","","","","","","","","","","","","","","","","","","","","","","","","","","","","","","","","","","","","","","","","","","","","","","","","","","","","","","","","","","","","","","","","","","","","","","","","","","","","","","","","","","","","","","","","","","","","","","","","","","","","","","","","","","","","","","","","","","","","","",""]
[null,"","","","","","","","","","","","","","","",{"$f":"IF(Q$78>-ROW()+71,\".\",\"\")","v":""},"","","","","","","","","","","","","","","","","","","","","","","","","","","","","","","",{"$f":"IF(AW$78>-ROW()+71,\".\",\"\")","v":""},"","","","","","","","","","","","","","","","","","","","","","","","","","","","","","","",{"$f":"IF(CC$78>-ROW()+71,\".\",\"\")","v":""},"","","","","","","","","","","","","","","","","","","","","","","","","","","","","","","",{"$f":"IF(DI$78>-ROW()+71,\".\",\"\")","v":""},"","","","","","","","","","","","","","","","","","","","","","","","","","","","","","","",{"$f":"IF(EO$78>-ROW()+71,\".\",\"\")","v":""},"","","","","","","","","","","","","","","","","","","","","","","","","","","","","","","",{"$f":"IF(FU$78>-ROW()+71,\".\",\"\")","v":""},"","","","","","","","","","","","","","","","","","","","","","","","","","","","","","","",{"$f":"IF(HA$78>-ROW()+71,\".\",\"\")","v":""},"","","","","","","","","","","","","","","","","","","","","","","","","","","","","","","",{"$f":"IF(IG$78>-ROW()+71,\".\",\"\")","v":""},"","","","","","","","","","","","","","","","","","","","","","","","","","","","","","","",{"$f":"IF(JM$78>-ROW()+71,\".\",\"\")","v":""},"","","","","","","","","","","","","","","","","","","","","","","","","","","","","","","",{"$f":"IF(KS$78>-ROW()+71,\".\",\"\")","v":""},"","","","","","","","","","","","","","","","","","","","","","","","","","","","","","","","","","","","","","","","","","","","","","","","","","","","","","","","","","","","","","","","","","","","","","","","","","","","","","","","","","","","","","","","","","","","","","","","","","","","","","","","","","","","","","","","","","","","","","","","","","","","","","","","","","","","","","",""]
[null,{"$f":"IF(B$78>-ROW()+71,\".\",\"\")","v":""},"","","","","","","","","","","","","","","","","","","","","","","","","","","","","","","",{"$f":"IF(AH$78>-ROW()+71,\".\",\"\")","v":""},"","","","","","","","","","","","","","","","","","","","","","","","","","","","","","","",{"$f":"IF(BN$78>-ROW()+71,\".\",\"\")","v":""},"","","","","","","","","","","","","","","","","","","","","","","","","","","","","","","",{"$f":"IF(CT$78>-ROW()+71,\".\",\"\")","v":""},"","","","","","","","","","","","","","","","","","","","","","","","","","","","","","","",{"$f":"IF(DZ$78>-ROW()+71,\".\",\"\")","v":""},"","","","","","","","","","","","","","","","","","","","","","","","","","","","","","","",{"$f":"IF(FF$78>-ROW()+71,\".\",\"\")","v":""},"","","","","","","","","","","","","","","","","","","","","","","","","","","","","","","",{"$f":"IF(GL$78>-ROW()+71,\".\",\"\")","v":""},"","","","","","","","","","","","","","","","","","","","","","","","","","","","","","","",{"$f":"IF(HR$78>-ROW()+71,\".\",\"\")","v":""},"","","","","","","","","","","","","","","","","","","","","","","","","","","","","","","",{"$f":"IF(IX$78>-ROW()+71,\".\",\"\")","v":""},"","","","","","","","","","","","","","","","","","","","","","","","","","","","","","","",{"$f":"IF(KD$78>-ROW()+71,\".\",\"\")","v":""},"","","","","","","","","","","","","","","","","","","","","","","","","","","","","","","","","","","","","","","","","","","","","","","","","","","","","","","","","","","","","","","","","","","","","","","","","","","","","","","","","","","","","","",{"$f":"IF(NM$78>-ROW()+71,\".\",\"\")","v":""},"","","","","","","","","","","","","","","","","","","","","","","","","","","","","","","","","","","","","","","","","","","","","","","","","","","","","","","","","","","","","","",""]
[null,"","","","","","","","","","","","","","","","","","","","","","","","","","","","","","","","","","","","","","","","","","","","","","","","","","","","","","","","","","","","","","","","","","","","","","","","","","","","","","","","","","","","","","","","","","","","","","","","","","","","","","","","","","","","","","","","","","","","","","","","","","","","","","","","","","","","","","","","","","","","","","","","","","","","","","","","","","","","","","","","","","","","","","","","","","","","","","","","","","","","","","","","","","","","","","","","","","","","","","","","","","","","","","","","","","","","","","","","","","","","","","","","","","","","","","","","","","","","","","","","","","","","","","","","","","","","","","","","","","","","","","","","","","","","","","","","","","","","","","","","","","","","","","","","","","","","","","","","","","","","","","","","","","","","","","","","",{"$f":"IF(LB$78>-ROW()+71,\".\",\"\")","v":""},"","","","","","","","","","","","","","","","","","","","","","","","","","","","","","","","","","","","","","","","","","","","","","","","","","","","","","","","","","","","","","","","","","","","","","","","","","","","","","","","","","","","","","","","","","","","","","","","","","","","","","","","","","","","","","","","","","","","","","","","","","","","","",""]
[null,"","","","","","","","","","","","","","","","","","","","","","","","","","","","","","","","","","","","","","","","","","","","","","","","","","","","","","","","","","","","","","","","","","","","","","","","","","","","","","","","","","","","","","","","","","","","","","","","","","","","","","","","","","","","","","","","","","","","","","","","","","","","","","","","","","","","","","","","","","","","","","","","","","","","","","","","","","","","","","","","","","","","","","","","","","","","","","","","","","","","","","","","","","","","","","","","","","","","","","","","","","","","","","","","","","","","","","","","","","","","","","","","","","","","","","","","","","","","","","","","","","","","","","","","","","","","","","","","","","","","","","","","","","","","","","","","","","","","","","","","","","","","","","","","","","","","","","","","","","","","","","","","","","","","","","","","","","","","","","","","","","","","","","","","","","","","","","","","","","","","","","","","","","","","","","","","","","","","","","","","","","","","","","","","","","","","","","","","","","","","","","","","","","","","","","","","","","","","","","","","","","","","","","","","","","","","","","","","","","","","","","","","","","","","","","","","","","","","","","",""]
[null,"","","","","","","","","","","","","","","","","","","","","","","","","","","","","","","","","","","","","","","","","","","","","","","","","","","","","","","","","","","","","","","","","","","","","","","","","","","","","","","","","","","","","","","","","","","","","","","","","","","","","","","","","","","","","","","","","","","","","","","","","","","","","","","","","","","","","","","","","","","","","","","","","","","","","","","","","","","","","","","","","","","","","","","","","","","","","","","","","","","","","","","","","","","","","","","","","","","","","","","","","","","","","","","","","","","","","","","","","","","","","","","","","","","","","","","","","","","","","","","","","","","","","","","","","","","","","","","","","","","","","","","","","","","","","","","","","","","","","","","","","","","","","","","","","","","","","","","","","","","","","","","","","","","","","","","","","","","","","","","","","","","","","","","","","","","","","","","","","","","","","","","","","","","","","","","","","","","","","","","","","","","","","","","","","","","","","","","","","","","","","","","","","","","","","","","","","","","","","","","","","","","","","","","","","","","","","","","","","","","","","","","","","","","","","","","","","","","","","","",""]
[null,"","","","","","","","","","","","","","","","","","","","","","","","","","","","","","","","","","","","","","","","","","","","","","","","","","","","","","","","","","","","","","","","","","","","","","","","","","","","","","","","","","","","","","","","","","","","","","","","","","","","","","","","","","","","","","","","","","","","","","","","","","","","","","","","","","","","","","","","","","","","","","","","","","","","","","","","","","","","","","","","","","","","","","","","","","","","","","","","","","","","","","","","","","","","","","","","","","","","","","","","","","","","","","","","","","","","","","","","","","","","","","","","","","","","","","","","","","","","","","","","","","","","","","","","","","","","","","","","","","","","","","","","","","","","","","","","","","","","","","","","","","","","","","","","","","","","","","","","","","","","","","","","","","","","","","","","","","","","","","","","","","","","","","","","","","","","","","","","","","","","","","","","","","","","","","","","","","","","","","","","","","","","","","","","","","","","","","","",{"$f":"IF(NM$78>-ROW()+71,\".\",\"\")","v":""},"","","","","","","","","","","","","","","","","","","","","","","","","","","","","","","","","","","","","","","","","","","","","","","","","","","","","","","","","","","","","","",""]
[null,"","","","","","","","","","","","","","","","","","","","","","","","","","","","","","","","","","","","","","","","","","","","","","","","","","","","","","","","","","","","","","","","","","","","","","","","","","","","","","","","","","","","","","","","","","","","","","","","","","","","","","","","","","","","","","","","","","","","","","","","","","","","","","","","","","","","","","","","","","","","","","","","","","","","","","","","","","","","","","","","","","","","","","","","","","","","","","","","","","","","","","","","","","","","","","","","","","","","","","","","","","","","","","","","","","","","","","","","","","","","","","","","","","","","","","","","","","","","","","","","","","","","","","","","","","","","","","","","","","","","","","","","","","","","","","","","","","","","","","","","","","","","","","","","","","","","","","","","","","","","","","","","","","","","","","","","",{"$f":"IF(LB$78>-ROW()+71,\".\",\"\")","v":""},"","","","","","","","","","","","","","","","","","","","","","","","","","","","","","","","","","","","","","","","","","","","","","","","","","","","","","","","","","","","","","","","","","","","","","","","","","","","","","","","","","","","","","","","","","","","","","","","","","","","","","","","","","","","","","","","","","","","","","","","","","","","","",""]
[null,"","","","","","","","","","","","","","","","","","","","","","","","","","","","","","","","","","","","","","","","","","","","","","","","","","","","","","","","","","","","","","","","","","","","","","","","","","","","","","","","","","","","","","","","","","","","","","","","","","","","","","","","","","","","","","","","","","","","","","","","","","","","","","","","","","","","","","","","","","","","","","","","","","","","","","","","","","","","","","","","","","","","","","","","","","","","","","","","","","","","","","","","","","","","","","","","","","","","","","","","","","","","","","","","","","","","","","","","","","","","","","","","","","","","","","","","","","","","","","","","","","","","","","","","","","","","","","","","","","","","","","","","","","","","","","","","","","","","","","","","","","","","","","","","","","","","","","","","","","","","","","","","","","","","","","","","","","","","","","","","","","","","","","","","","","","","","","","","","","","","","","","","","","","","","","","","","","","","","","","","","","","","","","","","","","","","","","","","","","","","","","","","","","","","","","","","","","","","","","","","","","","","","","","","","","","","","","","","","","","","","","","","","","","","","","","","","","","","","","",""]
[null,"","","","","","","","","","","","","","","","","","","","","","","","","","","","","","","","","","","","","","","","","","","","","","","","","","","","","","","","","","","","","","","","","","","","","","","","","","","","","","","","","","","","","","","","","","","","","","","","","","","","","","","","","","","","","","","","","","","","","","","","","","","","","","","","","","","","","","","","","","","","","","","","","","","","","","","","","","","","","","","","","","","","","","","","","","","","","","","","","","","","","","","","","","","","","","","","","","","","","","","","","","","","","","","","","","","","","","","","","","","","","","","","","","","","","","","","","","","","","","","","","","","","","","","","","","","","","","","","","","","","","","","","","","","","","","","","","","","","","","","","","","","","","","","","","","","","","","","","","","","","","","","","","","","","","","","","","","","","","","","","","","","","","","","","","","","","","","","","","","","","","","","","","","","","","","","","","","","","","","","","","","","","","","","","","","","","","","","","","","","","","","","","","","","","","","","","","","","","","","","","","","","","","","","","","","","","","","","","","","","","","","","","","","","","","","","","","","","","","","",""]
[null,"","","","","","","","","","","","","","","","","","","","","","","","","","","","","","","","","","","","","","","","","","","","","","","","","","","","","","","","","","","","","","","","","","","","","","","","","","","","","","","","","","","","","","","","","","","","","","","","","","","","","","","","","","","","","","","","","","","","","","","","","","","","","","","","","","","","","","","","","","","","","","","","","","","","","","","","","","","","","","","","","","","","","","","","","","","","","","","","","","","","","","","","","","","","","","","","","","","","","","","","","","","","","","","","","","","","","","","","","","","","","","","","","","","","","","","","","","","","","","","","","","","","","","","","","","","","","","","","","","","","","","","","","","","","","","","","","","","","","","","","","","","","","","","","","","","","","","","","","","","","","","","","","","","","","","","","","","","","","","","","","","","","","","","","","","","","","","","","","","","","","","","","","","","","","","","","","","","","","","","","","","","","","","","","","","","","","","","",{"$f":"IF(NM$78>-ROW()+71,\".\",\"\")","v":""},"","","","","","","","","","","","","","","","","","","","","","","","","","","","","","","","","","","","","","","","","","","","","","","","","","","","","","","","","","","","","","",""]
[null,"","","","","","","","","","","","","","","","","","","","","","","","","","","","","","","","","","","","","","","","","","","","","","","","","","","","","","","","","","","","","","","","","","","","","","","","","","","","","","","","","","","","","","","","","","","","","","","","","","","","","","","","","","","","","","","","","","","","","","","","","","","","","","","","","","","","","","","","","","","","","","","","","","","","","","","","","","","","","","","","","","","","","","","","","","","","","","","","","","","","","","","","","","","","","","","","","","","","","","","","","","","","","","","","","","","","","","","","","","","","","","","","","","","","","","","","","","","","","","","","","","","","","","","","","","","","","","","","","","","","","","","","","","","","","","","","","","","","","","","","","","","","","","","","","","","","","","","","","","","","","","","","","","","","","","","","",{"$f":"IF(LB$78>-ROW()+71,\".\",\"\")","v":""},"","","","","","","","","","","","","","","","","","","","","","","","","","","","","","","","","","","","","","","","","","","","","","","","","","","","","","","","","","","","","","","","","","","","","","","","","","","","","","","","","","","","","","","","","","","","","","","","","","","","","","","","","","","","","","","","","","","","","","","","","","","","","",""]
[null,"","","","","","","","","","","","","","","","","","","","","","","","","","","","","","","","","","","","","","","","","","","","","","","","","","","","","","","","","","","","","","","","","","","","","","","","","","","","","","","","","","","","","","","","","","","","","","","","","","","","","","","","","","","","","","","","","","","","","","","","","","","","","","","","","","","","","","","","","","","","","","","","","","","","","","","","","","","","","","","","","","","","","","","","","","","","","","","","","","","","","","","","","","","","","","","","","","","","","","","","","","","","","","","","","","","","","","","","","","","","","","","","","","","","","","","","","","","","","","","","","","","","","","","","","","","","","","","","","","","","","","","","","","","","","","","","","","","","","","","","","","","","","","","","","","","","","","","","","","","","","","","","","","","","","","","","","","","","","","","","","","","","","","","","","","","","","","","","","","","","","","","","","","","","","","","","","","","","","","","","","","","","","","","","","","","","","","","","","","","","","","","","","","","","","","","","","","","","","","","","","","","","","","","","","","","","","","","","","","","","","","","","","","","","","","","","","","","","","","",""]
[null,"","","","","","","","","","","","","","","","","","","","","","","","","","","","","","","","","","","","","","","","","","","","","","","","","","","","","","","","","","","","","","","","","","","","","","","","","","","","","","","","","","","","","","","","","","","","","","","","","","","","","","","","","","","","","","","","","","","","","","","","","","","","","","","","","","","","","","","","","","","","","","","","","","","","","","","","","","","","","","","","","","","","","","","","","","","","","","","","","","","","","","","","","","","","","","","","","","","","","","","","","","","","","","","","","","","","","","","","","","","","","","","","","","","","","","","","","","","","","","","","","","","","","","","","","","","","","","","","","","","","","","","","","","","","","","","","","","","","","","","","","","","","","","","","","","","","","","","","","","","","","","","","","","","","","","","","","","","","","","","","","","","","","","","","","","","","","","","","","","","","","","","","","","","","","","","","","","","","","","","","","","","","","","","","","","","","","","","","","","","","","","","","","","","","","","","","","","","","","","","","","","","","","","","","","","","","","","","","","","","","","","","","","","","","","","","","","","","","","","",""]
[null,"","","","","","","","","","","","","","","","","","","","","","","","","","","","","","","","","","","","","","","","","","","","","","","","","","","","","","","","","","","","","","","","","","","","","","","","","","","","","","","","","","","","","","","","","","","","","","","","","","","","","","","","","","","","","","","","","","","","","","","","","","","","","","","","","","","","","","","","","","","","","","","","","","","","","","","","","","","","","","","","","","","","","","","","","","","","","","","","","","","","","","","","","","","","","","","","","","","","","","","","","","","","","","","","","","","","","","","","","","","","","","","","","","","","","","","","","","","","","","","","","","","","","","","","","","","","","","","","","","","","","","","","","","","","","","","","","","","","","","","","","","","","","","","","","","","","","","","","","","","","","","","","","","","","","","","","","","","","","","","","","","","","","","","","","","","","","","","","","","","","","","","","","","","","","","","","","","","","","","","","","","","","","","","","","","","","","","","",{"$f":"IF(NM$78>-ROW()+71,\".\",\"\")","v":""},"","","","","","","","","","","","","","","","","","","","","","","","","","","","","","","","","","","","","","","","","","","","","","","","","","","","","","","","","","","","","","",""]
[null,"","","","","","","","","","","","","","","","","","","","","","","","","","","","","","","","","","","","","","","","","","","","","","","","","","","","","","","","","","","","","","","","","","","","","","","","","","","","","","","","","","","","","","","","","","","","","","","","","","","","","","","","","","","","","","","","","","","","","","","","","","","","","","","","","","","","","","","","","","","","","","","","","","","","","","","","","","","","","","","","","","","","","","","","","","","","","","","","","","","","","","","","","","","","","","","","","","","","","","","","","","","","","","","","","","","","","","","","","","","","","","","","","","","","","","","","","","","","","","","","","","","","","","","","","","","","","","","","","","","","","","","","","","","","","","","","","","","","","","","","","","","","","","","","","","","","","","","","","","","","","","","","","","","","","","","","",{"$f":"IF(LB$78>-ROW()+71,\".\",\"\")","v":""},"","","","","","","","","","","","","","","","","","","","","","","","","","","","","","","","","","","","","","","","","","","","","","","","","","","","","","","","","","","","","","","","","","","","","","","","","","","","","","","","","","","","","","","","","","","","","","","","","","","","","","","","","","","","","","","","","","","","","","","","","","","","","",""]
[null,"","","","","","","","","","","","","","","","","","","","","","","","","","","","","","","",{"$f":"IF(AG$78>-ROW()+71,\".\",\"\")","v":""},"","","","","","","","","","","","","","","","","","","","","","","","","","","","","","","",{"$f":"IF(BM$78>-ROW()+71,\".\",\"\")","v":""},"","","","","","","","","","","","","","","","","","","","","","","","","","","","","","","",{"$f":"IF(CS$78>-ROW()+71,\".\",\"\")","v":""},"","","","","","","","","","","","","","","","","","","","","","","","","","","","","","","",{"$f":"IF(DY$78>-ROW()+71,\".\",\"\")","v":""},"","","","","","","","","","","","","","","","","","","","","","","","","","","","","","","",{"$f":"IF(FE$78>-ROW()+71,\".\",\"\")","v":""},"","","","","","","","","","","","","","","","","","","","","","","","","","","","","","","",{"$f":"IF(GK$78>-ROW()+71,\".\",\"\")","v":""},"","","","","","","","","","","","","","","","","","","","","","","","","","","","","","","",{"$f":"IF(HQ$78>-ROW()+71,\".\",\"\")","v":""},"","","","","","","","","","","","","","","","","","","","","","","","","","","","","","","",{"$f":"IF(IW$78>-ROW()+71,\".\",\"\")","v":""},"","","","","","","","","","","","","","","","","","","","","","","","","","","","","","","",{"$f":"IF(KC$78>-ROW()+71,\".\",\"\")","v":""},"","","","","","","","","","","","","","","","","","","","","","","","","","","","","","","","","","","","","","","","","","","","","","","","","","","","","","","","","","","","","","","","","","","","","","","","","","","","","","","","","","","","","","","","","","","","","","","","","","","","","","","","","","","","","","","","","","","","","","","","","","","","","","","","","","","","","","","","","","","","","","","","","","","","","","",""]
[null,"","","","","","","","","","","","","","","",{"$f":"IF(Q$78>-ROW()+71,\".\",\"\")","v":""},"","","","","","","","","","","","","","","","","","","","","","","","","","","","","","","","","","","","","","","","","","","","","","",{"$f":"IF(BL$78>-ROW()+71,\".\",\"\")","v":""},"","","","","","","","","","","","","","","","","","","","","","","","","","","","","","","",{"$f":"IF(CR$78>-ROW()+71,\".\",\"\")","v":""},"","","","","","","","","","","","","","","","","","","","","","","","","","","","","","","",{"$f":"IF(DX$78>-ROW()+71,\".\",\"\")","v":""},"","","","","","","","","","","","","","","","","","","","","","","","","","","","","","","",{"$f":"IF(FD$78>-ROW()+71,\".\",\"\")","v":""},"","","","","","","","","","","","","","","","","","","","","","","","","","","","","","","",{"$f":"IF(GJ$78>-ROW()+71,\".\",\"\")","v":""},"","","","","","","","","","","","","","","","","","","","","","","","","","","","","","","",{"$f":"IF(HP$78>-ROW()+71,\".\",\"\")","v":""},"","","","","","","","","","","","","","","","","","","","","","","","","","","","","","","",{"$f":"IF(IV$78>-ROW()+71,\".\",\"\")","v":""},"","","","","","","","","","","","","","","","","","","","","","","","","","","","","","","",{"$f":"IF(KB$78>-ROW()+71,\".\",\"\")","v":""},"","","","","","","","","","","","","","","","","","","","","","","","","","","","","","","","","","","","","","","","","","","","","","","","","","","","","","","","","","","","","","","","","","","","","","","","","","","","","","","","","","","","","","","","","","","","","","","","","","","","","","","","","","","","","","","","","","","","","","","","","","","","","","","","","","","","","","","","","","","","","","","","","","","","","","","",""]
[null,{"$f":"IF(B$78>-ROW()+71,\".\",\"\")","v":""},"","","","","","","","","","","","","","","","","","","","","","","","","","","","","","","","","","","","","","","","","","","","","","","",{"$f":"IF(AX$78>-ROW()+71,\".\",\"\")","v":""},"","","","","","","","","","","","","","","","","",{"$f":"IF(BP$78>-ROW()+71,\".\",\"\")","v":""},"","","","","","","","","","","","","","","",{"$f":"IF(CF$78>-ROW()+71,\".\",\"\")","v":""},"","","","","","","","","","","","","","","","","","","","","","","","","","","","","",{"$f":"IF(DJ$78>-ROW()+71,\".\",\"\")","v":""},"","","","","","","","","","","","","","","","","",{"$f":"IF(EB$78>-ROW()+71,\".\",\"\")","v":""},"","","","","","","","","","","","","","","",{"$f":"IF(ER$78>-ROW()+71,\".\",\"\")","v":""},"","","","","","","","","","","","","","","","","","","","","","","","","","","","","",{"$f":"IF(FV$78>-ROW()+71,\".\",\"\")","v":""},"","","","","","","","","","","","","","","","","",{"$f":"IF(GN$78>-ROW()+71,\".\",\"\")","v":""},"","","","","","","","","","","","","","","",{"$f":"IF(HD$78>-ROW()+71,\".\",\"\")","v":""},"","","","","","","","","","","","","","","","","","","","","","","","","","","","","",{"$f":"IF(IH$78>-ROW()+71,\".\",\"\")","v":""},"","","","","","","","","","","","","","","","","",{"$f":"IF(IZ$78>-ROW()+71,\".\",\"\")","v":""},"","","","","","","","","","","","","","","",{"$f":"IF(JP$78>-ROW()+71,\".\",\"\")","v":""},"","","","","","","","","","","","","","","","","","","","","","","","","","","","","","","","","","","","","","","","","","","","","","","","","","","","","","","","","","","","","","","","","","","","","","","","","","","","","","","","","","","","","","","","","","","","","","","","","","","","",{"$f":"IF(NM$78>-ROW()+71,\".\",\"\")","v":""},"","","","","","","","","","","","","","","","","","","","","","","","","","","","","","","","","","","","","","","","","","","","","","","","","","","","","","","","","","","","","","",""]
[null,"","","","","","","","","","","","","","","","","","","","","","","","","","","","","","","","","","","","","","","","","","","","","","","","","","","","","","","","","","","","","","","","","","","","","","","","","","","","","","","","","","","","","","","","","","","","","","","","","","","","","","","","","","","","","","","","","","","","","","","","","","","","","","","","","","","","","","","","","","","","","","","","","","","","","","","","","","","","","","","","","","","","","","","","","","","","","","","","","","","","","","","","","","","","","","","","","","","","","","","","","","","","","","","","","","","","","","","","","","","","","","","","","","","","","","","","","","","","","","","","","","","","","","","","","","","","","","","","","","","","","","","","","","","","","","","","","","","","","","","","","","","","","","","","","","","","","","","","","","","","","","","","","","","","","","","","",{"$f":"IF(LB$78>-ROW()+71,\".\",\"\")","v":""},"","","","","","","","","","","","","","","","","","","","","","","","","","","","","","","","","","","","","","","","","","","","","","","","","","","","","","","","","","","","","","","","","","","","","","","","","","","","","","","","","","","","","","","","","","","","","","","","","","","","","","","","","","","","","","","","","","","","","","","","","","","","","",""]
[null,"","","","","","","","","","","","","","","","","","","","","","","","","","","","","","","","","","","","","","","","","","","","","","","","","","","","","","","","","","","","","","","","","","","","","","","","","","","","","","","","","","","","","","","","","","","","","","","","","","","","","","","","","","","","","","","","","","","","","","","","","","","","","","","","","","","","","","","","","","","","","","","","","","","","","","","","","","","","","","","","","","","","","","","","","","","","","","","","","","","","","","","","","","","","","","","","","","","","","","","","","","","","","","","","","","","","","","","","","","","","","","","","","","","","","","","","","","","","","","","","","","","","","","","","","","","","","","","","","","","","","","","","","","","","","","","","","","","","","","","","","","","","","","","","","","","","","","","","","","","","","","","","","","","","","","","","","","","","","","","","","","","","","","","","","","","","","","","","","","","","","","","","","","","","","","","","","","","","","","","","","","","","","","","","","","","","","","","","","","","","","","","","","","","","","","","","","","","","","","","","","","","","","","","","","","","","","","","","","","","","","","","","","","","","","","","","","","","","","","",""]
[null,"","","","","","","","","","","","","","","","","","","","","","","","","","","","","","","","","","","","","","","","","","","","","","","","","","","","","","","","","","","","","","","","","","","","","","","","","","","","","","","","","","","","","","","","","","","","","","","","","","","","","","","","","","","","","","","","","","","","","","","","","","","","","","","","","","","","","","","","","","","","","","","","","","","","","","","","","","","","","","","","","","","","","","","","","","","","","","","","","","","","","","","","","","","","","","","","","","","","","","","","","","","","","","","","","","","","","","","","","","","","","","","","","","","","","","","","","","","","","","","","","","","","","","","","","","","","","","","","","","","","","","","","","","","","","","","","","","","","","","","","","","","","","","","","","","","","","","","","","","","","","","","","","","","","","","","","","","","","","","","","","","","","","","","","","","","","","","","","","","","","","","","","","","","","","","","","","","","","","","","","","","","","","","","","","","","","","","","","","","","","","","","","","","","","","","","","","","","","","","","","","","","","","","","","","","","","","","","","","","","","","","","","","","","","","","","","","","","","","","",""]
[null,"","","","","","","","","","","","","","","","","","","","","","","","","","","","","","","","","","","","","","","","","","","","","","","","","","","","","","","","","","","","","","","","","","","","","","","","","","","","","","","","","","","","","","","","","","","","","","","","","","","","","","","","","","","","","","","","","","","","","","","","","","","","","","","","","","","","","","","","","","","","","","","","","","","","","","","","","","","","","","","","","","","","","","","","","","","","","","","","","","","","","","","","","","","","","","","","","","","","","","","","","","","","","","","","","","","","","","","","","","","","","","","","","","","","","","","","","","","","","","","","","","","","","","","","","","","","","","","","","","","","","","","","","","","","","","","","","","","","","","","","","","","","","","","","","","","","","","","","","","","","","","","","","","","","","","","","","","","","","","","","","","","","","","","","","","","","","","","","","","","","","","","","","","","","","","","","","","","","","","","","","","","","","","","","","","","","","","","",{"$f":"IF(NM$78>-ROW()+71,\".\",\"\")","v":""},"","","","","","","","","","","","","","","","","","","","","","","","","","","","","","","","","","","","","","","","","","","","","","","","","","","","","","","","","","","","","","",""]
[null,"","","","","","","","","","","","","","","","","","","","","","","","","","","","","","","","","","","","","","","","","","","","","","","","","","","","","","","","","","","","","","","","","","","","","","","","","","","","","","","","","","","","","","","","","","","","","","","","","","","","","","","","","","","","","","","","","","","","","","","","","","","","","","","","","","","","","","","","","","","","","","","","","","","","","","","","","","","","","","","","","","","","","","","","","","","","","","","","","","","","","","","","","","","","","","","","","","","","","","","","","","","","","","","","","","","","","","","","","","","","","","","","","","","","","","","","","","","","","","","","","","","","","","","","","","","","","","","","","","","","","","","","","","","","","","","","","","","","","","","","","","","","","","","","","","","","","","","","","","","","","","","","","","","","","","","","",{"$f":"IF(LB$78>-ROW()+71,\".\",\"\")","v":""},"","","","","","","","","","","","","","","","","","","","","","","","","","","","","","","","","","","","","","","","","","","","","","","","","","","","","","","","","","","","","","","","","","","","","","","","","","","","","","","","","","","","","","","","","","","","","","","","","","","","","","","","","","","","","","","","","","","","","","","","","","","","","",""]
[null,"","","","","","","","","","","","","","","","","","","","","","","","","","","","","","","","","","","","","","","","","","","","","","","","","","","","","","","","","","","","","","","","","","","","","","","","","","","","","","","","","","","","","","","","","","","","","","","","","","","","","","","","","","","","","","","","","","","","","","","","","","","","","","","","","","","","","","","","","","","","","","","","","","","","","","","","","","","","","","","","","","","","","","","","","","","","","","","","","","","","","","","","","","","","","","","","","","","","","","","","","","","","","","","","","","","","","","","","","","","","","","","","","","","","","","","","","","","","","","","","","","","","","","","","","","","","","","","","","","","","","","","","","","","","","","","","","","","","","","","","","","","","","","","","","","","","","","","","","","","","","","","","","","","","","","","","","","","","","","","","","","","","","","","","","","","","","","","","","","","","","","","","","","","","","","","","","","","","","","","","","","","","","","","","","","","","","","","","","","","","","","","","","","","","","","","","","","","","","","","","","","","","","","","","","","","","","","","","","","","","","","","","","","","","","","","","","","","","","","",""]
[null,"","","","","","","","","","","","","","","","","","","","","","","","","","","","","","","","","","","","","","","","","","","","","","","","","","","","","","","","","","","","","","","","","","","","","","","","","","","","","","","","","","","","","","","","","","","","","","","","","","","","","","","","","","","","","","","","","","","","","","","","","","","","","","","","","","","","","","","","","","","","","","","","","","","","","","","","","","","","","","","","","","","","","","","","","","","","","","","","","","","","","","","","","","","","","","","","","","","","","","","","","","","","","","","","","","","","","","","","","","","","","","","","","","","","","","","","","","","","","","","","","","","","","","","","","","","","","","","","","","","","","","","","","","","","","","","","","","","","","","","","","","","","","","","","","","","","","","","","","","","","","","","","","","","","","","","","","","","","","","","","","","","","","","","","","","","","","","","","","","","","","","","","","","","","","","","","","","","","","","","","","","","","","","","","","","","","","","","","","","","","","","","","","","","","","","","","","","","","","","","","","","","","","","","","","","","","","","","","","","","","","","","","","","","","","","","","","","","","","","",""]
[null,"","","","","","","","","","","","","","","","","","","","","","","","","","","","","","","","","","","","","","","","","","","","","","","","","","","","","","","","","","","","","","","","","","","","","","","","","","","","","","","","","","","","","","","","","","","","","","","","","","","","","","","","","","","","","","","","","","","","","","","","","","","","","","","","","","","","","","","","","","","","","","","","","","","","","","","","","","","","","","","","","","","","","","","","","","","","","","","","","","","","","","","","","","","","","","","","","","","","","","","","","","","","","","","","","","","","","","","","","","","","","","","","","","","","","","","","","","","","","","","","","","","","","","","","","","","","","","","","","","","","","","","","","","","","","","","","","","","","","","","","","","","","","","","","","","","","","","","","","","","","","","","","","","","","","","","","","","","","","","","","","","","","","","","","","","","","","","","","","","","","","","","","","","","","","","","","","","","","","","","","","","","","","","","","","","","","","","","",{"$f":"IF(NM$78>-ROW()+71,\".\",\"\")","v":""},"","","","","","","","","","","","","","","","","","","","","","","","","","","","","","","","","","","","","","","","","","","","","","","","","","","","","","","","","","","","","","",""]
[null,"","","","","","","","","","","","","","","","","","","","","","","","","","","","","","","","","","","","","","","","","","","","","","","","","","","","","","","","","","","","","","","","","","","","","","","","","","","","","","","","","","","","","","","","","","","","","","","","","","","","","","","","","","","","","","","","","","","","","","","","","","","","","","","","","","","","","","","","","","","","","","","","","","","","","","","","","","","","","","","","","","","","","","","","","","","","","","","","","","","","","","","","","","","","","","","","","","","","","","","","","","","","","","","","","","","","","","","","","","","","","","","","","","","","","","","","","","","","","","","","","","","","","","","","","","","","","","","","","","","","","","","","","","","","","","","","","","","","","","","","","","","","","","","","","","","","","","","","","","","","","","","","","","","","","","","","",{"$f":"IF(LB$78>-ROW()+71,\".\",\"\")","v":""},"","","","","","","","","","","","","","","","","","","","","","","","","","","","","","","","","","","","","","","","","","","","","","","","","","","","","","","","","","","","","","","","","","","","","","","","","","","","","","","","","","","","","","","","","","","","","","","","","","","","","","","","","","","","","","","","","","","","","","","","","","","","","",""]
[null,"","","","","","","","","","","","","","","","","","","","","","","","","","","","","","","","","","","","","","","","","","","","","","","","","","","","","","","","","","","","","","","","","","","","","","","","","","","","","","","","","","","","","","","","","","","","","","","","","","","","","","","","","","","","","","","","","","","","","","","","","","","","","","","","","","","","","","","","","","","","","","","","","","","","","","","","","","","","","","","","","","","","","","","","","","","","","","","","","","","","","","","","","","","","","","","","","","","","","","","","","","","","","","","","","","","","","","","","","","","","","","","","","","","","","","","","","","","","","","","","","","","","","","","","","","","","","","","","","","","","","","","","","","","","","","","","","","","","","","","","","","","","","","","","","","","","","","","","","","","","","","","","","","","","","","","","","","","","","","","","","","","","","","","","","","","","","","","","","","","","","","","","","","","","","","","","","","","","","","","","","","","","","","","","","","","","","","","","","","","","","","","","","","","","","","","","","","","","","","","","","","","","","","","","","","","","","","","","","","","","","","","","","","","","","","","","","","","","","","",""]
[null,"","","","","","","","","","","","","","","","","","","","","","","","","","","","","","","","","","","","","","","","","","","","","","","","","","","","","","","","","","","","","","","","","","","","","","","","","","","","","","","","","","","","","","","","","","","","","","","","","","","","","","","","","","","","","","","","","","","","","","","","","","","","","","","","","","","","","","","","","","","","","","","","","","","","","","","","","","","","","","","","","","","","","","","","","","","","","","","","","","","","","","","","","","","","","","","","","","","","","","","","","","","","","","","","","","","","","","","","","","","","","","","","","","","","","","","","","","","","","","","","","","","","","","","","","","","","","","","","","","","","","","","","","","","","","","","","","","","","","","","","","","","","","","","","","","","","","","","","","","","","","","","","","","","","","","","","","","","","","","","","","","","","","","","","","","","","","","","","","","","","","","","","","","","","","","","","","","","","","","","","","","","","","","","","","","","","","","","","","","","","","","","","","","","","","","","","","","","","","","","","","","","","","","","","","","","","","","","","","","","","","","","","","","","","","","","","","","","","","","",""]
[null,"","","","","","","","","","","","","","","","","","","","","","","","","","","","","","","","","","","","","","","","","","","","","","","","","","","","","","","","","","","","","","","","","","","","","","","","","","","","","","","","","","","","","","","","","","","","","","","","","","","","","","","","","","","","","","","","","","","","","","","","","","","","","","","","","","","","","","","","","","","","","","","","","","","","","","","","","","","","","","","","","","","","","","","","","","","","","","","","","","","","","","","","","","","","","","","","","","","","","","","","","","","","","","","","","","","","","","","","","","","","","","","","","","","","","","","","","","","","","","","","","","","","","","","","","","","","","","","","","","","","","","","","","","","","","","","","","","","","","","","","","","","","","","","","","","","","","","","","","","","","","","","","","","","","","","","","","","","","","","","","","","","","","","","","","","","","","","","","","","","","","","","","","","","","","","","","","","","","","","","","","","","","","","","","","","","","","","","",{"$f":"IF(NM$78>-ROW()+71,\".\",\"\")","v":""},"","","","","","","","","","","","","","","","","","","","","","","","","","","","","","","","","","","","","","","","","","","","","","","","","","","","","","","","","","","","","","",""]
[null,"","","","","","","","","","","","","","","","","","","","","","","","","","","","","","","","","","","","","","","","","","","","","","",{"$f":"IF(AV$78>-ROW()+71,\".\",\"\")","v":""},"","","","","","","","","","","","","","","","","","","","","","","","","","","","","","","","","","","","","","","","","","","","","","","","","","","","","","","","","","","","","","","","","","","","","","","","","","","","","","","","","","","","","","","","","","","","","","","","","","","","","","","","","","","","","","","","","","","","","","","","","","","","","","","","","","","","","","","","","","","","","","","","","","","","","","","","","","","","","","","","","","","","","","","","","","","","","","","","","","","","","","","","","","","","","","","","","","","","","","","","","","","","","","","","","","","","","","","","","","","","","","","","","","","","","","","","","","","","","","","","","","","","","","","","","","","","","","","","","","","","","","","","","",{"$f":"IF(LB$78>-ROW()+71,\".\",\"\")","v":""},"","","","","","","","","","","","","","","","","","","","","","","","","","","","","","","","","","","","","","","","","","","","","","","","","","","","","","","","","","","","","","","","","","","","","","","","","","","","","","","","","","","","","","","","","","","","","","","","","","","","","","","","","","","","","","","","","","","","","","","","","","","","","",""]
[null,"","","","","","","","","","","","","","","","","","","","","","","","","","","","","","","",{"$f":"IF(AG$78>-ROW()+71,\".\",\"\")","v":""},"","","","","","","","","","","","","","","","","","","","","","","","","","","","","","","","","","","","","","","","","","","","","","","","","","","","","","","","","","","","","","","","","","","","","","","","","","","","","","","","","","","","","","","","","","","","","","","","","","","","","","","","","","","","","","","","","","","","","","","","","","","","","","","","","","","","","","","","","","","","","","","","","","","","","","","","","","","","","","","","","","","","","","","","","","","","","","","","","","","","","","","","","","","","","","","","","","","","","","","","","","","","","","","","","","","","","","","","","","","","","","","","","","","","","","","","","","","","","","","","","","","","","","","","","","","","","","","","","","","","","","","","","","","","","","","","","","","","","","",{"$f":"IF(KZ$78>-ROW()+71,\".\",\"\")","v":""},"","","","","","","","","","","","","","","","","","","","","","","","","","","","","","","","","","","","","","","","","","","","","","","","","","","","","","","","","","","","","","","","","","","","","","","","","","","","","","","","","","","","","","","","","","","","","","","","","","","","","","","","","","","","","","","","","","","","","","","","","","","","","","","",""]
[null,"","","","","","","","","","","","","","","",{"$f":"IF(Q$78>-ROW()+71,\".\",\"\")","v":""},"","","","","","","","","","","","","","","","","","","","","","","","","","","","","","","","","","","","","","","","","","","","","","","","","","","","","","","","","","","","","","","","","","","","","","","","","","","","","","","","","",{"$f":"IF(CU$78>-ROW()+71,\".\",\"\")","v":""},"","","","","","","","","","","","","","","","","","","","","","","","","","","","","","","","","","","","","","","","","","","","","","","","","","","","","","","","","","","","","","","",{"$f":"IF(FG$78>-ROW()+71,\".\",\"\")","v":""},"","","","","","","","","","","","","","","","","","","","","","","","","","","","","","","","","","","","","","","","","","","","","","","","","","","","","","","","","","","","","","","",{"$f":"IF(HS$78>-ROW()+71,\".\",\"\")","v":""},"","","","","","","","","","","","","","","","","","","","","","","","","","","","","","","","","","","","","","","","","","","","","","","","","","","","","","","","","","","","","","","",{"$f":"IF(KE$78>-ROW()+71,\".\",\"\")","v":""},"","","","","","","","","","","","","","","",{"$f":"IF(KU$78>-ROW()+71,\".\",\"\")","v":""},"","","","","","","","","","","","","","","","","","","","","","","","","","","","","","","","","","","","","","","","","","","","","","","","","","","","","","","","","","","","","","","","","","","","","","","","","","","","","","","","","","","","","","","","","","","","","","","","","","","","","","","","","","","","","","","","","","","","","","","","","","","","","","","","","","","","",""]
[null,{"$f":"IF(B$78>-ROW()+71,\".\",\"\")","v":""},"","","","","","","","","","","","","","","","","","","","","","","","","","","","","","","","","","","","","","","","","","","","","","","","","","","","","","","","","","","","","","","","","","","","","","","","","","","","","","","","","",{"$f":"IF(CF$78>-ROW()+71,\".\",\"\")","v":""},"","","","","","","","","","","","","","","","","","","","","","","","","","","","","","",{"$f":"IF(DK$78>-ROW()+71,\".\",\"\")","v":""},"","","","","","","","","","","","","","","","","","","","","","","","","","","","","","","","",{"$f":"IF(ER$78>-ROW()+71,\".\",\"\")","v":""},"","","","","","","","","","","","","","","","","","","","","","","","","","","","","","",{"$f":"IF(FW$78>-ROW()+71,\".\",\"\")","v":""},"","","","","","","","","","","","","","","","","","","","","","","","","","","","","","","","",{"$f":"IF(HD$78>-ROW()+71,\".\",\"\")","v":""},"","","","","","","","","","","","","","","","","","","","","","","","","","","","","","",{"$f":"IF(II$78>-ROW()+71,\".\",\"\")","v":""},"","","","","","","","","","","","","","","","","","","","","","","","","","","","","","","","",{"$f":"IF(JP$78>-ROW()+71,\".\",\"\")","v":""},"","","","","","","","","","","","","","","","","","","","","","","","","","","","","","","","","","","","","",{"$f":"IF(LB$78>-ROW()+71,\".\",\"\")","v":""},"","","","","","","","","","","","","","","","","","","","","","","","","","","","","","","","","","","","","","","","","","","","","","","","","","","","","","","","","","","","","","","","","",{"$f":"IF(NP$78>-ROW()+71,\".\",\"\")","v":""},"","","","","","","","","","","","","","","","","","","","","","","","","","","","","","","","","","","","","","","","","","","","","","","","","","","","","","","","","","","",""]
[null,"","","","","","","","","","","","","","","","","","","","","","","","","","","","","","","","","","","","","","","","","","","","","","","","","","","","","","","","","","","","","","","","","","","","","","","","","","","","","","","","","","","","","","","","","","","","","","","","","","","","","","","","","","","","","","","","","","","","","","","","","","","","","","","","","","","","","","","","","","","","","","","","","","","","","","","","","","","","","","","","","","","","","","","","","","","","","","","","","","","","","","","","","","","","","","","","","","","","","","","","","","","","","","","","","","","","","","","","","","","","","","","","","","","","","","","","","","","","","","","","","","","","","","","","","","","","","","","","","","","","","","","","","","","","","","","","","","","","","","","","","","","","","","","","","","","","","","","","","","","","","","","","","","","","","","","","","","","","","","","","","","","","","","","","","","","","","","","","","","","","","","","","","","","","","","","","","","","","","","","","","","","","","","","","","","","","","","","","",{"$f":"IF(NN$78>-ROW()+71,\".\",\"\")","v":""},"","","","","","","","","","","","","","","","","","","","","","","","","","","","","","","","","","","","","","","","","","","","","","","","","","","","","","","","","","","","","",""]
[null,"","","","","","","","","","","","","","","","","","","","","","","","","","","","","","","","","","","","","","","","","","","","","","","","","","","","","","","","","","","","","","","","","","","","","","","","","","","","","",{"$f":"IF(CA$78>-ROW()+71,\".\",\"\")","v":""},"","","","","","","","","","","","","","","","","","","","","","","","","","","","","","","","","","","","","","","","","","","","","","","","","","","","","","","","","","","","","","","","","","","","","","","","","","","","","","","","","","","","","","","","","","","","","","","","","","","","","","","","","","","","","","","","","","","","","","","","","","","","","","","","","","","","","","","","","","","","","","","","","","","","","","","","","","","","","","","","","","","","","","","","","","","","","","","","","","","","","","","","","","","","","","","","","","","","","","","","","","","","","","","","","","","","","","","","","","","","","","","","","","","","","","","","","","","","","","","","","","","","","","","","","","","","","","","","","","","","","","","","","","","","","","","","","","","","","","","","","","","","","","","","","","","","","","","","","","","","","","","","","","","","","","","","","","","","","","","","","","","","","","","","","","","","","","","","","","","","","","","","","","","","","","","","","","","","","","","","",""]
[null,"","","","","","","","","","","","","","","","","","","","","","","","","","","","","","","","","","","","","","","","","","","","","","","","","","","","","","","","","","","","","","","","",{"$f":"IF(BN$78>-ROW()+71,\".\",\"\")","v":""},"","","","","","","","","","","","","","","","","","","","","","","","","","","","","","","","","","","","","","","","","","","","","","","","","","","","","","","","","","","","","","","","","","",{"$f":"IF(EC$78>-ROW()+71,\".\",\"\")","v":""},"","","","","","","","","","","","","","","","","","","","","","","","","","","","","","","","","","","","","","","","","","","","","","","","","","","","","","","","","","","","","","","",{"$f":"IF(GO$78>-ROW()+71,\".\",\"\")","v":""},"","","","","","","","","","","","","","","","","","","","","","","","","","","","","","","","","","","","","","","","","","","","","","","","","","","","","","","","","","","","","","","",{"$f":"IF(JA$78>-ROW()+71,\".\",\"\")","v":""},"","","","","","","","","","","","","","","","","","","","","","","","","","","","","","","","","","","","","","","","","","","","","","","","","","","","","","","","","","","","","","","","","","","","","","","","","","","","","","","","","","","","","","","","","","","","","","","","","","","","","","","","","","","","","","","","","","","",{"$f":"IF(NM$78>-ROW()+71,\".\",\"\")","v":""},"","","","","","","","","","","","","","","","","","","","","","","","","","","","","","","","","","","","","","","","","","","","","","","","","","","","","","","","","","","","","","",""]
[null,"","","","","","","","","","","","","","","","","","","","","","","","","","","","","","","","","","","","","","","","","","","","","","","","","","","","","","","","","","","","","","","","","","","","","","","","","","","","","","","","","","","","","","","","","","","","","","","","","","","","","","","","","","","","","","","","","","","","","","","","","","","","","","","","","",{"$f":"IF(EA$78>-ROW()+71,\".\",\"\")","v":""},"","","","","","","","","","","","","","","","","","","","","","","","","","","","","","","","","","","","","","","","","","","","","","","","","","","","","","","","","","","","","","","",{"$f":"IF(GM$78>-ROW()+71,\".\",\"\")","v":""},"","","","","","","","","","","","","","","","","","","","","","","","","","","","","","","","","","","","","","","","","","","","","","","","","","","","","","","","","","","","","","","",{"$f":"IF(IY$78>-ROW()+71,\".\",\"\")","v":""},"","","","","","","","","","","","","","","","","","","","","","","","","","","","","","","","","","","","","","","","","","","","","","","","","","","","","","",{"$f":"IF(LB$78>-ROW()+71,\".\",\"\")","v":""},"","","","","","","","","","","","","","","","","","","","","","","","","","","","","","","","","","","","","","","","","","","","","","","","","","","","","","","","","","","","","","","","","","","","","","","","","","","","","","","","","","","","","","","","","","","","","","","","","","","","","","","","","","","","","","","","","","","","","","","","","","","","","",""]
[null,"","","","","","","","","","","","","","","","","","","","","","","","","","","","","","","","","","","","","","","","","","","","","","","","","","","","","","","","","","","","","","","","","","","","","","","","","","","","","","","","","","","","","","","","","","","","","","","","","","","","","","","","","","","","","","","","","","","","","","","","","","","","","","","","","","","","","","","","","","","","","","","","","","","","","","","","","","","","","","","","","","","","","","","","","","","","","","","","","","","","","","","","","","","","","","","","","","","","","","","","","","","","","","","","","","","","","","","","","","","","","","","","","","","","","","","","","","","","","","","","","","","","","","","","","","","","","","","","","","","","","","","","","","","","","","","","","","","","","","","","","","","","","","","","","","","","","","","","","","","","","","","","","","","","","","","","","","","","","","","","","","","","","","","","","","","","","","","","","","","","","","","","","","","","","","","","","","","","","","","","","","","","","","","","","","","","","","","","","","","","","","","","","","","","","","","","","","","","","","","","","","","","","","","","","","","","","","","","","","","","","","","","","","","","","","","","","","","","","","",""]
[null,"","","","","","","","","","","","","","","","","","","","","","","","","","","","","","","","","","","","","","","","","","","","","","","","","","","","","","","","","","","","","","","","","","","","","","","","","","","","","","","","","","","","","","","","","","","","","","","","","","","","","","","","","","","","","","","","","","","","","","","","","","","","","","","","","","","","","","","","","","","","","","","","","","","","","","","","","","","","","","","","","","","","","","","","","","","","","","","","","","","","","","","","","","","","","","","","","","","","","","","","","","","","","","","","","","","","","","","","","","","","","","","","","","","","","","","","","","","","","","","","","","","","","","","","","","","","","","","","","","","","","","","","","","","","","","","","","","","","","","","","","","","","","","","","","","","","","","","","","","","","","","","","","","","","","","","","","","","","","","","","","","","","","","","","","","","","","","","","","","","","","","","","","","","","","","","","","","","","","","","","","","","","","","","","","","","","","","","","","","","","","","","","","","","","","","","","","","","","","","","","","","","","","","","","","","","","","","","","","","","","","","","","","","","","","","","","","","","","","","",""]
[null,"","","","","","","","","","","","","","","","","","","","","","","","","","","","","","","","","","","","","","","","","","","","","","","","","","","","","","","","","","","","","","","","","","","","","","","","","","","","","","","","","","","","","","","","","","","","","","","","","","","","","","","","","","","","","","","","","","","","","","","","","","","","","","","","","","","","","","","","","","","","","","","","","","","","","","","","","","","","","","","","","","","","","","","","","","","","","","","","","","","","","","","","","","","","","","","","","","","","","","","","","","","","","","","","","","","","","","","","","","","","","","","","","","","","","","","","","","","","","","","","","","","","","","","","","","","","","","","","","","","","","","","","","","","","","","","","","","","","","","","","","","","","","","","","","","","","","","","","","","","","","","","","","","","","","","","","","","","","","","","","","","","","","","","","","","","","","","","","","","","","","","","","","","","","","","","","","","","","","","","","","","","","","","","","","","","","","","","",{"$f":"IF(NM$78>-ROW()+71,\".\",\"\")","v":""},"","","","","","","","","","","","","","","","","","","","","","","","","","","","","","","","","","","","","","","","","","","","","","","","","","","","","","","","","","","","","","",""]
[null,"","","","","","","","","","","","","","","","","","","","","","","","","","","","","","","","","","","","","","","","","","","","","","","","","","","","","","","","","","","","","","","","","","","","","","","","","","","","","","","","","","","","","","","","","","","","","","","","","","","","","","","","","","","","","","","","","","","","","","","","","","","","","","","","","","","","","","","","","","","","","","","","","","","","","","","","","","","","","","","","","","","","","","","","","","","","","","","","","","","","","","","","","","","","","","","","","","","","","","","","","","","","","","","","","","","","","","","","","","","","","","","","","","","","","","","","","","","","","","","","","","","","","","","","","","","","","","","","","","","","","","","","","","","","","","","","","","","","","","","","","","","","","","","","","","","","","","","","","","","","","","","","","","","","","","","","",{"$f":"IF(LB$78>-ROW()+71,\".\",\"\")","v":""},"","","","","","","","","","","","","","","","","","","","","","","","","","","","","","","","","","","","","","","","","","","","","","","","","","","","","","","","","","","","","","","","","","","","","","","","","","","","","","","","","","","","","","","","","","","","","","","","","","","","","","","","","","","","","","","","","","","","","","","","","","","","","",""]
[null,"","","","","","","","","","","","","","","","","","","","","","","","","","","","","","","","","","","","","","","","","","","","","","","","","","","","","","","","","","","","","","","","","","","","","","","","","","","","","","","","","","","","","","","","","","","","","","","","","","","","","","","","","","","","","","","","","","","","","","","","","","","","","","","","","","","","","","","","","","","","","","","","","","","","","","","","","","","","","","","","","","","","","","","","","","","","","","","","","","","","","","","","","","","","","","","","","","","","","","","","","","","","","","","","","","","","","","","","","","","","","","","","","","","","","","","","","","","","","","","","","","","","","","","","","","","","","","","","","","","","","","","","","","","","","","","","","","","","","","","","","","","","","","","","","","","","","","","","","","","","","","","","","","","","","","","","","","","","","","","","","","","","","","","","","","","","","","","","","","","","","","","","","","","","","","","","","","","","","","","","","","","","","","","","","","","","","","","","","","","","","","","","","","","","","","","","","","","","","","","","","","","","","","","","","","","","","","","","","","","","","","","","","","","","","","","","","","","","","","",""]
[null,"","","","","","","","","","","","","","","","","","","","","","","","","","","","","","","","","","","","","","","","","","","","","","","","","","","","","","","","","","","","","","","","","","","","","","","","","","","","","","","","","","","","","","","","","","","","","","","","","","","","","","","","","","","","","","","","","","","","","","","","","","","","","","","","","","","","","","","","","","","","","","","","","","","","","","","","","","","","","","","","","","","","","","","","","","","","","","","","","","","","","","","","","","","","","","","","","","","","","","","","","","","","","","","","","","","","","","","","","","","","","","","","","","","","","","","","","","","","","","","","","","","","","","","","","","","","","","","","","","","","","","","","","","","","","","","","","","","","","","","","","","","","","","","","","","","","","","","","","","","","","","","","","","","","","","","","","","","","","","","","","","","","","","","","","","","","","","","","","","","","","","","","","","","","","","","","","","","","","","","","","","","","","","","","","","","","","","","","","","","","","","","","","","","","","","","","","","","","","","","","","","","","","","","","","","","","","","","","","","","","","","","","","","","","","","","","","","","","","","",""]
[null,"","","","","","","","","","","","","","","","","","","","","","","","","","","","","","","","","","","","","","","","","","","","","","","","","","","","","","","","","","","","","","","","","","","","","","","","","","","","","","","","","","","","","","","","","","","","","","","","","","","","","","","","","","","","","","","","","","","","","","","","","","","","","","","","","","","","","","","","","","","","","","","","","","","","","","","","","","","","","","","","","","","","","","","","","","","","","","","","","","","","","","","","","","","","","","","","","","","","","","","","","","","","","","","","","","","","","","","","","","","","","","","","","","","","","","","","","","","","","","","","","","","","","","","","","","","","","","","","","","","","","","","","","","","","","","","","","","","","","","","","","","","","","","","","","","","","","","","","","","","","","","","","","","","","","","","","","","","","","","","","","","","","","","","","","","","","","","","","","","","","","","","","","","","","","","","","","","","","","","","","","","","","","","","","","","","","","","","",{"$f":"IF(NM$78>-ROW()+71,\".\",\"\")","v":""},"","","","","","","","","","","","","","","","","","","","","","","","","","","","","","","","","","","","","","","","","","","","","","","","","","","","","","","","","","","","","","",""]
[null,"","","","","","","","","","","","","","","","","","","","","","","","","","","","","","","","","","","","","","","","","","","","","","","","","","","","","","","","","","","","","","","","","","","","","","","","","","","","","","","","","","","","","","","","","","","","","","","","","","","","","","","","","","","","","","","","","","","","","","","","","","","","","","","","","","","","","","","","","","","","","","","","","","","","","","","","","","","","","","","","","","","","","","","","","","","","","","","","","","","","","","","","","","","","","","","","","","","","","","","","","","","","","","","","","","","","","","","","","","","","","","","","","","","","","","","","","","","","","","","","","","","","","","","","","","","","","","","","","","","","","","","","","","","","","","","","","","","","","","","","","","","","","","","","","","","","","","","","","","","","","","","","","","","","","","","","",{"$f":"IF(LB$78>-ROW()+71,\".\",\"\")","v":""},"","","","","","","","","","","","","","","","","","","","","","","","","","","","","","","","","","","","","","","","","","","","","","","","","","","","","","","","","","","","","","","","","","","","","","","","","","","","","","","","","","","","","","","","","","","","","","","","","","","","","","","","","","","","","","","","","","","","","","","","","","","","","",""]
[null,"","","","","","","","","","","","","","","","","","","","","","","","","","","","","","","","","","","","","","","","","","","","","","",{"$f":"IF(AV$78>-ROW()+71,\".\",\"\")","v":""},"","","","","","","","","","","","","","","","","","","","","","","","","","","","","","","","","","","","","","","","","","","","","","","","","","","","","","","","","","","","","","","","","","","","","","","","","","","","","","","","","","","","","","","","","","","","","","","","","","","","","","","","","","","","","","","","","","","","","","","","","","","","","","","","","","","","","","","","","","","","","","","","","","","","","","","","","","","","","","","","","","","","","","","","","","","","","","","","","","","","","","","","","","","","","","","","","","","","","","","","","","","","","","","","","","","","","","","","","","","","","","","","","","","","","","","","","","","","","","","","","","","","","","","","","","","","","","","","","","","","","","","","","","","","","","","","","","","","","","","","","","","","","","","","","","","","","","","","","","","","","","","","","","","","","","","","","","","","","","","","","","","","","","","","","","","","","","","","","","","","","","","","","","","","","","","","","","","","","","","","","","","","","","","","","","","","","","","","","","","","","","","","","","","","","","","",""]
[null,"","","","","","","","","","","","","","","","","","","","","","","","","","","","","","","",{"$f":"IF(AG$78>-ROW()+71,\".\",\"\")","v":""},"","","","","","","","","","","","","","","","","","","","","","","","","","","","","","","","","","","","","","","","","","","","","","","","","","","","","","","","","","","","","","","","","","","","","","","","","","","","","","","","","","","","","","","","","","","","","","","","","","","","","","","","","","","","","","","","","","","","","","","","","","","","","","","","","","","","","","","","","","","","","","","","","","","","","","","","","","","","","","","","","","","","","","","","","","","","","","","","","","","","","","","","","","","","","","","","","","","","","","","","","","","","","","","","","","","","","","","","","","","","","","","","","","","","","","","","","","","","","","","","","","","","","","","","","","","","","","","","","","","","","","","","","","","","","","","","","","","","","","","","","","","","","","","","","","","","","","","","","","","","","","","","","","","","","","","","","","","","","","","","","","","","","","","","","","","","","","","","","","","","","","","","","","","","","","","","","","","","","","","","","","","","","","","","","","","","","","","","","","","","","","","","","","","","","","","","","","","","","","","","","","","","","","",""]
[null,"","","","","","","","","","","","","","","",{"$f":"IF(Q$78>-ROW()+71,\".\",\"\")","v":""},"","","","","","","","","","","","","","","","","","","","","","","","","","","","","","","","","","","","","","","","","","","","","","","","","","","","","","","","","","","","","","","","","","","","","","","","","","","","","","","","","","","","","","","","","","","","","","","","",{"$f":"IF(DJ$78>-ROW()+71,\".\",\"\")","v":""},"","","","","","","","","","","","","","","","","","","","","","","","","","","","","","","","","","","","","","","","","","","","","","","","","","","","","","","","","","","","","","","",{"$f":"IF(FV$78>-ROW()+71,\".\",\"\")","v":""},"","","","","","","","","","","","","","","","","","","","","","","","","","","","","","","","","","","","","","","","","","","","","","","","","","","","","","","","","","","","","","","",{"$f":"IF(IH$78>-ROW()+71,\".\",\"\")","v":""},"","","","","","","","","","","","","","","","","","","","","","","","","","","","","","","","","","","","","","","","","","","","","","","","","","","","","","","","","","","","","","","",{"$f":"IF(KT$78>-ROW()+71,\".\",\"\")","v":""},"","","","","","","","","","","","","","","","","","","","","","","","","","","","","","","","","","","","","","","","","","","","","","","","","","","","","","","","","","","","","","","","","","","","","","","","","",{"$f":"IF(NP$78>-ROW()+71,\".\",\"\")","v":""},"","","","","","","","","","","","","","","","","","","","","","","","","","","","","","","","","","","","","","","","","","","","","","","","","","","","","","","","","","","",""]
[null,{"$f":"IF(B$78>-ROW()+71,\".\",\"\")","v":""},"","","","","","","","","","","","","","","","","","","","","","","","","","","","","","","","","","","","","","","","","","","","","","","","","","","","","","","","","","","","","","","","","","","","","","","","","","","","","","","","","","","","","","","","","","","","","","","","","",{"$f":"IF(CV$78>-ROW()+71,\".\",\"\")","v":""},"","","","","","","","","","","","","","","","","","","","","","","","","","","","","","","","","","","","","","","","","","","","","","","","","","","","","","","","","","","","",{"$f":"IF(FE$78>-ROW()+71,\".\",\"\")","v":""},"","","","","","","","","","","","","","","",{"$f":"IF(FU$78>-ROW()+71,\".\",\"\")","v":""},"","","","","","","","","","","","","","","","","","","","","","","","","","","","","","","","","","","","","","","","","","","","","","","",{"$f":"IF(HQ$78>-ROW()+71,\".\",\"\")","v":""},"","","","","","","","","","","","","","","",{"$f":"IF(IG$78>-ROW()+71,\".\",\"\")","v":""},"","","","","","","","","","","","","","","","","","","","","","","","","","","","","","","","","","","","","","","","","","","","","","","",{"$f":"IF(KC$78>-ROW()+71,\".\",\"\")","v":""},"","","","","","","","","","","","","","","",{"$f":"IF(KS$78>-ROW()+71,\".\",\"\")","v":""},"","","","","","","","","","","","","","","","","","","","","","","","","","","","","","","","","","","","","","","","","","","","","","","","","","","","","","","","","","","","","","","","","","","","","","","","",{"$f":"IF(NN$78>-ROW()+71,\".\",\"\")","v":""},"","","","","","","","","","","","","","","","","","","","","","","","","","","","","","","","","","","","","","","","","","","","","","","","","","","","","","","","","","","","","",""]
[null,"","","","","","","","","","","","","","","","","","","","","","","","","","","","","","","","","","","","","","","","","","","","","","","","","","","","","","","","","","","","","","","","","","","","","","","","","","","","","","","","","","","","","","","","","","","","","","","","","","","","","","","","","","","","","","","","","","","","","","","","","","","","","","","","","","","","","","","","","","","","","","","","","","","",{"$f":"IF(ES$78>-ROW()+71,\".\",\"\")","v":""},"","","","","","","","","","","","","","","","","","","","","","","","","","","","","","","","","","","","","","","","","","","","","","","","","","","","","","","","","","","","","","","",{"$f":"IF(HE$78>-ROW()+71,\".\",\"\")","v":""},"","","","","","","","","","","","","","","","","","","","","","","","","","","","","","","","","","","","","","","","","","","","","","","","","","","","","","","","","","","","","","","",{"$f":"IF(JQ$78>-ROW()+71,\".\",\"\")","v":""},"","","","","","","","","","","","","","","","","","","","","","","","","","","","","","","","","","","","",{"$f":"IF(LB$78>-ROW()+71,\".\",\"\")","v":""},"","","","","","","","","","","","","","","","","","","","","","","","","","","","","","","","","","","","","","","","","","","","","","","","","","","","","","","","","","","","","","","","","","","","","","","","","","","","","","","","","","","","","","","","","","","","","","","","","","","","","","","","","","","","","","","","","","","","","","","","","","","","","",""]
[null,"","","","","","","","","","","","","","","","","","","","","","","","","","","","","","","","","","","","","","","","","","","","","","","","","","","","","","","","","","","","","","","","","","","","","","","","","","","","","","","",{"$f":"IF(CC$78>-ROW()+71,\".\",\"\")","v":""},"","","","","","","","","","","","","","","","","","","","","","","","","","","","","","","","","","","","","","","","","","","","","","","","","","","","","","","","","","","","","","","","","","","","","","","","","","","","","","","","","","","","","","","","","","","","","","","","","","","","","","","","","","","","","","","","","","","","","","","","","","","","","","","","","","","","","","","","","","","","","","","","","","","","","","","","","","","","","","","","","","","","","","","","","","","","","","","","","","","","","","","","","","","","","","","","","","","","","","","","","","","","","","","","","","","","","","","","","","","","","","","","","","","","","","","","","","","","","","","","","","","","","","","","","","","","","","","","","","","","","","","","","","","","","","","","","","","","","","","","","","","","","","","","","","","","","","","","","","","","","","","","","","","","","","","","","","","","","","","","","","","","","","","","","","","","","","","","","","","","","","","","","","","","","","","","","","","","","","",""]
[null,"","","","","","","","","","","","","","","","","","","","","","","","","","","","","","","","","","","","","","","","","","","","","","","","","","","","","","","","","","","","","","","","",{"$f":"IF(BN$78>-ROW()+71,\".\",\"\")","v":""},"","","","","","","","","","","","","","","","","","","","","","","","","","","","","","","","","","","","","","","","","","","","","","","","","","","","","","","","","","","","","","","","","","","","","","","","","","","","","","","",{"$f":"IF(EP$78>-ROW()+71,\".\",\"\")","v":""},"","","","","","","","","","","","","","","","","","","","","","","","","","","","","","","","","","","","","","","","","","","","","","","","","","","","","","","","","","","","","","","",{"$f":"IF(HB$78>-ROW()+71,\".\",\"\")","v":""},"","","","","","","","","","","","","","","","","","","","","","","","","","","","","","","","","","","","","","","","","","","","","","","","","","","","","","","","","","","","","","","",{"$f":"IF(JN$78>-ROW()+71,\".\",\"\")","v":""},"","","","","","","","","","","","","","","","","","","","","","","","","","","","","","","","","","","","","","","","","","","","","","","","","","","","","","","","","","","","","","","","","","","","","","","","","","","","","","","","","","","","","","","","","","","","","","","","","","","","","","","","","","","","","","","","","","","","","","","","","","","","","","","","","","","","","","","","","","","","","","","","","","","","","","","","","","","","","","","","","","","","","",""]
[null,"","","","","","","","","","","","","","","","","","","","","","","","","","","","","","","","","","","","","","","","","","","","","","","","","","","","","","","","","","","","","","","",{"$f":"IF(BM$78>-ROW()+71,\".\",\"\")","v":""},"","","","","","","","","","","","","","","","","","","","","","","","","","","","","","","","","","","","","","","","","","","","","","","","","","","","","","","","","","","","","","","","","",{"$f":"IF(EA$78>-ROW()+71,\".\",\"\")","v":""},"","","","","","","","","","","","","","","","","","","","","","","","","","","","","","","","","","","","","","","","","","","","","","","","","","","","","","","","","","","","","","","",{"$f":"IF(GM$78>-ROW()+71,\".\",\"\")","v":""},"","","","","","","","","","","","","","","","","","","","","","","","","","","","","","","","","","","","","","","","","","","","","","","","","","","","","","","","","","","","","","","",{"$f":"IF(IY$78>-ROW()+71,\".\",\"\")","v":""},"","","","","","","","","","","","","","","","","","","","","","","","","","","","","","","","","","","","","","","","","","","","","","","","","","","","","","","","","","","","","","","","","","","","","","","","","","","","","","","","","","","","","","","","","","","","","","","","","","","","","","","","","","","","","","","","","","","","","",{"$f":"IF(NM$78>-ROW()+71,\".\",\"\")","v":""},"","","","","","","","","","","","","","","","","","","","","","","","","","","","","","","","","","","","","","","","","","","","","","","","","","","","","","","","","","","","","","",""]
[null,"","","","","","","","","","","","","","","","","","","","","","","","","","","","","","","","","","","","","","","","","","","","","","","","","","","","","","","","","","","","","","",{"$f":"IF(BL$78>-ROW()+71,\".\",\"\")","v":""},"","","","","","","","","","","","","","","","","","","","","","","","","","","","","","","","","","","","","","","","","","","","","","","","","","","","","","","","","","","","","","","","","","","","","","","","","","","","","","","","","","","","","","","","","","","","","","","","","","","","","","","","","","","","","","","","","","","","","","","","","","","","","","","","","","","","","","","","","","","","","","","","","","","","","","","","","","","","","","","","","","","","","","","","","","","","","","","","","","","","","","","","","","","","","","","","","","","","","","","","","","","","","","","","","","","","","","","","","","","","","","","","","","","","","","","","","","","","","","","","","","","","","","","","","",{"$f":"IF(LB$78>-ROW()+71,\".\",\"\")","v":""},"","","","","","","","","","","","","","","","","","","","","","","","","","","","","","","","","","","","","","","","","","","","","","","","","","","","","","","","","","","","","","","","","","","","","","","","","","","","","","","","","","","","","","","","","","","","","","","","","","","","","","","","","","","","","","","","","","","","","","","","","","","","","",""]
[null,{"$f":"IF(B$78>-ROW()+71,\".\",\"\")","v":""},{"$f":"IF(C$78>-ROW()+71,\".\",\"\")","v":""},"","","","","","","","","","","","","","","","","","","","","","","","","","","","","","","","","","","","","","","","","","","","","","","","","","","","","","","","","","","","","","","",{"$f":"IF(BO$78>-ROW()+71,\".\",\"\")","v":""},"","","","","","","","","","","","","","","","","","","","","","","","","","","","","","","","","","","","","","","","","","","","","","","","","","","","","","","","","","","","","","","",{"$f":"IF(EA$78>-ROW()+71,\".\",\"\")","v":""},"","","","","","","","","","","","","","","","","","","","","","","","","","","","","","","","","","","","","","","","","","","","","","","","","","","","","","","","","","","","","","","",{"$f":"IF(GM$78>-ROW()+71,\".\",\"\")","v":""},"","","","","","","","","","","","","","","","","","","","","","","","","","","","","","","","","","","","","","","","","","","","","","","","","","","","","","","","","","","","","","","",{"$f":"IF(IY$78>-ROW()+71,\".\",\"\")","v":""},"","","","","","","","","","","","","","","","","","","","","","","","","","","","","","","","","","","","","","","","","","","","","","","","","","","","","","","","","","","","","","","","","","","","","","","","","","","","","","","","","","","","","","","","","","","","","","","","","","","","","","","","","","","","","","","","","","","","","","","","","","","","","","","","","","","","","","","","","","","","","","","","","","","","","","","","","","","","","","","","","","","","","","","","","","","","","","","","","","","","",""]
["Score",{"$f":"Setup!B17","v":0},{"$f":"IF(B72<=Setup!$B$16,B72+1,9999)","v":1},{"$f":"IF(C72<=Setup!$B$16,C72+1,9999)","v":9999},{"$f":"IF(D72<=Setup!$B$16,D72+1,9999)","v":9999},{"$f":"IF(E72<=Setup!$B$16,E72+1,9999)","v":9999},{"$f":"IF(F72<=Setup!$B$16,F72+1,9999)","v":9999},{"$f":"IF(G72<=Setup!$B$16,G72+1,9999)","v":9999},{"$f":"IF(H72<=Setup!$B$16,H72+1,9999)","v":9999},{"$f":"IF(I72<=Setup!$B$16,I72+1,9999)","v":9999},{"$f":"IF(J72<=Setup!$B$16,J72+1,9999)","v":9999},{"$f":"IF(K72<=Setup!$B$16,K72+1,9999)","v":9999},{"$f":"IF(L72<=Setup!$B$16,L72+1,9999)","v":9999},{"$f":"IF(M72<=Setup!$B$16,M72+1,9999)","v":9999},{"$f":"IF(N72<=Setup!$B$16,N72+1,9999)","v":9999},{"$f":"IF(O72<=Setup!$B$16,O72+1,9999)","v":9999},{"$f":"IF(P72<=Setup!$B$16,P72+1,9999)","v":9999},{"$f":"IF(Q72<=Setup!$B$16,Q72+1,9999)","v":9999},{"$f":"IF(R72<=Setup!$B$16,R72+1,9999)","v":9999},{"$f":"IF(S72<=Setup!$B$16,S72+1,9999)","v":9999},{"$f":"IF(T72<=Setup!$B$16,T72+1,9999)","v":9999},{"$f":"IF(U72<=Setup!$B$16,U72+1,9999)","v":9999},{"$f":"IF(V72<=Setup!$B$16,V72+1,9999)","v":9999},{"$f":"IF(W72<=Setup!$B$16,W72+1,9999)","v":9999},{"$f":"IF(X72<=Setup!$B$16,X72+1,9999)","v":9999},{"$f":"IF(Y72<=Setup!$B$16,Y72+1,9999)","v":9999},{"$f":"IF(Z72<=Setup!$B$16,Z72+1,9999)","v":9999},{"$f":"IF(AA72<=Setup!$B$16,AA72+1,9999)","v":9999},{"$f":"IF(AB72<=Setup!$B$16,AB72+1,9999)","v":9999},{"$f":"IF(AC72<=Setup!$B$16,AC72+1,9999)","v":9999},{"$f":"IF(AD72<=Setup!$B$16,AD72+1,9999)","v":9999},{"$f":"IF(AE72<=Setup!$B$16,AE72+1,9999)","v":9999},{"$f":"IF(AF72<=Setup!$B$16,AF72+1,9999)","v":9999},{"$f":"IF(AG72<=Setup!$B$16,AG72+1,9999)","v":9999},{"$f":"IF(AH72<=Setup!$B$16,AH72+1,9999)","v":9999},{"$f":"IF(AI72<=Setup!$B$16,AI72+1,9999)","v":9999},{"$f":"IF(AJ72<=Setup!$B$16,AJ72+1,9999)","v":9999},{"$f":"IF(AK72<=Setup!$B$16,AK72+1,9999)","v":9999},{"$f":"IF(AL72<=Setup!$B$16,AL72+1,9999)","v":9999},{"$f":"IF(AM72<=Setup!$B$16,AM72+1,9999)","v":9999},{"$f":"IF(AN72<=Setup!$B$16,AN72+1,9999)","v":9999},{"$f":"IF(AO72<=Setup!$B$16,AO72+1,9999)","v":9999},{"$f":"IF(AP72<=Setup!$B$16,AP72+1,9999)","v":9999},{"$f":"IF(AQ72<=Setup!$B$16,AQ72+1,9999)","v":9999},{"$f":"IF(AR72<=Setup!$B$16,AR72+1,9999)","v":9999},{"$f":"IF(AS72<=Setup!$B$16,AS72+1,9999)","v":9999},{"$f":"IF(AT72<=Setup!$B$16,AT72+1,9999)","v":9999},{"$f":"IF(AU72<=Setup!$B$16,AU72+1,9999)","v":9999},{"$f":"IF(AV72<=Setup!$B$16,AV72+1,9999)","v":9999},{"$f":"IF(AW72<=Setup!$B$16,AW72+1,9999)","v":9999},{"$f":"IF(AX72<=Setup!$B$16,AX72+1,9999)","v":9999},{"$f":"IF(AY72<=Setup!$B$16,AY72+1,9999)","v":9999},{"$f":"IF(AZ72<=Setup!$B$16,AZ72+1,9999)","v":9999},{"$f":"IF(BA72<=Setup!$B$16,BA72+1,9999)","v":9999},{"$f":"IF(BB72<=Setup!$B$16,BB72+1,9999)","v":9999},{"$f":"IF(BC72<=Setup!$B$16,BC72+1,9999)","v":9999},{"$f":"IF(BD72<=Setup!$B$16,BD72+1,9999)","v":9999},{"$f":"IF(BE72<=Setup!$B$16,BE72+1,9999)","v":9999},{"$f":"IF(BF72<=Setup!$B$16,BF72+1,9999)","v":9999},{"$f":"IF(BG72<=Setup!$B$16,BG72+1,9999)","v":9999},{"$f":"IF(BH72<=Setup!$B$16,BH72+1,9999)","v":9999},{"$f":"IF(BI72<=Setup!$B$16,BI72+1,9999)","v":9999},{"$f":"IF(BJ72<=Setup!$B$16,BJ72+1,9999)","v":9999},{"$f":"IF(BK72<=Setup!$B$16,BK72+1,9999)","v":9999},{"$f":"IF(BL72<=Setup!$B$16,BL72+1,9999)","v":9999},{"$f":"IF(BM72<=Setup!$B$16,BM72+1,9999)","v":9999},{"$f":"IF(BN72<=Setup!$B$16,BN72+1,9999)","v":9999},{"$f":"IF(BO72<=Setup!$B$16,BO72+1,9999)","v":9999},{"$f":"IF(BP72<=Setup!$B$16,BP72+1,9999)","v":9999},{"$f":"IF(BQ72<=Setup!$B$16,BQ72+1,9999)","v":9999},{"$f":"IF(BR72<=Setup!$B$16,BR72+1,9999)","v":9999},{"$f":"IF(BS72<=Setup!$B$16,BS72+1,9999)","v":9999},{"$f":"IF(BT72<=Setup!$B$16,BT72+1,9999)","v":9999},{"$f":"IF(BU72<=Setup!$B$16,BU72+1,9999)","v":9999},{"$f":"IF(BV72<=Setup!$B$16,BV72+1,9999)","v":9999},{"$f":"IF(BW72<=Setup!$B$16,BW72+1,9999)","v":9999},{"$f":"IF(BX72<=Setup!$B$16,BX72+1,9999)","v":9999},{"$f":"IF(BY72<=Setup!$B$16,BY72+1,9999)","v":9999},{"$f":"IF(BZ72<=Setup!$B$16,BZ72+1,9999)","v":9999},{"$f":"IF(CA72<=Setup!$B$16,CA72+1,9999)","v":9999},{"$f":"IF(CB72<=Setup!$B$16,CB72+1,9999)","v":9999},{"$f":"IF(CC72<=Setup!$B$16,CC72+1,9999)","v":9999},{"$f":"IF(CD72<=Setup!$B$16,CD72+1,9999)","v":9999},{"$f":"IF(CE72<=Setup!$B$16,CE72+1,9999)","v":9999},{"$f":"IF(CF72<=Setup!$B$16,CF72+1,9999)","v":9999},{"$f":"IF(CG72<=Setup!$B$16,CG72+1,9999)","v":9999},{"$f":"IF(CH72<=Setup!$B$16,CH72+1,9999)","v":9999},{"$f":"IF(CI72<=Setup!$B$16,CI72+1,9999)","v":9999},{"$f":"IF(CJ72<=Setup!$B$16,CJ72+1,9999)","v":9999},{"$f":"IF(CK72<=Setup!$B$16,CK72+1,9999)","v":9999},{"$f":"IF(CL72<=Setup!$B$16,CL72+1,9999)","v":9999},{"$f":"IF(CM72<=Setup!$B$16,CM72+1,9999)","v":9999},{"$f":"IF(CN72<=Setup!$B$16,CN72+1,9999)","v":9999},{"$f":"IF(CO72<=Setup!$B$16,CO72+1,9999)","v":9999},{"$f":"IF(CP72<=Setup!$B$16,CP72+1,9999)","v":9999},{"$f":"IF(CQ72<=Setup!$B$16,CQ72+1,9999)","v":9999},{"$f":"IF(CR72<=Setup!$B$16,CR72+1,9999)","v":9999},{"$f":"IF(CS72<=Setup!$B$16,CS72+1,9999)","v":9999},{"$f":"IF(CT72<=Setup!$B$16,CT72+1,9999)","v":9999},{"$f":"IF(CU72<=Setup!$B$16,CU72+1,9999)","v":9999},{"$f":"IF(CV72<=Setup!$B$16,CV72+1,9999)","v":9999},{"$f":"IF(CW72<=Setup!$B$16,CW72+1,9999)","v":9999},{"$f":"IF(CX72<=Setup!$B$16,CX72+1,9999)","v":9999},{"$f":"IF(CY72<=Setup!$B$16,CY72+1,9999)","v":9999},{"$f":"IF(CZ72<=Setup!$B$16,CZ72+1,9999)","v":9999},{"$f":"IF(DA72<=Setup!$B$16,DA72+1,9999)","v":9999},{"$f":"IF(DB72<=Setup!$B$16,DB72+1,9999)","v":9999},{"$f":"IF(DC72<=Setup!$B$16,DC72+1,9999)","v":9999},{"$f":"IF(DD72<=Setup!$B$16,DD72+1,9999)","v":9999},{"$f":"IF(DE72<=Setup!$B$16,DE72+1,9999)","v":9999},{"$f":"IF(DF72<=Setup!$B$16,DF72+1,9999)","v":9999},{"$f":"IF(DG72<=Setup!$B$16,DG72+1,9999)","v":9999},{"$f":"IF(DH72<=Setup!$B$16,DH72+1,9999)","v":9999},{"$f":"IF(DI72<=Setup!$B$16,DI72+1,9999)","v":9999},{"$f":"IF(DJ72<=Setup!$B$16,DJ72+1,9999)","v":9999},{"$f":"IF(DK72<=Setup!$B$16,DK72+1,9999)","v":9999},{"$f":"IF(DL72<=Setup!$B$16,DL72+1,9999)","v":9999},{"$f":"IF(DM72<=Setup!$B$16,DM72+1,9999)","v":9999},{"$f":"IF(DN72<=Setup!$B$16,DN72+1,9999)","v":9999},{"$f":"IF(DO72<=Setup!$B$16,DO72+1,9999)","v":9999},{"$f":"IF(DP72<=Setup!$B$16,DP72+1,9999)","v":9999},{"$f":"IF(DQ72<=Setup!$B$16,DQ72+1,9999)","v":9999},{"$f":"IF(DR72<=Setup!$B$16,DR72+1,9999)","v":9999},{"$f":"IF(DS72<=Setup!$B$16,DS72+1,9999)","v":9999},{"$f":"IF(DT72<=Setup!$B$16,DT72+1,9999)","v":9999},{"$f":"IF(DU72<=Setup!$B$16,DU72+1,9999)","v":9999},{"$f":"IF(DV72<=Setup!$B$16,DV72+1,9999)","v":9999},{"$f":"IF(DW72<=Setup!$B$16,DW72+1,9999)","v":9999},{"$f":"IF(DX72<=Setup!$B$16,DX72+1,9999)","v":9999},{"$f":"IF(DY72<=Setup!$B$16,DY72+1,9999)","v":9999},{"$f":"IF(DZ72<=Setup!$B$16,DZ72+1,9999)","v":9999},{"$f":"IF(EA72<=Setup!$B$16,EA72+1,9999)","v":9999},{"$f":"IF(EB72<=Setup!$B$16,EB72+1,9999)","v":9999},{"$f":"IF(EC72<=Setup!$B$16,EC72+1,9999)","v":9999},{"$f":"IF(ED72<=Setup!$B$16,ED72+1,9999)","v":9999},{"$f":"IF(EE72<=Setup!$B$16,EE72+1,9999)","v":9999},{"$f":"IF(EF72<=Setup!$B$16,EF72+1,9999)","v":9999},{"$f":"IF(EG72<=Setup!$B$16,EG72+1,9999)","v":9999},{"$f":"IF(EH72<=Setup!$B$16,EH72+1,9999)","v":9999},{"$f":"IF(EI72<=Setup!$B$16,EI72+1,9999)","v":9999},{"$f":"IF(EJ72<=Setup!$B$16,EJ72+1,9999)","v":9999},{"$f":"IF(EK72<=Setup!$B$16,EK72+1,9999)","v":9999},{"$f":"IF(EL72<=Setup!$B$16,EL72+1,9999)","v":9999},{"$f":"IF(EM72<=Setup!$B$16,EM72+1,9999)","v":9999},{"$f":"IF(EN72<=Setup!$B$16,EN72+1,9999)","v":9999},{"$f":"IF(EO72<=Setup!$B$16,EO72+1,9999)","v":9999},{"$f":"IF(EP72<=Setup!$B$16,EP72+1,9999)","v":9999},{"$f":"IF(EQ72<=Setup!$B$16,EQ72+1,9999)","v":9999},{"$f":"IF(ER72<=Setup!$B$16,ER72+1,9999)","v":9999},{"$f":"IF(ES72<=Setup!$B$16,ES72+1,9999)","v":9999},{"$f":"IF(ET72<=Setup!$B$16,ET72+1,9999)","v":9999},{"$f":"IF(EU72<=Setup!$B$16,EU72+1,9999)","v":9999},{"$f":"IF(EV72<=Setup!$B$16,EV72+1,9999)","v":9999},{"$f":"IF(EW72<=Setup!$B$16,EW72+1,9999)","v":9999},{"$f":"IF(EX72<=Setup!$B$16,EX72+1,9999)","v":9999},{"$f":"IF(EY72<=Setup!$B$16,EY72+1,9999)","v":9999},{"$f":"IF(EZ72<=Setup!$B$16,EZ72+1,9999)","v":9999},{"$f":"IF(FA72<=Setup!$B$16,FA72+1,9999)","v":9999},{"$f":"IF(FB72<=Setup!$B$16,FB72+1,9999)","v":9999},{"$f":"IF(FC72<=Setup!$B$16,FC72+1,9999)","v":9999},{"$f":"IF(FD72<=Setup!$B$16,FD72+1,9999)","v":9999},{"$f":"IF(FE72<=Setup!$B$16,FE72+1,9999)","v":9999},{"$f":"IF(FF72<=Setup!$B$16,FF72+1,9999)","v":9999},{"$f":"IF(FG72<=Setup!$B$16,FG72+1,9999)","v":9999},{"$f":"IF(FH72<=Setup!$B$16,FH72+1,9999)","v":9999},{"$f":"IF(FI72<=Setup!$B$16,FI72+1,9999)","v":9999},{"$f":"IF(FJ72<=Setup!$B$16,FJ72+1,9999)","v":9999},{"$f":"IF(FK72<=Setup!$B$16,FK72+1,9999)","v":9999},{"$f":"IF(FL72<=Setup!$B$16,FL72+1,9999)","v":9999},{"$f":"IF(FM72<=Setup!$B$16,FM72+1,9999)","v":9999},{"$f":"IF(FN72<=Setup!$B$16,FN72+1,9999)","v":9999},{"$f":"IF(FO72<=Setup!$B$16,FO72+1,9999)","v":9999},{"$f":"IF(FP72<=Setup!$B$16,FP72+1,9999)","v":9999},{"$f":"IF(FQ72<=Setup!$B$16,FQ72+1,9999)","v":9999},{"$f":"IF(FR72<=Setup!$B$16,FR72+1,9999)","v":9999},{"$f":"IF(FS72<=Setup!$B$16,FS72+1,9999)","v":9999},{"$f":"IF(FT72<=Setup!$B$16,FT72+1,9999)","v":9999},{"$f":"IF(FU72<=Setup!$B$16,FU72+1,9999)","v":9999},{"$f":"IF(FV72<=Setup!$B$16,FV72+1,9999)","v":9999},{"$f":"IF(FW72<=Setup!$B$16,FW72+1,9999)","v":9999},{"$f":"IF(FX72<=Setup!$B$16,FX72+1,9999)","v":9999},{"$f":"IF(FY72<=Setup!$B$16,FY72+1,9999)","v":9999},{"$f":"IF(FZ72<=Setup!$B$16,FZ72+1,9999)","v":9999},{"$f":"IF(GA72<=Setup!$B$16,GA72+1,9999)","v":9999},{"$f":"IF(GB72<=Setup!$B$16,GB72+1,9999)","v":9999},{"$f":"IF(GC72<=Setup!$B$16,GC72+1,9999)","v":9999},{"$f":"IF(GD72<=Setup!$B$16,GD72+1,9999)","v":9999},{"$f":"IF(GE72<=Setup!$B$16,GE72+1,9999)","v":9999},{"$f":"IF(GF72<=Setup!$B$16,GF72+1,9999)","v":9999},{"$f":"IF(GG72<=Setup!$B$16,GG72+1,9999)","v":9999},{"$f":"IF(GH72<=Setup!$B$16,GH72+1,9999)","v":9999},{"$f":"IF(GI72<=Setup!$B$16,GI72+1,9999)","v":9999},{"$f":"IF(GJ72<=Setup!$B$16,GJ72+1,9999)","v":9999},{"$f":"IF(GK72<=Setup!$B$16,GK72+1,9999)","v":9999},{"$f":"IF(GL72<=Setup!$B$16,GL72+1,9999)","v":9999},{"$f":"IF(GM72<=Setup!$B$16,GM72+1,9999)","v":9999},{"$f":"IF(GN72<=Setup!$B$16,GN72+1,9999)","v":9999},{"$f":"IF(GO72<=Setup!$B$16,GO72+1,9999)","v":9999},{"$f":"IF(GP72<=Setup!$B$16,GP72+1,9999)","v":9999},{"$f":"IF(GQ72<=Setup!$B$16,GQ72+1,9999)","v":9999},{"$f":"IF(GR72<=Setup!$B$16,GR72+1,9999)","v":9999},{"$f":"IF(GS72<=Setup!$B$16,GS72+1,9999)","v":9999},{"$f":"IF(GT72<=Setup!$B$16,GT72+1,9999)","v":9999},{"$f":"IF(GU72<=Setup!$B$16,GU72+1,9999)","v":9999},{"$f":"IF(GV72<=Setup!$B$16,GV72+1,9999)","v":9999},{"$f":"IF(GW72<=Setup!$B$16,GW72+1,9999)","v":9999},{"$f":"IF(GX72<=Setup!$B$16,GX72+1,9999)","v":9999},{"$f":"IF(GY72<=Setup!$B$16,GY72+1,9999)","v":9999},{"$f":"IF(GZ72<=Setup!$B$16,GZ72+1,9999)","v":9999},{"$f":"IF(HA72<=Setup!$B$16,HA72+1,9999)","v":9999},{"$f":"IF(HB72<=Setup!$B$16,HB72+1,9999)","v":9999},{"$f":"IF(HC72<=Setup!$B$16,HC72+1,9999)","v":9999},{"$f":"IF(HD72<=Setup!$B$16,HD72+1,9999)","v":9999},{"$f":"IF(HE72<=Setup!$B$16,HE72+1,9999)","v":9999},{"$f":"IF(HF72<=Setup!$B$16,HF72+1,9999)","v":9999},{"$f":"IF(HG72<=Setup!$B$16,HG72+1,9999)","v":9999},{"$f":"IF(HH72<=Setup!$B$16,HH72+1,9999)","v":9999},{"$f":"IF(HI72<=Setup!$B$16,HI72+1,9999)","v":9999},{"$f":"IF(HJ72<=Setup!$B$16,HJ72+1,9999)","v":9999},{"$f":"IF(HK72<=Setup!$B$16,HK72+1,9999)","v":9999},{"$f":"IF(HL72<=Setup!$B$16,HL72+1,9999)","v":9999},{"$f":"IF(HM72<=Setup!$B$16,HM72+1,9999)","v":9999},{"$f":"IF(HN72<=Setup!$B$16,HN72+1,9999)","v":9999},{"$f":"IF(HO72<=Setup!$B$16,HO72+1,9999)","v":9999},{"$f":"IF(HP72<=Setup!$B$16,HP72+1,9999)","v":9999},{"$f":"IF(HQ72<=Setup!$B$16,HQ72+1,9999)","v":9999},{"$f":"IF(HR72<=Setup!$B$16,HR72+1,9999)","v":9999},{"$f":"IF(HS72<=Setup!$B$16,HS72+1,9999)","v":9999},{"$f":"IF(HT72<=Setup!$B$16,HT72+1,9999)","v":9999},{"$f":"IF(HU72<=Setup!$B$16,HU72+1,9999)","v":9999},{"$f":"IF(HV72<=Setup!$B$16,HV72+1,9999)","v":9999},{"$f":"IF(HW72<=Setup!$B$16,HW72+1,9999)","v":9999},{"$f":"IF(HX72<=Setup!$B$16,HX72+1,9999)","v":9999},{"$f":"IF(HY72<=Setup!$B$16,HY72+1,9999)","v":9999},{"$f":"IF(HZ72<=Setup!$B$16,HZ72+1,9999)","v":9999},{"$f":"IF(IA72<=Setup!$B$16,IA72+1,9999)","v":9999},{"$f":"IF(IB72<=Setup!$B$16,IB72+1,9999)","v":9999},{"$f":"IF(IC72<=Setup!$B$16,IC72+1,9999)","v":9999},{"$f":"IF(ID72<=Setup!$B$16,ID72+1,9999)","v":9999},{"$f":"IF(IE72<=Setup!$B$16,IE72+1,9999)","v":9999},{"$f":"IF(IF72<=Setup!$B$16,IF72+1,9999)","v":9999},{"$f":"IF(IG72<=Setup!$B$16,IG72+1,9999)","v":9999},{"$f":"IF(IH72<=Setup!$B$16,IH72+1,9999)","v":9999},{"$f":"IF(II72<=Setup!$B$16,II72+1,9999)","v":9999},{"$f":"IF(IJ72<=Setup!$B$16,IJ72+1,9999)","v":9999},{"$f":"IF(IK72<=Setup!$B$16,IK72+1,9999)","v":9999},{"$f":"IF(IL72<=Setup!$B$16,IL72+1,9999)","v":9999},{"$f":"IF(IM72<=Setup!$B$16,IM72+1,9999)","v":9999},{"$f":"IF(IN72<=Setup!$B$16,IN72+1,9999)","v":9999},{"$f":"IF(IO72<=Setup!$B$16,IO72+1,9999)","v":9999},{"$f":"IF(IP72<=Setup!$B$16,IP72+1,9999)","v":9999},{"$f":"IF(IQ72<=Setup!$B$16,IQ72+1,9999)","v":9999},{"$f":"IF(IR72<=Setup!$B$16,IR72+1,9999)","v":9999},{"$f":"IF(IS72<=Setup!$B$16,IS72+1,9999)","v":9999},{"$f":"IF(IT72<=Setup!$B$16,IT72+1,9999)","v":9999},{"$f":"IF(IU72<=Setup!$B$16,IU72+1,9999)","v":9999},{"$f":"IF(IV72<=Setup!$B$16,IV72+1,9999)","v":9999},{"$f":"IF(IW72<=Setup!$B$16,IW72+1,9999)","v":9999},{"$f":"IF(IX72<=Setup!$B$16,IX72+1,9999)","v":9999},{"$f":"IF(IY72<=Setup!$B$16,IY72+1,9999)","v":9999},{"$f":"IF(IZ72<=Setup!$B$16,IZ72+1,9999)","v":9999},{"$f":"IF(JA72<=Setup!$B$16,JA72+1,9999)","v":9999},{"$f":"IF(JB72<=Setup!$B$16,JB72+1,9999)","v":9999},{"$f":"IF(JC72<=Setup!$B$16,JC72+1,9999)","v":9999},{"$f":"IF(JD72<=Setup!$B$16,JD72+1,9999)","v":9999},{"$f":"IF(JE72<=Setup!$B$16,JE72+1,9999)","v":9999},{"$f":"IF(JF72<=Setup!$B$16,JF72+1,9999)","v":9999},{"$f":"IF(JG72<=Setup!$B$16,JG72+1,9999)","v":9999},{"$f":"IF(JH72<=Setup!$B$16,JH72+1,9999)","v":9999},{"$f":"IF(JI72<=Setup!$B$16,JI72+1,9999)","v":9999},{"$f":"IF(JJ72<=Setup!$B$16,JJ72+1,9999)","v":9999},{"$f":"IF(JK72<=Setup!$B$16,JK72+1,9999)","v":9999},{"$f":"IF(JL72<=Setup!$B$16,JL72+1,9999)","v":9999},{"$f":"IF(JM72<=Setup!$B$16,JM72+1,9999)","v":9999},{"$f":"IF(JN72<=Setup!$B$16,JN72+1,9999)","v":9999},{"$f":"IF(JO72<=Setup!$B$16,JO72+1,9999)","v":9999},{"$f":"IF(JP72<=Setup!$B$16,JP72+1,9999)","v":9999},{"$f":"IF(JQ72<=Setup!$B$16,JQ72+1,9999)","v":9999},{"$f":"IF(JR72<=Setup!$B$16,JR72+1,9999)","v":9999},{"$f":"IF(JS72<=Setup!$B$16,JS72+1,9999)","v":9999},{"$f":"IF(JT72<=Setup!$B$16,JT72+1,9999)","v":9999},{"$f":"IF(JU72<=Setup!$B$16,JU72+1,9999)","v":9999},{"$f":"IF(JV72<=Setup!$B$16,JV72+1,9999)","v":9999},{"$f":"IF(JW72<=Setup!$B$16,JW72+1,9999)","v":9999},{"$f":"IF(JX72<=Setup!$B$16,JX72+1,9999)","v":9999},{"$f":"IF(JY72<=Setup!$B$16,JY72+1,9999)","v":9999},{"$f":"IF(JZ72<=Setup!$B$16,JZ72+1,9999)","v":9999},{"$f":"IF(KA72<=Setup!$B$16,KA72+1,9999)","v":9999},{"$f":"IF(KB72<=Setup!$B$16,KB72+1,9999)","v":9999},{"$f":"IF(KC72<=Setup!$B$16,KC72+1,9999)","v":9999},{"$f":"IF(KD72<=Setup!$B$16,KD72+1,9999)","v":9999},{"$f":"IF(KE72<=Setup!$B$16,KE72+1,9999)","v":9999},{"$f":"IF(KF72<=Setup!$B$16,KF72+1,9999)","v":9999},{"$f":"IF(KG72<=Setup!$B$16,KG72+1,9999)","v":9999},{"$f":"IF(KH72<=Setup!$B$16,KH72+1,9999)","v":9999},{"$f":"IF(KI72<=Setup!$B$16,KI72+1,9999)","v":9999},{"$f":"IF(KJ72<=Setup!$B$16,KJ72+1,9999)","v":9999},{"$f":"IF(KK72<=Setup!$B$16,KK72+1,9999)","v":9999},{"$f":"IF(KL72<=Setup!$B$16,KL72+1,9999)","v":9999},{"$f":"IF(KM72<=Setup!$B$16,KM72+1,9999)","v":9999},{"$f":"IF(KN72<=Setup!$B$16,KN72+1,9999)","v":9999},{"$f":"IF(KO72<=Setup!$B$16,KO72+1,9999)","v":9999},{"$f":"IF(KP72<=Setup!$B$16,KP72+1,9999)","v":9999},{"$f":"IF(KQ72<=Setup!$B$16,KQ72+1,9999)","v":9999},{"$f":"IF(KR72<=Setup!$B$16,KR72+1,9999)","v":9999},{"$f":"IF(KS72<=Setup!$B$16,KS72+1,9999)","v":9999},{"$f":"IF(KT72<=Setup!$B$16,KT72+1,9999)","v":9999},{"$f":"IF(KU72<=Setup!$B$16,KU72+1,9999)","v":9999},{"$f":"IF(KV72<=Setup!$B$16,KV72+1,9999)","v":9999},{"$f":"IF(KW72<=Setup!$B$16,KW72+1,9999)","v":9999},{"$f":"IF(KX72<=Setup!$B$16,KX72+1,9999)","v":9999},{"$f":"IF(KY72<=Setup!$B$16,KY72+1,9999)","v":9999},{"$f":"IF(KZ72<=Setup!$B$16,KZ72+1,9999)","v":9999},{"$f":"IF(LA72<=Setup!$B$16,LA72+1,9999)","v":9999},{"$f":"IF(LB72<=Setup!$B$16,LB72+1,9999)","v":9999},{"$f":"IF(LC72<=Setup!$B$16,LC72+1,9999)","v":9999},{"$f":"IF(LD72<=Setup!$B$16,LD72+1,9999)","v":9999},{"$f":"IF(LE72<=Setup!$B$16,LE72+1,9999)","v":9999},{"$f":"IF(LF72<=Setup!$B$16,LF72+1,9999)","v":9999},{"$f":"IF(LG72<=Setup!$B$16,LG72+1,9999)","v":9999},{"$f":"IF(LH72<=Setup!$B$16,LH72+1,9999)","v":9999},{"$f":"IF(LI72<=Setup!$B$16,LI72+1,9999)","v":9999},{"$f":"IF(LJ72<=Setup!$B$16,LJ72+1,9999)","v":9999},{"$f":"IF(LK72<=Setup!$B$16,LK72+1,9999)","v":9999},{"$f":"IF(LL72<=Setup!$B$16,LL72+1,9999)","v":9999},{"$f":"IF(LM72<=Setup!$B$16,LM72+1,9999)","v":9999},{"$f":"IF(LN72<=Setup!$B$16,LN72+1,9999)","v":9999},{"$f":"IF(LO72<=Setup!$B$16,LO72+1,9999)","v":9999},{"$f":"IF(LP72<=Setup!$B$16,LP72+1,9999)","v":9999},{"$f":"IF(LQ72<=Setup!$B$16,LQ72+1,9999)","v":9999},{"$f":"IF(LR72<=Setup!$B$16,LR72+1,9999)","v":9999},{"$f":"IF(LS72<=Setup!$B$16,LS72+1,9999)","v":9999},{"$f":"IF(LT72<=Setup!$B$16,LT72+1,9999)","v":9999},{"$f":"IF(LU72<=Setup!$B$16,LU72+1,9999)","v":9999},{"$f":"IF(LV72<=Setup!$B$16,LV72+1,9999)","v":9999},{"$f":"IF(LW72<=Setup!$B$16,LW72+1,9999)","v":9999},{"$f":"IF(LX72<=Setup!$B$16,LX72+1,9999)","v":9999},{"$f":"IF(LY72<=Setup!$B$16,LY72+1,9999)","v":9999},{"$f":"IF(LZ72<=Setup!$B$16,LZ72+1,9999)","v":9999},{"$f":"IF(MA72<=Setup!$B$16,MA72+1,9999)","v":9999},{"$f":"IF(MB72<=Setup!$B$16,MB72+1,9999)","v":9999},{"$f":"IF(MC72<=Setup!$B$16,MC72+1,9999)","v":9999},{"$f":"IF(MD72<=Setup!$B$16,MD72+1,9999)","v":9999},{"$f":"IF(ME72<=Setup!$B$16,ME72+1,9999)","v":9999},{"$f":"IF(MF72<=Setup!$B$16,MF72+1,9999)","v":9999},{"$f":"IF(MG72<=Setup!$B$16,MG72+1,9999)","v":9999},{"$f":"IF(MH72<=Setup!$B$16,MH72+1,9999)","v":9999},{"$f":"IF(MI72<=Setup!$B$16,MI72+1,9999)","v":9999},{"$f":"IF(MJ72<=Setup!$B$16,MJ72+1,9999)","v":9999},{"$f":"IF(MK72<=Setup!$B$16,MK72+1,9999)","v":9999},{"$f":"IF(ML72<=Setup!$B$16,ML72+1,9999)","v":9999},{"$f":"IF(MM72<=Setup!$B$16,MM72+1,9999)","v":9999},{"$f":"IF(MN72<=Setup!$B$16,MN72+1,9999)","v":9999},{"$f":"IF(MO72<=Setup!$B$16,MO72+1,9999)","v":9999},{"$f":"IF(MP72<=Setup!$B$16,MP72+1,9999)","v":9999},{"$f":"IF(MQ72<=Setup!$B$16,MQ72+1,9999)","v":9999},{"$f":"IF(MR72<=Setup!$B$16,MR72+1,9999)","v":9999},{"$f":"IF(MS72<=Setup!$B$16,MS72+1,9999)","v":9999},{"$f":"IF(MT72<=Setup!$B$16,MT72+1,9999)","v":9999},{"$f":"IF(MU72<=Setup!$B$16,MU72+1,9999)","v":9999},{"$f":"IF(MV72<=Setup!$B$16,MV72+1,9999)","v":9999},{"$f":"IF(MW72<=Setup!$B$16,MW72+1,9999)","v":9999},{"$f":"IF(MX72<=Setup!$B$16,MX72+1,9999)","v":9999},{"$f":"IF(MY72<=Setup!$B$16,MY72+1,9999)","v":9999},{"$f":"IF(MZ72<=Setup!$B$16,MZ72+1,9999)","v":9999},{"$f":"IF(NA72<=Setup!$B$16,NA72+1,9999)","v":9999},{"$f":"IF(NB72<=Setup!$B$16,NB72+1,9999)","v":9999},{"$f":"IF(NC72<=Setup!$B$16,NC72+1,9999)","v":9999},{"$f":"IF(ND72<=Setup!$B$16,ND72+1,9999)","v":9999},{"$f":"IF(NE72<=Setup!$B$16,NE72+1,9999)","v":9999},{"$f":"IF(NF72<=Setup!$B$16,NF72+1,9999)","v":9999},{"$f":"IF(NG72<=Setup!$B$16,NG72+1,9999)","v":9999},{"$f":"IF(NH72<=Setup!$B$16,NH72+1,9999)","v":9999},{"$f":"IF(NI72<=Setup!$B$16,NI72+1,9999)","v":9999},{"$f":"IF(NJ72<=Setup!$B$16,NJ72+1,9999)","v":9999},{"$f":"IF(NK72<=Setup!$B$16,NK72+1,9999)","v":9999},{"$f":"IF(NL72<=Setup!$B$16,NL72+1,9999)","v":9999},{"$f":"IF(NM72<=Setup!$B$16,NM72+1,9999)","v":9999},{"$f":"IF(NN72<=Setup!$B$16,NN72+1,9999)","v":9999},{"$f":"IF(NO72<=Setup!$B$16,NO72+1,9999)","v":9999},{"$f":"IF(NP72<=Setup!$B$16,NP72+1,9999)","v":9999},{"$f":"IF(NQ72<=Setup!$B$16,NQ72+1,9999)","v":9999},{"$f":"IF(NR72<=Setup!$B$16,NR72+1,9999)","v":9999},{"$f":"IF(NS72<=Setup!$B$16,NS72+1,9999)","v":9999},{"$f":"IF(NT72<=Setup!$B$16,NT72+1,9999)","v":9999},{"$f":"IF(NU72<=Setup!$B$16,NU72+1,9999)","v":9999},{"$f":"IF(NV72<=Setup!$B$16,NV72+1,9999)","v":9999},{"$f":"IF(NW72<=Setup!$B$16,NW72+1,9999)","v":9999},{"$f":"IF(NX72<=Setup!$B$16,NX72+1,9999)","v":9999},{"$f":"IF(NY72<=Setup!$B$16,NY72+1,9999)","v":9999},{"$f":"IF(NZ72<=Setup!$B$16,NZ72+1,9999)","v":9999},{"$f":"IF(OA72<=Setup!$B$16,OA72+1,9999)","v":9999},{"$f":"IF(OB72<=Setup!$B$16,OB72+1,9999)","v":9999},{"$f":"IF(OC72<=Setup!$B$16,OC72+1,9999)","v":9999},{"$f":"IF(OD72<=Setup!$B$16,OD72+1,9999)","v":9999},{"$f":"IF(OE72<=Setup!$B$16,OE72+1,9999)","v":9999},{"$f":"IF(OF72<=Setup!$B$16,OF72+1,9999)","v":9999},{"$f":"IF(OG72<=Setup!$B$16,OG72+1,9999)","v":9999},{"$f":"IF(OH72<=Setup!$B$16,OH72+1,9999)","v":9999},{"$f":"IF(OI72<=Setup!$B$16,OI72+1,9999)","v":9999},{"$f":"IF(OJ72<=Setup!$B$16,OJ72+1,9999)","v":9999},{"$f":"IF(OK72<=Setup!$B$16,OK72+1,9999)","v":9999},{"$f":"IF(OL72<=Setup!$B$16,OL72+1,9999)","v":9999},{"$f":"IF(OM72<=Setup!$B$16,OM72+1,9999)","v":9999},{"$f":"IF(ON72<=Setup!$B$16,ON72+1,9999)","v":9999},{"$f":"IF(OO72<=Setup!$B$16,OO72+1,9999)","v":9999},{"$f":"IF(OP72<=Setup!$B$16,OP72+1,9999)","v":9999},{"$f":"IF(OQ72<=Setup!$B$16,OQ72+1,9999)","v":9999},{"$f":"IF(OR72<=Setup!$B$16,OR72+1,9999)","v":9999},{"$f":"IF(OS72<=Setup!$B$16,OS72+1,9999)","v":9999},{"$f":"IF(OT72<=Setup!$B$16,OT72+1,9999)","v":9999},{"$f":"IF(OU72<=Setup!$B$16,OU72+1,9999)","v":9999},{"$f":"IF(OV72<=Setup!$B$16,OV72+1,9999)","v":9999},{"$f":"IF(OW72<=Setup!$B$16,OW72+1,9999)","v":9999},{"$f":"IF(OX72<=Setup!$B$16,OX72+1,9999)","v":9999},{"$f":"IF(OY72<=Setup!$B$16,OY72+1,9999)","v":9999},{"$f":"IF(OZ72<=Setup!$B$16,OZ72+1,9999)","v":9999},{"$f":"IF(PA72<=Setup!$B$16,PA72+1,9999)","v":9999},{"$f":"IF(PB72<=Setup!$B$16,PB72+1,9999)","v":9999},{"$f":"IF(PC72<=Setup!$B$16,PC72+1,9999)","v":9999},{"$f":"IF(PD72<=Setup!$B$16,PD72+1,9999)","v":9999},{"$f":"IF(PE72<=Setup!$B$16,PE72+1,9999)","v":9999},{"$f":"IF(PF72<=Setup!$B$16,PF72+1,9999)","v":9999},{"$f":"IF(PG72<=Setup!$B$16,PG72+1,9999)","v":9999},{"$f":"IF(PH72<=Setup!$B$16,PH72+1,9999)","v":9999},{"$f":"IF(PI72<=Setup!$B$16,PI72+1,9999)","v":9999},{"$f":"IF(PJ72<=Setup!$B$16,PJ72+1,9999)","v":9999},{"$f":"IF(PK72<=Setup!$B$16,PK72+1,9999)","v":9999},{"$f":"IF(PL72<=Setup!$B$16,PL72+1,9999)","v":9999},{"$f":"IF(PM72<=Setup!$B$16,PM72+1,9999)","v":9999},{"$f":"IF(PN72<=Setup!$B$16,PN72+1,9999)","v":9999},{"$f":"IF(PO72<=Setup!$B$16,PO72+1,9999)","v":9999},{"$f":"IF(PP72<=Setup!$B$16,PP72+1,9999)","v":9999},{"$f":"IF(PQ72<=Setup!$B$16,PQ72+1,9999)","v":9999},{"$f":"IF(PR72<=Setup!$B$16,PR72+1,9999)","v":9999},{"$f":"IF(PS72<=Setup!$B$16,PS72+1,9999)","v":9999},{"$f":"IF(PT72<=Setup!$B$16,PT72+1,9999)","v":9999},{"$f":"IF(PU72<=Setup!$B$16,PU72+1,9999)","v":9999},{"$f":"IF(PV72<=Setup!$B$16,PV72+1,9999)","v":9999},{"$f":"IF(PW72<=Setup!$B$16,PW72+1,9999)","v":9999}]
["Females Pass",{"$f":"C73+B74","v":0},{"$f":"D73+C74","v":0},{"$f":"E73+D74","v":0},0,0,0,0,0,0,0,0,0,0,0,0,0,0,0,0,0,0,0,0,0,0,0,0,0,0,0,0,0,0,0,0,0,0,0,0,0,0,0,0,0,0,0,0,0,0,0,0,0,0,0,0,0,0,0,0,0,0,0,0,0,0,0,{"$f":"BQ73+BP74","v":0},0,0,0,0,0,0,0,0,0,0,{"$f":"CB73+CA74","v":0},{"$f":"CC73+CB74","v":0},{"$f":"CD73+CC74","v":0},{"$f":"CE73+CD74","v":0},{"$f":"CF73+CE74","v":0},{"$f":"CG73+CF74","v":0},{"$f":"CH73+CG74","v":0},{"$f":"CI73+CH74","v":0},{"$f":"CJ73+CI74","v":0},{"$f":"CK73+CJ74","v":0},{"$f":"CL73+CK74","v":0},{"$f":"CM73+CL74","v":0},{"$f":"CN73+CM74","v":0},{"$f":"CO73+CN74","v":0},{"$f":"CP73+CO74","v":0},{"$f":"CQ73+CP74","v":0},{"$f":"CR73+CQ74","v":0},{"$f":"CS73+CR74","v":0},{"$f":"CT73+CS74","v":0},{"$f":"CU73+CT74","v":0},{"$f":"CV73+CU74","v":0},{"$f":"CW73+CV74","v":0},{"$f":"CX73+CW74","v":0},{"$f":"CY73+CX74","v":0},{"$f":"CZ73+CY74","v":0},{"$f":"DA73+CZ74","v":0},{"$f":"DB73+DA74","v":0},{"$f":"DC73+DB74","v":0},{"$f":"DD73+DC74","v":0},{"$f":"DE73+DD74","v":0},{"$f":"DF73+DE74","v":0},{"$f":"DG73+DF74","v":0},{"$f":"DH73+DG74","v":0},{"$f":"DI73+DH74","v":0},{"$f":"DJ73+DI74","v":0},{"$f":"DK73+DJ74","v":0},{"$f":"DL73+DK74","v":0},{"$f":"DM73+DL74","v":0},{"$f":"DN73+DM74","v":0},{"$f":"DO73+DN74","v":0},{"$f":"DP73+DO74","v":0},{"$f":"DQ73+DP74","v":0},{"$f":"DR73+DQ74","v":0},{"$f":"DS73+DR74","v":0},{"$f":"DT73+DS74","v":0},{"$f":"DU73+DT74","v":0},{"$f":"DV73+DU74","v":0},{"$f":"DW73+DV74","v":0},{"$f":"DX73+DW74","v":0},{"$f":"DY73+DX74","v":0},{"$f":"DZ73+DY74","v":0},{"$f":"EA73+DZ74","v":0},{"$f":"EB73+EA74","v":0},{"$f":"EC73+EB74","v":0},{"$f":"ED73+EC74","v":0},{"$f":"EE73+ED74","v":0},{"$f":"EF73+EE74","v":0},{"$f":"EG73+EF74","v":0},{"$f":"EH73+EG74","v":0},{"$f":"EI73+EH74","v":0},{"$f":"EJ73+EI74","v":0},{"$f":"EK73+EJ74","v":0},{"$f":"EL73+EK74","v":0},{"$f":"EM73+EL74","v":0},{"$f":"EN73+EM74","v":0},{"$f":"EO73+EN74","v":0},{"$f":"EP73+EO74","v":0},{"$f":"EQ73+EP74","v":0},{"$f":"ER73+EQ74","v":0},{"$f":"ES73+ER74","v":0},{"$f":"ET73+ES74","v":0},{"$f":"EU73+ET74","v":0},{"$f":"EV73+EU74","v":0},{"$f":"EW73+EV74","v":0},{"$f":"EX73+EW74","v":0},{"$f":"EY73+EX74","v":0},{"$f":"EZ73+EY74","v":0},{"$f":"FA73+EZ74","v":0},{"$f":"FB73+FA74","v":0},{"$f":"FC73+FB74","v":0},{"$f":"FD73+FC74","v":0},{"$f":"FE73+FD74","v":0},{"$f":"FF73+FE74","v":0},{"$f":"FG73+FF74","v":0},{"$f":"FH73+FG74","v":0},{"$f":"FI73+FH74","v":0},{"$f":"FJ73+FI74","v":0},{"$f":"FK73+FJ74","v":0},{"$f":"FL73+FK74","v":0},{"$f":"FM73+FL74","v":0},{"$f":"FN73+FM74","v":0},{"$f":"FO73+FN74","v":0},{"$f":"FP73+FO74","v":0},{"$f":"FQ73+FP74","v":0},{"$f":"FR73+FQ74","v":0},{"$f":"FS73+FR74","v":0},{"$f":"FT73+FS74","v":0},{"$f":"FU73+FT74","v":0},{"$f":"FV73+FU74","v":0},{"$f":"FW73+FV74","v":0},{"$f":"FX73+FW74","v":0},{"$f":"FY73+FX74","v":0},{"$f":"FZ73+FY74","v":0},{"$f":"GA73+FZ74","v":0},{"$f":"GB73+GA74","v":0},{"$f":"GC73+GB74","v":0},{"$f":"GD73+GC74","v":0},{"$f":"GE73+GD74","v":0},{"$f":"GF73+GE74","v":0},{"$f":"GG73+GF74","v":0},{"$f":"GH73+GG74","v":0},{"$f":"GI73+GH74","v":0},{"$f":"GJ73+GI74","v":0},{"$f":"GK73+GJ74","v":0},{"$f":"GL73+GK74","v":0},{"$f":"GM73+GL74","v":0},{"$f":"GN73+GM74","v":0},{"$f":"GO73+GN74","v":0},{"$f":"GP73+GO74","v":0},{"$f":"GQ73+GP74","v":0},{"$f":"GR73+GQ74","v":0},{"$f":"GS73+GR74","v":0},{"$f":"GT73+GS74","v":0},{"$f":"GU73+GT74","v":0},{"$f":"GV73+GU74","v":0},{"$f":"GW73+GV74","v":0},{"$f":"GX73+GW74","v":0},{"$f":"GY73+GX74","v":0},{"$f":"GZ73+GY74","v":0},{"$f":"HA73+GZ74","v":0},{"$f":"HB73+HA74","v":0},{"$f":"HC73+HB74","v":0},{"$f":"HD73+HC74","v":0},{"$f":"HE73+HD74","v":0},{"$f":"HF73+HE74","v":0},{"$f":"HG73+HF74","v":0},{"$f":"HH73+HG74","v":0},{"$f":"HI73+HH74","v":0},{"$f":"HJ73+HI74","v":0},{"$f":"HK73+HJ74","v":0},{"$f":"HL73+HK74","v":0},{"$f":"HM73+HL74","v":0},{"$f":"HN73+HM74","v":0},{"$f":"HO73+HN74","v":0},{"$f":"HP73+HO74","v":0},{"$f":"HQ73+HP74","v":0},{"$f":"HR73+HQ74","v":0},{"$f":"HS73+HR74","v":0},{"$f":"HT73+HS74","v":0},{"$f":"HU73+HT74","v":0},{"$f":"HV73+HU74","v":0},{"$f":"HW73+HV74","v":0},{"$f":"HX73+HW74","v":0},{"$f":"HY73+HX74","v":0},{"$f":"HZ73+HY74","v":0},{"$f":"IA73+HZ74","v":0},{"$f":"IB73+IA74","v":0},{"$f":"IC73+IB74","v":0},{"$f":"ID73+IC74","v":0},{"$f":"IE73+ID74","v":0},{"$f":"IF73+IE74","v":0},{"$f":"IG73+IF74","v":0},{"$f":"IH73+IG74","v":0},{"$f":"II73+IH74","v":0},{"$f":"IJ73+II74","v":0},{"$f":"IK73+IJ74","v":0},{"$f":"IL73+IK74","v":0},{"$f":"IM73+IL74","v":0},{"$f":"IN73+IM74","v":0},{"$f":"IO73+IN74","v":0},{"$f":"IP73+IO74","v":0},{"$f":"IQ73+IP74","v":0},{"$f":"IR73+IQ74","v":0},{"$f":"IS73+IR74","v":0},{"$f":"IT73+IS74","v":0},{"$f":"IU73+IT74","v":0},{"$f":"IV73+IU74","v":0},{"$f":"IW73+IV74","v":0},{"$f":"IX73+IW74","v":0},{"$f":"IY73+IX74","v":0},{"$f":"IZ73+IY74","v":0},{"$f":"JA73+IZ74","v":0},{"$f":"JB73+JA74","v":0},{"$f":"JC73+JB74","v":0},{"$f":"JD73+JC74","v":0},{"$f":"JE73+JD74","v":0},{"$f":"JF73+JE74","v":0},{"$f":"JG73+JF74","v":0},{"$f":"JH73+JG74","v":0},{"$f":"JI73+JH74","v":0},{"$f":"JJ73+JI74","v":0},{"$f":"JK73+JJ74","v":0},{"$f":"JL73+JK74","v":0},{"$f":"JM73+JL74","v":0},{"$f":"JN73+JM74","v":0},{"$f":"JO73+JN74","v":0},{"$f":"JP73+JO74","v":0},{"$f":"JQ73+JP74","v":0},{"$f":"JR73+JQ74","v":0},{"$f":"JS73+JR74","v":0},{"$f":"JT73+JS74","v":0},{"$f":"JU73+JT74","v":0},{"$f":"JV73+JU74","v":0},{"$f":"JW73+JV74","v":0},{"$f":"JX73+JW74","v":0},{"$f":"JY73+JX74","v":0},{"$f":"JZ73+JY74","v":0},{"$f":"KA73+JZ74","v":0},{"$f":"KB73+KA74","v":0},{"$f":"KC73+KB74","v":0},{"$f":"KD73+KC74","v":0},{"$f":"KE73+KD74","v":0},{"$f":"KF73+KE74","v":0},{"$f":"KG73+KF74","v":0},{"$f":"KH73+KG74","v":0},{"$f":"KI73+KH74","v":0},{"$f":"KJ73+KI74","v":0},{"$f":"KK73+KJ74","v":0},{"$f":"KL73+KK74","v":0},{"$f":"KM73+KL74","v":0},{"$f":"KN73+KM74","v":0},{"$f":"KO73+KN74","v":0},{"$f":"KP73+KO74","v":0},{"$f":"KQ73+KP74","v":0},{"$f":"KR73+KQ74","v":0},{"$f":"KS73+KR74","v":0},{"$f":"KT73+KS74","v":0},{"$f":"KU73+KT74","v":0},{"$f":"KV73+KU74","v":0},{"$f":"KW73+KV74","v":0},{"$f":"KX73+KW74","v":0},{"$f":"KY73+KX74","v":0},{"$f":"KZ73+KY74","v":0},{"$f":"LA73+KZ74","v":0},{"$f":"LB73+LA74","v":0},{"$f":"LC73+LB74","v":0},{"$f":"LD73+LC74","v":0},{"$f":"LE73+LD74","v":0},{"$f":"LF73+LE74","v":0},{"$f":"LG73+LF74","v":0},{"$f":"LH73+LG74","v":0},{"$f":"LI73+LH74","v":0},{"$f":"LJ73+LI74","v":0},{"$f":"LK73+LJ74","v":0},{"$f":"LL73+LK74","v":0},{"$f":"LM73+LL74","v":0},{"$f":"LN73+LM74","v":0},{"$f":"LO73+LN74","v":0},{"$f":"LP73+LO74","v":0},{"$f":"LQ73+LP74","v":0},{"$f":"LR73+LQ74","v":0},{"$f":"LS73+LR74","v":0},{"$f":"LT73+LS74","v":0},{"$f":"LU73+LT74","v":0},{"$f":"LV73+LU74","v":0},{"$f":"LW73+LV74","v":0},{"$f":"LX73+LW74","v":0},{"$f":"LY73+LX74","v":0},{"$f":"LZ73+LY74","v":0},{"$f":"MA73+LZ74","v":0},{"$f":"MB73+MA74","v":0},{"$f":"MC73+MB74","v":0},{"$f":"MD73+MC74","v":0},{"$f":"ME73+MD74","v":0},{"$f":"MF73+ME74","v":0},{"$f":"MG73+MF74","v":0},{"$f":"MH73+MG74","v":0},{"$f":"MI73+MH74","v":0},{"$f":"MJ73+MI74","v":0},{"$f":"MK73+MJ74","v":0},{"$f":"ML73+MK74","v":0},{"$f":"MM73+ML74","v":0},{"$f":"MN73+MM74","v":0},{"$f":"MO73+MN74","v":0},{"$f":"MP73+MO74","v":0},{"$f":"MQ73+MP74","v":0},{"$f":"MR73+MQ74","v":0},{"$f":"MS73+MR74","v":0},{"$f":"MT73+MS74","v":0},{"$f":"MU73+MT74","v":0},{"$f":"MV73+MU74","v":0},{"$f":"MW73+MV74","v":0},{"$f":"MX73+MW74","v":0},{"$f":"MY73+MX74","v":0},{"$f":"MZ73+MY74","v":0},{"$f":"NA73+MZ74","v":0},{"$f":"NB73+NA74","v":0},{"$f":"NC73+NB74","v":0},{"$f":"ND73+NC74","v":0},{"$f":"NE73+ND74","v":0},{"$f":"NF73+NE74","v":0},{"$f":"NG73+NF74","v":0},{"$f":"NH73+NG74","v":0},{"$f":"NI73+NH74","v":0},{"$f":"NJ73+NI74","v":0},{"$f":"NK73+NJ74","v":0},{"$f":"NL73+NK74","v":0},{"$f":"NM73+NL74","v":0},{"$f":"NN73+NM74","v":0},{"$f":"NO73+NN74","v":0},{"$f":"NP73+NO74","v":0},{"$f":"NQ73+NP74","v":0},{"$f":"NR73+NQ74","v":0},{"$f":"NS73+NR74","v":0},{"$f":"NT73+NS74","v":0},{"$f":"NU73+NT74","v":0},{"$f":"NV73+NU74","v":0},{"$f":"NW73+NV74","v":0},{"$f":"NX73+NW74","v":0},{"$f":"NY73+NX74","v":0},{"$f":"NZ73+NY74","v":0},{"$f":"OA73+NZ74","v":0},{"$f":"OB73+OA74","v":0},{"$f":"OC73+OB74","v":0},{"$f":"OD73+OC74","v":0},{"$f":"OE73+OD74","v":0},{"$f":"OF73+OE74","v":0},{"$f":"OG73+OF74","v":0},{"$f":"OH73+OG74","v":0},{"$f":"OI73+OH74","v":0},{"$f":"OJ73+OI74","v":0},{"$f":"OK73+OJ74","v":0},{"$f":"OL73+OK74","v":0},{"$f":"OM73+OL74","v":0},{"$f":"ON73+OM74","v":0},{"$f":"OO73+ON74","v":0},{"$f":"OP73+OO74","v":0},{"$f":"OQ73+OP74","v":0},{"$f":"OR73+OQ74","v":0},{"$f":"OS73+OR74","v":0},{"$f":"OT73+OS74","v":0},{"$f":"OU73+OT74","v":0},{"$f":"OV73+OU74","v":0},{"$f":"OW73+OV74","v":0},{"$f":"OX73+OW74","v":0},{"$f":"OY73+OX74","v":0},{"$f":"OZ73+OY74","v":0},{"$f":"PA73+OZ74","v":0},{"$f":"PB73+PA74","v":0},{"$f":"PC73+PB74","v":0},{"$f":"PD73+PC74","v":0},{"$f":"PE73+PD74","v":0},{"$f":"PF73+PE74","v":0},{"$f":"PG73+PF74","v":0},{"$f":"PH73+PG74","v":0},{"$f":"PI73+PH74","v":0},{"$f":"PJ73+PI74","v":0},{"$f":"PK73+PJ74","v":0},{"$f":"PL73+PK74","v":0},{"$f":"PM73+PL74","v":0},{"$f":"PN73+PM74","v":0},{"$f":"PO73+PN74","v":0},{"$f":"PP73+PO74","v":0},{"$f":"PQ73+PP74","v":0},{"$f":"PR73+PQ74","v":0},{"$f":"PS73+PR74","v":0},{"$f":"PT73+PS74","v":0},{"$f":"PU73+PT74","v":0},{"$f":"PV73+PU74","v":0},{"$f":"PW73+PV74","v":0},{"$f":"PX73+PW74","v":0},{"$f":"PY73+PX74","v":0}]
["Females",{"$f":"COUNTIFS(Conv!$G$2:$G$3004,\"F\",Conv!$F$2:$F$3004,B72)","v":0},{"$f":"COUNTIFS(Conv!$G$2:$G$3004,\"F\",Conv!$F$2:$F$3004,C72)","v":0},{"$f":"COUNTIFS(Conv!$G$2:$G$3004,\"F\",Conv!$F$2:$F$3004,D72)","v":0},{"$f":"COUNTIFS(Conv!$G$2:$G$3004,\"F\",Conv!$F$2:$F$3004,E72)","v":0},{"$f":"COUNTIFS(Conv!$G$2:$G$3004,\"F\",Conv!$F$2:$F$3004,F72)","v":0},{"$f":"COUNTIFS(Conv!$G$2:$G$3004,\"F\",Conv!$F$2:$F$3004,G72)","v":0},{"$f":"COUNTIFS(Conv!$G$2:$G$3004,\"F\",Conv!$F$2:$F$3004,H72)","v":0},{"$f":"COUNTIFS(Conv!$G$2:$G$3004,\"F\",Conv!$F$2:$F$3004,I72)","v":0},{"$f":"COUNTIFS(Conv!$G$2:$G$3004,\"F\",Conv!$F$2:$F$3004,J72)","v":0},{"$f":"COUNTIFS(Conv!$G$2:$G$3004,\"F\",Conv!$F$2:$F$3004,K72)","v":0},{"$f":"COUNTIFS(Conv!$G$2:$G$3004,\"F\",Conv!$F$2:$F$3004,L72)","v":0},{"$f":"COUNTIFS(Conv!$G$2:$G$3004,\"F\",Conv!$F$2:$F$3004,M72)","v":0},{"$f":"COUNTIFS(Conv!$G$2:$G$3004,\"F\",Conv!$F$2:$F$3004,N72)","v":0},{"$f":"COUNTIFS(Conv!$G$2:$G$3004,\"F\",Conv!$F$2:$F$3004,O72)","v":0},{"$f":"COUNTIFS(Conv!$G$2:$G$3004,\"F\",Conv!$F$2:$F$3004,P72)","v":0},{"$f":"COUNTIFS(Conv!$G$2:$G$3004,\"F\",Conv!$F$2:$F$3004,Q72)","v":0},{"$f":"COUNTIFS(Conv!$G$2:$G$3004,\"F\",Conv!$F$2:$F$3004,R72)","v":0},{"$f":"COUNTIFS(Conv!$G$2:$G$3004,\"F\",Conv!$F$2:$F$3004,S72)","v":0},{"$f":"COUNTIFS(Conv!$G$2:$G$3004,\"F\",Conv!$F$2:$F$3004,T72)","v":0},{"$f":"COUNTIFS(Conv!$G$2:$G$3004,\"F\",Conv!$F$2:$F$3004,U72)","v":0},{"$f":"COUNTIFS(Conv!$G$2:$G$3004,\"F\",Conv!$F$2:$F$3004,V72)","v":0},{"$f":"COUNTIFS(Conv!$G$2:$G$3004,\"F\",Conv!$F$2:$F$3004,W72)","v":0},{"$f":"COUNTIFS(Conv!$G$2:$G$3004,\"F\",Conv!$F$2:$F$3004,X72)","v":0},{"$f":"COUNTIFS(Conv!$G$2:$G$3004,\"F\",Conv!$F$2:$F$3004,Y72)","v":0},{"$f":"COUNTIFS(Conv!$G$2:$G$3004,\"F\",Conv!$F$2:$F$3004,Z72)","v":0},{"$f":"COUNTIFS(Conv!$G$2:$G$3004,\"F\",Conv!$F$2:$F$3004,AA72)","v":0},{"$f":"COUNTIFS(Conv!$G$2:$G$3004,\"F\",Conv!$F$2:$F$3004,AB72)","v":0},{"$f":"COUNTIFS(Conv!$G$2:$G$3004,\"F\",Conv!$F$2:$F$3004,AC72)","v":0},{"$f":"COUNTIFS(Conv!$G$2:$G$3004,\"F\",Conv!$F$2:$F$3004,AD72)","v":0},{"$f":"COUNTIFS(Conv!$G$2:$G$3004,\"F\",Conv!$F$2:$F$3004,AE72)","v":0},{"$f":"COUNTIFS(Conv!$G$2:$G$3004,\"F\",Conv!$F$2:$F$3004,AF72)","v":0},{"$f":"COUNTIFS(Conv!$G$2:$G$3004,\"F\",Conv!$F$2:$F$3004,AG72)","v":0},{"$f":"COUNTIFS(Conv!$G$2:$G$3004,\"F\",Conv!$F$2:$F$3004,AH72)","v":0},{"$f":"COUNTIFS(Conv!$G$2:$G$3004,\"F\",Conv!$F$2:$F$3004,AI72)","v":0},{"$f":"COUNTIFS(Conv!$G$2:$G$3004,\"F\",Conv!$F$2:$F$3004,AJ72)","v":0},{"$f":"COUNTIFS(Conv!$G$2:$G$3004,\"F\",Conv!$F$2:$F$3004,AK72)","v":0},{"$f":"COUNTIFS(Conv!$G$2:$G$3004,\"F\",Conv!$F$2:$F$3004,AL72)","v":0},{"$f":"COUNTIFS(Conv!$G$2:$G$3004,\"F\",Conv!$F$2:$F$3004,AM72)","v":0},{"$f":"COUNTIFS(Conv!$G$2:$G$3004,\"F\",Conv!$F$2:$F$3004,AN72)","v":0},{"$f":"COUNTIFS(Conv!$G$2:$G$3004,\"F\",Conv!$F$2:$F$3004,AO72)","v":0},{"$f":"COUNTIFS(Conv!$G$2:$G$3004,\"F\",Conv!$F$2:$F$3004,AP72)","v":0},{"$f":"COUNTIFS(Conv!$G$2:$G$3004,\"F\",Conv!$F$2:$F$3004,AQ72)","v":0},{"$f":"COUNTIFS(Conv!$G$2:$G$3004,\"F\",Conv!$F$2:$F$3004,AR72)","v":0},{"$f":"COUNTIFS(Conv!$G$2:$G$3004,\"F\",Conv!$F$2:$F$3004,AS72)","v":0},{"$f":"COUNTIFS(Conv!$G$2:$G$3004,\"F\",Conv!$F$2:$F$3004,AT72)","v":0},{"$f":"COUNTIFS(Conv!$G$2:$G$3004,\"F\",Conv!$F$2:$F$3004,AU72)","v":0},{"$f":"COUNTIFS(Conv!$G$2:$G$3004,\"F\",Conv!$F$2:$F$3004,AV72)","v":0},{"$f":"COUNTIFS(Conv!$G$2:$G$3004,\"F\",Conv!$F$2:$F$3004,AW72)","v":0},{"$f":"COUNTIFS(Conv!$G$2:$G$3004,\"F\",Conv!$F$2:$F$3004,AX72)","v":0},{"$f":"COUNTIFS(Conv!$G$2:$G$3004,\"F\",Conv!$F$2:$F$3004,AY72)","v":0},{"$f":"COUNTIFS(Conv!$G$2:$G$3004,\"F\",Conv!$F$2:$F$3004,AZ72)","v":0},{"$f":"COUNTIFS(Conv!$G$2:$G$3004,\"F\",Conv!$F$2:$F$3004,BA72)","v":0},{"$f":"COUNTIFS(Conv!$G$2:$G$3004,\"F\",Conv!$F$2:$F$3004,BB72)","v":0},{"$f":"COUNTIFS(Conv!$G$2:$G$3004,\"F\",Conv!$F$2:$F$3004,BC72)","v":0},{"$f":"COUNTIFS(Conv!$G$2:$G$3004,\"F\",Conv!$F$2:$F$3004,BD72)","v":0},{"$f":"COUNTIFS(Conv!$G$2:$G$3004,\"F\",Conv!$F$2:$F$3004,BE72)","v":0},{"$f":"COUNTIFS(Conv!$G$2:$G$3004,\"F\",Conv!$F$2:$F$3004,BF72)","v":0},{"$f":"COUNTIFS(Conv!$G$2:$G$3004,\"F\",Conv!$F$2:$F$3004,BG72)","v":0},{"$f":"COUNTIFS(Conv!$G$2:$G$3004,\"F\",Conv!$F$2:$F$3004,BH72)","v":0},{"$f":"COUNTIFS(Conv!$G$2:$G$3004,\"F\",Conv!$F$2:$F$3004,BI72)","v":0},{"$f":"COUNTIFS(Conv!$G$2:$G$3004,\"F\",Conv!$F$2:$F$3004,BJ72)","v":0},{"$f":"COUNTIFS(Conv!$G$2:$G$3004,\"F\",Conv!$F$2:$F$3004,BK72)","v":0},{"$f":"COUNTIFS(Conv!$G$2:$G$3004,\"F\",Conv!$F$2:$F$3004,BL72)","v":0},{"$f":"COUNTIFS(Conv!$G$2:$G$3004,\"F\",Conv!$F$2:$F$3004,BM72)","v":0},{"$f":"COUNTIFS(Conv!$G$2:$G$3004,\"F\",Conv!$F$2:$F$3004,BN72)","v":0},{"$f":"COUNTIFS(Conv!$G$2:$G$3004,\"F\",Conv!$F$2:$F$3004,BO72)","v":0},{"$f":"COUNTIFS(Conv!$G$2:$G$3004,\"F\",Conv!$F$2:$F$3004,BP72)","v":0},{"$f":"COUNTIFS(Conv!$G$2:$G$3004,\"F\",Conv!$F$2:$F$3004,BQ72)","v":0},{"$f":"COUNTIFS(Conv!$G$2:$G$3004,\"F\",Conv!$F$2:$F$3004,BR72)","v":0},{"$f":"COUNTIFS(Conv!$G$2:$G$3004,\"F\",Conv!$F$2:$F$3004,BS72)","v":0},{"$f":"COUNTIFS(Conv!$G$2:$G$3004,\"F\",Conv!$F$2:$F$3004,BT72)","v":0},{"$f":"COUNTIFS(Conv!$G$2:$G$3004,\"F\",Conv!$F$2:$F$3004,BU72)","v":0},{"$f":"COUNTIFS(Conv!$G$2:$G$3004,\"F\",Conv!$F$2:$F$3004,BV72)","v":0},{"$f":"COUNTIFS(Conv!$G$2:$G$3004,\"F\",Conv!$F$2:$F$3004,BW72)","v":0},{"$f":"COUNTIFS(Conv!$G$2:$G$3004,\"F\",Conv!$F$2:$F$3004,BX72)","v":0},{"$f":"COUNTIFS(Conv!$G$2:$G$3004,\"F\",Conv!$F$2:$F$3004,BY72)","v":0},{"$f":"COUNTIFS(Conv!$G$2:$G$3004,\"F\",Conv!$F$2:$F$3004,BZ72)","v":0},{"$f":"COUNTIFS(Conv!$G$2:$G$3004,\"F\",Conv!$F$2:$F$3004,CA72)","v":0},{"$f":"COUNTIFS(Conv!$G$2:$G$3004,\"F\",Conv!$F$2:$F$3004,CB72)","v":0},{"$f":"COUNTIFS(Conv!$G$2:$G$3004,\"F\",Conv!$F$2:$F$3004,CC72)","v":0},{"$f":"COUNTIFS(Conv!$G$2:$G$3004,\"F\",Conv!$F$2:$F$3004,CD72)","v":0},{"$f":"COUNTIFS(Conv!$G$2:$G$3004,\"F\",Conv!$F$2:$F$3004,CE72)","v":0},{"$f":"COUNTIFS(Conv!$G$2:$G$3004,\"F\",Conv!$F$2:$F$3004,CF72)","v":0},{"$f":"COUNTIFS(Conv!$G$2:$G$3004,\"F\",Conv!$F$2:$F$3004,CG72)","v":0},{"$f":"COUNTIFS(Conv!$G$2:$G$3004,\"F\",Conv!$F$2:$F$3004,CH72)","v":0},{"$f":"COUNTIFS(Conv!$G$2:$G$3004,\"F\",Conv!$F$2:$F$3004,CI72)","v":0},{"$f":"COUNTIFS(Conv!$G$2:$G$3004,\"F\",Conv!$F$2:$F$3004,CJ72)","v":0},{"$f":"COUNTIFS(Conv!$G$2:$G$3004,\"F\",Conv!$F$2:$F$3004,CK72)","v":0},{"$f":"COUNTIFS(Conv!$G$2:$G$3004,\"F\",Conv!$F$2:$F$3004,CL72)","v":0},{"$f":"COUNTIFS(Conv!$G$2:$G$3004,\"F\",Conv!$F$2:$F$3004,CM72)","v":0},{"$f":"COUNTIFS(Conv!$G$2:$G$3004,\"F\",Conv!$F$2:$F$3004,CN72)","v":0},{"$f":"COUNTIFS(Conv!$G$2:$G$3004,\"F\",Conv!$F$2:$F$3004,CO72)","v":0},{"$f":"COUNTIFS(Conv!$G$2:$G$3004,\"F\",Conv!$F$2:$F$3004,CP72)","v":0},{"$f":"COUNTIFS(Conv!$G$2:$G$3004,\"F\",Conv!$F$2:$F$3004,CQ72)","v":0},{"$f":"COUNTIFS(Conv!$G$2:$G$3004,\"F\",Conv!$F$2:$F$3004,CR72)","v":0},{"$f":"COUNTIFS(Conv!$G$2:$G$3004,\"F\",Conv!$F$2:$F$3004,CS72)","v":0},{"$f":"COUNTIFS(Conv!$G$2:$G$3004,\"F\",Conv!$F$2:$F$3004,CT72)","v":0},{"$f":"COUNTIFS(Conv!$G$2:$G$3004,\"F\",Conv!$F$2:$F$3004,CU72)","v":0},{"$f":"COUNTIFS(Conv!$G$2:$G$3004,\"F\",Conv!$F$2:$F$3004,CV72)","v":0},{"$f":"COUNTIFS(Conv!$G$2:$G$3004,\"F\",Conv!$F$2:$F$3004,CW72)","v":0},{"$f":"COUNTIFS(Conv!$G$2:$G$3004,\"F\",Conv!$F$2:$F$3004,CX72)","v":0},{"$f":"COUNTIFS(Conv!$G$2:$G$3004,\"F\",Conv!$F$2:$F$3004,CY72)","v":0},{"$f":"COUNTIFS(Conv!$G$2:$G$3004,\"F\",Conv!$F$2:$F$3004,CZ72)","v":0},{"$f":"COUNTIFS(Conv!$G$2:$G$3004,\"F\",Conv!$F$2:$F$3004,DA72)","v":0},{"$f":"COUNTIFS(Conv!$G$2:$G$3004,\"F\",Conv!$F$2:$F$3004,DB72)","v":0},{"$f":"COUNTIFS(Conv!$G$2:$G$3004,\"F\",Conv!$F$2:$F$3004,DC72)","v":0},{"$f":"COUNTIFS(Conv!$G$2:$G$3004,\"F\",Conv!$F$2:$F$3004,DD72)","v":0},{"$f":"COUNTIFS(Conv!$G$2:$G$3004,\"F\",Conv!$F$2:$F$3004,DE72)","v":0},{"$f":"COUNTIFS(Conv!$G$2:$G$3004,\"F\",Conv!$F$2:$F$3004,DF72)","v":0},{"$f":"COUNTIFS(Conv!$G$2:$G$3004,\"F\",Conv!$F$2:$F$3004,DG72)","v":0},{"$f":"COUNTIFS(Conv!$G$2:$G$3004,\"F\",Conv!$F$2:$F$3004,DH72)","v":0},{"$f":"COUNTIFS(Conv!$G$2:$G$3004,\"F\",Conv!$F$2:$F$3004,DI72)","v":0},{"$f":"COUNTIFS(Conv!$G$2:$G$3004,\"F\",Conv!$F$2:$F$3004,DJ72)","v":0},{"$f":"COUNTIFS(Conv!$G$2:$G$3004,\"F\",Conv!$F$2:$F$3004,DK72)","v":0},{"$f":"COUNTIFS(Conv!$G$2:$G$3004,\"F\",Conv!$F$2:$F$3004,DL72)","v":0},{"$f":"COUNTIFS(Conv!$G$2:$G$3004,\"F\",Conv!$F$2:$F$3004,DM72)","v":0},{"$f":"COUNTIFS(Conv!$G$2:$G$3004,\"F\",Conv!$F$2:$F$3004,DN72)","v":0},{"$f":"COUNTIFS(Conv!$G$2:$G$3004,\"F\",Conv!$F$2:$F$3004,DO72)","v":0},{"$f":"COUNTIFS(Conv!$G$2:$G$3004,\"F\",Conv!$F$2:$F$3004,DP72)","v":0},{"$f":"COUNTIFS(Conv!$G$2:$G$3004,\"F\",Conv!$F$2:$F$3004,DQ72)","v":0},{"$f":"COUNTIFS(Conv!$G$2:$G$3004,\"F\",Conv!$F$2:$F$3004,DR72)","v":0},{"$f":"COUNTIFS(Conv!$G$2:$G$3004,\"F\",Conv!$F$2:$F$3004,DS72)","v":0},{"$f":"COUNTIFS(Conv!$G$2:$G$3004,\"F\",Conv!$F$2:$F$3004,DT72)","v":0},{"$f":"COUNTIFS(Conv!$G$2:$G$3004,\"F\",Conv!$F$2:$F$3004,DU72)","v":0},{"$f":"COUNTIFS(Conv!$G$2:$G$3004,\"F\",Conv!$F$2:$F$3004,DV72)","v":0},{"$f":"COUNTIFS(Conv!$G$2:$G$3004,\"F\",Conv!$F$2:$F$3004,DW72)","v":0},{"$f":"COUNTIFS(Conv!$G$2:$G$3004,\"F\",Conv!$F$2:$F$3004,DX72)","v":0},{"$f":"COUNTIFS(Conv!$G$2:$G$3004,\"F\",Conv!$F$2:$F$3004,DY72)","v":0},{"$f":"COUNTIFS(Conv!$G$2:$G$3004,\"F\",Conv!$F$2:$F$3004,DZ72)","v":0},{"$f":"COUNTIFS(Conv!$G$2:$G$3004,\"F\",Conv!$F$2:$F$3004,EA72)","v":0},{"$f":"COUNTIFS(Conv!$G$2:$G$3004,\"F\",Conv!$F$2:$F$3004,EB72)","v":0},{"$f":"COUNTIFS(Conv!$G$2:$G$3004,\"F\",Conv!$F$2:$F$3004,EC72)","v":0},{"$f":"COUNTIFS(Conv!$G$2:$G$3004,\"F\",Conv!$F$2:$F$3004,ED72)","v":0},{"$f":"COUNTIFS(Conv!$G$2:$G$3004,\"F\",Conv!$F$2:$F$3004,EE72)","v":0},{"$f":"COUNTIFS(Conv!$G$2:$G$3004,\"F\",Conv!$F$2:$F$3004,EF72)","v":0},{"$f":"COUNTIFS(Conv!$G$2:$G$3004,\"F\",Conv!$F$2:$F$3004,EG72)","v":0},{"$f":"COUNTIFS(Conv!$G$2:$G$3004,\"F\",Conv!$F$2:$F$3004,EH72)","v":0},{"$f":"COUNTIFS(Conv!$G$2:$G$3004,\"F\",Conv!$F$2:$F$3004,EI72)","v":0},{"$f":"COUNTIFS(Conv!$G$2:$G$3004,\"F\",Conv!$F$2:$F$3004,EJ72)","v":0},{"$f":"COUNTIFS(Conv!$G$2:$G$3004,\"F\",Conv!$F$2:$F$3004,EK72)","v":0},{"$f":"COUNTIFS(Conv!$G$2:$G$3004,\"F\",Conv!$F$2:$F$3004,EL72)","v":0},{"$f":"COUNTIFS(Conv!$G$2:$G$3004,\"F\",Conv!$F$2:$F$3004,EM72)","v":0},{"$f":"COUNTIFS(Conv!$G$2:$G$3004,\"F\",Conv!$F$2:$F$3004,EN72)","v":0},{"$f":"COUNTIFS(Conv!$G$2:$G$3004,\"F\",Conv!$F$2:$F$3004,EO72)","v":0},{"$f":"COUNTIFS(Conv!$G$2:$G$3004,\"F\",Conv!$F$2:$F$3004,EP72)","v":0},{"$f":"COUNTIFS(Conv!$G$2:$G$3004,\"F\",Conv!$F$2:$F$3004,EQ72)","v":0},{"$f":"COUNTIFS(Conv!$G$2:$G$3004,\"F\",Conv!$F$2:$F$3004,ER72)","v":0},{"$f":"COUNTIFS(Conv!$G$2:$G$3004,\"F\",Conv!$F$2:$F$3004,ES72)","v":0},{"$f":"COUNTIFS(Conv!$G$2:$G$3004,\"F\",Conv!$F$2:$F$3004,ET72)","v":0},{"$f":"COUNTIFS(Conv!$G$2:$G$3004,\"F\",Conv!$F$2:$F$3004,EU72)","v":0},{"$f":"COUNTIFS(Conv!$G$2:$G$3004,\"F\",Conv!$F$2:$F$3004,EV72)","v":0},{"$f":"COUNTIFS(Conv!$G$2:$G$3004,\"F\",Conv!$F$2:$F$3004,EW72)","v":0},{"$f":"COUNTIFS(Conv!$G$2:$G$3004,\"F\",Conv!$F$2:$F$3004,EX72)","v":0},{"$f":"COUNTIFS(Conv!$G$2:$G$3004,\"F\",Conv!$F$2:$F$3004,EY72)","v":0},{"$f":"COUNTIFS(Conv!$G$2:$G$3004,\"F\",Conv!$F$2:$F$3004,EZ72)","v":0},{"$f":"COUNTIFS(Conv!$G$2:$G$3004,\"F\",Conv!$F$2:$F$3004,FA72)","v":0},{"$f":"COUNTIFS(Conv!$G$2:$G$3004,\"F\",Conv!$F$2:$F$3004,FB72)","v":0},{"$f":"COUNTIFS(Conv!$G$2:$G$3004,\"F\",Conv!$F$2:$F$3004,FC72)","v":0},{"$f":"COUNTIFS(Conv!$G$2:$G$3004,\"F\",Conv!$F$2:$F$3004,FD72)","v":0},{"$f":"COUNTIFS(Conv!$G$2:$G$3004,\"F\",Conv!$F$2:$F$3004,FE72)","v":0},{"$f":"COUNTIFS(Conv!$G$2:$G$3004,\"F\",Conv!$F$2:$F$3004,FF72)","v":0},{"$f":"COUNTIFS(Conv!$G$2:$G$3004,\"F\",Conv!$F$2:$F$3004,FG72)","v":0},{"$f":"COUNTIFS(Conv!$G$2:$G$3004,\"F\",Conv!$F$2:$F$3004,FH72)","v":0},{"$f":"COUNTIFS(Conv!$G$2:$G$3004,\"F\",Conv!$F$2:$F$3004,FI72)","v":0},{"$f":"COUNTIFS(Conv!$G$2:$G$3004,\"F\",Conv!$F$2:$F$3004,FJ72)","v":0},{"$f":"COUNTIFS(Conv!$G$2:$G$3004,\"F\",Conv!$F$2:$F$3004,FK72)","v":0},{"$f":"COUNTIFS(Conv!$G$2:$G$3004,\"F\",Conv!$F$2:$F$3004,FL72)","v":0},{"$f":"COUNTIFS(Conv!$G$2:$G$3004,\"F\",Conv!$F$2:$F$3004,FM72)","v":0},{"$f":"COUNTIFS(Conv!$G$2:$G$3004,\"F\",Conv!$F$2:$F$3004,FN72)","v":0},{"$f":"COUNTIFS(Conv!$G$2:$G$3004,\"F\",Conv!$F$2:$F$3004,FO72)","v":0},{"$f":"COUNTIFS(Conv!$G$2:$G$3004,\"F\",Conv!$F$2:$F$3004,FP72)","v":0},{"$f":"COUNTIFS(Conv!$G$2:$G$3004,\"F\",Conv!$F$2:$F$3004,FQ72)","v":0},{"$f":"COUNTIFS(Conv!$G$2:$G$3004,\"F\",Conv!$F$2:$F$3004,FR72)","v":0},{"$f":"COUNTIFS(Conv!$G$2:$G$3004,\"F\",Conv!$F$2:$F$3004,FS72)","v":0},{"$f":"COUNTIFS(Conv!$G$2:$G$3004,\"F\",Conv!$F$2:$F$3004,FT72)","v":0},{"$f":"COUNTIFS(Conv!$G$2:$G$3004,\"F\",Conv!$F$2:$F$3004,FU72)","v":0},{"$f":"COUNTIFS(Conv!$G$2:$G$3004,\"F\",Conv!$F$2:$F$3004,FV72)","v":0},{"$f":"COUNTIFS(Conv!$G$2:$G$3004,\"F\",Conv!$F$2:$F$3004,FW72)","v":0},{"$f":"COUNTIFS(Conv!$G$2:$G$3004,\"F\",Conv!$F$2:$F$3004,FX72)","v":0},{"$f":"COUNTIFS(Conv!$G$2:$G$3004,\"F\",Conv!$F$2:$F$3004,FY72)","v":0},{"$f":"COUNTIFS(Conv!$G$2:$G$3004,\"F\",Conv!$F$2:$F$3004,FZ72)","v":0},{"$f":"COUNTIFS(Conv!$G$2:$G$3004,\"F\",Conv!$F$2:$F$3004,GA72)","v":0},{"$f":"COUNTIFS(Conv!$G$2:$G$3004,\"F\",Conv!$F$2:$F$3004,GB72)","v":0},{"$f":"COUNTIFS(Conv!$G$2:$G$3004,\"F\",Conv!$F$2:$F$3004,GC72)","v":0},{"$f":"COUNTIFS(Conv!$G$2:$G$3004,\"F\",Conv!$F$2:$F$3004,GD72)","v":0},{"$f":"COUNTIFS(Conv!$G$2:$G$3004,\"F\",Conv!$F$2:$F$3004,GE72)","v":0},{"$f":"COUNTIFS(Conv!$G$2:$G$3004,\"F\",Conv!$F$2:$F$3004,GF72)","v":0},{"$f":"COUNTIFS(Conv!$G$2:$G$3004,\"F\",Conv!$F$2:$F$3004,GG72)","v":0},{"$f":"COUNTIFS(Conv!$G$2:$G$3004,\"F\",Conv!$F$2:$F$3004,GH72)","v":0},{"$f":"COUNTIFS(Conv!$G$2:$G$3004,\"F\",Conv!$F$2:$F$3004,GI72)","v":0},{"$f":"COUNTIFS(Conv!$G$2:$G$3004,\"F\",Conv!$F$2:$F$3004,GJ72)","v":0},{"$f":"COUNTIFS(Conv!$G$2:$G$3004,\"F\",Conv!$F$2:$F$3004,GK72)","v":0},{"$f":"COUNTIFS(Conv!$G$2:$G$3004,\"F\",Conv!$F$2:$F$3004,GL72)","v":0},{"$f":"COUNTIFS(Conv!$G$2:$G$3004,\"F\",Conv!$F$2:$F$3004,GM72)","v":0},{"$f":"COUNTIFS(Conv!$G$2:$G$3004,\"F\",Conv!$F$2:$F$3004,GN72)","v":0},{"$f":"COUNTIFS(Conv!$G$2:$G$3004,\"F\",Conv!$F$2:$F$3004,GO72)","v":0},{"$f":"COUNTIFS(Conv!$G$2:$G$3004,\"F\",Conv!$F$2:$F$3004,GP72)","v":0},{"$f":"COUNTIFS(Conv!$G$2:$G$3004,\"F\",Conv!$F$2:$F$3004,GQ72)","v":0},{"$f":"COUNTIFS(Conv!$G$2:$G$3004,\"F\",Conv!$F$2:$F$3004,GR72)","v":0},{"$f":"COUNTIFS(Conv!$G$2:$G$3004,\"F\",Conv!$F$2:$F$3004,GS72)","v":0},{"$f":"COUNTIFS(Conv!$G$2:$G$3004,\"F\",Conv!$F$2:$F$3004,GT72)","v":0},{"$f":"COUNTIFS(Conv!$G$2:$G$3004,\"F\",Conv!$F$2:$F$3004,GU72)","v":0},{"$f":"COUNTIFS(Conv!$G$2:$G$3004,\"F\",Conv!$F$2:$F$3004,GV72)","v":0},{"$f":"COUNTIFS(Conv!$G$2:$G$3004,\"F\",Conv!$F$2:$F$3004,GW72)","v":0},{"$f":"COUNTIFS(Conv!$G$2:$G$3004,\"F\",Conv!$F$2:$F$3004,GX72)","v":0},{"$f":"COUNTIFS(Conv!$G$2:$G$3004,\"F\",Conv!$F$2:$F$3004,GY72)","v":0},{"$f":"COUNTIFS(Conv!$G$2:$G$3004,\"F\",Conv!$F$2:$F$3004,GZ72)","v":0},{"$f":"COUNTIFS(Conv!$G$2:$G$3004,\"F\",Conv!$F$2:$F$3004,HA72)","v":0},{"$f":"COUNTIFS(Conv!$G$2:$G$3004,\"F\",Conv!$F$2:$F$3004,HB72)","v":0},{"$f":"COUNTIFS(Conv!$G$2:$G$3004,\"F\",Conv!$F$2:$F$3004,HC72)","v":0},{"$f":"COUNTIFS(Conv!$G$2:$G$3004,\"F\",Conv!$F$2:$F$3004,HD72)","v":0},{"$f":"COUNTIFS(Conv!$G$2:$G$3004,\"F\",Conv!$F$2:$F$3004,HE72)","v":0},{"$f":"COUNTIFS(Conv!$G$2:$G$3004,\"F\",Conv!$F$2:$F$3004,HF72)","v":0},{"$f":"COUNTIFS(Conv!$G$2:$G$3004,\"F\",Conv!$F$2:$F$3004,HG72)","v":0},{"$f":"COUNTIFS(Conv!$G$2:$G$3004,\"F\",Conv!$F$2:$F$3004,HH72)","v":0},{"$f":"COUNTIFS(Conv!$G$2:$G$3004,\"F\",Conv!$F$2:$F$3004,HI72)","v":0},{"$f":"COUNTIFS(Conv!$G$2:$G$3004,\"F\",Conv!$F$2:$F$3004,HJ72)","v":0},{"$f":"COUNTIFS(Conv!$G$2:$G$3004,\"F\",Conv!$F$2:$F$3004,HK72)","v":0},{"$f":"COUNTIFS(Conv!$G$2:$G$3004,\"F\",Conv!$F$2:$F$3004,HL72)","v":0},{"$f":"COUNTIFS(Conv!$G$2:$G$3004,\"F\",Conv!$F$2:$F$3004,HM72)","v":0},{"$f":"COUNTIFS(Conv!$G$2:$G$3004,\"F\",Conv!$F$2:$F$3004,HN72)","v":0},{"$f":"COUNTIFS(Conv!$G$2:$G$3004,\"F\",Conv!$F$2:$F$3004,HO72)","v":0},{"$f":"COUNTIFS(Conv!$G$2:$G$3004,\"F\",Conv!$F$2:$F$3004,HP72)","v":0},{"$f":"COUNTIFS(Conv!$G$2:$G$3004,\"F\",Conv!$F$2:$F$3004,HQ72)","v":0},{"$f":"COUNTIFS(Conv!$G$2:$G$3004,\"F\",Conv!$F$2:$F$3004,HR72)","v":0},{"$f":"COUNTIFS(Conv!$G$2:$G$3004,\"F\",Conv!$F$2:$F$3004,HS72)","v":0},{"$f":"COUNTIFS(Conv!$G$2:$G$3004,\"F\",Conv!$F$2:$F$3004,HT72)","v":0},{"$f":"COUNTIFS(Conv!$G$2:$G$3004,\"F\",Conv!$F$2:$F$3004,HU72)","v":0},{"$f":"COUNTIFS(Conv!$G$2:$G$3004,\"F\",Conv!$F$2:$F$3004,HV72)","v":0},{"$f":"COUNTIFS(Conv!$G$2:$G$3004,\"F\",Conv!$F$2:$F$3004,HW72)","v":0},{"$f":"COUNTIFS(Conv!$G$2:$G$3004,\"F\",Conv!$F$2:$F$3004,HX72)","v":0},{"$f":"COUNTIFS(Conv!$G$2:$G$3004,\"F\",Conv!$F$2:$F$3004,HY72)","v":0},{"$f":"COUNTIFS(Conv!$G$2:$G$3004,\"F\",Conv!$F$2:$F$3004,HZ72)","v":0},{"$f":"COUNTIFS(Conv!$G$2:$G$3004,\"F\",Conv!$F$2:$F$3004,IA72)","v":0},{"$f":"COUNTIFS(Conv!$G$2:$G$3004,\"F\",Conv!$F$2:$F$3004,IB72)","v":0},{"$f":"COUNTIFS(Conv!$G$2:$G$3004,\"F\",Conv!$F$2:$F$3004,IC72)","v":0},{"$f":"COUNTIFS(Conv!$G$2:$G$3004,\"F\",Conv!$F$2:$F$3004,ID72)","v":0},{"$f":"COUNTIFS(Conv!$G$2:$G$3004,\"F\",Conv!$F$2:$F$3004,IE72)","v":0},{"$f":"COUNTIFS(Conv!$G$2:$G$3004,\"F\",Conv!$F$2:$F$3004,IF72)","v":0},{"$f":"COUNTIFS(Conv!$G$2:$G$3004,\"F\",Conv!$F$2:$F$3004,IG72)","v":0},{"$f":"COUNTIFS(Conv!$G$2:$G$3004,\"F\",Conv!$F$2:$F$3004,IH72)","v":0},{"$f":"COUNTIFS(Conv!$G$2:$G$3004,\"F\",Conv!$F$2:$F$3004,II72)","v":0},{"$f":"COUNTIFS(Conv!$G$2:$G$3004,\"F\",Conv!$F$2:$F$3004,IJ72)","v":0},{"$f":"COUNTIFS(Conv!$G$2:$G$3004,\"F\",Conv!$F$2:$F$3004,IK72)","v":0},{"$f":"COUNTIFS(Conv!$G$2:$G$3004,\"F\",Conv!$F$2:$F$3004,IL72)","v":0},{"$f":"COUNTIFS(Conv!$G$2:$G$3004,\"F\",Conv!$F$2:$F$3004,IM72)","v":0},{"$f":"COUNTIFS(Conv!$G$2:$G$3004,\"F\",Conv!$F$2:$F$3004,IN72)","v":0},{"$f":"COUNTIFS(Conv!$G$2:$G$3004,\"F\",Conv!$F$2:$F$3004,IO72)","v":0},{"$f":"COUNTIFS(Conv!$G$2:$G$3004,\"F\",Conv!$F$2:$F$3004,IP72)","v":0},{"$f":"COUNTIFS(Conv!$G$2:$G$3004,\"F\",Conv!$F$2:$F$3004,IQ72)","v":0},{"$f":"COUNTIFS(Conv!$G$2:$G$3004,\"F\",Conv!$F$2:$F$3004,IR72)","v":0},{"$f":"COUNTIFS(Conv!$G$2:$G$3004,\"F\",Conv!$F$2:$F$3004,IS72)","v":0},{"$f":"COUNTIFS(Conv!$G$2:$G$3004,\"F\",Conv!$F$2:$F$3004,IT72)","v":0},{"$f":"COUNTIFS(Conv!$G$2:$G$3004,\"F\",Conv!$F$2:$F$3004,IU72)","v":0},{"$f":"COUNTIFS(Conv!$G$2:$G$3004,\"F\",Conv!$F$2:$F$3004,IV72)","v":0},{"$f":"COUNTIFS(Conv!$G$2:$G$3004,\"F\",Conv!$F$2:$F$3004,IW72)","v":0},{"$f":"COUNTIFS(Conv!$G$2:$G$3004,\"F\",Conv!$F$2:$F$3004,IX72)","v":0},{"$f":"COUNTIFS(Conv!$G$2:$G$3004,\"F\",Conv!$F$2:$F$3004,IY72)","v":0},{"$f":"COUNTIFS(Conv!$G$2:$G$3004,\"F\",Conv!$F$2:$F$3004,IZ72)","v":0},{"$f":"COUNTIFS(Conv!$G$2:$G$3004,\"F\",Conv!$F$2:$F$3004,JA72)","v":0},{"$f":"COUNTIFS(Conv!$G$2:$G$3004,\"F\",Conv!$F$2:$F$3004,JB72)","v":0},{"$f":"COUNTIFS(Conv!$G$2:$G$3004,\"F\",Conv!$F$2:$F$3004,JC72)","v":0},{"$f":"COUNTIFS(Conv!$G$2:$G$3004,\"F\",Conv!$F$2:$F$3004,JD72)","v":0},{"$f":"COUNTIFS(Conv!$G$2:$G$3004,\"F\",Conv!$F$2:$F$3004,JE72)","v":0},{"$f":"COUNTIFS(Conv!$G$2:$G$3004,\"F\",Conv!$F$2:$F$3004,JF72)","v":0},{"$f":"COUNTIFS(Conv!$G$2:$G$3004,\"F\",Conv!$F$2:$F$3004,JG72)","v":0},{"$f":"COUNTIFS(Conv!$G$2:$G$3004,\"F\",Conv!$F$2:$F$3004,JH72)","v":0},{"$f":"COUNTIFS(Conv!$G$2:$G$3004,\"F\",Conv!$F$2:$F$3004,JI72)","v":0},{"$f":"COUNTIFS(Conv!$G$2:$G$3004,\"F\",Conv!$F$2:$F$3004,JJ72)","v":0},{"$f":"COUNTIFS(Conv!$G$2:$G$3004,\"F\",Conv!$F$2:$F$3004,JK72)","v":0},{"$f":"COUNTIFS(Conv!$G$2:$G$3004,\"F\",Conv!$F$2:$F$3004,JL72)","v":0},{"$f":"COUNTIFS(Conv!$G$2:$G$3004,\"F\",Conv!$F$2:$F$3004,JM72)","v":0},{"$f":"COUNTIFS(Conv!$G$2:$G$3004,\"F\",Conv!$F$2:$F$3004,JN72)","v":0},{"$f":"COUNTIFS(Conv!$G$2:$G$3004,\"F\",Conv!$F$2:$F$3004,JO72)","v":0},{"$f":"COUNTIFS(Conv!$G$2:$G$3004,\"F\",Conv!$F$2:$F$3004,JP72)","v":0},{"$f":"COUNTIFS(Conv!$G$2:$G$3004,\"F\",Conv!$F$2:$F$3004,JQ72)","v":0},{"$f":"COUNTIFS(Conv!$G$2:$G$3004,\"F\",Conv!$F$2:$F$3004,JR72)","v":0},{"$f":"COUNTIFS(Conv!$G$2:$G$3004,\"F\",Conv!$F$2:$F$3004,JS72)","v":0},{"$f":"COUNTIFS(Conv!$G$2:$G$3004,\"F\",Conv!$F$2:$F$3004,JT72)","v":0},{"$f":"COUNTIFS(Conv!$G$2:$G$3004,\"F\",Conv!$F$2:$F$3004,JU72)","v":0},{"$f":"COUNTIFS(Conv!$G$2:$G$3004,\"F\",Conv!$F$2:$F$3004,JV72)","v":0},{"$f":"COUNTIFS(Conv!$G$2:$G$3004,\"F\",Conv!$F$2:$F$3004,JW72)","v":0},{"$f":"COUNTIFS(Conv!$G$2:$G$3004,\"F\",Conv!$F$2:$F$3004,JX72)","v":0},{"$f":"COUNTIFS(Conv!$G$2:$G$3004,\"F\",Conv!$F$2:$F$3004,JY72)","v":0},{"$f":"COUNTIFS(Conv!$G$2:$G$3004,\"F\",Conv!$F$2:$F$3004,JZ72)","v":0},{"$f":"COUNTIFS(Conv!$G$2:$G$3004,\"F\",Conv!$F$2:$F$3004,KA72)","v":0},{"$f":"COUNTIFS(Conv!$G$2:$G$3004,\"F\",Conv!$F$2:$F$3004,KB72)","v":0},{"$f":"COUNTIFS(Conv!$G$2:$G$3004,\"F\",Conv!$F$2:$F$3004,KC72)","v":0},{"$f":"COUNTIFS(Conv!$G$2:$G$3004,\"F\",Conv!$F$2:$F$3004,KD72)","v":0},{"$f":"COUNTIFS(Conv!$G$2:$G$3004,\"F\",Conv!$F$2:$F$3004,KE72)","v":0},{"$f":"COUNTIFS(Conv!$G$2:$G$3004,\"F\",Conv!$F$2:$F$3004,KF72)","v":0},{"$f":"COUNTIFS(Conv!$G$2:$G$3004,\"F\",Conv!$F$2:$F$3004,KG72)","v":0},{"$f":"COUNTIFS(Conv!$G$2:$G$3004,\"F\",Conv!$F$2:$F$3004,KH72)","v":0},{"$f":"COUNTIFS(Conv!$G$2:$G$3004,\"F\",Conv!$F$2:$F$3004,KI72)","v":0},{"$f":"COUNTIFS(Conv!$G$2:$G$3004,\"F\",Conv!$F$2:$F$3004,KJ72)","v":0},{"$f":"COUNTIFS(Conv!$G$2:$G$3004,\"F\",Conv!$F$2:$F$3004,KK72)","v":0},{"$f":"COUNTIFS(Conv!$G$2:$G$3004,\"F\",Conv!$F$2:$F$3004,KL72)","v":0},{"$f":"COUNTIFS(Conv!$G$2:$G$3004,\"F\",Conv!$F$2:$F$3004,KM72)","v":0},{"$f":"COUNTIFS(Conv!$G$2:$G$3004,\"F\",Conv!$F$2:$F$3004,KN72)","v":0},{"$f":"COUNTIFS(Conv!$G$2:$G$3004,\"F\",Conv!$F$2:$F$3004,KO72)","v":0},{"$f":"COUNTIFS(Conv!$G$2:$G$3004,\"F\",Conv!$F$2:$F$3004,KP72)","v":0},{"$f":"COUNTIFS(Conv!$G$2:$G$3004,\"F\",Conv!$F$2:$F$3004,KQ72)","v":0},{"$f":"COUNTIFS(Conv!$G$2:$G$3004,\"F\",Conv!$F$2:$F$3004,KR72)","v":0},{"$f":"COUNTIFS(Conv!$G$2:$G$3004,\"F\",Conv!$F$2:$F$3004,KS72)","v":0},{"$f":"COUNTIFS(Conv!$G$2:$G$3004,\"F\",Conv!$F$2:$F$3004,KT72)","v":0},{"$f":"COUNTIFS(Conv!$G$2:$G$3004,\"F\",Conv!$F$2:$F$3004,KU72)","v":0},{"$f":"COUNTIFS(Conv!$G$2:$G$3004,\"F\",Conv!$F$2:$F$3004,KV72)","v":0},{"$f":"COUNTIFS(Conv!$G$2:$G$3004,\"F\",Conv!$F$2:$F$3004,KW72)","v":0},{"$f":"COUNTIFS(Conv!$G$2:$G$3004,\"F\",Conv!$F$2:$F$3004,KX72)","v":0},{"$f":"COUNTIFS(Conv!$G$2:$G$3004,\"F\",Conv!$F$2:$F$3004,KY72)","v":0},{"$f":"COUNTIFS(Conv!$G$2:$G$3004,\"F\",Conv!$F$2:$F$3004,KZ72)","v":0},{"$f":"COUNTIFS(Conv!$G$2:$G$3004,\"F\",Conv!$F$2:$F$3004,LA72)","v":0},{"$f":"COUNTIFS(Conv!$G$2:$G$3004,\"F\",Conv!$F$2:$F$3004,LB72)","v":0},{"$f":"COUNTIFS(Conv!$G$2:$G$3004,\"F\",Conv!$F$2:$F$3004,LC72)","v":0},{"$f":"COUNTIFS(Conv!$G$2:$G$3004,\"F\",Conv!$F$2:$F$3004,LD72)","v":0},{"$f":"COUNTIFS(Conv!$G$2:$G$3004,\"F\",Conv!$F$2:$F$3004,LE72)","v":0},{"$f":"COUNTIFS(Conv!$G$2:$G$3004,\"F\",Conv!$F$2:$F$3004,LF72)","v":0},{"$f":"COUNTIFS(Conv!$G$2:$G$3004,\"F\",Conv!$F$2:$F$3004,LG72)","v":0},{"$f":"COUNTIFS(Conv!$G$2:$G$3004,\"F\",Conv!$F$2:$F$3004,LH72)","v":0},{"$f":"COUNTIFS(Conv!$G$2:$G$3004,\"F\",Conv!$F$2:$F$3004,LI72)","v":0},{"$f":"COUNTIFS(Conv!$G$2:$G$3004,\"F\",Conv!$F$2:$F$3004,LJ72)","v":0},{"$f":"COUNTIFS(Conv!$G$2:$G$3004,\"F\",Conv!$F$2:$F$3004,LK72)","v":0},{"$f":"COUNTIFS(Conv!$G$2:$G$3004,\"F\",Conv!$F$2:$F$3004,LL72)","v":0},{"$f":"COUNTIFS(Conv!$G$2:$G$3004,\"F\",Conv!$F$2:$F$3004,LM72)","v":0},{"$f":"COUNTIFS(Conv!$G$2:$G$3004,\"F\",Conv!$F$2:$F$3004,LN72)","v":0},{"$f":"COUNTIFS(Conv!$G$2:$G$3004,\"F\",Conv!$F$2:$F$3004,LO72)","v":0},{"$f":"COUNTIFS(Conv!$G$2:$G$3004,\"F\",Conv!$F$2:$F$3004,LP72)","v":0},{"$f":"COUNTIFS(Conv!$G$2:$G$3004,\"F\",Conv!$F$2:$F$3004,LQ72)","v":0},{"$f":"COUNTIFS(Conv!$G$2:$G$3004,\"F\",Conv!$F$2:$F$3004,LR72)","v":0},{"$f":"COUNTIFS(Conv!$G$2:$G$3004,\"F\",Conv!$F$2:$F$3004,LS72)","v":0},{"$f":"COUNTIFS(Conv!$G$2:$G$3004,\"F\",Conv!$F$2:$F$3004,LT72)","v":0},{"$f":"COUNTIFS(Conv!$G$2:$G$3004,\"F\",Conv!$F$2:$F$3004,LU72)","v":0},{"$f":"COUNTIFS(Conv!$G$2:$G$3004,\"F\",Conv!$F$2:$F$3004,LV72)","v":0},{"$f":"COUNTIFS(Conv!$G$2:$G$3004,\"F\",Conv!$F$2:$F$3004,LW72)","v":0},{"$f":"COUNTIFS(Conv!$G$2:$G$3004,\"F\",Conv!$F$2:$F$3004,LX72)","v":0},{"$f":"COUNTIFS(Conv!$G$2:$G$3004,\"F\",Conv!$F$2:$F$3004,LY72)","v":0},{"$f":"COUNTIFS(Conv!$G$2:$G$3004,\"F\",Conv!$F$2:$F$3004,LZ72)","v":0},{"$f":"COUNTIFS(Conv!$G$2:$G$3004,\"F\",Conv!$F$2:$F$3004,MA72)","v":0},{"$f":"COUNTIFS(Conv!$G$2:$G$3004,\"F\",Conv!$F$2:$F$3004,MB72)","v":0},{"$f":"COUNTIFS(Conv!$G$2:$G$3004,\"F\",Conv!$F$2:$F$3004,MC72)","v":0},{"$f":"COUNTIFS(Conv!$G$2:$G$3004,\"F\",Conv!$F$2:$F$3004,MD72)","v":0},{"$f":"COUNTIFS(Conv!$G$2:$G$3004,\"F\",Conv!$F$2:$F$3004,ME72)","v":0},{"$f":"COUNTIFS(Conv!$G$2:$G$3004,\"F\",Conv!$F$2:$F$3004,MF72)","v":0},{"$f":"COUNTIFS(Conv!$G$2:$G$3004,\"F\",Conv!$F$2:$F$3004,MG72)","v":0},{"$f":"COUNTIFS(Conv!$G$2:$G$3004,\"F\",Conv!$F$2:$F$3004,MH72)","v":0},{"$f":"COUNTIFS(Conv!$G$2:$G$3004,\"F\",Conv!$F$2:$F$3004,MI72)","v":0},{"$f":"COUNTIFS(Conv!$G$2:$G$3004,\"F\",Conv!$F$2:$F$3004,MJ72)","v":0},{"$f":"COUNTIFS(Conv!$G$2:$G$3004,\"F\",Conv!$F$2:$F$3004,MK72)","v":0},{"$f":"COUNTIFS(Conv!$G$2:$G$3004,\"F\",Conv!$F$2:$F$3004,ML72)","v":0},{"$f":"COUNTIFS(Conv!$G$2:$G$3004,\"F\",Conv!$F$2:$F$3004,MM72)","v":0},{"$f":"COUNTIFS(Conv!$G$2:$G$3004,\"F\",Conv!$F$2:$F$3004,MN72)","v":0},{"$f":"COUNTIFS(Conv!$G$2:$G$3004,\"F\",Conv!$F$2:$F$3004,MO72)","v":0},{"$f":"COUNTIFS(Conv!$G$2:$G$3004,\"F\",Conv!$F$2:$F$3004,MP72)","v":0},{"$f":"COUNTIFS(Conv!$G$2:$G$3004,\"F\",Conv!$F$2:$F$3004,MQ72)","v":0},{"$f":"COUNTIFS(Conv!$G$2:$G$3004,\"F\",Conv!$F$2:$F$3004,MR72)","v":0},{"$f":"COUNTIFS(Conv!$G$2:$G$3004,\"F\",Conv!$F$2:$F$3004,MS72)","v":0},{"$f":"COUNTIFS(Conv!$G$2:$G$3004,\"F\",Conv!$F$2:$F$3004,MT72)","v":0},{"$f":"COUNTIFS(Conv!$G$2:$G$3004,\"F\",Conv!$F$2:$F$3004,MU72)","v":0},{"$f":"COUNTIFS(Conv!$G$2:$G$3004,\"F\",Conv!$F$2:$F$3004,MV72)","v":0},{"$f":"COUNTIFS(Conv!$G$2:$G$3004,\"F\",Conv!$F$2:$F$3004,MW72)","v":0},{"$f":"COUNTIFS(Conv!$G$2:$G$3004,\"F\",Conv!$F$2:$F$3004,MX72)","v":0},{"$f":"COUNTIFS(Conv!$G$2:$G$3004,\"F\",Conv!$F$2:$F$3004,MY72)","v":0},{"$f":"COUNTIFS(Conv!$G$2:$G$3004,\"F\",Conv!$F$2:$F$3004,MZ72)","v":0},{"$f":"COUNTIFS(Conv!$G$2:$G$3004,\"F\",Conv!$F$2:$F$3004,NA72)","v":0},{"$f":"COUNTIFS(Conv!$G$2:$G$3004,\"F\",Conv!$F$2:$F$3004,NB72)","v":0},{"$f":"COUNTIFS(Conv!$G$2:$G$3004,\"F\",Conv!$F$2:$F$3004,NC72)","v":0},{"$f":"COUNTIFS(Conv!$G$2:$G$3004,\"F\",Conv!$F$2:$F$3004,ND72)","v":0},{"$f":"COUNTIFS(Conv!$G$2:$G$3004,\"F\",Conv!$F$2:$F$3004,NE72)","v":0},{"$f":"COUNTIFS(Conv!$G$2:$G$3004,\"F\",Conv!$F$2:$F$3004,NF72)","v":0},{"$f":"COUNTIFS(Conv!$G$2:$G$3004,\"F\",Conv!$F$2:$F$3004,NG72)","v":0},{"$f":"COUNTIFS(Conv!$G$2:$G$3004,\"F\",Conv!$F$2:$F$3004,NH72)","v":0},{"$f":"COUNTIFS(Conv!$G$2:$G$3004,\"F\",Conv!$F$2:$F$3004,NI72)","v":0},{"$f":"COUNTIFS(Conv!$G$2:$G$3004,\"F\",Conv!$F$2:$F$3004,NJ72)","v":0},{"$f":"COUNTIFS(Conv!$G$2:$G$3004,\"F\",Conv!$F$2:$F$3004,NK72)","v":0},{"$f":"COUNTIFS(Conv!$G$2:$G$3004,\"F\",Conv!$F$2:$F$3004,NL72)","v":0},{"$f":"COUNTIFS(Conv!$G$2:$G$3004,\"F\",Conv!$F$2:$F$3004,NM72)","v":0},{"$f":"COUNTIFS(Conv!$G$2:$G$3004,\"F\",Conv!$F$2:$F$3004,NN72)","v":0},{"$f":"COUNTIFS(Conv!$G$2:$G$3004,\"F\",Conv!$F$2:$F$3004,NO72)","v":0},{"$f":"COUNTIFS(Conv!$G$2:$G$3004,\"F\",Conv!$F$2:$F$3004,NP72)","v":0},{"$f":"COUNTIFS(Conv!$G$2:$G$3004,\"F\",Conv!$F$2:$F$3004,NQ72)","v":0},{"$f":"COUNTIFS(Conv!$G$2:$G$3004,\"F\",Conv!$F$2:$F$3004,NR72)","v":0},{"$f":"COUNTIFS(Conv!$G$2:$G$3004,\"F\",Conv!$F$2:$F$3004,NS72)","v":0},{"$f":"COUNTIFS(Conv!$G$2:$G$3004,\"F\",Conv!$F$2:$F$3004,NT72)","v":0},{"$f":"COUNTIFS(Conv!$G$2:$G$3004,\"F\",Conv!$F$2:$F$3004,NU72)","v":0},{"$f":"COUNTIFS(Conv!$G$2:$G$3004,\"F\",Conv!$F$2:$F$3004,NV72)","v":0},{"$f":"COUNTIFS(Conv!$G$2:$G$3004,\"F\",Conv!$F$2:$F$3004,NW72)","v":0},{"$f":"COUNTIFS(Conv!$G$2:$G$3004,\"F\",Conv!$F$2:$F$3004,NX72)","v":0},{"$f":"COUNTIFS(Conv!$G$2:$G$3004,\"F\",Conv!$F$2:$F$3004,NY72)","v":0},{"$f":"COUNTIFS(Conv!$G$2:$G$3004,\"F\",Conv!$F$2:$F$3004,NZ72)","v":0},{"$f":"COUNTIFS(Conv!$G$2:$G$3004,\"F\",Conv!$F$2:$F$3004,OA72)","v":0},{"$f":"COUNTIFS(Conv!$G$2:$G$3004,\"F\",Conv!$F$2:$F$3004,OB72)","v":0},{"$f":"COUNTIFS(Conv!$G$2:$G$3004,\"F\",Conv!$F$2:$F$3004,OC72)","v":0},{"$f":"COUNTIFS(Conv!$G$2:$G$3004,\"F\",Conv!$F$2:$F$3004,OD72)","v":0},{"$f":"COUNTIFS(Conv!$G$2:$G$3004,\"F\",Conv!$F$2:$F$3004,OE72)","v":0},{"$f":"COUNTIFS(Conv!$G$2:$G$3004,\"F\",Conv!$F$2:$F$3004,OF72)","v":0},{"$f":"COUNTIFS(Conv!$G$2:$G$3004,\"F\",Conv!$F$2:$F$3004,OG72)","v":0},{"$f":"COUNTIFS(Conv!$G$2:$G$3004,\"F\",Conv!$F$2:$F$3004,OH72)","v":0},{"$f":"COUNTIFS(Conv!$G$2:$G$3004,\"F\",Conv!$F$2:$F$3004,OI72)","v":0},{"$f":"COUNTIFS(Conv!$G$2:$G$3004,\"F\",Conv!$F$2:$F$3004,OJ72)","v":0},{"$f":"COUNTIFS(Conv!$G$2:$G$3004,\"F\",Conv!$F$2:$F$3004,OK72)","v":0},{"$f":"COUNTIFS(Conv!$G$2:$G$3004,\"F\",Conv!$F$2:$F$3004,OL72)","v":0},{"$f":"COUNTIFS(Conv!$G$2:$G$3004,\"F\",Conv!$F$2:$F$3004,OM72)","v":0},{"$f":"COUNTIFS(Conv!$G$2:$G$3004,\"F\",Conv!$F$2:$F$3004,ON72)","v":0},{"$f":"COUNTIFS(Conv!$G$2:$G$3004,\"F\",Conv!$F$2:$F$3004,OO72)","v":0},{"$f":"COUNTIFS(Conv!$G$2:$G$3004,\"F\",Conv!$F$2:$F$3004,OP72)","v":0},{"$f":"COUNTIFS(Conv!$G$2:$G$3004,\"F\",Conv!$F$2:$F$3004,OQ72)","v":0},{"$f":"COUNTIFS(Conv!$G$2:$G$3004,\"F\",Conv!$F$2:$F$3004,OR72)","v":0},{"$f":"COUNTIFS(Conv!$G$2:$G$3004,\"F\",Conv!$F$2:$F$3004,OS72)","v":0},{"$f":"COUNTIFS(Conv!$G$2:$G$3004,\"F\",Conv!$F$2:$F$3004,OT72)","v":0},{"$f":"COUNTIFS(Conv!$G$2:$G$3004,\"F\",Conv!$F$2:$F$3004,OU72)","v":0},{"$f":"COUNTIFS(Conv!$G$2:$G$3004,\"F\",Conv!$F$2:$F$3004,OV72)","v":0},{"$f":"COUNTIFS(Conv!$G$2:$G$3004,\"F\",Conv!$F$2:$F$3004,OW72)","v":0},{"$f":"COUNTIFS(Conv!$G$2:$G$3004,\"F\",Conv!$F$2:$F$3004,OX72)","v":0},{"$f":"COUNTIFS(Conv!$G$2:$G$3004,\"F\",Conv!$F$2:$F$3004,OY72)","v":0},{"$f":"COUNTIFS(Conv!$G$2:$G$3004,\"F\",Conv!$F$2:$F$3004,OZ72)","v":0},{"$f":"COUNTIFS(Conv!$G$2:$G$3004,\"F\",Conv!$F$2:$F$3004,PA72)","v":0},{"$f":"COUNTIFS(Conv!$G$2:$G$3004,\"F\",Conv!$F$2:$F$3004,PB72)","v":0},{"$f":"COUNTIFS(Conv!$G$2:$G$3004,\"F\",Conv!$F$2:$F$3004,PC72)","v":0},{"$f":"COUNTIFS(Conv!$G$2:$G$3004,\"F\",Conv!$F$2:$F$3004,PD72)","v":0},{"$f":"COUNTIFS(Conv!$G$2:$G$3004,\"F\",Conv!$F$2:$F$3004,PE72)","v":0},{"$f":"COUNTIFS(Conv!$G$2:$G$3004,\"F\",Conv!$F$2:$F$3004,PF72)","v":0},{"$f":"COUNTIFS(Conv!$G$2:$G$3004,\"F\",Conv!$F$2:$F$3004,PG72)","v":0},{"$f":"COUNTIFS(Conv!$G$2:$G$3004,\"F\",Conv!$F$2:$F$3004,PH72)","v":0},{"$f":"COUNTIFS(Conv!$G$2:$G$3004,\"F\",Conv!$F$2:$F$3004,PI72)","v":0},{"$f":"COUNTIFS(Conv!$G$2:$G$3004,\"F\",Conv!$F$2:$F$3004,PJ72)","v":0},{"$f":"COUNTIFS(Conv!$G$2:$G$3004,\"F\",Conv!$F$2:$F$3004,PK72)","v":0},{"$f":"COUNTIFS(Conv!$G$2:$G$3004,\"F\",Conv!$F$2:$F$3004,PL72)","v":0},{"$f":"COUNTIFS(Conv!$G$2:$G$3004,\"F\",Conv!$F$2:$F$3004,PM72)","v":0},{"$f":"COUNTIFS(Conv!$G$2:$G$3004,\"F\",Conv!$F$2:$F$3004,PN72)","v":0},{"$f":"COUNTIFS(Conv!$G$2:$G$3004,\"F\",Conv!$F$2:$F$3004,PO72)","v":0},{"$f":"COUNTIFS(Conv!$G$2:$G$3004,\"F\",Conv!$F$2:$F$3004,PP72)","v":0},{"$f":"COUNTIFS(Conv!$G$2:$G$3004,\"F\",Conv!$F$2:$F$3004,PQ72)","v":0},{"$f":"COUNTIFS(Conv!$G$2:$G$3004,\"F\",Conv!$F$2:$F$3004,PR72)","v":0},{"$f":"COUNTIFS(Conv!$G$2:$G$3004,\"F\",Conv!$F$2:$F$3004,PS72)","v":0},{"$f":"COUNTIFS(Conv!$G$2:$G$3004,\"F\",Conv!$F$2:$F$3004,PT72)","v":0},{"$f":"COUNTIFS(Conv!$G$2:$G$3004,\"F\",Conv!$F$2:$F$3004,PU72)","v":0},{"$f":"COUNTIFS(Conv!$G$2:$G$3004,\"F\",Conv!$F$2:$F$3004,PV72)","v":0},{"$f":"COUNTIFS(Conv!$G$2:$G$3004,\"F\",Conv!$F$2:$F$3004,PW72)","v":0},{"$f":"COUNTIFS(Conv!$G$2:$G$3004,\"F\",Conv!$F$2:$F$3004,PX72)","v":0}]
["Minorities Pass",{"$f":"C75+B76","v":0},{"$f":"D75+C76","v":0},{"$f":"E75+D76","v":0},0,0,0,0,0,0,0,0,0,0,0,0,0,0,0,0,0,0,0,0,0,0,0,0,0,0,0,0,0,0,0,0,0,0,0,0,0,0,0,0,0,0,0,0,0,0,0,0,0,0,0,0,0,0,0,0,0,0,0,0,0,0,0,{"$f":"BQ75+BP76","v":0},0,0,0,0,0,0,0,0,0,0,{"$f":"CB75+CA76","v":0},{"$f":"CC75+CB76","v":0},{"$f":"CD75+CC76","v":0},{"$f":"CE75+CD76","v":0},{"$f":"CF75+CE76","v":0},{"$f":"CG75+CF76","v":0},{"$f":"CH75+CG76","v":0},{"$f":"CI75+CH76","v":0},{"$f":"CJ75+CI76","v":0},{"$f":"CK75+CJ76","v":0},{"$f":"CL75+CK76","v":0},{"$f":"CM75+CL76","v":0},{"$f":"CN75+CM76","v":0},{"$f":"CO75+CN76","v":0},{"$f":"CP75+CO76","v":0},{"$f":"CQ75+CP76","v":0},{"$f":"CR75+CQ76","v":0},{"$f":"CS75+CR76","v":0},{"$f":"CT75+CS76","v":0},{"$f":"CU75+CT76","v":0},{"$f":"CV75+CU76","v":0},{"$f":"CW75+CV76","v":0},{"$f":"CX75+CW76","v":0},{"$f":"CY75+CX76","v":0},{"$f":"CZ75+CY76","v":0},{"$f":"DA75+CZ76","v":0},{"$f":"DB75+DA76","v":0},{"$f":"DC75+DB76","v":0},{"$f":"DD75+DC76","v":0},{"$f":"DE75+DD76","v":0},{"$f":"DF75+DE76","v":0},{"$f":"DG75+DF76","v":0},{"$f":"DH75+DG76","v":0},{"$f":"DI75+DH76","v":0},{"$f":"DJ75+DI76","v":0},{"$f":"DK75+DJ76","v":0},{"$f":"DL75+DK76","v":0},{"$f":"DM75+DL76","v":0},{"$f":"DN75+DM76","v":0},{"$f":"DO75+DN76","v":0},{"$f":"DP75+DO76","v":0},{"$f":"DQ75+DP76","v":0},{"$f":"DR75+DQ76","v":0},{"$f":"DS75+DR76","v":0},{"$f":"DT75+DS76","v":0},{"$f":"DU75+DT76","v":0},{"$f":"DV75+DU76","v":0},{"$f":"DW75+DV76","v":0},{"$f":"DX75+DW76","v":0},{"$f":"DY75+DX76","v":0},{"$f":"DZ75+DY76","v":0},{"$f":"EA75+DZ76","v":0},{"$f":"EB75+EA76","v":0},{"$f":"EC75+EB76","v":0},{"$f":"ED75+EC76","v":0},{"$f":"EE75+ED76","v":0},{"$f":"EF75+EE76","v":0},{"$f":"EG75+EF76","v":0},{"$f":"EH75+EG76","v":0},{"$f":"EI75+EH76","v":0},{"$f":"EJ75+EI76","v":0},{"$f":"EK75+EJ76","v":0},{"$f":"EL75+EK76","v":0},{"$f":"EM75+EL76","v":0},{"$f":"EN75+EM76","v":0},{"$f":"EO75+EN76","v":0},{"$f":"EP75+EO76","v":0},{"$f":"EQ75+EP76","v":0},{"$f":"ER75+EQ76","v":0},{"$f":"ES75+ER76","v":0},{"$f":"ET75+ES76","v":0},{"$f":"EU75+ET76","v":0},{"$f":"EV75+EU76","v":0},{"$f":"EW75+EV76","v":0},{"$f":"EX75+EW76","v":0},{"$f":"EY75+EX76","v":0},{"$f":"EZ75+EY76","v":0},{"$f":"FA75+EZ76","v":0},{"$f":"FB75+FA76","v":0},{"$f":"FC75+FB76","v":0},{"$f":"FD75+FC76","v":0},{"$f":"FE75+FD76","v":0},{"$f":"FF75+FE76","v":0},{"$f":"FG75+FF76","v":0},{"$f":"FH75+FG76","v":0},{"$f":"FI75+FH76","v":0},{"$f":"FJ75+FI76","v":0},{"$f":"FK75+FJ76","v":0},{"$f":"FL75+FK76","v":0},{"$f":"FM75+FL76","v":0},{"$f":"FN75+FM76","v":0},{"$f":"FO75+FN76","v":0},{"$f":"FP75+FO76","v":0},{"$f":"FQ75+FP76","v":0},{"$f":"FR75+FQ76","v":0},{"$f":"FS75+FR76","v":0},{"$f":"FT75+FS76","v":0},{"$f":"FU75+FT76","v":0},{"$f":"FV75+FU76","v":0},{"$f":"FW75+FV76","v":0},{"$f":"FX75+FW76","v":0},{"$f":"FY75+FX76","v":0},{"$f":"FZ75+FY76","v":0},{"$f":"GA75+FZ76","v":0},{"$f":"GB75+GA76","v":0},{"$f":"GC75+GB76","v":0},{"$f":"GD75+GC76","v":0},{"$f":"GE75+GD76","v":0},{"$f":"GF75+GE76","v":0},{"$f":"GG75+GF76","v":0},{"$f":"GH75+GG76","v":0},{"$f":"GI75+GH76","v":0},{"$f":"GJ75+GI76","v":0},{"$f":"GK75+GJ76","v":0},{"$f":"GL75+GK76","v":0},{"$f":"GM75+GL76","v":0},{"$f":"GN75+GM76","v":0},{"$f":"GO75+GN76","v":0},{"$f":"GP75+GO76","v":0},{"$f":"GQ75+GP76","v":0},{"$f":"GR75+GQ76","v":0},{"$f":"GS75+GR76","v":0},{"$f":"GT75+GS76","v":0},{"$f":"GU75+GT76","v":0},{"$f":"GV75+GU76","v":0},{"$f":"GW75+GV76","v":0},{"$f":"GX75+GW76","v":0},{"$f":"GY75+GX76","v":0},{"$f":"GZ75+GY76","v":0},{"$f":"HA75+GZ76","v":0},{"$f":"HB75+HA76","v":0},{"$f":"HC75+HB76","v":0},{"$f":"HD75+HC76","v":0},{"$f":"HE75+HD76","v":0},{"$f":"HF75+HE76","v":0},{"$f":"HG75+HF76","v":0},{"$f":"HH75+HG76","v":0},{"$f":"HI75+HH76","v":0},{"$f":"HJ75+HI76","v":0},{"$f":"HK75+HJ76","v":0},{"$f":"HL75+HK76","v":0},{"$f":"HM75+HL76","v":0},{"$f":"HN75+HM76","v":0},{"$f":"HO75+HN76","v":0},{"$f":"HP75+HO76","v":0},{"$f":"HQ75+HP76","v":0},{"$f":"HR75+HQ76","v":0},{"$f":"HS75+HR76","v":0},{"$f":"HT75+HS76","v":0},{"$f":"HU75+HT76","v":0},{"$f":"HV75+HU76","v":0},{"$f":"HW75+HV76","v":0},{"$f":"HX75+HW76","v":0},{"$f":"HY75+HX76","v":0},{"$f":"HZ75+HY76","v":0},{"$f":"IA75+HZ76","v":0},{"$f":"IB75+IA76","v":0},{"$f":"IC75+IB76","v":0},{"$f":"ID75+IC76","v":0},{"$f":"IE75+ID76","v":0},{"$f":"IF75+IE76","v":0},{"$f":"IG75+IF76","v":0},{"$f":"IH75+IG76","v":0},{"$f":"II75+IH76","v":0},{"$f":"IJ75+II76","v":0},{"$f":"IK75+IJ76","v":0},{"$f":"IL75+IK76","v":0},{"$f":"IM75+IL76","v":0},{"$f":"IN75+IM76","v":0},{"$f":"IO75+IN76","v":0},{"$f":"IP75+IO76","v":0},{"$f":"IQ75+IP76","v":0},{"$f":"IR75+IQ76","v":0},{"$f":"IS75+IR76","v":0},{"$f":"IT75+IS76","v":0},{"$f":"IU75+IT76","v":0},{"$f":"IV75+IU76","v":0},{"$f":"IW75+IV76","v":0},{"$f":"IX75+IW76","v":0},{"$f":"IY75+IX76","v":0},{"$f":"IZ75+IY76","v":0},{"$f":"JA75+IZ76","v":0},{"$f":"JB75+JA76","v":0},{"$f":"JC75+JB76","v":0},{"$f":"JD75+JC76","v":0},{"$f":"JE75+JD76","v":0},{"$f":"JF75+JE76","v":0},{"$f":"JG75+JF76","v":0},{"$f":"JH75+JG76","v":0},{"$f":"JI75+JH76","v":0},{"$f":"JJ75+JI76","v":0},{"$f":"JK75+JJ76","v":0},{"$f":"JL75+JK76","v":0},{"$f":"JM75+JL76","v":0},{"$f":"JN75+JM76","v":0},{"$f":"JO75+JN76","v":0},{"$f":"JP75+JO76","v":0},{"$f":"JQ75+JP76","v":0},{"$f":"JR75+JQ76","v":0},{"$f":"JS75+JR76","v":0},{"$f":"JT75+JS76","v":0},{"$f":"JU75+JT76","v":0},{"$f":"JV75+JU76","v":0},{"$f":"JW75+JV76","v":0},{"$f":"JX75+JW76","v":0},{"$f":"JY75+JX76","v":0},{"$f":"JZ75+JY76","v":0},{"$f":"KA75+JZ76","v":0},{"$f":"KB75+KA76","v":0},{"$f":"KC75+KB76","v":0},{"$f":"KD75+KC76","v":0},{"$f":"KE75+KD76","v":0},{"$f":"KF75+KE76","v":0},{"$f":"KG75+KF76","v":0},{"$f":"KH75+KG76","v":0},{"$f":"KI75+KH76","v":0},{"$f":"KJ75+KI76","v":0},{"$f":"KK75+KJ76","v":0},{"$f":"KL75+KK76","v":0},{"$f":"KM75+KL76","v":0},{"$f":"KN75+KM76","v":0},{"$f":"KO75+KN76","v":0},{"$f":"KP75+KO76","v":0},{"$f":"KQ75+KP76","v":0},{"$f":"KR75+KQ76","v":0},{"$f":"KS75+KR76","v":0},{"$f":"KT75+KS76","v":0},{"$f":"KU75+KT76","v":0},{"$f":"KV75+KU76","v":0},{"$f":"KW75+KV76","v":0},{"$f":"KX75+KW76","v":0},{"$f":"KY75+KX76","v":0},{"$f":"KZ75+KY76","v":0},{"$f":"LA75+KZ76","v":0},{"$f":"LB75+LA76","v":0},{"$f":"LC75+LB76","v":0},{"$f":"LD75+LC76","v":0},{"$f":"LE75+LD76","v":0},{"$f":"LF75+LE76","v":0},{"$f":"LG75+LF76","v":0},{"$f":"LH75+LG76","v":0},{"$f":"LI75+LH76","v":0},{"$f":"LJ75+LI76","v":0},{"$f":"LK75+LJ76","v":0},{"$f":"LL75+LK76","v":0},{"$f":"LM75+LL76","v":0},{"$f":"LN75+LM76","v":0},{"$f":"LO75+LN76","v":0},{"$f":"LP75+LO76","v":0},{"$f":"LQ75+LP76","v":0},{"$f":"LR75+LQ76","v":0},{"$f":"LS75+LR76","v":0},{"$f":"LT75+LS76","v":0},{"$f":"LU75+LT76","v":0},{"$f":"LV75+LU76","v":0},{"$f":"LW75+LV76","v":0},{"$f":"LX75+LW76","v":0},{"$f":"LY75+LX76","v":0},{"$f":"LZ75+LY76","v":0},{"$f":"MA75+LZ76","v":0},{"$f":"MB75+MA76","v":0},{"$f":"MC75+MB76","v":0},{"$f":"MD75+MC76","v":0},{"$f":"ME75+MD76","v":0},{"$f":"MF75+ME76","v":0},{"$f":"MG75+MF76","v":0},{"$f":"MH75+MG76","v":0},{"$f":"MI75+MH76","v":0},{"$f":"MJ75+MI76","v":0},{"$f":"MK75+MJ76","v":0},{"$f":"ML75+MK76","v":0},{"$f":"MM75+ML76","v":0},{"$f":"MN75+MM76","v":0},{"$f":"MO75+MN76","v":0},{"$f":"MP75+MO76","v":0},{"$f":"MQ75+MP76","v":0},{"$f":"MR75+MQ76","v":0},{"$f":"MS75+MR76","v":0},{"$f":"MT75+MS76","v":0},{"$f":"MU75+MT76","v":0},{"$f":"MV75+MU76","v":0},{"$f":"MW75+MV76","v":0},{"$f":"MX75+MW76","v":0},{"$f":"MY75+MX76","v":0},{"$f":"MZ75+MY76","v":0},{"$f":"NA75+MZ76","v":0},{"$f":"NB75+NA76","v":0},{"$f":"NC75+NB76","v":0},{"$f":"ND75+NC76","v":0},{"$f":"NE75+ND76","v":0},{"$f":"NF75+NE76","v":0},{"$f":"NG75+NF76","v":0},{"$f":"NH75+NG76","v":0},{"$f":"NI75+NH76","v":0},{"$f":"NJ75+NI76","v":0},{"$f":"NK75+NJ76","v":0},{"$f":"NL75+NK76","v":0},{"$f":"NM75+NL76","v":0},{"$f":"NN75+NM76","v":0},{"$f":"NO75+NN76","v":0},{"$f":"NP75+NO76","v":0},{"$f":"NQ75+NP76","v":0},{"$f":"NR75+NQ76","v":0},{"$f":"NS75+NR76","v":0},{"$f":"NT75+NS76","v":0},{"$f":"NU75+NT76","v":0},{"$f":"NV75+NU76","v":0},{"$f":"NW75+NV76","v":0},{"$f":"NX75+NW76","v":0},{"$f":"NY75+NX76","v":0},{"$f":"NZ75+NY76","v":0},{"$f":"OA75+NZ76","v":0},{"$f":"OB75+OA76","v":0},{"$f":"OC75+OB76","v":0},{"$f":"OD75+OC76","v":0},{"$f":"OE75+OD76","v":0},{"$f":"OF75+OE76","v":0},{"$f":"OG75+OF76","v":0},{"$f":"OH75+OG76","v":0},{"$f":"OI75+OH76","v":0},{"$f":"OJ75+OI76","v":0},{"$f":"OK75+OJ76","v":0},{"$f":"OL75+OK76","v":0},{"$f":"OM75+OL76","v":0},{"$f":"ON75+OM76","v":0},{"$f":"OO75+ON76","v":0},{"$f":"OP75+OO76","v":0},{"$f":"OQ75+OP76","v":0},{"$f":"OR75+OQ76","v":0},{"$f":"OS75+OR76","v":0},{"$f":"OT75+OS76","v":0},{"$f":"OU75+OT76","v":0},{"$f":"OV75+OU76","v":0},{"$f":"OW75+OV76","v":0},{"$f":"OX75+OW76","v":0},{"$f":"OY75+OX76","v":0},{"$f":"OZ75+OY76","v":0},{"$f":"PA75+OZ76","v":0},{"$f":"PB75+PA76","v":0},{"$f":"PC75+PB76","v":0},{"$f":"PD75+PC76","v":0},{"$f":"PE75+PD76","v":0},{"$f":"PF75+PE76","v":0},{"$f":"PG75+PF76","v":0},{"$f":"PH75+PG76","v":0},{"$f":"PI75+PH76","v":0},{"$f":"PJ75+PI76","v":0},{"$f":"PK75+PJ76","v":0},{"$f":"PL75+PK76","v":0},{"$f":"PM75+PL76","v":0},{"$f":"PN75+PM76","v":0},{"$f":"PO75+PN76","v":0},{"$f":"PP75+PO76","v":0},{"$f":"PQ75+PP76","v":0},{"$f":"PR75+PQ76","v":0},{"$f":"PS75+PR76","v":0},{"$f":"PT75+PS76","v":0},{"$f":"PU75+PT76","v":0},{"$f":"PV75+PU76","v":0},{"$f":"PW75+PV76","v":0},{"$f":"PX75+PW76","v":0},{"$f":"PY75+PX76","v":0}]
["Minorities",{"$f":"COUNTIFS(Conv!$H$2:$H$3004,\"<5\",Conv!$F$2:$F$3004,B72)","v":0},{"$f":"COUNTIFS(Conv!$H$2:$H$3004,\"<5\",Conv!$F$2:$F$3004,C72)","v":0},{"$f":"COUNTIFS(Conv!$H$2:$H$3004,\"<5\",Conv!$F$2:$F$3004,D72)","v":0},{"$f":"COUNTIFS(Conv!$H$2:$H$3004,\"<5\",Conv!$F$2:$F$3004,E72)","v":0},{"$f":"COUNTIFS(Conv!$H$2:$H$3004,\"<5\",Conv!$F$2:$F$3004,F72)","v":0},{"$f":"COUNTIFS(Conv!$H$2:$H$3004,\"<5\",Conv!$F$2:$F$3004,G72)","v":0},{"$f":"COUNTIFS(Conv!$H$2:$H$3004,\"<5\",Conv!$F$2:$F$3004,H72)","v":0},{"$f":"COUNTIFS(Conv!$H$2:$H$3004,\"<5\",Conv!$F$2:$F$3004,I72)","v":0},{"$f":"COUNTIFS(Conv!$H$2:$H$3004,\"<5\",Conv!$F$2:$F$3004,J72)","v":0},{"$f":"COUNTIFS(Conv!$H$2:$H$3004,\"<5\",Conv!$F$2:$F$3004,K72)","v":0},{"$f":"COUNTIFS(Conv!$H$2:$H$3004,\"<5\",Conv!$F$2:$F$3004,L72)","v":0},{"$f":"COUNTIFS(Conv!$H$2:$H$3004,\"<5\",Conv!$F$2:$F$3004,M72)","v":0},{"$f":"COUNTIFS(Conv!$H$2:$H$3004,\"<5\",Conv!$F$2:$F$3004,N72)","v":0},{"$f":"COUNTIFS(Conv!$H$2:$H$3004,\"<5\",Conv!$F$2:$F$3004,O72)","v":0},{"$f":"COUNTIFS(Conv!$H$2:$H$3004,\"<5\",Conv!$F$2:$F$3004,P72)","v":0},{"$f":"COUNTIFS(Conv!$H$2:$H$3004,\"<5\",Conv!$F$2:$F$3004,Q72)","v":0},{"$f":"COUNTIFS(Conv!$H$2:$H$3004,\"<5\",Conv!$F$2:$F$3004,R72)","v":0},{"$f":"COUNTIFS(Conv!$H$2:$H$3004,\"<5\",Conv!$F$2:$F$3004,S72)","v":0},{"$f":"COUNTIFS(Conv!$H$2:$H$3004,\"<5\",Conv!$F$2:$F$3004,T72)","v":0},{"$f":"COUNTIFS(Conv!$H$2:$H$3004,\"<5\",Conv!$F$2:$F$3004,U72)","v":0},{"$f":"COUNTIFS(Conv!$H$2:$H$3004,\"<5\",Conv!$F$2:$F$3004,V72)","v":0},{"$f":"COUNTIFS(Conv!$H$2:$H$3004,\"<5\",Conv!$F$2:$F$3004,W72)","v":0},{"$f":"COUNTIFS(Conv!$H$2:$H$3004,\"<5\",Conv!$F$2:$F$3004,X72)","v":0},{"$f":"COUNTIFS(Conv!$H$2:$H$3004,\"<5\",Conv!$F$2:$F$3004,Y72)","v":0},{"$f":"COUNTIFS(Conv!$H$2:$H$3004,\"<5\",Conv!$F$2:$F$3004,Z72)","v":0},{"$f":"COUNTIFS(Conv!$H$2:$H$3004,\"<5\",Conv!$F$2:$F$3004,AA72)","v":0},{"$f":"COUNTIFS(Conv!$H$2:$H$3004,\"<5\",Conv!$F$2:$F$3004,AB72)","v":0},{"$f":"COUNTIFS(Conv!$H$2:$H$3004,\"<5\",Conv!$F$2:$F$3004,AC72)","v":0},{"$f":"COUNTIFS(Conv!$H$2:$H$3004,\"<5\",Conv!$F$2:$F$3004,AD72)","v":0},{"$f":"COUNTIFS(Conv!$H$2:$H$3004,\"<5\",Conv!$F$2:$F$3004,AE72)","v":0},{"$f":"COUNTIFS(Conv!$H$2:$H$3004,\"<5\",Conv!$F$2:$F$3004,AF72)","v":0},{"$f":"COUNTIFS(Conv!$H$2:$H$3004,\"<5\",Conv!$F$2:$F$3004,AG72)","v":0},{"$f":"COUNTIFS(Conv!$H$2:$H$3004,\"<5\",Conv!$F$2:$F$3004,AH72)","v":0},{"$f":"COUNTIFS(Conv!$H$2:$H$3004,\"<5\",Conv!$F$2:$F$3004,AI72)","v":0},{"$f":"COUNTIFS(Conv!$H$2:$H$3004,\"<5\",Conv!$F$2:$F$3004,AJ72)","v":0},{"$f":"COUNTIFS(Conv!$H$2:$H$3004,\"<5\",Conv!$F$2:$F$3004,AK72)","v":0},{"$f":"COUNTIFS(Conv!$H$2:$H$3004,\"<5\",Conv!$F$2:$F$3004,AL72)","v":0},{"$f":"COUNTIFS(Conv!$H$2:$H$3004,\"<5\",Conv!$F$2:$F$3004,AM72)","v":0},{"$f":"COUNTIFS(Conv!$H$2:$H$3004,\"<5\",Conv!$F$2:$F$3004,AN72)","v":0},{"$f":"COUNTIFS(Conv!$H$2:$H$3004,\"<5\",Conv!$F$2:$F$3004,AO72)","v":0},{"$f":"COUNTIFS(Conv!$H$2:$H$3004,\"<5\",Conv!$F$2:$F$3004,AP72)","v":0},{"$f":"COUNTIFS(Conv!$H$2:$H$3004,\"<5\",Conv!$F$2:$F$3004,AQ72)","v":0},{"$f":"COUNTIFS(Conv!$H$2:$H$3004,\"<5\",Conv!$F$2:$F$3004,AR72)","v":0},{"$f":"COUNTIFS(Conv!$H$2:$H$3004,\"<5\",Conv!$F$2:$F$3004,AS72)","v":0},{"$f":"COUNTIFS(Conv!$H$2:$H$3004,\"<5\",Conv!$F$2:$F$3004,AT72)","v":0},{"$f":"COUNTIFS(Conv!$H$2:$H$3004,\"<5\",Conv!$F$2:$F$3004,AU72)","v":0},{"$f":"COUNTIFS(Conv!$H$2:$H$3004,\"<5\",Conv!$F$2:$F$3004,AV72)","v":0},{"$f":"COUNTIFS(Conv!$H$2:$H$3004,\"<5\",Conv!$F$2:$F$3004,AW72)","v":0},{"$f":"COUNTIFS(Conv!$H$2:$H$3004,\"<5\",Conv!$F$2:$F$3004,AX72)","v":0},{"$f":"COUNTIFS(Conv!$H$2:$H$3004,\"<5\",Conv!$F$2:$F$3004,AY72)","v":0},{"$f":"COUNTIFS(Conv!$H$2:$H$3004,\"<5\",Conv!$F$2:$F$3004,AZ72)","v":0},{"$f":"COUNTIFS(Conv!$H$2:$H$3004,\"<5\",Conv!$F$2:$F$3004,BA72)","v":0},{"$f":"COUNTIFS(Conv!$H$2:$H$3004,\"<5\",Conv!$F$2:$F$3004,BB72)","v":0},{"$f":"COUNTIFS(Conv!$H$2:$H$3004,\"<5\",Conv!$F$2:$F$3004,BC72)","v":0},{"$f":"COUNTIFS(Conv!$H$2:$H$3004,\"<5\",Conv!$F$2:$F$3004,BD72)","v":0},{"$f":"COUNTIFS(Conv!$H$2:$H$3004,\"<5\",Conv!$F$2:$F$3004,BE72)","v":0},{"$f":"COUNTIFS(Conv!$H$2:$H$3004,\"<5\",Conv!$F$2:$F$3004,BF72)","v":0},{"$f":"COUNTIFS(Conv!$H$2:$H$3004,\"<5\",Conv!$F$2:$F$3004,BG72)","v":0},{"$f":"COUNTIFS(Conv!$H$2:$H$3004,\"<5\",Conv!$F$2:$F$3004,BH72)","v":0},{"$f":"COUNTIFS(Conv!$H$2:$H$3004,\"<5\",Conv!$F$2:$F$3004,BI72)","v":0},{"$f":"COUNTIFS(Conv!$H$2:$H$3004,\"<5\",Conv!$F$2:$F$3004,BJ72)","v":0},{"$f":"COUNTIFS(Conv!$H$2:$H$3004,\"<5\",Conv!$F$2:$F$3004,BK72)","v":0},{"$f":"COUNTIFS(Conv!$H$2:$H$3004,\"<5\",Conv!$F$2:$F$3004,BL72)","v":0},{"$f":"COUNTIFS(Conv!$H$2:$H$3004,\"<5\",Conv!$F$2:$F$3004,BM72)","v":0},{"$f":"COUNTIFS(Conv!$H$2:$H$3004,\"<5\",Conv!$F$2:$F$3004,BN72)","v":0},{"$f":"COUNTIFS(Conv!$H$2:$H$3004,\"<5\",Conv!$F$2:$F$3004,BO72)","v":0},{"$f":"COUNTIFS(Conv!$H$2:$H$3004,\"<5\",Conv!$F$2:$F$3004,BP72)","v":0},{"$f":"COUNTIFS(Conv!$H$2:$H$3004,\"<5\",Conv!$F$2:$F$3004,BQ72)","v":0},{"$f":"COUNTIFS(Conv!$H$2:$H$3004,\"<5\",Conv!$F$2:$F$3004,BR72)","v":0},{"$f":"COUNTIFS(Conv!$H$2:$H$3004,\"<5\",Conv!$F$2:$F$3004,BS72)","v":0},{"$f":"COUNTIFS(Conv!$H$2:$H$3004,\"<5\",Conv!$F$2:$F$3004,BT72)","v":0},{"$f":"COUNTIFS(Conv!$H$2:$H$3004,\"<5\",Conv!$F$2:$F$3004,BU72)","v":0},{"$f":"COUNTIFS(Conv!$H$2:$H$3004,\"<5\",Conv!$F$2:$F$3004,BV72)","v":0},{"$f":"COUNTIFS(Conv!$H$2:$H$3004,\"<5\",Conv!$F$2:$F$3004,BW72)","v":0},{"$f":"COUNTIFS(Conv!$H$2:$H$3004,\"<5\",Conv!$F$2:$F$3004,BX72)","v":0},{"$f":"COUNTIFS(Conv!$H$2:$H$3004,\"<5\",Conv!$F$2:$F$3004,BY72)","v":0},{"$f":"COUNTIFS(Conv!$H$2:$H$3004,\"<5\",Conv!$F$2:$F$3004,BZ72)","v":0},{"$f":"COUNTIFS(Conv!$H$2:$H$3004,\"<5\",Conv!$F$2:$F$3004,CA72)","v":0},{"$f":"COUNTIFS(Conv!$H$2:$H$3004,\"<5\",Conv!$F$2:$F$3004,CB72)","v":0},{"$f":"COUNTIFS(Conv!$H$2:$H$3004,\"<5\",Conv!$F$2:$F$3004,CC72)","v":0},{"$f":"COUNTIFS(Conv!$H$2:$H$3004,\"<5\",Conv!$F$2:$F$3004,CD72)","v":0},{"$f":"COUNTIFS(Conv!$H$2:$H$3004,\"<5\",Conv!$F$2:$F$3004,CE72)","v":0},{"$f":"COUNTIFS(Conv!$H$2:$H$3004,\"<5\",Conv!$F$2:$F$3004,CF72)","v":0},{"$f":"COUNTIFS(Conv!$H$2:$H$3004,\"<5\",Conv!$F$2:$F$3004,CG72)","v":0},{"$f":"COUNTIFS(Conv!$H$2:$H$3004,\"<5\",Conv!$F$2:$F$3004,CH72)","v":0},{"$f":"COUNTIFS(Conv!$H$2:$H$3004,\"<5\",Conv!$F$2:$F$3004,CI72)","v":0},{"$f":"COUNTIFS(Conv!$H$2:$H$3004,\"<5\",Conv!$F$2:$F$3004,CJ72)","v":0},{"$f":"COUNTIFS(Conv!$H$2:$H$3004,\"<5\",Conv!$F$2:$F$3004,CK72)","v":0},{"$f":"COUNTIFS(Conv!$H$2:$H$3004,\"<5\",Conv!$F$2:$F$3004,CL72)","v":0},{"$f":"COUNTIFS(Conv!$H$2:$H$3004,\"<5\",Conv!$F$2:$F$3004,CM72)","v":0},{"$f":"COUNTIFS(Conv!$H$2:$H$3004,\"<5\",Conv!$F$2:$F$3004,CN72)","v":0},{"$f":"COUNTIFS(Conv!$H$2:$H$3004,\"<5\",Conv!$F$2:$F$3004,CO72)","v":0},{"$f":"COUNTIFS(Conv!$H$2:$H$3004,\"<5\",Conv!$F$2:$F$3004,CP72)","v":0},{"$f":"COUNTIFS(Conv!$H$2:$H$3004,\"<5\",Conv!$F$2:$F$3004,CQ72)","v":0},{"$f":"COUNTIFS(Conv!$H$2:$H$3004,\"<5\",Conv!$F$2:$F$3004,CR72)","v":0},{"$f":"COUNTIFS(Conv!$H$2:$H$3004,\"<5\",Conv!$F$2:$F$3004,CS72)","v":0},{"$f":"COUNTIFS(Conv!$H$2:$H$3004,\"<5\",Conv!$F$2:$F$3004,CT72)","v":0},{"$f":"COUNTIFS(Conv!$H$2:$H$3004,\"<5\",Conv!$F$2:$F$3004,CU72)","v":0},{"$f":"COUNTIFS(Conv!$H$2:$H$3004,\"<5\",Conv!$F$2:$F$3004,CV72)","v":0},{"$f":"COUNTIFS(Conv!$H$2:$H$3004,\"<5\",Conv!$F$2:$F$3004,CW72)","v":0},{"$f":"COUNTIFS(Conv!$H$2:$H$3004,\"<5\",Conv!$F$2:$F$3004,CX72)","v":0},{"$f":"COUNTIFS(Conv!$H$2:$H$3004,\"<5\",Conv!$F$2:$F$3004,CY72)","v":0},{"$f":"COUNTIFS(Conv!$H$2:$H$3004,\"<5\",Conv!$F$2:$F$3004,CZ72)","v":0},{"$f":"COUNTIFS(Conv!$H$2:$H$3004,\"<5\",Conv!$F$2:$F$3004,DA72)","v":0},{"$f":"COUNTIFS(Conv!$H$2:$H$3004,\"<5\",Conv!$F$2:$F$3004,DB72)","v":0},{"$f":"COUNTIFS(Conv!$H$2:$H$3004,\"<5\",Conv!$F$2:$F$3004,DC72)","v":0},{"$f":"COUNTIFS(Conv!$H$2:$H$3004,\"<5\",Conv!$F$2:$F$3004,DD72)","v":0},{"$f":"COUNTIFS(Conv!$H$2:$H$3004,\"<5\",Conv!$F$2:$F$3004,DE72)","v":0},{"$f":"COUNTIFS(Conv!$H$2:$H$3004,\"<5\",Conv!$F$2:$F$3004,DF72)","v":0},{"$f":"COUNTIFS(Conv!$H$2:$H$3004,\"<5\",Conv!$F$2:$F$3004,DG72)","v":0},{"$f":"COUNTIFS(Conv!$H$2:$H$3004,\"<5\",Conv!$F$2:$F$3004,DH72)","v":0},{"$f":"COUNTIFS(Conv!$H$2:$H$3004,\"<5\",Conv!$F$2:$F$3004,DI72)","v":0},{"$f":"COUNTIFS(Conv!$H$2:$H$3004,\"<5\",Conv!$F$2:$F$3004,DJ72)","v":0},{"$f":"COUNTIFS(Conv!$H$2:$H$3004,\"<5\",Conv!$F$2:$F$3004,DK72)","v":0},{"$f":"COUNTIFS(Conv!$H$2:$H$3004,\"<5\",Conv!$F$2:$F$3004,DL72)","v":0},{"$f":"COUNTIFS(Conv!$H$2:$H$3004,\"<5\",Conv!$F$2:$F$3004,DM72)","v":0},{"$f":"COUNTIFS(Conv!$H$2:$H$3004,\"<5\",Conv!$F$2:$F$3004,DN72)","v":0},{"$f":"COUNTIFS(Conv!$H$2:$H$3004,\"<5\",Conv!$F$2:$F$3004,DO72)","v":0},{"$f":"COUNTIFS(Conv!$H$2:$H$3004,\"<5\",Conv!$F$2:$F$3004,DP72)","v":0},{"$f":"COUNTIFS(Conv!$H$2:$H$3004,\"<5\",Conv!$F$2:$F$3004,DQ72)","v":0},{"$f":"COUNTIFS(Conv!$H$2:$H$3004,\"<5\",Conv!$F$2:$F$3004,DR72)","v":0},{"$f":"COUNTIFS(Conv!$H$2:$H$3004,\"<5\",Conv!$F$2:$F$3004,DS72)","v":0},{"$f":"COUNTIFS(Conv!$H$2:$H$3004,\"<5\",Conv!$F$2:$F$3004,DT72)","v":0},{"$f":"COUNTIFS(Conv!$H$2:$H$3004,\"<5\",Conv!$F$2:$F$3004,DU72)","v":0},{"$f":"COUNTIFS(Conv!$H$2:$H$3004,\"<5\",Conv!$F$2:$F$3004,DV72)","v":0},{"$f":"COUNTIFS(Conv!$H$2:$H$3004,\"<5\",Conv!$F$2:$F$3004,DW72)","v":0},{"$f":"COUNTIFS(Conv!$H$2:$H$3004,\"<5\",Conv!$F$2:$F$3004,DX72)","v":0},{"$f":"COUNTIFS(Conv!$H$2:$H$3004,\"<5\",Conv!$F$2:$F$3004,DY72)","v":0},{"$f":"COUNTIFS(Conv!$H$2:$H$3004,\"<5\",Conv!$F$2:$F$3004,DZ72)","v":0},{"$f":"COUNTIFS(Conv!$H$2:$H$3004,\"<5\",Conv!$F$2:$F$3004,EA72)","v":0},{"$f":"COUNTIFS(Conv!$H$2:$H$3004,\"<5\",Conv!$F$2:$F$3004,EB72)","v":0},{"$f":"COUNTIFS(Conv!$H$2:$H$3004,\"<5\",Conv!$F$2:$F$3004,EC72)","v":0},{"$f":"COUNTIFS(Conv!$H$2:$H$3004,\"<5\",Conv!$F$2:$F$3004,ED72)","v":0},{"$f":"COUNTIFS(Conv!$H$2:$H$3004,\"<5\",Conv!$F$2:$F$3004,EE72)","v":0},{"$f":"COUNTIFS(Conv!$H$2:$H$3004,\"<5\",Conv!$F$2:$F$3004,EF72)","v":0},{"$f":"COUNTIFS(Conv!$H$2:$H$3004,\"<5\",Conv!$F$2:$F$3004,EG72)","v":0},{"$f":"COUNTIFS(Conv!$H$2:$H$3004,\"<5\",Conv!$F$2:$F$3004,EH72)","v":0},{"$f":"COUNTIFS(Conv!$H$2:$H$3004,\"<5\",Conv!$F$2:$F$3004,EI72)","v":0},{"$f":"COUNTIFS(Conv!$H$2:$H$3004,\"<5\",Conv!$F$2:$F$3004,EJ72)","v":0},{"$f":"COUNTIFS(Conv!$H$2:$H$3004,\"<5\",Conv!$F$2:$F$3004,EK72)","v":0},{"$f":"COUNTIFS(Conv!$H$2:$H$3004,\"<5\",Conv!$F$2:$F$3004,EL72)","v":0},{"$f":"COUNTIFS(Conv!$H$2:$H$3004,\"<5\",Conv!$F$2:$F$3004,EM72)","v":0},{"$f":"COUNTIFS(Conv!$H$2:$H$3004,\"<5\",Conv!$F$2:$F$3004,EN72)","v":0},{"$f":"COUNTIFS(Conv!$H$2:$H$3004,\"<5\",Conv!$F$2:$F$3004,EO72)","v":0},{"$f":"COUNTIFS(Conv!$H$2:$H$3004,\"<5\",Conv!$F$2:$F$3004,EP72)","v":0},{"$f":"COUNTIFS(Conv!$H$2:$H$3004,\"<5\",Conv!$F$2:$F$3004,EQ72)","v":0},{"$f":"COUNTIFS(Conv!$H$2:$H$3004,\"<5\",Conv!$F$2:$F$3004,ER72)","v":0},{"$f":"COUNTIFS(Conv!$H$2:$H$3004,\"<5\",Conv!$F$2:$F$3004,ES72)","v":0},{"$f":"COUNTIFS(Conv!$H$2:$H$3004,\"<5\",Conv!$F$2:$F$3004,ET72)","v":0},{"$f":"COUNTIFS(Conv!$H$2:$H$3004,\"<5\",Conv!$F$2:$F$3004,EU72)","v":0},{"$f":"COUNTIFS(Conv!$H$2:$H$3004,\"<5\",Conv!$F$2:$F$3004,EV72)","v":0},{"$f":"COUNTIFS(Conv!$H$2:$H$3004,\"<5\",Conv!$F$2:$F$3004,EW72)","v":0},{"$f":"COUNTIFS(Conv!$H$2:$H$3004,\"<5\",Conv!$F$2:$F$3004,EX72)","v":0},{"$f":"COUNTIFS(Conv!$H$2:$H$3004,\"<5\",Conv!$F$2:$F$3004,EY72)","v":0},{"$f":"COUNTIFS(Conv!$H$2:$H$3004,\"<5\",Conv!$F$2:$F$3004,EZ72)","v":0},{"$f":"COUNTIFS(Conv!$H$2:$H$3004,\"<5\",Conv!$F$2:$F$3004,FA72)","v":0},{"$f":"COUNTIFS(Conv!$H$2:$H$3004,\"<5\",Conv!$F$2:$F$3004,FB72)","v":0},{"$f":"COUNTIFS(Conv!$H$2:$H$3004,\"<5\",Conv!$F$2:$F$3004,FC72)","v":0},{"$f":"COUNTIFS(Conv!$H$2:$H$3004,\"<5\",Conv!$F$2:$F$3004,FD72)","v":0},{"$f":"COUNTIFS(Conv!$H$2:$H$3004,\"<5\",Conv!$F$2:$F$3004,FE72)","v":0},{"$f":"COUNTIFS(Conv!$H$2:$H$3004,\"<5\",Conv!$F$2:$F$3004,FF72)","v":0},{"$f":"COUNTIFS(Conv!$H$2:$H$3004,\"<5\",Conv!$F$2:$F$3004,FG72)","v":0},{"$f":"COUNTIFS(Conv!$H$2:$H$3004,\"<5\",Conv!$F$2:$F$3004,FH72)","v":0},{"$f":"COUNTIFS(Conv!$H$2:$H$3004,\"<5\",Conv!$F$2:$F$3004,FI72)","v":0},{"$f":"COUNTIFS(Conv!$H$2:$H$3004,\"<5\",Conv!$F$2:$F$3004,FJ72)","v":0},{"$f":"COUNTIFS(Conv!$H$2:$H$3004,\"<5\",Conv!$F$2:$F$3004,FK72)","v":0},{"$f":"COUNTIFS(Conv!$H$2:$H$3004,\"<5\",Conv!$F$2:$F$3004,FL72)","v":0},{"$f":"COUNTIFS(Conv!$H$2:$H$3004,\"<5\",Conv!$F$2:$F$3004,FM72)","v":0},{"$f":"COUNTIFS(Conv!$H$2:$H$3004,\"<5\",Conv!$F$2:$F$3004,FN72)","v":0},{"$f":"COUNTIFS(Conv!$H$2:$H$3004,\"<5\",Conv!$F$2:$F$3004,FO72)","v":0},{"$f":"COUNTIFS(Conv!$H$2:$H$3004,\"<5\",Conv!$F$2:$F$3004,FP72)","v":0},{"$f":"COUNTIFS(Conv!$H$2:$H$3004,\"<5\",Conv!$F$2:$F$3004,FQ72)","v":0},{"$f":"COUNTIFS(Conv!$H$2:$H$3004,\"<5\",Conv!$F$2:$F$3004,FR72)","v":0},{"$f":"COUNTIFS(Conv!$H$2:$H$3004,\"<5\",Conv!$F$2:$F$3004,FS72)","v":0},{"$f":"COUNTIFS(Conv!$H$2:$H$3004,\"<5\",Conv!$F$2:$F$3004,FT72)","v":0},{"$f":"COUNTIFS(Conv!$H$2:$H$3004,\"<5\",Conv!$F$2:$F$3004,FU72)","v":0},{"$f":"COUNTIFS(Conv!$H$2:$H$3004,\"<5\",Conv!$F$2:$F$3004,FV72)","v":0},{"$f":"COUNTIFS(Conv!$H$2:$H$3004,\"<5\",Conv!$F$2:$F$3004,FW72)","v":0},{"$f":"COUNTIFS(Conv!$H$2:$H$3004,\"<5\",Conv!$F$2:$F$3004,FX72)","v":0},{"$f":"COUNTIFS(Conv!$H$2:$H$3004,\"<5\",Conv!$F$2:$F$3004,FY72)","v":0},{"$f":"COUNTIFS(Conv!$H$2:$H$3004,\"<5\",Conv!$F$2:$F$3004,FZ72)","v":0},{"$f":"COUNTIFS(Conv!$H$2:$H$3004,\"<5\",Conv!$F$2:$F$3004,GA72)","v":0},{"$f":"COUNTIFS(Conv!$H$2:$H$3004,\"<5\",Conv!$F$2:$F$3004,GB72)","v":0},{"$f":"COUNTIFS(Conv!$H$2:$H$3004,\"<5\",Conv!$F$2:$F$3004,GC72)","v":0},{"$f":"COUNTIFS(Conv!$H$2:$H$3004,\"<5\",Conv!$F$2:$F$3004,GD72)","v":0},{"$f":"COUNTIFS(Conv!$H$2:$H$3004,\"<5\",Conv!$F$2:$F$3004,GE72)","v":0},{"$f":"COUNTIFS(Conv!$H$2:$H$3004,\"<5\",Conv!$F$2:$F$3004,GF72)","v":0},{"$f":"COUNTIFS(Conv!$H$2:$H$3004,\"<5\",Conv!$F$2:$F$3004,GG72)","v":0},{"$f":"COUNTIFS(Conv!$H$2:$H$3004,\"<5\",Conv!$F$2:$F$3004,GH72)","v":0},{"$f":"COUNTIFS(Conv!$H$2:$H$3004,\"<5\",Conv!$F$2:$F$3004,GI72)","v":0},{"$f":"COUNTIFS(Conv!$H$2:$H$3004,\"<5\",Conv!$F$2:$F$3004,GJ72)","v":0},{"$f":"COUNTIFS(Conv!$H$2:$H$3004,\"<5\",Conv!$F$2:$F$3004,GK72)","v":0},{"$f":"COUNTIFS(Conv!$H$2:$H$3004,\"<5\",Conv!$F$2:$F$3004,GL72)","v":0},{"$f":"COUNTIFS(Conv!$H$2:$H$3004,\"<5\",Conv!$F$2:$F$3004,GM72)","v":0},{"$f":"COUNTIFS(Conv!$H$2:$H$3004,\"<5\",Conv!$F$2:$F$3004,GN72)","v":0},{"$f":"COUNTIFS(Conv!$H$2:$H$3004,\"<5\",Conv!$F$2:$F$3004,GO72)","v":0},{"$f":"COUNTIFS(Conv!$H$2:$H$3004,\"<5\",Conv!$F$2:$F$3004,GP72)","v":0},{"$f":"COUNTIFS(Conv!$H$2:$H$3004,\"<5\",Conv!$F$2:$F$3004,GQ72)","v":0},{"$f":"COUNTIFS(Conv!$H$2:$H$3004,\"<5\",Conv!$F$2:$F$3004,GR72)","v":0},{"$f":"COUNTIFS(Conv!$H$2:$H$3004,\"<5\",Conv!$F$2:$F$3004,GS72)","v":0},{"$f":"COUNTIFS(Conv!$H$2:$H$3004,\"<5\",Conv!$F$2:$F$3004,GT72)","v":0},{"$f":"COUNTIFS(Conv!$H$2:$H$3004,\"<5\",Conv!$F$2:$F$3004,GU72)","v":0},{"$f":"COUNTIFS(Conv!$H$2:$H$3004,\"<5\",Conv!$F$2:$F$3004,GV72)","v":0},{"$f":"COUNTIFS(Conv!$H$2:$H$3004,\"<5\",Conv!$F$2:$F$3004,GW72)","v":0},{"$f":"COUNTIFS(Conv!$H$2:$H$3004,\"<5\",Conv!$F$2:$F$3004,GX72)","v":0},{"$f":"COUNTIFS(Conv!$H$2:$H$3004,\"<5\",Conv!$F$2:$F$3004,GY72)","v":0},{"$f":"COUNTIFS(Conv!$H$2:$H$3004,\"<5\",Conv!$F$2:$F$3004,GZ72)","v":0},{"$f":"COUNTIFS(Conv!$H$2:$H$3004,\"<5\",Conv!$F$2:$F$3004,HA72)","v":0},{"$f":"COUNTIFS(Conv!$H$2:$H$3004,\"<5\",Conv!$F$2:$F$3004,HB72)","v":0},{"$f":"COUNTIFS(Conv!$H$2:$H$3004,\"<5\",Conv!$F$2:$F$3004,HC72)","v":0},{"$f":"COUNTIFS(Conv!$H$2:$H$3004,\"<5\",Conv!$F$2:$F$3004,HD72)","v":0},{"$f":"COUNTIFS(Conv!$H$2:$H$3004,\"<5\",Conv!$F$2:$F$3004,HE72)","v":0},{"$f":"COUNTIFS(Conv!$H$2:$H$3004,\"<5\",Conv!$F$2:$F$3004,HF72)","v":0},{"$f":"COUNTIFS(Conv!$H$2:$H$3004,\"<5\",Conv!$F$2:$F$3004,HG72)","v":0},{"$f":"COUNTIFS(Conv!$H$2:$H$3004,\"<5\",Conv!$F$2:$F$3004,HH72)","v":0},{"$f":"COUNTIFS(Conv!$H$2:$H$3004,\"<5\",Conv!$F$2:$F$3004,HI72)","v":0},{"$f":"COUNTIFS(Conv!$H$2:$H$3004,\"<5\",Conv!$F$2:$F$3004,HJ72)","v":0},{"$f":"COUNTIFS(Conv!$H$2:$H$3004,\"<5\",Conv!$F$2:$F$3004,HK72)","v":0},{"$f":"COUNTIFS(Conv!$H$2:$H$3004,\"<5\",Conv!$F$2:$F$3004,HL72)","v":0},{"$f":"COUNTIFS(Conv!$H$2:$H$3004,\"<5\",Conv!$F$2:$F$3004,HM72)","v":0},{"$f":"COUNTIFS(Conv!$H$2:$H$3004,\"<5\",Conv!$F$2:$F$3004,HN72)","v":0},{"$f":"COUNTIFS(Conv!$H$2:$H$3004,\"<5\",Conv!$F$2:$F$3004,HO72)","v":0},{"$f":"COUNTIFS(Conv!$H$2:$H$3004,\"<5\",Conv!$F$2:$F$3004,HP72)","v":0},{"$f":"COUNTIFS(Conv!$H$2:$H$3004,\"<5\",Conv!$F$2:$F$3004,HQ72)","v":0},{"$f":"COUNTIFS(Conv!$H$2:$H$3004,\"<5\",Conv!$F$2:$F$3004,HR72)","v":0},{"$f":"COUNTIFS(Conv!$H$2:$H$3004,\"<5\",Conv!$F$2:$F$3004,HS72)","v":0},{"$f":"COUNTIFS(Conv!$H$2:$H$3004,\"<5\",Conv!$F$2:$F$3004,HT72)","v":0},{"$f":"COUNTIFS(Conv!$H$2:$H$3004,\"<5\",Conv!$F$2:$F$3004,HU72)","v":0},{"$f":"COUNTIFS(Conv!$H$2:$H$3004,\"<5\",Conv!$F$2:$F$3004,HV72)","v":0},{"$f":"COUNTIFS(Conv!$H$2:$H$3004,\"<5\",Conv!$F$2:$F$3004,HW72)","v":0},{"$f":"COUNTIFS(Conv!$H$2:$H$3004,\"<5\",Conv!$F$2:$F$3004,HX72)","v":0},{"$f":"COUNTIFS(Conv!$H$2:$H$3004,\"<5\",Conv!$F$2:$F$3004,HY72)","v":0},{"$f":"COUNTIFS(Conv!$H$2:$H$3004,\"<5\",Conv!$F$2:$F$3004,HZ72)","v":0},{"$f":"COUNTIFS(Conv!$H$2:$H$3004,\"<5\",Conv!$F$2:$F$3004,IA72)","v":0},{"$f":"COUNTIFS(Conv!$H$2:$H$3004,\"<5\",Conv!$F$2:$F$3004,IB72)","v":0},{"$f":"COUNTIFS(Conv!$H$2:$H$3004,\"<5\",Conv!$F$2:$F$3004,IC72)","v":0},{"$f":"COUNTIFS(Conv!$H$2:$H$3004,\"<5\",Conv!$F$2:$F$3004,ID72)","v":0},{"$f":"COUNTIFS(Conv!$H$2:$H$3004,\"<5\",Conv!$F$2:$F$3004,IE72)","v":0},{"$f":"COUNTIFS(Conv!$H$2:$H$3004,\"<5\",Conv!$F$2:$F$3004,IF72)","v":0},{"$f":"COUNTIFS(Conv!$H$2:$H$3004,\"<5\",Conv!$F$2:$F$3004,IG72)","v":0},{"$f":"COUNTIFS(Conv!$H$2:$H$3004,\"<5\",Conv!$F$2:$F$3004,IH72)","v":0},{"$f":"COUNTIFS(Conv!$H$2:$H$3004,\"<5\",Conv!$F$2:$F$3004,II72)","v":0},{"$f":"COUNTIFS(Conv!$H$2:$H$3004,\"<5\",Conv!$F$2:$F$3004,IJ72)","v":0},{"$f":"COUNTIFS(Conv!$H$2:$H$3004,\"<5\",Conv!$F$2:$F$3004,IK72)","v":0},{"$f":"COUNTIFS(Conv!$H$2:$H$3004,\"<5\",Conv!$F$2:$F$3004,IL72)","v":0},{"$f":"COUNTIFS(Conv!$H$2:$H$3004,\"<5\",Conv!$F$2:$F$3004,IM72)","v":0},{"$f":"COUNTIFS(Conv!$H$2:$H$3004,\"<5\",Conv!$F$2:$F$3004,IN72)","v":0},{"$f":"COUNTIFS(Conv!$H$2:$H$3004,\"<5\",Conv!$F$2:$F$3004,IO72)","v":0},{"$f":"COUNTIFS(Conv!$H$2:$H$3004,\"<5\",Conv!$F$2:$F$3004,IP72)","v":0},{"$f":"COUNTIFS(Conv!$H$2:$H$3004,\"<5\",Conv!$F$2:$F$3004,IQ72)","v":0},{"$f":"COUNTIFS(Conv!$H$2:$H$3004,\"<5\",Conv!$F$2:$F$3004,IR72)","v":0},{"$f":"COUNTIFS(Conv!$H$2:$H$3004,\"<5\",Conv!$F$2:$F$3004,IS72)","v":0},{"$f":"COUNTIFS(Conv!$H$2:$H$3004,\"<5\",Conv!$F$2:$F$3004,IT72)","v":0},{"$f":"COUNTIFS(Conv!$H$2:$H$3004,\"<5\",Conv!$F$2:$F$3004,IU72)","v":0},{"$f":"COUNTIFS(Conv!$H$2:$H$3004,\"<5\",Conv!$F$2:$F$3004,IV72)","v":0},{"$f":"COUNTIFS(Conv!$H$2:$H$3004,\"<5\",Conv!$F$2:$F$3004,IW72)","v":0},{"$f":"COUNTIFS(Conv!$H$2:$H$3004,\"<5\",Conv!$F$2:$F$3004,IX72)","v":0},{"$f":"COUNTIFS(Conv!$H$2:$H$3004,\"<5\",Conv!$F$2:$F$3004,IY72)","v":0},{"$f":"COUNTIFS(Conv!$H$2:$H$3004,\"<5\",Conv!$F$2:$F$3004,IZ72)","v":0},{"$f":"COUNTIFS(Conv!$H$2:$H$3004,\"<5\",Conv!$F$2:$F$3004,JA72)","v":0},{"$f":"COUNTIFS(Conv!$H$2:$H$3004,\"<5\",Conv!$F$2:$F$3004,JB72)","v":0},{"$f":"COUNTIFS(Conv!$H$2:$H$3004,\"<5\",Conv!$F$2:$F$3004,JC72)","v":0},{"$f":"COUNTIFS(Conv!$H$2:$H$3004,\"<5\",Conv!$F$2:$F$3004,JD72)","v":0},{"$f":"COUNTIFS(Conv!$H$2:$H$3004,\"<5\",Conv!$F$2:$F$3004,JE72)","v":0},{"$f":"COUNTIFS(Conv!$H$2:$H$3004,\"<5\",Conv!$F$2:$F$3004,JF72)","v":0},{"$f":"COUNTIFS(Conv!$H$2:$H$3004,\"<5\",Conv!$F$2:$F$3004,JG72)","v":0},{"$f":"COUNTIFS(Conv!$H$2:$H$3004,\"<5\",Conv!$F$2:$F$3004,JH72)","v":0},{"$f":"COUNTIFS(Conv!$H$2:$H$3004,\"<5\",Conv!$F$2:$F$3004,JI72)","v":0},{"$f":"COUNTIFS(Conv!$H$2:$H$3004,\"<5\",Conv!$F$2:$F$3004,JJ72)","v":0},{"$f":"COUNTIFS(Conv!$H$2:$H$3004,\"<5\",Conv!$F$2:$F$3004,JK72)","v":0},{"$f":"COUNTIFS(Conv!$H$2:$H$3004,\"<5\",Conv!$F$2:$F$3004,JL72)","v":0},{"$f":"COUNTIFS(Conv!$H$2:$H$3004,\"<5\",Conv!$F$2:$F$3004,JM72)","v":0},{"$f":"COUNTIFS(Conv!$H$2:$H$3004,\"<5\",Conv!$F$2:$F$3004,JN72)","v":0},{"$f":"COUNTIFS(Conv!$H$2:$H$3004,\"<5\",Conv!$F$2:$F$3004,JO72)","v":0},{"$f":"COUNTIFS(Conv!$H$2:$H$3004,\"<5\",Conv!$F$2:$F$3004,JP72)","v":0},{"$f":"COUNTIFS(Conv!$H$2:$H$3004,\"<5\",Conv!$F$2:$F$3004,JQ72)","v":0},{"$f":"COUNTIFS(Conv!$H$2:$H$3004,\"<5\",Conv!$F$2:$F$3004,JR72)","v":0},{"$f":"COUNTIFS(Conv!$H$2:$H$3004,\"<5\",Conv!$F$2:$F$3004,JS72)","v":0},{"$f":"COUNTIFS(Conv!$H$2:$H$3004,\"<5\",Conv!$F$2:$F$3004,JT72)","v":0},{"$f":"COUNTIFS(Conv!$H$2:$H$3004,\"<5\",Conv!$F$2:$F$3004,JU72)","v":0},{"$f":"COUNTIFS(Conv!$H$2:$H$3004,\"<5\",Conv!$F$2:$F$3004,JV72)","v":0},{"$f":"COUNTIFS(Conv!$H$2:$H$3004,\"<5\",Conv!$F$2:$F$3004,JW72)","v":0},{"$f":"COUNTIFS(Conv!$H$2:$H$3004,\"<5\",Conv!$F$2:$F$3004,JX72)","v":0},{"$f":"COUNTIFS(Conv!$H$2:$H$3004,\"<5\",Conv!$F$2:$F$3004,JY72)","v":0},{"$f":"COUNTIFS(Conv!$H$2:$H$3004,\"<5\",Conv!$F$2:$F$3004,JZ72)","v":0},{"$f":"COUNTIFS(Conv!$H$2:$H$3004,\"<5\",Conv!$F$2:$F$3004,KA72)","v":0},{"$f":"COUNTIFS(Conv!$H$2:$H$3004,\"<5\",Conv!$F$2:$F$3004,KB72)","v":0},{"$f":"COUNTIFS(Conv!$H$2:$H$3004,\"<5\",Conv!$F$2:$F$3004,KC72)","v":0},{"$f":"COUNTIFS(Conv!$H$2:$H$3004,\"<5\",Conv!$F$2:$F$3004,KD72)","v":0},{"$f":"COUNTIFS(Conv!$H$2:$H$3004,\"<5\",Conv!$F$2:$F$3004,KE72)","v":0},{"$f":"COUNTIFS(Conv!$H$2:$H$3004,\"<5\",Conv!$F$2:$F$3004,KF72)","v":0},{"$f":"COUNTIFS(Conv!$H$2:$H$3004,\"<5\",Conv!$F$2:$F$3004,KG72)","v":0},{"$f":"COUNTIFS(Conv!$H$2:$H$3004,\"<5\",Conv!$F$2:$F$3004,KH72)","v":0},{"$f":"COUNTIFS(Conv!$H$2:$H$3004,\"<5\",Conv!$F$2:$F$3004,KI72)","v":0},{"$f":"COUNTIFS(Conv!$H$2:$H$3004,\"<5\",Conv!$F$2:$F$3004,KJ72)","v":0},{"$f":"COUNTIFS(Conv!$H$2:$H$3004,\"<5\",Conv!$F$2:$F$3004,KK72)","v":0},{"$f":"COUNTIFS(Conv!$H$2:$H$3004,\"<5\",Conv!$F$2:$F$3004,KL72)","v":0},{"$f":"COUNTIFS(Conv!$H$2:$H$3004,\"<5\",Conv!$F$2:$F$3004,KM72)","v":0},{"$f":"COUNTIFS(Conv!$H$2:$H$3004,\"<5\",Conv!$F$2:$F$3004,KN72)","v":0},{"$f":"COUNTIFS(Conv!$H$2:$H$3004,\"<5\",Conv!$F$2:$F$3004,KO72)","v":0},{"$f":"COUNTIFS(Conv!$H$2:$H$3004,\"<5\",Conv!$F$2:$F$3004,KP72)","v":0},{"$f":"COUNTIFS(Conv!$H$2:$H$3004,\"<5\",Conv!$F$2:$F$3004,KQ72)","v":0},{"$f":"COUNTIFS(Conv!$H$2:$H$3004,\"<5\",Conv!$F$2:$F$3004,KR72)","v":0},{"$f":"COUNTIFS(Conv!$H$2:$H$3004,\"<5\",Conv!$F$2:$F$3004,KS72)","v":0},{"$f":"COUNTIFS(Conv!$H$2:$H$3004,\"<5\",Conv!$F$2:$F$3004,KT72)","v":0},{"$f":"COUNTIFS(Conv!$H$2:$H$3004,\"<5\",Conv!$F$2:$F$3004,KU72)","v":0},{"$f":"COUNTIFS(Conv!$H$2:$H$3004,\"<5\",Conv!$F$2:$F$3004,KV72)","v":0},{"$f":"COUNTIFS(Conv!$H$2:$H$3004,\"<5\",Conv!$F$2:$F$3004,KW72)","v":0},{"$f":"COUNTIFS(Conv!$H$2:$H$3004,\"<5\",Conv!$F$2:$F$3004,KX72)","v":0},{"$f":"COUNTIFS(Conv!$H$2:$H$3004,\"<5\",Conv!$F$2:$F$3004,KY72)","v":0},{"$f":"COUNTIFS(Conv!$H$2:$H$3004,\"<5\",Conv!$F$2:$F$3004,KZ72)","v":0},{"$f":"COUNTIFS(Conv!$H$2:$H$3004,\"<5\",Conv!$F$2:$F$3004,LA72)","v":0},{"$f":"COUNTIFS(Conv!$H$2:$H$3004,\"<5\",Conv!$F$2:$F$3004,LB72)","v":0},{"$f":"COUNTIFS(Conv!$H$2:$H$3004,\"<5\",Conv!$F$2:$F$3004,LC72)","v":0},{"$f":"COUNTIFS(Conv!$H$2:$H$3004,\"<5\",Conv!$F$2:$F$3004,LD72)","v":0},{"$f":"COUNTIFS(Conv!$H$2:$H$3004,\"<5\",Conv!$F$2:$F$3004,LE72)","v":0},{"$f":"COUNTIFS(Conv!$H$2:$H$3004,\"<5\",Conv!$F$2:$F$3004,LF72)","v":0},{"$f":"COUNTIFS(Conv!$H$2:$H$3004,\"<5\",Conv!$F$2:$F$3004,LG72)","v":0},{"$f":"COUNTIFS(Conv!$H$2:$H$3004,\"<5\",Conv!$F$2:$F$3004,LH72)","v":0},{"$f":"COUNTIFS(Conv!$H$2:$H$3004,\"<5\",Conv!$F$2:$F$3004,LI72)","v":0},{"$f":"COUNTIFS(Conv!$H$2:$H$3004,\"<5\",Conv!$F$2:$F$3004,LJ72)","v":0},{"$f":"COUNTIFS(Conv!$H$2:$H$3004,\"<5\",Conv!$F$2:$F$3004,LK72)","v":0},{"$f":"COUNTIFS(Conv!$H$2:$H$3004,\"<5\",Conv!$F$2:$F$3004,LL72)","v":0},{"$f":"COUNTIFS(Conv!$H$2:$H$3004,\"<5\",Conv!$F$2:$F$3004,LM72)","v":0},{"$f":"COUNTIFS(Conv!$H$2:$H$3004,\"<5\",Conv!$F$2:$F$3004,LN72)","v":0},{"$f":"COUNTIFS(Conv!$H$2:$H$3004,\"<5\",Conv!$F$2:$F$3004,LO72)","v":0},{"$f":"COUNTIFS(Conv!$H$2:$H$3004,\"<5\",Conv!$F$2:$F$3004,LP72)","v":0},{"$f":"COUNTIFS(Conv!$H$2:$H$3004,\"<5\",Conv!$F$2:$F$3004,LQ72)","v":0},{"$f":"COUNTIFS(Conv!$H$2:$H$3004,\"<5\",Conv!$F$2:$F$3004,LR72)","v":0},{"$f":"COUNTIFS(Conv!$H$2:$H$3004,\"<5\",Conv!$F$2:$F$3004,LS72)","v":0},{"$f":"COUNTIFS(Conv!$H$2:$H$3004,\"<5\",Conv!$F$2:$F$3004,LT72)","v":0},{"$f":"COUNTIFS(Conv!$H$2:$H$3004,\"<5\",Conv!$F$2:$F$3004,LU72)","v":0},{"$f":"COUNTIFS(Conv!$H$2:$H$3004,\"<5\",Conv!$F$2:$F$3004,LV72)","v":0},{"$f":"COUNTIFS(Conv!$H$2:$H$3004,\"<5\",Conv!$F$2:$F$3004,LW72)","v":0},{"$f":"COUNTIFS(Conv!$H$2:$H$3004,\"<5\",Conv!$F$2:$F$3004,LX72)","v":0},{"$f":"COUNTIFS(Conv!$H$2:$H$3004,\"<5\",Conv!$F$2:$F$3004,LY72)","v":0},{"$f":"COUNTIFS(Conv!$H$2:$H$3004,\"<5\",Conv!$F$2:$F$3004,LZ72)","v":0},{"$f":"COUNTIFS(Conv!$H$2:$H$3004,\"<5\",Conv!$F$2:$F$3004,MA72)","v":0},{"$f":"COUNTIFS(Conv!$H$2:$H$3004,\"<5\",Conv!$F$2:$F$3004,MB72)","v":0},{"$f":"COUNTIFS(Conv!$H$2:$H$3004,\"<5\",Conv!$F$2:$F$3004,MC72)","v":0},{"$f":"COUNTIFS(Conv!$H$2:$H$3004,\"<5\",Conv!$F$2:$F$3004,MD72)","v":0},{"$f":"COUNTIFS(Conv!$H$2:$H$3004,\"<5\",Conv!$F$2:$F$3004,ME72)","v":0},{"$f":"COUNTIFS(Conv!$H$2:$H$3004,\"<5\",Conv!$F$2:$F$3004,MF72)","v":0},{"$f":"COUNTIFS(Conv!$H$2:$H$3004,\"<5\",Conv!$F$2:$F$3004,MG72)","v":0},{"$f":"COUNTIFS(Conv!$H$2:$H$3004,\"<5\",Conv!$F$2:$F$3004,MH72)","v":0},{"$f":"COUNTIFS(Conv!$H$2:$H$3004,\"<5\",Conv!$F$2:$F$3004,MI72)","v":0},{"$f":"COUNTIFS(Conv!$H$2:$H$3004,\"<5\",Conv!$F$2:$F$3004,MJ72)","v":0},{"$f":"COUNTIFS(Conv!$H$2:$H$3004,\"<5\",Conv!$F$2:$F$3004,MK72)","v":0},{"$f":"COUNTIFS(Conv!$H$2:$H$3004,\"<5\",Conv!$F$2:$F$3004,ML72)","v":0},{"$f":"COUNTIFS(Conv!$H$2:$H$3004,\"<5\",Conv!$F$2:$F$3004,MM72)","v":0},{"$f":"COUNTIFS(Conv!$H$2:$H$3004,\"<5\",Conv!$F$2:$F$3004,MN72)","v":0},{"$f":"COUNTIFS(Conv!$H$2:$H$3004,\"<5\",Conv!$F$2:$F$3004,MO72)","v":0},{"$f":"COUNTIFS(Conv!$H$2:$H$3004,\"<5\",Conv!$F$2:$F$3004,MP72)","v":0},{"$f":"COUNTIFS(Conv!$H$2:$H$3004,\"<5\",Conv!$F$2:$F$3004,MQ72)","v":0},{"$f":"COUNTIFS(Conv!$H$2:$H$3004,\"<5\",Conv!$F$2:$F$3004,MR72)","v":0},{"$f":"COUNTIFS(Conv!$H$2:$H$3004,\"<5\",Conv!$F$2:$F$3004,MS72)","v":0},{"$f":"COUNTIFS(Conv!$H$2:$H$3004,\"<5\",Conv!$F$2:$F$3004,MT72)","v":0},{"$f":"COUNTIFS(Conv!$H$2:$H$3004,\"<5\",Conv!$F$2:$F$3004,MU72)","v":0},{"$f":"COUNTIFS(Conv!$H$2:$H$3004,\"<5\",Conv!$F$2:$F$3004,MV72)","v":0},{"$f":"COUNTIFS(Conv!$H$2:$H$3004,\"<5\",Conv!$F$2:$F$3004,MW72)","v":0},{"$f":"COUNTIFS(Conv!$H$2:$H$3004,\"<5\",Conv!$F$2:$F$3004,MX72)","v":0},{"$f":"COUNTIFS(Conv!$H$2:$H$3004,\"<5\",Conv!$F$2:$F$3004,MY72)","v":0},{"$f":"COUNTIFS(Conv!$H$2:$H$3004,\"<5\",Conv!$F$2:$F$3004,MZ72)","v":0},{"$f":"COUNTIFS(Conv!$H$2:$H$3004,\"<5\",Conv!$F$2:$F$3004,NA72)","v":0},{"$f":"COUNTIFS(Conv!$H$2:$H$3004,\"<5\",Conv!$F$2:$F$3004,NB72)","v":0},{"$f":"COUNTIFS(Conv!$H$2:$H$3004,\"<5\",Conv!$F$2:$F$3004,NC72)","v":0},{"$f":"COUNTIFS(Conv!$H$2:$H$3004,\"<5\",Conv!$F$2:$F$3004,ND72)","v":0},{"$f":"COUNTIFS(Conv!$H$2:$H$3004,\"<5\",Conv!$F$2:$F$3004,NE72)","v":0},{"$f":"COUNTIFS(Conv!$H$2:$H$3004,\"<5\",Conv!$F$2:$F$3004,NF72)","v":0},{"$f":"COUNTIFS(Conv!$H$2:$H$3004,\"<5\",Conv!$F$2:$F$3004,NG72)","v":0},{"$f":"COUNTIFS(Conv!$H$2:$H$3004,\"<5\",Conv!$F$2:$F$3004,NH72)","v":0},{"$f":"COUNTIFS(Conv!$H$2:$H$3004,\"<5\",Conv!$F$2:$F$3004,NI72)","v":0},{"$f":"COUNTIFS(Conv!$H$2:$H$3004,\"<5\",Conv!$F$2:$F$3004,NJ72)","v":0},{"$f":"COUNTIFS(Conv!$H$2:$H$3004,\"<5\",Conv!$F$2:$F$3004,NK72)","v":0},{"$f":"COUNTIFS(Conv!$H$2:$H$3004,\"<5\",Conv!$F$2:$F$3004,NL72)","v":0},{"$f":"COUNTIFS(Conv!$H$2:$H$3004,\"<5\",Conv!$F$2:$F$3004,NM72)","v":0},{"$f":"COUNTIFS(Conv!$H$2:$H$3004,\"<5\",Conv!$F$2:$F$3004,NN72)","v":0},{"$f":"COUNTIFS(Conv!$H$2:$H$3004,\"<5\",Conv!$F$2:$F$3004,NO72)","v":0},{"$f":"COUNTIFS(Conv!$H$2:$H$3004,\"<5\",Conv!$F$2:$F$3004,NP72)","v":0},{"$f":"COUNTIFS(Conv!$H$2:$H$3004,\"<5\",Conv!$F$2:$F$3004,NQ72)","v":0},{"$f":"COUNTIFS(Conv!$H$2:$H$3004,\"<5\",Conv!$F$2:$F$3004,NR72)","v":0},{"$f":"COUNTIFS(Conv!$H$2:$H$3004,\"<5\",Conv!$F$2:$F$3004,NS72)","v":0},{"$f":"COUNTIFS(Conv!$H$2:$H$3004,\"<5\",Conv!$F$2:$F$3004,NT72)","v":0},{"$f":"COUNTIFS(Conv!$H$2:$H$3004,\"<5\",Conv!$F$2:$F$3004,NU72)","v":0},{"$f":"COUNTIFS(Conv!$H$2:$H$3004,\"<5\",Conv!$F$2:$F$3004,NV72)","v":0},{"$f":"COUNTIFS(Conv!$H$2:$H$3004,\"<5\",Conv!$F$2:$F$3004,NW72)","v":0},{"$f":"COUNTIFS(Conv!$H$2:$H$3004,\"<5\",Conv!$F$2:$F$3004,NX72)","v":0},{"$f":"COUNTIFS(Conv!$H$2:$H$3004,\"<5\",Conv!$F$2:$F$3004,NY72)","v":0},{"$f":"COUNTIFS(Conv!$H$2:$H$3004,\"<5\",Conv!$F$2:$F$3004,NZ72)","v":0},{"$f":"COUNTIFS(Conv!$H$2:$H$3004,\"<5\",Conv!$F$2:$F$3004,OA72)","v":0},{"$f":"COUNTIFS(Conv!$H$2:$H$3004,\"<5\",Conv!$F$2:$F$3004,OB72)","v":0},{"$f":"COUNTIFS(Conv!$H$2:$H$3004,\"<5\",Conv!$F$2:$F$3004,OC72)","v":0},{"$f":"COUNTIFS(Conv!$H$2:$H$3004,\"<5\",Conv!$F$2:$F$3004,OD72)","v":0},{"$f":"COUNTIFS(Conv!$H$2:$H$3004,\"<5\",Conv!$F$2:$F$3004,OE72)","v":0},{"$f":"COUNTIFS(Conv!$H$2:$H$3004,\"<5\",Conv!$F$2:$F$3004,OF72)","v":0},{"$f":"COUNTIFS(Conv!$H$2:$H$3004,\"<5\",Conv!$F$2:$F$3004,OG72)","v":0},{"$f":"COUNTIFS(Conv!$H$2:$H$3004,\"<5\",Conv!$F$2:$F$3004,OH72)","v":0},{"$f":"COUNTIFS(Conv!$H$2:$H$3004,\"<5\",Conv!$F$2:$F$3004,OI72)","v":0},{"$f":"COUNTIFS(Conv!$H$2:$H$3004,\"<5\",Conv!$F$2:$F$3004,OJ72)","v":0},{"$f":"COUNTIFS(Conv!$H$2:$H$3004,\"<5\",Conv!$F$2:$F$3004,OK72)","v":0},{"$f":"COUNTIFS(Conv!$H$2:$H$3004,\"<5\",Conv!$F$2:$F$3004,OL72)","v":0},{"$f":"COUNTIFS(Conv!$H$2:$H$3004,\"<5\",Conv!$F$2:$F$3004,OM72)","v":0},{"$f":"COUNTIFS(Conv!$H$2:$H$3004,\"<5\",Conv!$F$2:$F$3004,ON72)","v":0},{"$f":"COUNTIFS(Conv!$H$2:$H$3004,\"<5\",Conv!$F$2:$F$3004,OO72)","v":0},{"$f":"COUNTIFS(Conv!$H$2:$H$3004,\"<5\",Conv!$F$2:$F$3004,OP72)","v":0},{"$f":"COUNTIFS(Conv!$H$2:$H$3004,\"<5\",Conv!$F$2:$F$3004,OQ72)","v":0},{"$f":"COUNTIFS(Conv!$H$2:$H$3004,\"<5\",Conv!$F$2:$F$3004,OR72)","v":0},{"$f":"COUNTIFS(Conv!$H$2:$H$3004,\"<5\",Conv!$F$2:$F$3004,OS72)","v":0},{"$f":"COUNTIFS(Conv!$H$2:$H$3004,\"<5\",Conv!$F$2:$F$3004,OT72)","v":0},{"$f":"COUNTIFS(Conv!$H$2:$H$3004,\"<5\",Conv!$F$2:$F$3004,OU72)","v":0},{"$f":"COUNTIFS(Conv!$H$2:$H$3004,\"<5\",Conv!$F$2:$F$3004,OV72)","v":0},{"$f":"COUNTIFS(Conv!$H$2:$H$3004,\"<5\",Conv!$F$2:$F$3004,OW72)","v":0},{"$f":"COUNTIFS(Conv!$H$2:$H$3004,\"<5\",Conv!$F$2:$F$3004,OX72)","v":0},{"$f":"COUNTIFS(Conv!$H$2:$H$3004,\"<5\",Conv!$F$2:$F$3004,OY72)","v":0},{"$f":"COUNTIFS(Conv!$H$2:$H$3004,\"<5\",Conv!$F$2:$F$3004,OZ72)","v":0},{"$f":"COUNTIFS(Conv!$H$2:$H$3004,\"<5\",Conv!$F$2:$F$3004,PA72)","v":0},{"$f":"COUNTIFS(Conv!$H$2:$H$3004,\"<5\",Conv!$F$2:$F$3004,PB72)","v":0},{"$f":"COUNTIFS(Conv!$H$2:$H$3004,\"<5\",Conv!$F$2:$F$3004,PC72)","v":0},{"$f":"COUNTIFS(Conv!$H$2:$H$3004,\"<5\",Conv!$F$2:$F$3004,PD72)","v":0},{"$f":"COUNTIFS(Conv!$H$2:$H$3004,\"<5\",Conv!$F$2:$F$3004,PE72)","v":0},{"$f":"COUNTIFS(Conv!$H$2:$H$3004,\"<5\",Conv!$F$2:$F$3004,PF72)","v":0},{"$f":"COUNTIFS(Conv!$H$2:$H$3004,\"<5\",Conv!$F$2:$F$3004,PG72)","v":0},{"$f":"COUNTIFS(Conv!$H$2:$H$3004,\"<5\",Conv!$F$2:$F$3004,PH72)","v":0},{"$f":"COUNTIFS(Conv!$H$2:$H$3004,\"<5\",Conv!$F$2:$F$3004,PI72)","v":0},{"$f":"COUNTIFS(Conv!$H$2:$H$3004,\"<5\",Conv!$F$2:$F$3004,PJ72)","v":0},{"$f":"COUNTIFS(Conv!$H$2:$H$3004,\"<5\",Conv!$F$2:$F$3004,PK72)","v":0},{"$f":"COUNTIFS(Conv!$H$2:$H$3004,\"<5\",Conv!$F$2:$F$3004,PL72)","v":0},{"$f":"COUNTIFS(Conv!$H$2:$H$3004,\"<5\",Conv!$F$2:$F$3004,PM72)","v":0},{"$f":"COUNTIFS(Conv!$H$2:$H$3004,\"<5\",Conv!$F$2:$F$3004,PN72)","v":0},{"$f":"COUNTIFS(Conv!$H$2:$H$3004,\"<5\",Conv!$F$2:$F$3004,PO72)","v":0},{"$f":"COUNTIFS(Conv!$H$2:$H$3004,\"<5\",Conv!$F$2:$F$3004,PP72)","v":0},{"$f":"COUNTIFS(Conv!$H$2:$H$3004,\"<5\",Conv!$F$2:$F$3004,PQ72)","v":0},{"$f":"COUNTIFS(Conv!$H$2:$H$3004,\"<5\",Conv!$F$2:$F$3004,PR72)","v":0},{"$f":"COUNTIFS(Conv!$H$2:$H$3004,\"<5\",Conv!$F$2:$F$3004,PS72)","v":0},{"$f":"COUNTIFS(Conv!$H$2:$H$3004,\"<5\",Conv!$F$2:$F$3004,PT72)","v":0},{"$f":"COUNTIFS(Conv!$H$2:$H$3004,\"<5\",Conv!$F$2:$F$3004,PU72)","v":0},{"$f":"COUNTIFS(Conv!$H$2:$H$3004,\"<5\",Conv!$F$2:$F$3004,PV72)","v":0},{"$f":"COUNTIFS(Conv!$H$2:$H$3004,\"<5\",Conv!$F$2:$F$3004,PW72)","v":0},{"$f":"COUNTIFS(Conv!$H$2:$H$3004,\"<5\",Conv!$F$2:$F$3004,PX72)","v":0}]
["All Passing",{"$f":"IF(B72<Setup!$B$14,C77,B78+C77)","v":0},{"$f":"IF(C72<Setup!$B$14,D77,C78+D77)","v":0},{"$f":"IF(D72<Setup!$B$14,E77,D78+E77)","v":0},{"$f":"IF(E72<Setup!$B$14,F77,E78+F77)","v":0},{"$f":"IF(F72<Setup!$B$14,G77,F78+G77)","v":0},{"$f":"IF(G72<Setup!$B$14,H77,G78+H77)","v":0},{"$f":"IF(H72<Setup!$B$14,I77,H78+I77)","v":0},{"$f":"IF(I72<Setup!$B$14,J77,I78+J77)","v":0},{"$f":"IF(J72<Setup!$B$14,K77,J78+K77)","v":0},{"$f":"IF(K72<Setup!$B$14,L77,K78+L77)","v":0},{"$f":"IF(L72<Setup!$B$14,M77,L78+M77)","v":0},{"$f":"IF(M72<Setup!$B$14,N77,M78+N77)","v":0},{"$f":"IF(N72<Setup!$B$14,O77,N78+O77)","v":0},{"$f":"IF(O72<Setup!$B$14,P77,O78+P77)","v":0},{"$f":"IF(P72<Setup!$B$14,Q77,P78+Q77)","v":0},{"$f":"IF(Q72<Setup!$B$14,R77,Q78+R77)","v":0},{"$f":"IF(R72<Setup!$B$14,S77,R78+S77)","v":0},{"$f":"IF(S72<Setup!$B$14,T77,S78+T77)","v":0},{"$f":"IF(T72<Setup!$B$14,U77,T78+U77)","v":0},{"$f":"IF(U72<Setup!$B$14,V77,U78+V77)","v":0},{"$f":"IF(V72<Setup!$B$14,W77,V78+W77)","v":0},{"$f":"IF(W72<Setup!$B$14,X77,W78+X77)","v":0},{"$f":"IF(X72<Setup!$B$14,Y77,X78+Y77)","v":0},{"$f":"IF(Y72<Setup!$B$14,Z77,Y78+Z77)","v":0},{"$f":"IF(Z72<Setup!$B$14,AA77,Z78+AA77)","v":0},{"$f":"IF(AA72<Setup!$B$14,AB77,AA78+AB77)","v":0},{"$f":"IF(AB72<Setup!$B$14,AC77,AB78+AC77)","v":0},{"$f":"IF(AC72<Setup!$B$14,AD77,AC78+AD77)","v":0},{"$f":"IF(AD72<Setup!$B$14,AE77,AD78+AE77)","v":0},{"$f":"IF(AE72<Setup!$B$14,AF77,AE78+AF77)","v":0},{"$f":"IF(AF72<Setup!$B$14,AG77,AF78+AG77)","v":0},{"$f":"IF(AG72<Setup!$B$14,AH77,AG78+AH77)","v":0},{"$f":"IF(AH72<Setup!$B$14,AI77,AH78+AI77)","v":0},{"$f":"IF(AI72<Setup!$B$14,AJ77,AI78+AJ77)","v":0},{"$f":"IF(AJ72<Setup!$B$14,AK77,AJ78+AK77)","v":0},{"$f":"IF(AK72<Setup!$B$14,AL77,AK78+AL77)","v":0},{"$f":"IF(AL72<Setup!$B$14,AM77,AL78+AM77)","v":0},{"$f":"IF(AM72<Setup!$B$14,AN77,AM78+AN77)","v":0},{"$f":"IF(AN72<Setup!$B$14,AO77,AN78+AO77)","v":0},{"$f":"IF(AO72<Setup!$B$14,AP77,AO78+AP77)","v":0},{"$f":"IF(AP72<Setup!$B$14,AQ77,AP78+AQ77)","v":0},{"$f":"IF(AQ72<Setup!$B$14,AR77,AQ78+AR77)","v":0},{"$f":"IF(AR72<Setup!$B$14,AS77,AR78+AS77)","v":0},{"$f":"IF(AS72<Setup!$B$14,AT77,AS78+AT77)","v":0},{"$f":"IF(AT72<Setup!$B$14,AU77,AT78+AU77)","v":0},{"$f":"IF(AU72<Setup!$B$14,AV77,AU78+AV77)","v":0},{"$f":"IF(AV72<Setup!$B$14,AW77,AV78+AW77)","v":0},{"$f":"IF(AW72<Setup!$B$14,AX77,AW78+AX77)","v":0},{"$f":"IF(AX72<Setup!$B$14,AY77,AX78+AY77)","v":0},{"$f":"IF(AY72<Setup!$B$14,AZ77,AY78+AZ77)","v":0},{"$f":"IF(AZ72<Setup!$B$14,BA77,AZ78+BA77)","v":0},{"$f":"IF(BA72<Setup!$B$14,BB77,BA78+BB77)","v":0},{"$f":"IF(BB72<Setup!$B$14,BC77,BB78+BC77)","v":0},{"$f":"IF(BC72<Setup!$B$14,BD77,BC78+BD77)","v":0},{"$f":"IF(BD72<Setup!$B$14,BE77,BD78+BE77)","v":0},{"$f":"IF(BE72<Setup!$B$14,BF77,BE78+BF77)","v":0},{"$f":"IF(BF72<Setup!$B$14,BG77,BF78+BG77)","v":0},{"$f":"IF(BG72<Setup!$B$14,BH77,BG78+BH77)","v":0},{"$f":"IF(BH72<Setup!$B$14,BI77,BH78+BI77)","v":0},{"$f":"IF(BI72<Setup!$B$14,BJ77,BI78+BJ77)","v":0},{"$f":"IF(BJ72<Setup!$B$14,BK77,BJ78+BK77)","v":0},{"$f":"IF(BK72<Setup!$B$14,BL77,BK78+BL77)","v":0},{"$f":"IF(BL72<Setup!$B$14,BM77,BL78+BM77)","v":0},{"$f":"IF(BM72<Setup!$B$14,BN77,BM78+BN77)","v":0},{"$f":"IF(BN72<Setup!$B$14,BO77,BN78+BO77)","v":0},{"$f":"IF(BO72<Setup!$B$14,BP77,BO78+BP77)","v":0},{"$f":"IF(BP72<Setup!$B$14,BQ77,BP78+BQ77)","v":0},{"$f":"IF(BQ72<Setup!$B$14,BR77,BQ78+BR77)","v":0},{"$f":"IF(BR72<Setup!$B$14,BS77,BR78+BS77)","v":0},{"$f":"IF(BS72<Setup!$B$14,BT77,BS78+BT77)","v":0},{"$f":"IF(BT72<Setup!$B$14,BU77,BT78+BU77)","v":0},{"$f":"IF(BU72<Setup!$B$14,BV77,BU78+BV77)","v":0},{"$f":"IF(BV72<Setup!$B$14,BW77,BV78+BW77)","v":0},{"$f":"IF(BW72<Setup!$B$14,BX77,BW78+BX77)","v":0},{"$f":"IF(BX72<Setup!$B$14,BY77,BX78+BY77)","v":0},{"$f":"IF(BY72<Setup!$B$14,BZ77,BY78+BZ77)","v":0},{"$f":"IF(BZ72<Setup!$B$14,CA77,BZ78+CA77)","v":0},{"$f":"IF(CA72<Setup!$B$14,CB77,CA78+CB77)","v":0},{"$f":"IF(CB72<Setup!$B$14,CC77,CB78+CC77)","v":0},{"$f":"IF(CC72<Setup!$B$14,CD77,CC78+CD77)","v":0},{"$f":"IF(CD72<Setup!$B$14,CE77,CD78+CE77)","v":0},{"$f":"IF(CE72<Setup!$B$14,CF77,CE78+CF77)","v":0},{"$f":"IF(CF72<Setup!$B$14,CG77,CF78+CG77)","v":0},{"$f":"IF(CG72<Setup!$B$14,CH77,CG78+CH77)","v":0},{"$f":"IF(CH72<Setup!$B$14,CI77,CH78+CI77)","v":0},{"$f":"IF(CI72<Setup!$B$14,CJ77,CI78+CJ77)","v":0},{"$f":"IF(CJ72<Setup!$B$14,CK77,CJ78+CK77)","v":0},{"$f":"IF(CK72<Setup!$B$14,CL77,CK78+CL77)","v":0},{"$f":"IF(CL72<Setup!$B$14,CM77,CL78+CM77)","v":0},{"$f":"IF(CM72<Setup!$B$14,CN77,CM78+CN77)","v":0},{"$f":"IF(CN72<Setup!$B$14,CO77,CN78+CO77)","v":0},{"$f":"IF(CO72<Setup!$B$14,CP77,CO78+CP77)","v":0},{"$f":"IF(CP72<Setup!$B$14,CQ77,CP78+CQ77)","v":0},{"$f":"IF(CQ72<Setup!$B$14,CR77,CQ78+CR77)","v":0},{"$f":"IF(CR72<Setup!$B$14,CS77,CR78+CS77)","v":0},{"$f":"IF(CS72<Setup!$B$14,CT77,CS78+CT77)","v":0},{"$f":"IF(CT72<Setup!$B$14,CU77,CT78+CU77)","v":0},{"$f":"IF(CU72<Setup!$B$14,CV77,CU78+CV77)","v":0},{"$f":"IF(CV72<Setup!$B$14,CW77,CV78+CW77)","v":0},{"$f":"IF(CW72<Setup!$B$14,CX77,CW78+CX77)","v":0},{"$f":"IF(CX72<Setup!$B$14,CY77,CX78+CY77)","v":0},{"$f":"IF(CY72<Setup!$B$14,CZ77,CY78+CZ77)","v":0},{"$f":"IF(CZ72<Setup!$B$14,DA77,CZ78+DA77)","v":0},{"$f":"IF(DA72<Setup!$B$14,DB77,DA78+DB77)","v":0},{"$f":"IF(DB72<Setup!$B$14,DC77,DB78+DC77)","v":0},{"$f":"IF(DC72<Setup!$B$14,DD77,DC78+DD77)","v":0},{"$f":"IF(DD72<Setup!$B$14,DE77,DD78+DE77)","v":0},{"$f":"IF(DE72<Setup!$B$14,DF77,DE78+DF77)","v":0},{"$f":"IF(DF72<Setup!$B$14,DG77,DF78+DG77)","v":0},{"$f":"IF(DG72<Setup!$B$14,DH77,DG78+DH77)","v":0},{"$f":"IF(DH72<Setup!$B$14,DI77,DH78+DI77)","v":0},{"$f":"IF(DI72<Setup!$B$14,DJ77,DI78+DJ77)","v":0},{"$f":"IF(DJ72<Setup!$B$14,DK77,DJ78+DK77)","v":0},{"$f":"IF(DK72<Setup!$B$14,DL77,DK78+DL77)","v":0},{"$f":"IF(DL72<Setup!$B$14,DM77,DL78+DM77)","v":0},{"$f":"IF(DM72<Setup!$B$14,DN77,DM78+DN77)","v":0},{"$f":"IF(DN72<Setup!$B$14,DO77,DN78+DO77)","v":0},{"$f":"IF(DO72<Setup!$B$14,DP77,DO78+DP77)","v":0},{"$f":"IF(DP72<Setup!$B$14,DQ77,DP78+DQ77)","v":0},{"$f":"IF(DQ72<Setup!$B$14,DR77,DQ78+DR77)","v":0},{"$f":"IF(DR72<Setup!$B$14,DS77,DR78+DS77)","v":0},{"$f":"IF(DS72<Setup!$B$14,DT77,DS78+DT77)","v":0},{"$f":"IF(DT72<Setup!$B$14,DU77,DT78+DU77)","v":0},{"$f":"IF(DU72<Setup!$B$14,DV77,DU78+DV77)","v":0},{"$f":"IF(DV72<Setup!$B$14,DW77,DV78+DW77)","v":0},{"$f":"IF(DW72<Setup!$B$14,DX77,DW78+DX77)","v":0},{"$f":"IF(DX72<Setup!$B$14,DY77,DX78+DY77)","v":0},{"$f":"IF(DY72<Setup!$B$14,DZ77,DY78+DZ77)","v":0},{"$f":"IF(DZ72<Setup!$B$14,EA77,DZ78+EA77)","v":0},{"$f":"IF(EA72<Setup!$B$14,EB77,EA78+EB77)","v":0},{"$f":"IF(EB72<Setup!$B$14,EC77,EB78+EC77)","v":0},{"$f":"IF(EC72<Setup!$B$14,ED77,EC78+ED77)","v":0},{"$f":"IF(ED72<Setup!$B$14,EE77,ED78+EE77)","v":0},{"$f":"IF(EE72<Setup!$B$14,EF77,EE78+EF77)","v":0},{"$f":"IF(EF72<Setup!$B$14,EG77,EF78+EG77)","v":0},{"$f":"IF(EG72<Setup!$B$14,EH77,EG78+EH77)","v":0},{"$f":"IF(EH72<Setup!$B$14,EI77,EH78+EI77)","v":0},{"$f":"IF(EI72<Setup!$B$14,EJ77,EI78+EJ77)","v":0},{"$f":"IF(EJ72<Setup!$B$14,EK77,EJ78+EK77)","v":0},{"$f":"IF(EK72<Setup!$B$14,EL77,EK78+EL77)","v":0},{"$f":"IF(EL72<Setup!$B$14,EM77,EL78+EM77)","v":0},{"$f":"IF(EM72<Setup!$B$14,EN77,EM78+EN77)","v":0},{"$f":"IF(EN72<Setup!$B$14,EO77,EN78+EO77)","v":0},{"$f":"IF(EO72<Setup!$B$14,EP77,EO78+EP77)","v":0},{"$f":"IF(EP72<Setup!$B$14,EQ77,EP78+EQ77)","v":0},{"$f":"IF(EQ72<Setup!$B$14,ER77,EQ78+ER77)","v":0},{"$f":"IF(ER72<Setup!$B$14,ES77,ER78+ES77)","v":0},{"$f":"IF(ES72<Setup!$B$14,ET77,ES78+ET77)","v":0},{"$f":"IF(ET72<Setup!$B$14,EU77,ET78+EU77)","v":0},{"$f":"IF(EU72<Setup!$B$14,EV77,EU78+EV77)","v":0},{"$f":"IF(EV72<Setup!$B$14,EW77,EV78+EW77)","v":0},{"$f":"IF(EW72<Setup!$B$14,EX77,EW78+EX77)","v":0},{"$f":"IF(EX72<Setup!$B$14,EY77,EX78+EY77)","v":0},{"$f":"IF(EY72<Setup!$B$14,EZ77,EY78+EZ77)","v":0},{"$f":"IF(EZ72<Setup!$B$14,FA77,EZ78+FA77)","v":0},{"$f":"IF(FA72<Setup!$B$14,FB77,FA78+FB77)","v":0},{"$f":"IF(FB72<Setup!$B$14,FC77,FB78+FC77)","v":0},{"$f":"IF(FC72<Setup!$B$14,FD77,FC78+FD77)","v":0},{"$f":"IF(FD72<Setup!$B$14,FE77,FD78+FE77)","v":0},{"$f":"IF(FE72<Setup!$B$14,FF77,FE78+FF77)","v":0},{"$f":"IF(FF72<Setup!$B$14,FG77,FF78+FG77)","v":0},{"$f":"IF(FG72<Setup!$B$14,FH77,FG78+FH77)","v":0},{"$f":"IF(FH72<Setup!$B$14,FI77,FH78+FI77)","v":0},{"$f":"IF(FI72<Setup!$B$14,FJ77,FI78+FJ77)","v":0},{"$f":"IF(FJ72<Setup!$B$14,FK77,FJ78+FK77)","v":0},{"$f":"IF(FK72<Setup!$B$14,FL77,FK78+FL77)","v":0},{"$f":"IF(FL72<Setup!$B$14,FM77,FL78+FM77)","v":0},{"$f":"IF(FM72<Setup!$B$14,FN77,FM78+FN77)","v":0},{"$f":"IF(FN72<Setup!$B$14,FO77,FN78+FO77)","v":0},{"$f":"IF(FO72<Setup!$B$14,FP77,FO78+FP77)","v":0},{"$f":"IF(FP72<Setup!$B$14,FQ77,FP78+FQ77)","v":0},{"$f":"IF(FQ72<Setup!$B$14,FR77,FQ78+FR77)","v":0},{"$f":"IF(FR72<Setup!$B$14,FS77,FR78+FS77)","v":0},{"$f":"IF(FS72<Setup!$B$14,FT77,FS78+FT77)","v":0},{"$f":"IF(FT72<Setup!$B$14,FU77,FT78+FU77)","v":0},{"$f":"IF(FU72<Setup!$B$14,FV77,FU78+FV77)","v":0},{"$f":"IF(FV72<Setup!$B$14,FW77,FV78+FW77)","v":0},{"$f":"IF(FW72<Setup!$B$14,FX77,FW78+FX77)","v":0},{"$f":"IF(FX72<Setup!$B$14,FY77,FX78+FY77)","v":0},{"$f":"IF(FY72<Setup!$B$14,FZ77,FY78+FZ77)","v":0},{"$f":"IF(FZ72<Setup!$B$14,GA77,FZ78+GA77)","v":0},{"$f":"IF(GA72<Setup!$B$14,GB77,GA78+GB77)","v":0},{"$f":"IF(GB72<Setup!$B$14,GC77,GB78+GC77)","v":0},{"$f":"IF(GC72<Setup!$B$14,GD77,GC78+GD77)","v":0},{"$f":"IF(GD72<Setup!$B$14,GE77,GD78+GE77)","v":0},{"$f":"IF(GE72<Setup!$B$14,GF77,GE78+GF77)","v":0},{"$f":"IF(GF72<Setup!$B$14,GG77,GF78+GG77)","v":0},{"$f":"IF(GG72<Setup!$B$14,GH77,GG78+GH77)","v":0},{"$f":"IF(GH72<Setup!$B$14,GI77,GH78+GI77)","v":0},{"$f":"IF(GI72<Setup!$B$14,GJ77,GI78+GJ77)","v":0},{"$f":"IF(GJ72<Setup!$B$14,GK77,GJ78+GK77)","v":0},{"$f":"IF(GK72<Setup!$B$14,GL77,GK78+GL77)","v":0},{"$f":"IF(GL72<Setup!$B$14,GM77,GL78+GM77)","v":0},{"$f":"IF(GM72<Setup!$B$14,GN77,GM78+GN77)","v":0},{"$f":"IF(GN72<Setup!$B$14,GO77,GN78+GO77)","v":0},{"$f":"IF(GO72<Setup!$B$14,GP77,GO78+GP77)","v":0},{"$f":"IF(GP72<Setup!$B$14,GQ77,GP78+GQ77)","v":0},{"$f":"IF(GQ72<Setup!$B$14,GR77,GQ78+GR77)","v":0},{"$f":"IF(GR72<Setup!$B$14,GS77,GR78+GS77)","v":0},{"$f":"IF(GS72<Setup!$B$14,GT77,GS78+GT77)","v":0},{"$f":"IF(GT72<Setup!$B$14,GU77,GT78+GU77)","v":0},{"$f":"IF(GU72<Setup!$B$14,GV77,GU78+GV77)","v":0},{"$f":"IF(GV72<Setup!$B$14,GW77,GV78+GW77)","v":0},{"$f":"IF(GW72<Setup!$B$14,GX77,GW78+GX77)","v":0},{"$f":"IF(GX72<Setup!$B$14,GY77,GX78+GY77)","v":0},{"$f":"IF(GY72<Setup!$B$14,GZ77,GY78+GZ77)","v":0},{"$f":"IF(GZ72<Setup!$B$14,HA77,GZ78+HA77)","v":0},{"$f":"IF(HA72<Setup!$B$14,HB77,HA78+HB77)","v":0},{"$f":"IF(HB72<Setup!$B$14,HC77,HB78+HC77)","v":0},{"$f":"IF(HC72<Setup!$B$14,HD77,HC78+HD77)","v":0},{"$f":"IF(HD72<Setup!$B$14,HE77,HD78+HE77)","v":0},{"$f":"IF(HE72<Setup!$B$14,HF77,HE78+HF77)","v":0},{"$f":"IF(HF72<Setup!$B$14,HG77,HF78+HG77)","v":0},{"$f":"IF(HG72<Setup!$B$14,HH77,HG78+HH77)","v":0},{"$f":"IF(HH72<Setup!$B$14,HI77,HH78+HI77)","v":0},{"$f":"IF(HI72<Setup!$B$14,HJ77,HI78+HJ77)","v":0},{"$f":"IF(HJ72<Setup!$B$14,HK77,HJ78+HK77)","v":0},{"$f":"IF(HK72<Setup!$B$14,HL77,HK78+HL77)","v":0},{"$f":"IF(HL72<Setup!$B$14,HM77,HL78+HM77)","v":0},{"$f":"IF(HM72<Setup!$B$14,HN77,HM78+HN77)","v":0},{"$f":"IF(HN72<Setup!$B$14,HO77,HN78+HO77)","v":0},{"$f":"IF(HO72<Setup!$B$14,HP77,HO78+HP77)","v":0},{"$f":"IF(HP72<Setup!$B$14,HQ77,HP78+HQ77)","v":0},{"$f":"IF(HQ72<Setup!$B$14,HR77,HQ78+HR77)","v":0},{"$f":"IF(HR72<Setup!$B$14,HS77,HR78+HS77)","v":0},{"$f":"IF(HS72<Setup!$B$14,HT77,HS78+HT77)","v":0},{"$f":"IF(HT72<Setup!$B$14,HU77,HT78+HU77)","v":0},{"$f":"IF(HU72<Setup!$B$14,HV77,HU78+HV77)","v":0},{"$f":"IF(HV72<Setup!$B$14,HW77,HV78+HW77)","v":0},{"$f":"IF(HW72<Setup!$B$14,HX77,HW78+HX77)","v":0},{"$f":"IF(HX72<Setup!$B$14,HY77,HX78+HY77)","v":0},{"$f":"IF(HY72<Setup!$B$14,HZ77,HY78+HZ77)","v":0},{"$f":"IF(HZ72<Setup!$B$14,IA77,HZ78+IA77)","v":0},{"$f":"IF(IA72<Setup!$B$14,IB77,IA78+IB77)","v":0},{"$f":"IF(IB72<Setup!$B$14,IC77,IB78+IC77)","v":0},{"$f":"IF(IC72<Setup!$B$14,ID77,IC78+ID77)","v":0},{"$f":"IF(ID72<Setup!$B$14,IE77,ID78+IE77)","v":0},{"$f":"IF(IE72<Setup!$B$14,IF77,IE78+IF77)","v":0},{"$f":"IF(IF72<Setup!$B$14,IG77,IF78+IG77)","v":0},{"$f":"IF(IG72<Setup!$B$14,IH77,IG78+IH77)","v":0},{"$f":"IF(IH72<Setup!$B$14,II77,IH78+II77)","v":0},{"$f":"IF(II72<Setup!$B$14,IJ77,II78+IJ77)","v":0},{"$f":"IF(IJ72<Setup!$B$14,IK77,IJ78+IK77)","v":0},{"$f":"IF(IK72<Setup!$B$14,IL77,IK78+IL77)","v":0},{"$f":"IF(IL72<Setup!$B$14,IM77,IL78+IM77)","v":0},{"$f":"IF(IM72<Setup!$B$14,IN77,IM78+IN77)","v":0},{"$f":"IF(IN72<Setup!$B$14,IO77,IN78+IO77)","v":0},{"$f":"IF(IO72<Setup!$B$14,IP77,IO78+IP77)","v":0},{"$f":"IF(IP72<Setup!$B$14,IQ77,IP78+IQ77)","v":0},{"$f":"IF(IQ72<Setup!$B$14,IR77,IQ78+IR77)","v":0},{"$f":"IF(IR72<Setup!$B$14,IS77,IR78+IS77)","v":0},{"$f":"IF(IS72<Setup!$B$14,IT77,IS78+IT77)","v":0},{"$f":"IF(IT72<Setup!$B$14,IU77,IT78+IU77)","v":0},{"$f":"IF(IU72<Setup!$B$14,IV77,IU78+IV77)","v":0},{"$f":"IF(IV72<Setup!$B$14,IW77,IV78+IW77)","v":0},{"$f":"IF(IW72<Setup!$B$14,IX77,IW78+IX77)","v":0},{"$f":"IF(IX72<Setup!$B$14,IY77,IX78+IY77)","v":0},{"$f":"IF(IY72<Setup!$B$14,IZ77,IY78+IZ77)","v":0},{"$f":"IF(IZ72<Setup!$B$14,JA77,IZ78+JA77)","v":0},{"$f":"IF(JA72<Setup!$B$14,JB77,JA78+JB77)","v":0},{"$f":"IF(JB72<Setup!$B$14,JC77,JB78+JC77)","v":0},{"$f":"IF(JC72<Setup!$B$14,JD77,JC78+JD77)","v":0},{"$f":"IF(JD72<Setup!$B$14,JE77,JD78+JE77)","v":0},{"$f":"IF(JE72<Setup!$B$14,JF77,JE78+JF77)","v":0},{"$f":"IF(JF72<Setup!$B$14,JG77,JF78+JG77)","v":0},{"$f":"IF(JG72<Setup!$B$14,JH77,JG78+JH77)","v":0},{"$f":"IF(JH72<Setup!$B$14,JI77,JH78+JI77)","v":0},{"$f":"IF(JI72<Setup!$B$14,JJ77,JI78+JJ77)","v":0},{"$f":"IF(JJ72<Setup!$B$14,JK77,JJ78+JK77)","v":0},{"$f":"IF(JK72<Setup!$B$14,JL77,JK78+JL77)","v":0},{"$f":"IF(JL72<Setup!$B$14,JM77,JL78+JM77)","v":0},{"$f":"IF(JM72<Setup!$B$14,JN77,JM78+JN77)","v":0},{"$f":"IF(JN72<Setup!$B$14,JO77,JN78+JO77)","v":0},{"$f":"IF(JO72<Setup!$B$14,JP77,JO78+JP77)","v":0},{"$f":"IF(JP72<Setup!$B$14,JQ77,JP78+JQ77)","v":0},{"$f":"IF(JQ72<Setup!$B$14,JR77,JQ78+JR77)","v":0},{"$f":"IF(JR72<Setup!$B$14,JS77,JR78+JS77)","v":0},{"$f":"IF(JS72<Setup!$B$14,JT77,JS78+JT77)","v":0},{"$f":"IF(JT72<Setup!$B$14,JU77,JT78+JU77)","v":0},{"$f":"IF(JU72<Setup!$B$14,JV77,JU78+JV77)","v":0},{"$f":"IF(JV72<Setup!$B$14,JW77,JV78+JW77)","v":0},{"$f":"IF(JW72<Setup!$B$14,JX77,JW78+JX77)","v":0},{"$f":"IF(JX72<Setup!$B$14,JY77,JX78+JY77)","v":0},{"$f":"IF(JY72<Setup!$B$14,JZ77,JY78+JZ77)","v":0},{"$f":"IF(JZ72<Setup!$B$14,KA77,JZ78+KA77)","v":0},{"$f":"IF(KA72<Setup!$B$14,KB77,KA78+KB77)","v":0},{"$f":"IF(KB72<Setup!$B$14,KC77,KB78+KC77)","v":0},{"$f":"IF(KC72<Setup!$B$14,KD77,KC78+KD77)","v":0},{"$f":"IF(KD72<Setup!$B$14,KE77,KD78+KE77)","v":0},{"$f":"IF(KE72<Setup!$B$14,KF77,KE78+KF77)","v":0},{"$f":"IF(KF72<Setup!$B$14,KG77,KF78+KG77)","v":0},{"$f":"IF(KG72<Setup!$B$14,KH77,KG78+KH77)","v":0},{"$f":"IF(KH72<Setup!$B$14,KI77,KH78+KI77)","v":0},{"$f":"IF(KI72<Setup!$B$14,KJ77,KI78+KJ77)","v":0},{"$f":"IF(KJ72<Setup!$B$14,KK77,KJ78+KK77)","v":0},{"$f":"IF(KK72<Setup!$B$14,KL77,KK78+KL77)","v":0},{"$f":"IF(KL72<Setup!$B$14,KM77,KL78+KM77)","v":0},{"$f":"IF(KM72<Setup!$B$14,KN77,KM78+KN77)","v":0},{"$f":"IF(KN72<Setup!$B$14,KO77,KN78+KO77)","v":0},{"$f":"IF(KO72<Setup!$B$14,KP77,KO78+KP77)","v":0},{"$f":"IF(KP72<Setup!$B$14,KQ77,KP78+KQ77)","v":0},{"$f":"IF(KQ72<Setup!$B$14,KR77,KQ78+KR77)","v":0},{"$f":"IF(KR72<Setup!$B$14,KS77,KR78+KS77)","v":0},{"$f":"IF(KS72<Setup!$B$14,KT77,KS78+KT77)","v":0},{"$f":"IF(KT72<Setup!$B$14,KU77,KT78+KU77)","v":0},{"$f":"IF(KU72<Setup!$B$14,KV77,KU78+KV77)","v":0},{"$f":"IF(KV72<Setup!$B$14,KW77,KV78+KW77)","v":0},{"$f":"IF(KW72<Setup!$B$14,KX77,KW78+KX77)","v":0},{"$f":"IF(KX72<Setup!$B$14,KY77,KX78+KY77)","v":0},{"$f":"IF(KY72<Setup!$B$14,KZ77,KY78+KZ77)","v":0},{"$f":"IF(KZ72<Setup!$B$14,LA77,KZ78+LA77)","v":0},{"$f":"IF(LA72<Setup!$B$14,LB77,LA78+LB77)","v":0},{"$f":"IF(LB72<Setup!$B$14,LC77,LB78+LC77)","v":0},{"$f":"IF(LC72<Setup!$B$14,LD77,LC78+LD77)","v":0},{"$f":"IF(LD72<Setup!$B$14,LE77,LD78+LE77)","v":0},{"$f":"IF(LE72<Setup!$B$14,LF77,LE78+LF77)","v":0},{"$f":"IF(LF72<Setup!$B$14,LG77,LF78+LG77)","v":0},{"$f":"IF(LG72<Setup!$B$14,LH77,LG78+LH77)","v":0},{"$f":"IF(LH72<Setup!$B$14,LI77,LH78+LI77)","v":0},{"$f":"IF(LI72<Setup!$B$14,LJ77,LI78+LJ77)","v":0},{"$f":"IF(LJ72<Setup!$B$14,LK77,LJ78+LK77)","v":0},{"$f":"IF(LK72<Setup!$B$14,LL77,LK78+LL77)","v":0},{"$f":"IF(LL72<Setup!$B$14,LM77,LL78+LM77)","v":0},{"$f":"IF(LM72<Setup!$B$14,LN77,LM78+LN77)","v":0},{"$f":"IF(LN72<Setup!$B$14,LO77,LN78+LO77)","v":0},{"$f":"IF(LO72<Setup!$B$14,LP77,LO78+LP77)","v":0},{"$f":"IF(LP72<Setup!$B$14,LQ77,LP78+LQ77)","v":0},{"$f":"IF(LQ72<Setup!$B$14,LR77,LQ78+LR77)","v":0},{"$f":"IF(LR72<Setup!$B$14,LS77,LR78+LS77)","v":0},{"$f":"IF(LS72<Setup!$B$14,LT77,LS78+LT77)","v":0},{"$f":"IF(LT72<Setup!$B$14,LU77,LT78+LU77)","v":0},{"$f":"IF(LU72<Setup!$B$14,LV77,LU78+LV77)","v":0},{"$f":"IF(LV72<Setup!$B$14,LW77,LV78+LW77)","v":0},{"$f":"IF(LW72<Setup!$B$14,LX77,LW78+LX77)","v":0},{"$f":"IF(LX72<Setup!$B$14,LY77,LX78+LY77)","v":0},{"$f":"IF(LY72<Setup!$B$14,LZ77,LY78+LZ77)","v":0},{"$f":"IF(LZ72<Setup!$B$14,MA77,LZ78+MA77)","v":0},{"$f":"IF(MA72<Setup!$B$14,MB77,MA78+MB77)","v":0},{"$f":"IF(MB72<Setup!$B$14,MC77,MB78+MC77)","v":0},{"$f":"IF(MC72<Setup!$B$14,MD77,MC78+MD77)","v":0},{"$f":"IF(MD72<Setup!$B$14,ME77,MD78+ME77)","v":0},{"$f":"IF(ME72<Setup!$B$14,MF77,ME78+MF77)","v":0},{"$f":"IF(MF72<Setup!$B$14,MG77,MF78+MG77)","v":0},{"$f":"IF(MG72<Setup!$B$14,MH77,MG78+MH77)","v":0},{"$f":"IF(MH72<Setup!$B$14,MI77,MH78+MI77)","v":0},{"$f":"IF(MI72<Setup!$B$14,MJ77,MI78+MJ77)","v":0},{"$f":"IF(MJ72<Setup!$B$14,MK77,MJ78+MK77)","v":0},{"$f":"IF(MK72<Setup!$B$14,ML77,MK78+ML77)","v":0},{"$f":"IF(ML72<Setup!$B$14,MM77,ML78+MM77)","v":0},{"$f":"IF(MM72<Setup!$B$14,MN77,MM78+MN77)","v":0},{"$f":"IF(MN72<Setup!$B$14,MO77,MN78+MO77)","v":0},{"$f":"IF(MO72<Setup!$B$14,MP77,MO78+MP77)","v":0},{"$f":"IF(MP72<Setup!$B$14,MQ77,MP78+MQ77)","v":0},{"$f":"IF(MQ72<Setup!$B$14,MR77,MQ78+MR77)","v":0},{"$f":"IF(MR72<Setup!$B$14,MS77,MR78+MS77)","v":0},{"$f":"IF(MS72<Setup!$B$14,MT77,MS78+MT77)","v":0},{"$f":"IF(MT72<Setup!$B$14,MU77,MT78+MU77)","v":0},{"$f":"IF(MU72<Setup!$B$14,MV77,MU78+MV77)","v":0},{"$f":"IF(MV72<Setup!$B$14,MW77,MV78+MW77)","v":0},{"$f":"IF(MW72<Setup!$B$14,MX77,MW78+MX77)","v":0},{"$f":"IF(MX72<Setup!$B$14,MY77,MX78+MY77)","v":0},{"$f":"IF(MY72<Setup!$B$14,MZ77,MY78+MZ77)","v":0},{"$f":"IF(MZ72<Setup!$B$14,NA77,MZ78+NA77)","v":0},{"$f":"IF(NA72<Setup!$B$14,NB77,NA78+NB77)","v":0},{"$f":"IF(NB72<Setup!$B$14,NC77,NB78+NC77)","v":0},{"$f":"IF(NC72<Setup!$B$14,ND77,NC78+ND77)","v":0},{"$f":"IF(ND72<Setup!$B$14,NE77,ND78+NE77)","v":0},{"$f":"IF(NE72<Setup!$B$14,NF77,NE78+NF77)","v":0},{"$f":"IF(NF72<Setup!$B$14,NG77,NF78+NG77)","v":0},{"$f":"IF(NG72<Setup!$B$14,NH77,NG78+NH77)","v":0},{"$f":"IF(NH72<Setup!$B$14,NI77,NH78+NI77)","v":0},{"$f":"IF(NI72<Setup!$B$14,NJ77,NI78+NJ77)","v":0},{"$f":"IF(NJ72<Setup!$B$14,NK77,NJ78+NK77)","v":0},{"$f":"IF(NK72<Setup!$B$14,NL77,NK78+NL77)","v":0},{"$f":"IF(NL72<Setup!$B$14,NM77,NL78+NM77)","v":0},{"$f":"IF(NM72<Setup!$B$14,NN77,NM78+NN77)","v":0},{"$f":"IF(NN72<Setup!$B$14,NO77,NN78+NO77)","v":0},{"$f":"IF(NO72<Setup!$B$14,NP77,NO78+NP77)","v":0},{"$f":"IF(NP72<Setup!$B$14,NQ77,NP78+NQ77)","v":0},{"$f":"IF(NQ72<Setup!$B$14,NR77,NQ78+NR77)","v":0},{"$f":"IF(NR72<Setup!$B$14,NS77,NR78+NS77)","v":0},{"$f":"IF(NS72<Setup!$B$14,NT77,NS78+NT77)","v":0},{"$f":"IF(NT72<Setup!$B$14,NU77,NT78+NU77)","v":0},{"$f":"IF(NU72<Setup!$B$14,NV77,NU78+NV77)","v":0},{"$f":"IF(NV72<Setup!$B$14,NW77,NV78+NW77)","v":0},{"$f":"IF(NW72<Setup!$B$14,NX77,NW78+NX77)","v":0},{"$f":"IF(NX72<Setup!$B$14,NY77,NX78+NY77)","v":0},{"$f":"IF(NY72<Setup!$B$14,NZ77,NY78+NZ77)","v":0},{"$f":"IF(NZ72<Setup!$B$14,OA77,NZ78+OA77)","v":0},{"$f":"IF(OA72<Setup!$B$14,OB77,OA78+OB77)","v":0},{"$f":"IF(OB72<Setup!$B$14,OC77,OB78+OC77)","v":0},{"$f":"IF(OC72<Setup!$B$14,OD77,OC78+OD77)","v":0},{"$f":"IF(OD72<Setup!$B$14,OE77,OD78+OE77)","v":0},{"$f":"IF(OE72<Setup!$B$14,OF77,OE78+OF77)","v":0},{"$f":"IF(OF72<Setup!$B$14,OG77,OF78+OG77)","v":0},{"$f":"IF(OG72<Setup!$B$14,OH77,OG78+OH77)","v":0},{"$f":"IF(OH72<Setup!$B$14,OI77,OH78+OI77)","v":0},{"$f":"IF(OI72<Setup!$B$14,OJ77,OI78+OJ77)","v":0},{"$f":"IF(OJ72<Setup!$B$14,OK77,OJ78+OK77)","v":0},{"$f":"IF(OK72<Setup!$B$14,OL77,OK78+OL77)","v":0},{"$f":"IF(OL72<Setup!$B$14,OM77,OL78+OM77)","v":0},{"$f":"IF(OM72<Setup!$B$14,ON77,OM78+ON77)","v":0},{"$f":"IF(ON72<Setup!$B$14,OO77,ON78+OO77)","v":0},{"$f":"IF(OO72<Setup!$B$14,OP77,OO78+OP77)","v":0},{"$f":"IF(OP72<Setup!$B$14,OQ77,OP78+OQ77)","v":0},{"$f":"IF(OQ72<Setup!$B$14,OR77,OQ78+OR77)","v":0},{"$f":"IF(OR72<Setup!$B$14,OS77,OR78+OS77)","v":0},{"$f":"IF(OS72<Setup!$B$14,OT77,OS78+OT77)","v":0},{"$f":"IF(OT72<Setup!$B$14,OU77,OT78+OU77)","v":0},{"$f":"IF(OU72<Setup!$B$14,OV77,OU78+OV77)","v":0},{"$f":"IF(OV72<Setup!$B$14,OW77,OV78+OW77)","v":0},{"$f":"IF(OW72<Setup!$B$14,OX77,OW78+OX77)","v":0},{"$f":"IF(OX72<Setup!$B$14,OY77,OX78+OY77)","v":0},{"$f":"IF(OY72<Setup!$B$14,OZ77,OY78+OZ77)","v":0},{"$f":"IF(OZ72<Setup!$B$14,PA77,OZ78+PA77)","v":0},{"$f":"IF(PA72<Setup!$B$14,PB77,PA78+PB77)","v":0},{"$f":"IF(PB72<Setup!$B$14,PC77,PB78+PC77)","v":0},{"$f":"IF(PC72<Setup!$B$14,PD77,PC78+PD77)","v":0},{"$f":"IF(PD72<Setup!$B$14,PE77,PD78+PE77)","v":0},{"$f":"IF(PE72<Setup!$B$14,PF77,PE78+PF77)","v":0},{"$f":"IF(PF72<Setup!$B$14,PG77,PF78+PG77)","v":0},{"$f":"IF(PG72<Setup!$B$14,PH77,PG78+PH77)","v":0},{"$f":"IF(PH72<Setup!$B$14,PI77,PH78+PI77)","v":0},{"$f":"IF(PI72<Setup!$B$14,PJ77,PI78+PJ77)","v":0},{"$f":"IF(PJ72<Setup!$B$14,PK77,PJ78+PK77)","v":0},{"$f":"IF(PK72<Setup!$B$14,PL77,PK78+PL77)","v":0},{"$f":"IF(PL72<Setup!$B$14,PM77,PL78+PM77)","v":0},{"$f":"IF(PM72<Setup!$B$14,PN77,PM78+PN77)","v":0},{"$f":"IF(PN72<Setup!$B$14,PO77,PN78+PO77)","v":0},{"$f":"IF(PO72<Setup!$B$14,PP77,PO78+PP77)","v":0},{"$f":"IF(PP72<Setup!$B$14,PQ77,PP78+PQ77)","v":0},{"$f":"IF(PQ72<Setup!$B$14,PR77,PQ78+PR77)","v":0},{"$f":"IF(PR72<Setup!$B$14,PS77,PR78+PS77)","v":0},{"$f":"IF(PS72<Setup!$B$14,PT77,PS78+PT77)","v":0},{"$f":"IF(PT72<Setup!$B$14,PU77,PT78+PU77)","v":0},{"$f":"IF(PU72<Setup!$B$14,PV77,PU78+PV77)","v":0},{"$f":"IF(PV72<Setup!$B$14,PW77,PV78+PW77)","v":0},{"$f":"IF(PW72<Setup!$B$14,PX77,PW78+PX77)","v":0},{"$f":"IF(PX72<Setup!$B$14,PY77,PX78+PY77)","v":0}]
["All",{"$f":"COUNTIF(Conv!$F$2:$F$3004,B72)","v":0},{"$f":"COUNTIF(Conv!$F$2:$F$3004,C72)","v":0},{"$f":"COUNTIF(Conv!$F$2:$F$3004,D72)","v":0},{"$f":"COUNTIF(Conv!$F$2:$F$3004,E72)","v":0},{"$f":"COUNTIF(Conv!$F$2:$F$3004,F72)","v":0},{"$f":"COUNTIF(Conv!$F$2:$F$3004,G72)","v":0},{"$f":"COUNTIF(Conv!$F$2:$F$3004,H72)","v":0},{"$f":"COUNTIF(Conv!$F$2:$F$3004,I72)","v":0},{"$f":"COUNTIF(Conv!$F$2:$F$3004,J72)","v":0},{"$f":"COUNTIF(Conv!$F$2:$F$3004,K72)","v":0},{"$f":"COUNTIF(Conv!$F$2:$F$3004,L72)","v":0},{"$f":"COUNTIF(Conv!$F$2:$F$3004,M72)","v":0},{"$f":"COUNTIF(Conv!$F$2:$F$3004,N72)","v":0},{"$f":"COUNTIF(Conv!$F$2:$F$3004,O72)","v":0},{"$f":"COUNTIF(Conv!$F$2:$F$3004,P72)","v":0},{"$f":"COUNTIF(Conv!$F$2:$F$3004,Q72)","v":0},{"$f":"COUNTIF(Conv!$F$2:$F$3004,R72)","v":0},{"$f":"COUNTIF(Conv!$F$2:$F$3004,S72)","v":0},{"$f":"COUNTIF(Conv!$F$2:$F$3004,T72)","v":0},{"$f":"COUNTIF(Conv!$F$2:$F$3004,U72)","v":0},{"$f":"COUNTIF(Conv!$F$2:$F$3004,V72)","v":0},{"$f":"COUNTIF(Conv!$F$2:$F$3004,W72)","v":0},{"$f":"COUNTIF(Conv!$F$2:$F$3004,X72)","v":0},{"$f":"COUNTIF(Conv!$F$2:$F$3004,Y72)","v":0},{"$f":"COUNTIF(Conv!$F$2:$F$3004,Z72)","v":0},{"$f":"COUNTIF(Conv!$F$2:$F$3004,AA72)","v":0},{"$f":"COUNTIF(Conv!$F$2:$F$3004,AB72)","v":0},{"$f":"COUNTIF(Conv!$F$2:$F$3004,AC72)","v":0},{"$f":"COUNTIF(Conv!$F$2:$F$3004,AD72)","v":0},{"$f":"COUNTIF(Conv!$F$2:$F$3004,AE72)","v":0},{"$f":"COUNTIF(Conv!$F$2:$F$3004,AF72)","v":0},{"$f":"COUNTIF(Conv!$F$2:$F$3004,AG72)","v":0},{"$f":"COUNTIF(Conv!$F$2:$F$3004,AH72)","v":0},{"$f":"COUNTIF(Conv!$F$2:$F$3004,AI72)","v":0},{"$f":"COUNTIF(Conv!$F$2:$F$3004,AJ72)","v":0},{"$f":"COUNTIF(Conv!$F$2:$F$3004,AK72)","v":0},{"$f":"COUNTIF(Conv!$F$2:$F$3004,AL72)","v":0},{"$f":"COUNTIF(Conv!$F$2:$F$3004,AM72)","v":0},{"$f":"COUNTIF(Conv!$F$2:$F$3004,AN72)","v":0},{"$f":"COUNTIF(Conv!$F$2:$F$3004,AO72)","v":0},{"$f":"COUNTIF(Conv!$F$2:$F$3004,AP72)","v":0},{"$f":"COUNTIF(Conv!$F$2:$F$3004,AQ72)","v":0},{"$f":"COUNTIF(Conv!$F$2:$F$3004,AR72)","v":0},{"$f":"COUNTIF(Conv!$F$2:$F$3004,AS72)","v":0},{"$f":"COUNTIF(Conv!$F$2:$F$3004,AT72)","v":0},{"$f":"COUNTIF(Conv!$F$2:$F$3004,AU72)","v":0},{"$f":"COUNTIF(Conv!$F$2:$F$3004,AV72)","v":0},{"$f":"COUNTIF(Conv!$F$2:$F$3004,AW72)","v":0},{"$f":"COUNTIF(Conv!$F$2:$F$3004,AX72)","v":0},{"$f":"COUNTIF(Conv!$F$2:$F$3004,AY72)","v":0},{"$f":"COUNTIF(Conv!$F$2:$F$3004,AZ72)","v":0},{"$f":"COUNTIF(Conv!$F$2:$F$3004,BA72)","v":0},{"$f":"COUNTIF(Conv!$F$2:$F$3004,BB72)","v":0},{"$f":"COUNTIF(Conv!$F$2:$F$3004,BC72)","v":0},{"$f":"COUNTIF(Conv!$F$2:$F$3004,BD72)","v":0},{"$f":"COUNTIF(Conv!$F$2:$F$3004,BE72)","v":0},{"$f":"COUNTIF(Conv!$F$2:$F$3004,BF72)","v":0},{"$f":"COUNTIF(Conv!$F$2:$F$3004,BG72)","v":0},{"$f":"COUNTIF(Conv!$F$2:$F$3004,BH72)","v":0},{"$f":"COUNTIF(Conv!$F$2:$F$3004,BI72)","v":0},{"$f":"COUNTIF(Conv!$F$2:$F$3004,BJ72)","v":0},{"$f":"COUNTIF(Conv!$F$2:$F$3004,BK72)","v":0},{"$f":"COUNTIF(Conv!$F$2:$F$3004,BL72)","v":0},{"$f":"COUNTIF(Conv!$F$2:$F$3004,BM72)","v":0},{"$f":"COUNTIF(Conv!$F$2:$F$3004,BN72)","v":0},{"$f":"COUNTIF(Conv!$F$2:$F$3004,BO72)","v":0},{"$f":"COUNTIF(Conv!$F$2:$F$3004,BP72)","v":0},{"$f":"COUNTIF(Conv!$F$2:$F$3004,BQ72)","v":0},{"$f":"COUNTIF(Conv!$F$2:$F$3004,BR72)","v":0},{"$f":"COUNTIF(Conv!$F$2:$F$3004,BS72)","v":0},{"$f":"COUNTIF(Conv!$F$2:$F$3004,BT72)","v":0},{"$f":"COUNTIF(Conv!$F$2:$F$3004,BU72)","v":0},{"$f":"COUNTIF(Conv!$F$2:$F$3004,BV72)","v":0},{"$f":"COUNTIF(Conv!$F$2:$F$3004,BW72)","v":0},{"$f":"COUNTIF(Conv!$F$2:$F$3004,BX72)","v":0},{"$f":"COUNTIF(Conv!$F$2:$F$3004,BY72)","v":0},{"$f":"COUNTIF(Conv!$F$2:$F$3004,BZ72)","v":0},{"$f":"COUNTIF(Conv!$F$2:$F$3004,CA72)","v":0},{"$f":"COUNTIF(Conv!$F$2:$F$3004,CB72)","v":0},{"$f":"COUNTIF(Conv!$F$2:$F$3004,CC72)","v":0},{"$f":"COUNTIF(Conv!$F$2:$F$3004,CD72)","v":0},{"$f":"COUNTIF(Conv!$F$2:$F$3004,CE72)","v":0},{"$f":"COUNTIF(Conv!$F$2:$F$3004,CF72)","v":0},{"$f":"COUNTIF(Conv!$F$2:$F$3004,CG72)","v":0},{"$f":"COUNTIF(Conv!$F$2:$F$3004,CH72)","v":0},{"$f":"COUNTIF(Conv!$F$2:$F$3004,CI72)","v":0},{"$f":"COUNTIF(Conv!$F$2:$F$3004,CJ72)","v":0},{"$f":"COUNTIF(Conv!$F$2:$F$3004,CK72)","v":0},{"$f":"COUNTIF(Conv!$F$2:$F$3004,CL72)","v":0},{"$f":"COUNTIF(Conv!$F$2:$F$3004,CM72)","v":0},{"$f":"COUNTIF(Conv!$F$2:$F$3004,CN72)","v":0},{"$f":"COUNTIF(Conv!$F$2:$F$3004,CO72)","v":0},{"$f":"COUNTIF(Conv!$F$2:$F$3004,CP72)","v":0},{"$f":"COUNTIF(Conv!$F$2:$F$3004,CQ72)","v":0},{"$f":"COUNTIF(Conv!$F$2:$F$3004,CR72)","v":0},{"$f":"COUNTIF(Conv!$F$2:$F$3004,CS72)","v":0},{"$f":"COUNTIF(Conv!$F$2:$F$3004,CT72)","v":0},{"$f":"COUNTIF(Conv!$F$2:$F$3004,CU72)","v":0},{"$f":"COUNTIF(Conv!$F$2:$F$3004,CV72)","v":0},{"$f":"COUNTIF(Conv!$F$2:$F$3004,CW72)","v":0},{"$f":"COUNTIF(Conv!$F$2:$F$3004,CX72)","v":0},{"$f":"COUNTIF(Conv!$F$2:$F$3004,CY72)","v":0},{"$f":"COUNTIF(Conv!$F$2:$F$3004,CZ72)","v":0},{"$f":"COUNTIF(Conv!$F$2:$F$3004,DA72)","v":0},{"$f":"COUNTIF(Conv!$F$2:$F$3004,DB72)","v":0},{"$f":"COUNTIF(Conv!$F$2:$F$3004,DC72)","v":0},{"$f":"COUNTIF(Conv!$F$2:$F$3004,DD72)","v":0},{"$f":"COUNTIF(Conv!$F$2:$F$3004,DE72)","v":0},{"$f":"COUNTIF(Conv!$F$2:$F$3004,DF72)","v":0},{"$f":"COUNTIF(Conv!$F$2:$F$3004,DG72)","v":0},{"$f":"COUNTIF(Conv!$F$2:$F$3004,DH72)","v":0},{"$f":"COUNTIF(Conv!$F$2:$F$3004,DI72)","v":0},{"$f":"COUNTIF(Conv!$F$2:$F$3004,DJ72)","v":0},{"$f":"COUNTIF(Conv!$F$2:$F$3004,DK72)","v":0},{"$f":"COUNTIF(Conv!$F$2:$F$3004,DL72)","v":0},{"$f":"COUNTIF(Conv!$F$2:$F$3004,DM72)","v":0},{"$f":"COUNTIF(Conv!$F$2:$F$3004,DN72)","v":0},{"$f":"COUNTIF(Conv!$F$2:$F$3004,DO72)","v":0},{"$f":"COUNTIF(Conv!$F$2:$F$3004,DP72)","v":0},{"$f":"COUNTIF(Conv!$F$2:$F$3004,DQ72)","v":0},{"$f":"COUNTIF(Conv!$F$2:$F$3004,DR72)","v":0},{"$f":"COUNTIF(Conv!$F$2:$F$3004,DS72)","v":0},{"$f":"COUNTIF(Conv!$F$2:$F$3004,DT72)","v":0},{"$f":"COUNTIF(Conv!$F$2:$F$3004,DU72)","v":0},{"$f":"COUNTIF(Conv!$F$2:$F$3004,DV72)","v":0},{"$f":"COUNTIF(Conv!$F$2:$F$3004,DW72)","v":0},{"$f":"COUNTIF(Conv!$F$2:$F$3004,DX72)","v":0},{"$f":"COUNTIF(Conv!$F$2:$F$3004,DY72)","v":0},{"$f":"COUNTIF(Conv!$F$2:$F$3004,DZ72)","v":0},{"$f":"COUNTIF(Conv!$F$2:$F$3004,EA72)","v":0},{"$f":"COUNTIF(Conv!$F$2:$F$3004,EB72)","v":0},{"$f":"COUNTIF(Conv!$F$2:$F$3004,EC72)","v":0},{"$f":"COUNTIF(Conv!$F$2:$F$3004,ED72)","v":0},{"$f":"COUNTIF(Conv!$F$2:$F$3004,EE72)","v":0},{"$f":"COUNTIF(Conv!$F$2:$F$3004,EF72)","v":0},{"$f":"COUNTIF(Conv!$F$2:$F$3004,EG72)","v":0},{"$f":"COUNTIF(Conv!$F$2:$F$3004,EH72)","v":0},{"$f":"COUNTIF(Conv!$F$2:$F$3004,EI72)","v":0},{"$f":"COUNTIF(Conv!$F$2:$F$3004,EJ72)","v":0},{"$f":"COUNTIF(Conv!$F$2:$F$3004,EK72)","v":0},{"$f":"COUNTIF(Conv!$F$2:$F$3004,EL72)","v":0},{"$f":"COUNTIF(Conv!$F$2:$F$3004,EM72)","v":0},{"$f":"COUNTIF(Conv!$F$2:$F$3004,EN72)","v":0},{"$f":"COUNTIF(Conv!$F$2:$F$3004,EO72)","v":0},{"$f":"COUNTIF(Conv!$F$2:$F$3004,EP72)","v":0},{"$f":"COUNTIF(Conv!$F$2:$F$3004,EQ72)","v":0},{"$f":"COUNTIF(Conv!$F$2:$F$3004,ER72)","v":0},{"$f":"COUNTIF(Conv!$F$2:$F$3004,ES72)","v":0},{"$f":"COUNTIF(Conv!$F$2:$F$3004,ET72)","v":0},{"$f":"COUNTIF(Conv!$F$2:$F$3004,EU72)","v":0},{"$f":"COUNTIF(Conv!$F$2:$F$3004,EV72)","v":0},{"$f":"COUNTIF(Conv!$F$2:$F$3004,EW72)","v":0},{"$f":"COUNTIF(Conv!$F$2:$F$3004,EX72)","v":0},{"$f":"COUNTIF(Conv!$F$2:$F$3004,EY72)","v":0},{"$f":"COUNTIF(Conv!$F$2:$F$3004,EZ72)","v":0},{"$f":"COUNTIF(Conv!$F$2:$F$3004,FA72)","v":0},{"$f":"COUNTIF(Conv!$F$2:$F$3004,FB72)","v":0},{"$f":"COUNTIF(Conv!$F$2:$F$3004,FC72)","v":0},{"$f":"COUNTIF(Conv!$F$2:$F$3004,FD72)","v":0},{"$f":"COUNTIF(Conv!$F$2:$F$3004,FE72)","v":0},{"$f":"COUNTIF(Conv!$F$2:$F$3004,FF72)","v":0},{"$f":"COUNTIF(Conv!$F$2:$F$3004,FG72)","v":0},{"$f":"COUNTIF(Conv!$F$2:$F$3004,FH72)","v":0},{"$f":"COUNTIF(Conv!$F$2:$F$3004,FI72)","v":0},{"$f":"COUNTIF(Conv!$F$2:$F$3004,FJ72)","v":0},{"$f":"COUNTIF(Conv!$F$2:$F$3004,FK72)","v":0},{"$f":"COUNTIF(Conv!$F$2:$F$3004,FL72)","v":0},{"$f":"COUNTIF(Conv!$F$2:$F$3004,FM72)","v":0},{"$f":"COUNTIF(Conv!$F$2:$F$3004,FN72)","v":0},{"$f":"COUNTIF(Conv!$F$2:$F$3004,FO72)","v":0},{"$f":"COUNTIF(Conv!$F$2:$F$3004,FP72)","v":0},{"$f":"COUNTIF(Conv!$F$2:$F$3004,FQ72)","v":0},{"$f":"COUNTIF(Conv!$F$2:$F$3004,FR72)","v":0},{"$f":"COUNTIF(Conv!$F$2:$F$3004,FS72)","v":0},{"$f":"COUNTIF(Conv!$F$2:$F$3004,FT72)","v":0},{"$f":"COUNTIF(Conv!$F$2:$F$3004,FU72)","v":0},{"$f":"COUNTIF(Conv!$F$2:$F$3004,FV72)","v":0},{"$f":"COUNTIF(Conv!$F$2:$F$3004,FW72)","v":0},{"$f":"COUNTIF(Conv!$F$2:$F$3004,FX72)","v":0},{"$f":"COUNTIF(Conv!$F$2:$F$3004,FY72)","v":0},{"$f":"COUNTIF(Conv!$F$2:$F$3004,FZ72)","v":0},{"$f":"COUNTIF(Conv!$F$2:$F$3004,GA72)","v":0},{"$f":"COUNTIF(Conv!$F$2:$F$3004,GB72)","v":0},{"$f":"COUNTIF(Conv!$F$2:$F$3004,GC72)","v":0},{"$f":"COUNTIF(Conv!$F$2:$F$3004,GD72)","v":0},{"$f":"COUNTIF(Conv!$F$2:$F$3004,GE72)","v":0},{"$f":"COUNTIF(Conv!$F$2:$F$3004,GF72)","v":0},{"$f":"COUNTIF(Conv!$F$2:$F$3004,GG72)","v":0},{"$f":"COUNTIF(Conv!$F$2:$F$3004,GH72)","v":0},{"$f":"COUNTIF(Conv!$F$2:$F$3004,GI72)","v":0},{"$f":"COUNTIF(Conv!$F$2:$F$3004,GJ72)","v":0},{"$f":"COUNTIF(Conv!$F$2:$F$3004,GK72)","v":0},{"$f":"COUNTIF(Conv!$F$2:$F$3004,GL72)","v":0},{"$f":"COUNTIF(Conv!$F$2:$F$3004,GM72)","v":0},{"$f":"COUNTIF(Conv!$F$2:$F$3004,GN72)","v":0},{"$f":"COUNTIF(Conv!$F$2:$F$3004,GO72)","v":0},{"$f":"COUNTIF(Conv!$F$2:$F$3004,GP72)","v":0},{"$f":"COUNTIF(Conv!$F$2:$F$3004,GQ72)","v":0},{"$f":"COUNTIF(Conv!$F$2:$F$3004,GR72)","v":0},{"$f":"COUNTIF(Conv!$F$2:$F$3004,GS72)","v":0},{"$f":"COUNTIF(Conv!$F$2:$F$3004,GT72)","v":0},{"$f":"COUNTIF(Conv!$F$2:$F$3004,GU72)","v":0},{"$f":"COUNTIF(Conv!$F$2:$F$3004,GV72)","v":0},{"$f":"COUNTIF(Conv!$F$2:$F$3004,GW72)","v":0},{"$f":"COUNTIF(Conv!$F$2:$F$3004,GX72)","v":0},{"$f":"COUNTIF(Conv!$F$2:$F$3004,GY72)","v":0},{"$f":"COUNTIF(Conv!$F$2:$F$3004,GZ72)","v":0},{"$f":"COUNTIF(Conv!$F$2:$F$3004,HA72)","v":0},{"$f":"COUNTIF(Conv!$F$2:$F$3004,HB72)","v":0},{"$f":"COUNTIF(Conv!$F$2:$F$3004,HC72)","v":0},{"$f":"COUNTIF(Conv!$F$2:$F$3004,HD72)","v":0},{"$f":"COUNTIF(Conv!$F$2:$F$3004,HE72)","v":0},{"$f":"COUNTIF(Conv!$F$2:$F$3004,HF72)","v":0},{"$f":"COUNTIF(Conv!$F$2:$F$3004,HG72)","v":0},{"$f":"COUNTIF(Conv!$F$2:$F$3004,HH72)","v":0},{"$f":"COUNTIF(Conv!$F$2:$F$3004,HI72)","v":0},{"$f":"COUNTIF(Conv!$F$2:$F$3004,HJ72)","v":0},{"$f":"COUNTIF(Conv!$F$2:$F$3004,HK72)","v":0},{"$f":"COUNTIF(Conv!$F$2:$F$3004,HL72)","v":0},{"$f":"COUNTIF(Conv!$F$2:$F$3004,HM72)","v":0},{"$f":"COUNTIF(Conv!$F$2:$F$3004,HN72)","v":0},{"$f":"COUNTIF(Conv!$F$2:$F$3004,HO72)","v":0},{"$f":"COUNTIF(Conv!$F$2:$F$3004,HP72)","v":0},{"$f":"COUNTIF(Conv!$F$2:$F$3004,HQ72)","v":0},{"$f":"COUNTIF(Conv!$F$2:$F$3004,HR72)","v":0},{"$f":"COUNTIF(Conv!$F$2:$F$3004,HS72)","v":0},{"$f":"COUNTIF(Conv!$F$2:$F$3004,HT72)","v":0},{"$f":"COUNTIF(Conv!$F$2:$F$3004,HU72)","v":0},{"$f":"COUNTIF(Conv!$F$2:$F$3004,HV72)","v":0},{"$f":"COUNTIF(Conv!$F$2:$F$3004,HW72)","v":0},{"$f":"COUNTIF(Conv!$F$2:$F$3004,HX72)","v":0},{"$f":"COUNTIF(Conv!$F$2:$F$3004,HY72)","v":0},{"$f":"COUNTIF(Conv!$F$2:$F$3004,HZ72)","v":0},{"$f":"COUNTIF(Conv!$F$2:$F$3004,IA72)","v":0},{"$f":"COUNTIF(Conv!$F$2:$F$3004,IB72)","v":0},{"$f":"COUNTIF(Conv!$F$2:$F$3004,IC72)","v":0},{"$f":"COUNTIF(Conv!$F$2:$F$3004,ID72)","v":0},{"$f":"COUNTIF(Conv!$F$2:$F$3004,IE72)","v":0},{"$f":"COUNTIF(Conv!$F$2:$F$3004,IF72)","v":0},{"$f":"COUNTIF(Conv!$F$2:$F$3004,IG72)","v":0},{"$f":"COUNTIF(Conv!$F$2:$F$3004,IH72)","v":0},{"$f":"COUNTIF(Conv!$F$2:$F$3004,II72)","v":0},{"$f":"COUNTIF(Conv!$F$2:$F$3004,IJ72)","v":0},{"$f":"COUNTIF(Conv!$F$2:$F$3004,IK72)","v":0},{"$f":"COUNTIF(Conv!$F$2:$F$3004,IL72)","v":0},{"$f":"COUNTIF(Conv!$F$2:$F$3004,IM72)","v":0},{"$f":"COUNTIF(Conv!$F$2:$F$3004,IN72)","v":0},{"$f":"COUNTIF(Conv!$F$2:$F$3004,IO72)","v":0},{"$f":"COUNTIF(Conv!$F$2:$F$3004,IP72)","v":0},{"$f":"COUNTIF(Conv!$F$2:$F$3004,IQ72)","v":0},{"$f":"COUNTIF(Conv!$F$2:$F$3004,IR72)","v":0},{"$f":"COUNTIF(Conv!$F$2:$F$3004,IS72)","v":0},{"$f":"COUNTIF(Conv!$F$2:$F$3004,IT72)","v":0},{"$f":"COUNTIF(Conv!$F$2:$F$3004,IU72)","v":0},{"$f":"COUNTIF(Conv!$F$2:$F$3004,IV72)","v":0},{"$f":"COUNTIF(Conv!$F$2:$F$3004,IW72)","v":0},{"$f":"COUNTIF(Conv!$F$2:$F$3004,IX72)","v":0},{"$f":"COUNTIF(Conv!$F$2:$F$3004,IY72)","v":0},{"$f":"COUNTIF(Conv!$F$2:$F$3004,IZ72)","v":0},{"$f":"COUNTIF(Conv!$F$2:$F$3004,JA72)","v":0},{"$f":"COUNTIF(Conv!$F$2:$F$3004,JB72)","v":0},{"$f":"COUNTIF(Conv!$F$2:$F$3004,JC72)","v":0},{"$f":"COUNTIF(Conv!$F$2:$F$3004,JD72)","v":0},{"$f":"COUNTIF(Conv!$F$2:$F$3004,JE72)","v":0},{"$f":"COUNTIF(Conv!$F$2:$F$3004,JF72)","v":0},{"$f":"COUNTIF(Conv!$F$2:$F$3004,JG72)","v":0},{"$f":"COUNTIF(Conv!$F$2:$F$3004,JH72)","v":0},{"$f":"COUNTIF(Conv!$F$2:$F$3004,JI72)","v":0},{"$f":"COUNTIF(Conv!$F$2:$F$3004,JJ72)","v":0},{"$f":"COUNTIF(Conv!$F$2:$F$3004,JK72)","v":0},{"$f":"COUNTIF(Conv!$F$2:$F$3004,JL72)","v":0},{"$f":"COUNTIF(Conv!$F$2:$F$3004,JM72)","v":0},{"$f":"COUNTIF(Conv!$F$2:$F$3004,JN72)","v":0},{"$f":"COUNTIF(Conv!$F$2:$F$3004,JO72)","v":0},{"$f":"COUNTIF(Conv!$F$2:$F$3004,JP72)","v":0},{"$f":"COUNTIF(Conv!$F$2:$F$3004,JQ72)","v":0},{"$f":"COUNTIF(Conv!$F$2:$F$3004,JR72)","v":0},{"$f":"COUNTIF(Conv!$F$2:$F$3004,JS72)","v":0},{"$f":"COUNTIF(Conv!$F$2:$F$3004,JT72)","v":0},{"$f":"COUNTIF(Conv!$F$2:$F$3004,JU72)","v":0},{"$f":"COUNTIF(Conv!$F$2:$F$3004,JV72)","v":0},{"$f":"COUNTIF(Conv!$F$2:$F$3004,JW72)","v":0},{"$f":"COUNTIF(Conv!$F$2:$F$3004,JX72)","v":0},{"$f":"COUNTIF(Conv!$F$2:$F$3004,JY72)","v":0},{"$f":"COUNTIF(Conv!$F$2:$F$3004,JZ72)","v":0},{"$f":"COUNTIF(Conv!$F$2:$F$3004,KA72)","v":0},{"$f":"COUNTIF(Conv!$F$2:$F$3004,KB72)","v":0},{"$f":"COUNTIF(Conv!$F$2:$F$3004,KC72)","v":0},{"$f":"COUNTIF(Conv!$F$2:$F$3004,KD72)","v":0},{"$f":"COUNTIF(Conv!$F$2:$F$3004,KE72)","v":0},{"$f":"COUNTIF(Conv!$F$2:$F$3004,KF72)","v":0},{"$f":"COUNTIF(Conv!$F$2:$F$3004,KG72)","v":0},{"$f":"COUNTIF(Conv!$F$2:$F$3004,KH72)","v":0},{"$f":"COUNTIF(Conv!$F$2:$F$3004,KI72)","v":0},{"$f":"COUNTIF(Conv!$F$2:$F$3004,KJ72)","v":0},{"$f":"COUNTIF(Conv!$F$2:$F$3004,KK72)","v":0},{"$f":"COUNTIF(Conv!$F$2:$F$3004,KL72)","v":0},{"$f":"COUNTIF(Conv!$F$2:$F$3004,KM72)","v":0},{"$f":"COUNTIF(Conv!$F$2:$F$3004,KN72)","v":0},{"$f":"COUNTIF(Conv!$F$2:$F$3004,KO72)","v":0},{"$f":"COUNTIF(Conv!$F$2:$F$3004,KP72)","v":0},{"$f":"COUNTIF(Conv!$F$2:$F$3004,KQ72)","v":0},{"$f":"COUNTIF(Conv!$F$2:$F$3004,KR72)","v":0},{"$f":"COUNTIF(Conv!$F$2:$F$3004,KS72)","v":0},{"$f":"COUNTIF(Conv!$F$2:$F$3004,KT72)","v":0},{"$f":"COUNTIF(Conv!$F$2:$F$3004,KU72)","v":0},{"$f":"COUNTIF(Conv!$F$2:$F$3004,KV72)","v":0},{"$f":"COUNTIF(Conv!$F$2:$F$3004,KW72)","v":0},{"$f":"COUNTIF(Conv!$F$2:$F$3004,KX72)","v":0},{"$f":"COUNTIF(Conv!$F$2:$F$3004,KY72)","v":0},{"$f":"COUNTIF(Conv!$F$2:$F$3004,KZ72)","v":0},{"$f":"COUNTIF(Conv!$F$2:$F$3004,LA72)","v":0},{"$f":"COUNTIF(Conv!$F$2:$F$3004,LB72)","v":0},{"$f":"COUNTIF(Conv!$F$2:$F$3004,LC72)","v":0},{"$f":"COUNTIF(Conv!$F$2:$F$3004,LD72)","v":0},{"$f":"COUNTIF(Conv!$F$2:$F$3004,LE72)","v":0},{"$f":"COUNTIF(Conv!$F$2:$F$3004,LF72)","v":0},{"$f":"COUNTIF(Conv!$F$2:$F$3004,LG72)","v":0},{"$f":"COUNTIF(Conv!$F$2:$F$3004,LH72)","v":0},{"$f":"COUNTIF(Conv!$F$2:$F$3004,LI72)","v":0},{"$f":"COUNTIF(Conv!$F$2:$F$3004,LJ72)","v":0},{"$f":"COUNTIF(Conv!$F$2:$F$3004,LK72)","v":0},{"$f":"COUNTIF(Conv!$F$2:$F$3004,LL72)","v":0},{"$f":"COUNTIF(Conv!$F$2:$F$3004,LM72)","v":0},{"$f":"COUNTIF(Conv!$F$2:$F$3004,LN72)","v":0},{"$f":"COUNTIF(Conv!$F$2:$F$3004,LO72)","v":0},{"$f":"COUNTIF(Conv!$F$2:$F$3004,LP72)","v":0},{"$f":"COUNTIF(Conv!$F$2:$F$3004,LQ72)","v":0},{"$f":"COUNTIF(Conv!$F$2:$F$3004,LR72)","v":0},{"$f":"COUNTIF(Conv!$F$2:$F$3004,LS72)","v":0},{"$f":"COUNTIF(Conv!$F$2:$F$3004,LT72)","v":0},{"$f":"COUNTIF(Conv!$F$2:$F$3004,LU72)","v":0},{"$f":"COUNTIF(Conv!$F$2:$F$3004,LV72)","v":0},{"$f":"COUNTIF(Conv!$F$2:$F$3004,LW72)","v":0},{"$f":"COUNTIF(Conv!$F$2:$F$3004,LX72)","v":0},{"$f":"COUNTIF(Conv!$F$2:$F$3004,LY72)","v":0},{"$f":"COUNTIF(Conv!$F$2:$F$3004,LZ72)","v":0},{"$f":"COUNTIF(Conv!$F$2:$F$3004,MA72)","v":0},{"$f":"COUNTIF(Conv!$F$2:$F$3004,MB72)","v":0},{"$f":"COUNTIF(Conv!$F$2:$F$3004,MC72)","v":0},{"$f":"COUNTIF(Conv!$F$2:$F$3004,MD72)","v":0},{"$f":"COUNTIF(Conv!$F$2:$F$3004,ME72)","v":0},{"$f":"COUNTIF(Conv!$F$2:$F$3004,MF72)","v":0},{"$f":"COUNTIF(Conv!$F$2:$F$3004,MG72)","v":0},{"$f":"COUNTIF(Conv!$F$2:$F$3004,MH72)","v":0},{"$f":"COUNTIF(Conv!$F$2:$F$3004,MI72)","v":0},{"$f":"COUNTIF(Conv!$F$2:$F$3004,MJ72)","v":0},{"$f":"COUNTIF(Conv!$F$2:$F$3004,MK72)","v":0},{"$f":"COUNTIF(Conv!$F$2:$F$3004,ML72)","v":0},{"$f":"COUNTIF(Conv!$F$2:$F$3004,MM72)","v":0},{"$f":"COUNTIF(Conv!$F$2:$F$3004,MN72)","v":0},{"$f":"COUNTIF(Conv!$F$2:$F$3004,MO72)","v":0},{"$f":"COUNTIF(Conv!$F$2:$F$3004,MP72)","v":0},{"$f":"COUNTIF(Conv!$F$2:$F$3004,MQ72)","v":0},{"$f":"COUNTIF(Conv!$F$2:$F$3004,MR72)","v":0},{"$f":"COUNTIF(Conv!$F$2:$F$3004,MS72)","v":0},{"$f":"COUNTIF(Conv!$F$2:$F$3004,MT72)","v":0},{"$f":"COUNTIF(Conv!$F$2:$F$3004,MU72)","v":0},{"$f":"COUNTIF(Conv!$F$2:$F$3004,MV72)","v":0},{"$f":"COUNTIF(Conv!$F$2:$F$3004,MW72)","v":0},{"$f":"COUNTIF(Conv!$F$2:$F$3004,MX72)","v":0},{"$f":"COUNTIF(Conv!$F$2:$F$3004,MY72)","v":0},{"$f":"COUNTIF(Conv!$F$2:$F$3004,MZ72)","v":0},{"$f":"COUNTIF(Conv!$F$2:$F$3004,NA72)","v":0},{"$f":"COUNTIF(Conv!$F$2:$F$3004,NB72)","v":0},{"$f":"COUNTIF(Conv!$F$2:$F$3004,NC72)","v":0},{"$f":"COUNTIF(Conv!$F$2:$F$3004,ND72)","v":0},{"$f":"COUNTIF(Conv!$F$2:$F$3004,NE72)","v":0},{"$f":"COUNTIF(Conv!$F$2:$F$3004,NF72)","v":0},{"$f":"COUNTIF(Conv!$F$2:$F$3004,NG72)","v":0},{"$f":"COUNTIF(Conv!$F$2:$F$3004,NH72)","v":0},{"$f":"COUNTIF(Conv!$F$2:$F$3004,NI72)","v":0},{"$f":"COUNTIF(Conv!$F$2:$F$3004,NJ72)","v":0},{"$f":"COUNTIF(Conv!$F$2:$F$3004,NK72)","v":0},{"$f":"COUNTIF(Conv!$F$2:$F$3004,NL72)","v":0},{"$f":"COUNTIF(Conv!$F$2:$F$3004,NM72)","v":0},{"$f":"COUNTIF(Conv!$F$2:$F$3004,NN72)","v":0},{"$f":"COUNTIF(Conv!$F$2:$F$3004,NO72)","v":0},{"$f":"COUNTIF(Conv!$F$2:$F$3004,NP72)","v":0},{"$f":"COUNTIF(Conv!$F$2:$F$3004,NQ72)","v":0},{"$f":"COUNTIF(Conv!$F$2:$F$3004,NR72)","v":0},{"$f":"COUNTIF(Conv!$F$2:$F$3004,NS72)","v":0},{"$f":"COUNTIF(Conv!$F$2:$F$3004,NT72)","v":0},{"$f":"COUNTIF(Conv!$F$2:$F$3004,NU72)","v":0},{"$f":"COUNTIF(Conv!$F$2:$F$3004,NV72)","v":0},{"$f":"COUNTIF(Conv!$F$2:$F$3004,NW72)","v":0},{"$f":"COUNTIF(Conv!$F$2:$F$3004,NX72)","v":0},{"$f":"COUNTIF(Conv!$F$2:$F$3004,NY72)","v":0},{"$f":"COUNTIF(Conv!$F$2:$F$3004,NZ72)","v":0},{"$f":"COUNTIF(Conv!$F$2:$F$3004,OA72)","v":0},{"$f":"COUNTIF(Conv!$F$2:$F$3004,OB72)","v":0},{"$f":"COUNTIF(Conv!$F$2:$F$3004,OC72)","v":0},{"$f":"COUNTIF(Conv!$F$2:$F$3004,OD72)","v":0},{"$f":"COUNTIF(Conv!$F$2:$F$3004,OE72)","v":0},{"$f":"COUNTIF(Conv!$F$2:$F$3004,OF72)","v":0},{"$f":"COUNTIF(Conv!$F$2:$F$3004,OG72)","v":0},{"$f":"COUNTIF(Conv!$F$2:$F$3004,OH72)","v":0},{"$f":"COUNTIF(Conv!$F$2:$F$3004,OI72)","v":0},{"$f":"COUNTIF(Conv!$F$2:$F$3004,OJ72)","v":0},{"$f":"COUNTIF(Conv!$F$2:$F$3004,OK72)","v":0},{"$f":"COUNTIF(Conv!$F$2:$F$3004,OL72)","v":0},{"$f":"COUNTIF(Conv!$F$2:$F$3004,OM72)","v":0},{"$f":"COUNTIF(Conv!$F$2:$F$3004,ON72)","v":0},{"$f":"COUNTIF(Conv!$F$2:$F$3004,OO72)","v":0},{"$f":"COUNTIF(Conv!$F$2:$F$3004,OP72)","v":0},{"$f":"COUNTIF(Conv!$F$2:$F$3004,OQ72)","v":0},{"$f":"COUNTIF(Conv!$F$2:$F$3004,OR72)","v":0},{"$f":"COUNTIF(Conv!$F$2:$F$3004,OS72)","v":0},{"$f":"COUNTIF(Conv!$F$2:$F$3004,OT72)","v":0},{"$f":"COUNTIF(Conv!$F$2:$F$3004,OU72)","v":0},{"$f":"COUNTIF(Conv!$F$2:$F$3004,OV72)","v":0},{"$f":"COUNTIF(Conv!$F$2:$F$3004,OW72)","v":0},{"$f":"COUNTIF(Conv!$F$2:$F$3004,OX72)","v":0},{"$f":"COUNTIF(Conv!$F$2:$F$3004,OY72)","v":0},{"$f":"COUNTIF(Conv!$F$2:$F$3004,OZ72)","v":0},{"$f":"COUNTIF(Conv!$F$2:$F$3004,PA72)","v":0},{"$f":"COUNTIF(Conv!$F$2:$F$3004,PB72)","v":0},{"$f":"COUNTIF(Conv!$F$2:$F$3004,PC72)","v":0},{"$f":"COUNTIF(Conv!$F$2:$F$3004,PD72)","v":0},{"$f":"COUNTIF(Conv!$F$2:$F$3004,PE72)","v":0},{"$f":"COUNTIF(Conv!$F$2:$F$3004,PF72)","v":0},{"$f":"COUNTIF(Conv!$F$2:$F$3004,PG72)","v":0},{"$f":"COUNTIF(Conv!$F$2:$F$3004,PH72)","v":0},{"$f":"COUNTIF(Conv!$F$2:$F$3004,PI72)","v":0},{"$f":"COUNTIF(Conv!$F$2:$F$3004,PJ72)","v":0},{"$f":"COUNTIF(Conv!$F$2:$F$3004,PK72)","v":0},{"$f":"COUNTIF(Conv!$F$2:$F$3004,PL72)","v":0},{"$f":"COUNTIF(Conv!$F$2:$F$3004,PM72)","v":0},{"$f":"COUNTIF(Conv!$F$2:$F$3004,PN72)","v":0},{"$f":"COUNTIF(Conv!$F$2:$F$3004,PO72)","v":0},{"$f":"COUNTIF(Conv!$F$2:$F$3004,PP72)","v":0},{"$f":"COUNTIF(Conv!$F$2:$F$3004,PQ72)","v":0},{"$f":"COUNTIF(Conv!$F$2:$F$3004,PR72)","v":0},{"$f":"COUNTIF(Conv!$F$2:$F$3004,PS72)","v":0},{"$f":"COUNTIF(Conv!$F$2:$F$3004,PT72)","v":0},{"$f":"COUNTIF(Conv!$F$2:$F$3004,PU72)","v":0},{"$f":"COUNTIF(Conv!$F$2:$F$3004,PV72)","v":0},{"$f":"COUNTIF(Conv!$F$2:$F$3004,PW72)","v":0},{"$f":"COUNTIF(Conv!$F$2:$F$3004,PX72)","v":0}]

{"sheet":"Approval","index":4,"n_rows":36,"n_cols":9,"rows_kept":36,"cut":false,"hidden":false,"merged":[[11,5,11,8],[12,5,12,7],[13,5,13,7],[15,5,15,8],[19,1,19,8],[18,1,18,8],[34,6,34,8],[20,1,20,8],[21,1,21,8],[22,1,22,8],[23,1,23,8],[24,1,24,8],[25,1,25,8],[26,1,26,8],[34,1,34,3],[8,1,8,2],[9,1,9,2],[9,5,9,7],[10,5,10,7],[0,0,0,9],[1,0,1,9],[2,0,2,9],[3,0,3,9],[7,1,7,2],[6,1,6,3],[6,5,8,8]]}
["TEST SCORING AND PASSING POINT APPROVAL"]
[{"$f":"RawScores!B1","v":0}]
[]
[{"$f":"\"Announced on \"&MONTH(RawScores!EL2)&\"/\"&DAY(RawScores!EL2)&\"/\"&YEAR(RawScores!EL2)","v":"Announced on 1/0/1900"}]
[null,"Exam Type:  OIQ",null,null,null,null,"Recruitment Type:",null,"Open"]
[null,"Analyst's Name: ___________________________"]
[null,{"$f":"\"Overall Reliability:\"","v":"Overall Reliability:"},null,null,{"$f":"Setup!B20","v":{"$error":"#DIV/0!"}},"(Note: The reliability calculation is irrelevant if not using Alternating EOT & PWE or All EOT and then all PWE)"]
[null,"Total Candidates:",null,null,{"$f":"Setup!B8","v":0}]
[null,"Scored Candidates: ",null,null,{"$f":"Setup!B9","v":0}]
[null,"Passing Candidates:",null,null,{"$f":"Setup!B10","v":0},"Majority Passing Rate:",null,null,{"$f":"AdvImp!C9","v":""}]
[null,"Mean:",null,null,{"$f":"AVERAGE(Conv!F2:F2001)","v":{"$error":"#DIV/0!"}},"Minority Passing Rate:",null,null,{"$f":"AdvImp!C14","v":""}]
[null,"Standard Deviation:",null,null,{"$f":"STDEV(Conv!F2:F2001)","v":{"$error":"#DIV/0!"}},{"$f":"IF(ISNUMBER(I11),IF(I11<I10*0.8,\"Adverse impact for Minorities\",\" \"),\" \")","v":" "}]
[null,"Standard Error of Measurement: ",null,null,{"$f":"E12*SQRT(1-Setup!B20)","v":{"$error":"#DIV/0!"}},"Male Passing Rate:",null,null,{"$f":"AdvImp!C21","v":""}]
[null,"Maximum Points Obtained: ",null,null,{"$f":"Setup!B16","v":0},"Female Passing Rate:",null,null,{"$f":"AdvImp!C22","v":""}]
[null,"Maximum Points Possible: ",null,null,{"$f":"Setup!B15","v":210}]
[null,{"$f":"\"Unadjusted Passing Point: \"","v":"Unadjusted Passing Point: "},null,null,{"$f":"Setup!B14","v":0},{"$f":"IF(ISNUMBER(I14)=TRUE,IF(I14<I13*0.8,\"Adverse impact for Females\",\" \"),\" \")","v":" "}]
[null,{"$f":"\"Adjusted Passing Point: \"","v":"Adjusted Passing Point: "},null,null,{"$f":"E16","v":0},{"$f":"\" (\"&LEFT((E16-E17)/E13,5)&\" SEMs)\"","v":{"$error":"#DIV/0!"}}]
[null,"Cert Rule: ___________________________"]
[null,"Basis for Setting and Adjusting the Passing Point"]
[null,"Previous administration: ____________________________________________________"]
[null,"Planned administrations: ____________________________________________________"]
[null,"Labor Market/Need for candidates: _______________________________________________"]
[null,"AA Considerations: __________________________________________________________"]
[null,"Passing point consensus: _____________________________________________________"]
[null,"SME judgements: ___________________________________________________________"]
[null,"Other: _____________________________________________________________________"]
[null,"Comments: _________________________________________________________________"]
[null,"___________________________________________________________________________"]
[null,"___________________________________________________________________________"]
[null,"___________________________________________________________________________"]
[null,"___________________________________________________________________________"]
[null,"___________________________________________________________________________"]
[]
[null,"____________________________",null,null,null,null,"___________________________"]
[null,"Analyst's Signature and Date",null,null,null,null,"Approval Signature and Date"]
[null,null,null,null,{"$f":"\"Version 06/18/13\"","v":"Version 06/18/13"}]

{"sheet":"Conv","index":5,"n_rows":43,"n_cols":278,"rows_kept":43,"cut":false,"hidden":false,"merged":[]}
["Index","Rank","RankScore","Name","Scorable","scores","Gender","race","passing","Passing Min","Passing F",1,2,3,4,5,6,7,9,"AllMin","M","F","U","Part A","Part B","a",{"$f":"IF(Set_Correlation_Plan=1,\"a\",\"b\")","v":"a"},{"$f":"IF(Set_Correlation_Plan=1,\"b\",\"a\")","v":"b"},{"$f":"IF(Set_Correlation_Plan=1,\"b\",\"b\")","v":"b"},{"$f":"IF(COLUMN()-26>Setup!$C$6-Setup!$C$5,\"\",Conv!Z1)","v":"a"},{"$f":"IF(COLUMN()-26>Setup!$C$6-Setup!$C$5,\"\",Conv!AA1)","v":"a"},{"$f":"IF(COLUMN()-26>Setup!$C$6-Setup!$C$5,\"\",Conv!AB1)","v":"b"},{"$f":"IF(COLUMN()-26>Setup!$C$6-Setup!$C$5,\"\",Conv!AC1)","v":"b"},{"$f":"IF(COLUMN()-26>Setup!$C$6-Setup!$C$5,\"\",Conv!AD1)","v":"a"},{"$f":"IF(COLUMN()-26>Setup!$C$6-Setup!$C$5,\"\",Conv!AE1)","v":"a"},{"$f":"IF(COLUMN()-26>Setup!$C$6-Setup!$C$5,\"\",Conv!AF1)","v":"b"},{"$f":"IF(COLUMN()-26>Setup!$C$6-Setup!$C$5,\"\",Conv!AG1)","v":"b"},{"$f":"IF(COLUMN()-26>Setup!$C$6-Setup!$C$5,\"\",Conv!AH1)","v":"a"},{"$f":"IF(COLUMN()-26>Setup!$C$6-Setup!$C$5,\"\",Conv!AI1)","v":"a"},{"$f":"IF(COLUMN()-26>Setup!$C$6-Setup!$C$5,\"\",Conv!AJ1)","v":"b"},{"$f":"IF(COLUMN()-26>Setup!$C$6-Setup!$C$5,\"\",Conv!AK1)","v":"b"},{"$f":"IF(COLUMN()-26>Setup!$C$6-Setup!$C$5,\"\",Conv!AL1)","v":"a"},{"$f":"IF(COLUMN()-26>Setup!$C$6-Setup!$C$5,\"\",Conv!AM1)","v":"a"},{"$f":"IF(COLUMN()-26>Setup!$C$6-Setup!$C$5,\"\",Conv!AN1)","v":"b"},{"$f":"IF(COLUMN()-26>Setup!$C$6-Setup!$C$5,\"\",Conv!AO1)","v":"b"},{"$f":"IF(COLUMN()-26>Setup!$C$6-Setup!$C$5,\"\",Conv!AP1)","v":"a"},{"$f":"IF(COLUMN()-26>Setup!$C$6-Setup!$C$5,\"\",Conv!AQ1)","v":"a"},{"$f":"IF(COLUMN()-26>Setup!$C$6-Setup!$C$5,\"\",Conv!AR1)","v":"b"},{"$f":"IF(COLUMN()-26>Setup!$C$6-Setup!$C$5,\"\",Conv!AS1)","v":"b"},{"$f":"IF(COLUMN()-26>Setup!$C$6-Setup!$C$5,\"\",Conv!AT1)","v":"a"},{"$f":"IF(COLUMN()-26>Setup!$C$6-Setup!$C$5,\"\",Conv!AU1)","v":"a"},{"$f":"IF(COLUMN()-26>Setup!$C$6-Setup!$C$5,\"\",Conv!AV1)","v":"b"},{"$f":"IF(COLUMN()-26>Setup!$C$6-Setup!$C$5,\"\",Conv!AW1)","v":"b"},{"$f":"IF(COLUMN()-26>Setup!$C$6-Setup!$C$5,\"\",Conv!AX1)","v":"a"},{"$f":"IF(COLUMN()-26>Setup!$C$6-Setup!$C$5,\"\",Conv!AY1)","v":"a"},{"$f":"IF(COLUMN()-26>Setup!$C$6-Setup!$C$5,\"\",Conv!AZ1)","v":"b"},{"$f":"IF(COLUMN()-26>Setup!$C$6-Setup!$C$5,\"\",Conv!BA1)","v":"b"},{"$f":"IF(COLUMN()-26>Setup!$C$6-Setup!$C$5,\"\",Conv!BB1)","v":"a"},{"$f":"IF(COLUMN()-26>Setup!$C$6-Setup!$C$5,\"\",Conv!BC1)","v":"a"},{"$f":"IF(COLUMN()-26>Setup!$C$6-Setup!$C$5,\"\",Conv!BD1)","v":"b"},{"$f":"IF(COLUMN()-26>Setup!$C$6-Setup!$C$5,\"\",Conv!BE1)","v":"b"},{"$f":"IF(COLUMN()-26>Setup!$C$6-Setup!$C$5,\"\",Conv!BF1)","v":"a"},{"$f":"IF(COLUMN()-26>Setup!$C$6-Setup!$C$5,\"\",Conv!BG1)","v":"a"},{"$f":"IF(COLUMN()-26>Setup!$C$6-Setup!$C$5,\"\",Conv!BH1)","v":"b"},{"$f":"IF(COLUMN()-26>Setup!$C$6-Setup!$C$5,\"\",Conv!BI1)","v":"b"},{"$f":"IF(COLUMN()-26>Setup!$C$6-Setup!$C$5,\"\",Conv!BJ1)","v":"a"},{"$f":"IF(COLUMN()-26>Setup!$C$6-Setup!$C$5,\"\",Conv!BK1)","v":"a"},{"$f":"IF(COLUMN()-26>Setup!$C$6-Setup!$C$5,\"\",Conv!BL1)","v":"b"},{"$f":"IF(COLUMN()-26>Setup!$C$6-Setup!$C$5,\"\",Conv!BM1)","v":"b"},{"$f":"IF(COLUMN()-26>Setup!$C$6-Setup!$C$5,\"\",Conv!BN1)","v":"a"},{"$f":"IF(COLUMN()-26>Setup!$C$6-Setup!$C$5,\"\",Conv!BO1)","v":"a"},{"$f":"IF(COLUMN()-26>Setup!$C$6-Setup!$C$5,\"\",Conv!BP1)","v":"b"},{"$f":"IF(COLUMN()-26>Setup!$C$6-Setup!$C$5,\"\",Conv!BQ1)","v":"b"},{"$f":"IF(COLUMN()-26>Setup!$C$6-Setup!$C$5,\"\",Conv!BR1)","v":"a"},{"$f":"IF(COLUMN()-26>Setup!$C$6-Setup!$C$5,\"\",Conv!BS1)","v":"a"},{"$f":"IF(COLUMN()-26>Setup!$C$6-Setup!$C$5,\"\",Conv!BT1)","v":"b"},{"$f":"IF(COLUMN()-26>Setup!$C$6-Setup!$C$5,\"\",Conv!BU1)","v":"b"},{"$f":"IF(COLUMN()-26>Setup!$C$6-Setup!$C$5,\"\",Conv!BV1)","v":"a"},{"$f":"IF(COLUMN()-26>Setup!$C$6-Setup!$C$5,\"\",Conv!BW1)","v":"a"},{"$f":"IF(COLUMN()-26>Setup!$C$6-Setup!$C$5,\"\",Conv!BX1)","v":"b"},{"$f":"IF(COLUMN()-26>Setup!$C$6-Setup!$C$5,\"\",Conv!BY1)","v":"b"},{"$f":"IF(COLUMN()-26>Setup!$C$6-Setup!$C$5,\"\",Conv!BZ1)","v":"a"},{"$f":"IF(COLUMN()-26>Setup!$C$6-Setup!$C$5,\"\",Conv!CA1)","v":"a"},{"$f":"IF(COLUMN()-26>Setup!$C$6-Setup!$C$5,\"\",Conv!CB1)","v":"b"},{"$f":"IF(COLUMN()-26>Setup!$C$6-Setup!$C$5,\"\",Conv!CC1)","v":"b"},{"$f":"IF(COLUMN()-26>Setup!$C$6-Setup!$C$5,\"\",Conv!CD1)","v":"a"},{"$f":"IF(COLUMN()-26>Setup!$C$6-Setup!$C$5,\"\",Conv!CE1)","v":"a"},{"$f":"IF(COLUMN()-26>Setup!$C$6-Setup!$C$5,\"\",Conv!CF1)","v":"b"},{"$f":"IF(COLUMN()-26>Setup!$C$6-Setup!$C$5,\"\",Conv!CG1)","v":"b"},{"$f":"IF(COLUMN()-26>Setup!$C$6-Setup!$C$5,\"\",Conv!CH1)","v":"a"},{"$f":"IF(COLUMN()-26>Setup!$C$6-Setup!$C$5,\"\",Conv!CI1)","v":"a"},{"$f":"IF(COLUMN()-26>Setup!$C$6-Setup!$C$5,\"\",Conv!CJ1)","v":"b"},{"$f":"IF(COLUMN()-26>Setup!$C$6-Setup!$C$5,\"\",Conv!CK1)","v":"b"},{"$f":"IF(COLUMN()-26>Setup!$C$6-Setup!$C$5,\"\",Conv!CL1)","v":"a"},{"$f":"IF(COLUMN()-26>Setup!$C$6-Setup!$C$5,\"\",Conv!CM1)","v":"a"},{"$f":"IF(COLUMN()-26>Setup!$C$6-Setup!$C$5,\"\",Conv!CN1)","v":""},{"$f":"IF(COLUMN()-26>Setup!$C$6-Setup!$C$5,\"\",Conv!CO1)","v":""},{"$f":"IF(COLUMN()-26>Setup!$C$6-Setup!$C$5,\"\",Conv!CP1)","v":""},{"$f":"IF(COLUMN()-26>Setup!$C$6-Setup!$C$5,\"\",Conv!CQ1)","v":""},{"$f":"IF(COLUMN()-26>Setup!$C$6-Setup!$C$5,\"\",Conv!CR1)","v":""},{"$f":"IF(COLUMN()-26>Setup!$C$6-Setup!$C$5,\"\",Conv!CS1)","v":""},{"$f":"IF(COLUMN()-26>Setup!$C$6-Setup!$C$5,\"\",Conv!CT1)","v":""},{"$f":"IF(COLUMN()-26>Setup!$C$6-Setup!$C$5,\"\",Conv!CU1)","v":""},{"$f":"IF(COLUMN()-26>Setup!$C$6-Setup!$C$5,\"\",Conv!CV1)","v":""},{"$f":"IF(COLUMN()-26>Setup!$C$6-Setup!$C$5,\"\",Conv!CW1)","v":""},{"$f":"IF(COLUMN()-26>Setup!$C$6-Setup!$C$5,\"\",Conv!CX1)","v":""},{"$f":"IF(COLUMN()-26>Setup!$C$6-Setup!$C$5,\"\",Conv!CY1)","v":""},{"$f":"IF(COLUMN()-26>Setup!$C$6-Setup!$C$5,\"\",Conv!CZ1)","v":""},{"$f":"IF(COLUMN()-26>Setup!$C$6-Setup!$C$5,\"\",Conv!DA1)","v":""},{"$f":"IF(COLUMN()-26>Setup!$C$6-Setup!$C$5,\"\",Conv!DB1)","v":""},{"$f":"IF(COLUMN()-26>Setup!$C$6-Setup!$C$5,\"\",Conv!DC1)","v":""},{"$f":"IF(COLUMN()-26>Setup!$C$6-Setup!$C$5,\"\",Conv!DD1)","v":""},{"$f":"IF(COLUMN()-26>Setup!$C$6-Setup!$C$5,\"\",Conv!DE1)","v":""},{"$f":"IF(COLUMN()-26>Setup!$C$6-Setup!$C$5,\"\",Conv!DF1)","v":""},{"$f":"IF(COLUMN()-26>Setup!$C$6-Setup!$C$5,\"\",Conv!DG1)","v":""},{"$f":"IF(COLUMN()-26>Setup!$C$6-Setup!$C$5,\"\",Conv!DH1)","v":""},{"$f":"IF(COLUMN()-26>Setup!$C$6-Setup!$C$5,\"\",Conv!DI1)","v":""},{"$f":"IF(COLUMN()-26>Setup!$C$6-Setup!$C$5,\"\",Conv!DJ1)","v":""},{"$f":"IF(COLUMN()-26>Setup!$C$6-Setup!$C$5,\"\",Conv!DK1)","v":""},{"$f":"IF(COLUMN()-26>Setup!$C$6-Setup!$C$5,\"\",Conv!DL1)","v":""},{"$f":"IF(COLUMN()-26>Setup!$C$6-Setup!$C$5,\"\",Conv!DM1)","v":""},{"$f":"IF(COLUMN()-26>Setup!$C$6-Setup!$C$5,\"\",Conv!DN1)","v":""},{"$f":"IF(COLUMN()-26>Setup!$C$6-Setup!$C$5,\"\",Conv!DO1)","v":""},{"$f":"IF(COLUMN()-26>Setup!$C$6-Setup!$C$5,\"\",Conv!DP1)","v":""},{"$f":"IF(COLUMN()-26>Setup!$C$6-Setup!$C$5,\"\",Conv!DQ1)","v":""},{"$f":"IF(COLUMN()-26>Setup!$C$6-Setup!$C$5,\"\",Conv!DR1)","v":""},{"$f":"IF(COLUMN()-26>Setup!$C$6-Setup!$C$5,\"\",Conv!DS1)","v":""},{"$f":"IF(COLUMN()-26>Setup!$C$6-Setup!$C$5,\"\",Conv!DT1)","v":""},{"$f":"IF(COLUMN()-26>Setup!$C$6-Setup!$C$5,\"\",Conv!DU1)","v":""},{"$f":"IF(COLUMN()-26>Setup!$C$6-Setup!$C$5,\"\",Conv!DV1)","v":""},{"$f":"IF(COLUMN()-26>Setup!$C$6-Setup!$C$5,\"\",Conv!DW1)","v":""},{"$f":"IF(COLUMN()-26>Setup!$C$6-Setup!$C$5,\"\",Conv!DX1)","v":""},{"$f":"IF(COLUMN()-26>Setup!$C$6-Setup!$C$5,\"\",Conv!DY1)","v":""},{"$f":"IF(COLUMN()-26>Setup!$C$6-Setup!$C$5,\"\",Conv!DZ1)","v":""},{"$f":"IF(COLUMN()-26>Setup!$C$6-Setup!$C$5,\"\",Conv!EA1)","v":""},{"$f":"IF(COLUMN()-26>Setup!$C$6-Setup!$C$5,\"\",Conv!EB1)","v":""},{"$f":"IF(COLUMN()-26>Setup!$C$6-Setup!$C$5,\"\",Conv!EC1)","v":""},{"$f":"IF(COLUMN()-26>Setup!$C$6-Setup!$C$5,\"\",Conv!ED1)","v":""},{"$f":"IF(COLUMN()-26>Setup!$C$6-Setup!$C$5,\"\",Conv!EE1)","v":""},{"$f":"IF(COLUMN()-26>Setup!$C$6-Setup!$C$5,\"\",Conv!EF1)","v":""},{"$f":"IF(COLUMN()-26>Setup!$C$6-Setup!$C$5,\"\",Conv!EG1)","v":""},{"$f":"IF(COLUMN()-26>Setup!$C$6-Setup!$C$5,\"\",Conv!EH1)","v":""},{"$f":"IF(COLUMN()-26>Setup!$C$6-Setup!$C$5,\"\",Conv!EI1)","v":""},{"$f":"IF(COLUMN()-26>Setup!$C$6-Setup!$C$5,\"\",Conv!EJ1)","v":""},{"$f":"IF(COLUMN()-26>Setup!$C$6-Setup!$C$5,\"\",Conv!EK1)","v":""},{"$f":"IF(COLUMN()-26>Setup!$C$6-Setup!$C$5,\"\",Conv!EL1)","v":""},{"$f":"IF(COLUMN()-26>Setup!$C$6-Setup!$C$5,\"\",Conv!EM1)","v":""},{"$f":"IF(COLUMN()-26>Setup!$C$6-Setup!$C$5,\"\",Conv!EN1)","v":""},{"$f":"IF(COLUMN()-26>Setup!$C$6-Setup!$C$5,\"\",Conv!EO1)","v":""},{"$f":"IF(COLUMN()-26>Setup!$C$6-Setup!$C$5,\"\",Conv!EP1)","v":""},{"$f":"IF(COLUMN()-26>Setup!$C$6-Setup!$C$5,\"\",Conv!EQ1)","v":""},{"$f":"IF(COLUMN()-26>Setup!$C$6-Setup!$C$5,\"\",Conv!ER1)","v":""},{"$f":"IF(COLUMN()-26>Setup!$C$6-Setup!$C$5,\"\",Conv!ES1)","v":""},{"$f":"IF(COLUMN()-26>Setup!$C$6-Setup!$C$5,\"\",Conv!ET1)","v":""},{"$f":"IF(COLUMN()-26>Setup!$C$6-Setup!$C$5,\"\",Conv!EU1)","v":""},{"$f":"IF(COLUMN()-26>Setup!$C$6-Setup!$C$5,\"\",Conv!EV1)","v":""},{"$f":"IF(COLUMN()-26>Setup!$C$6-Setup!$C$5,\"\",Conv!EW1)","v":""},{"$f":"IF(COLUMN()-26>Setup!$C$6-Setup!$C$5,\"\",Conv!EX1)","v":""},{"$f":"IF(COLUMN()-26>Setup!$C$6-Setup!$C$5,\"\",Conv!EY1)","v":""},{"$f":"IF(COLUMN()-26>Setup!$C$6-Setup!$C$5,\"\",Conv!EZ1)","v":""},{"$f":"IF(COLUMN()-26>Setup!$C$6-Setup!$C$5,\"\",Conv!FA1)","v":""},{"$f":"IF(COLUMN()-26>Setup!$C$6-Setup!$C$5,\"\",Conv!FB1)","v":""},{"$f":"IF(COLUMN()-26>Setup!$C$6-Setup!$C$5,\"\",Conv!FC1)","v":""},{"$f":"IF(COLUMN()-26>Setup!$C$6-Setup!$C$5,\"\",Conv!FD1)","v":""},{"$f":"IF(COLUMN()-26>Setup!$C$6-Setup!$C$5,\"\",Conv!FE1)","v":""},{"$f":"IF(COLUMN()-26>Setup!$C$6-Setup!$C$5,\"\",Conv!FF1)","v":""},{"$f":"IF(COLUMN()-26>Setup!$C$6-Setup!$C$5,\"\",Conv!FG1)","v":""},{"$f":"IF(COLUMN()-26>Setup!$C$6-Setup!$C$5,\"\",Conv!FH1)","v":""},{"$f":"IF(COLUMN()-26>Setup!$C$6-Setup!$C$5,\"\",Conv!FI1)","v":""},{"$f":"IF(COLUMN()-26>Setup!$C$6-Setup!$C$5,\"\",Conv!FJ1)","v":""},{"$f":"IF(COLUMN()-26>Setup!$C$6-Setup!$C$5,\"\",Conv!FK1)","v":""},{"$f":"IF(COLUMN()-26>Setup!$C$6-Setup!$C$5,\"\",Conv!FL1)","v":""},{"$f":"IF(COLUMN()-26>Setup!$C$6-Setup!$C$5,\"\",Conv!FM1)","v":""},{"$f":"IF(COLUMN()-26>Setup!$C$6-Setup!$C$5,\"\",Conv!FN1)","v":""},{"$f":"IF(COLUMN()-26>Setup!$C$6-Setup!$C$5,\"\",Conv!FO1)","v":""},{"$f":"IF(COLUMN()-26>Setup!$C$6-Setup!$C$5,\"\",Conv!FP1)","v":""},{"$f":"IF(COLUMN()-26>Setup!$C$6-Setup!$C$5,\"\",Conv!FQ1)","v":""},{"$f":"IF(COLUMN()-26>Setup!$C$6-Setup!$C$5,\"\",Conv!FR1)","v":""},{"$f":"IF(COLUMN()-26>Setup!$C$6-Setup!$C$5,\"\",Conv!FS1)","v":""},{"$f":"IF(COLUMN()-26>Setup!$C$6-Setup!$C$5,\"\",Conv!FT1)","v":""},{"$f":"IF(COLUMN()-26>Setup!$C$6-Setup!$C$5,\"\",Conv!FU1)","v":""},{"$f":"IF(COLUMN()-26>Setup!$C$6-Setup!$C$5,\"\",Conv!FV1)","v":""},{"$f":"IF(COLUMN()-26>Setup!$C$6-Setup!$C$5,\"\",Conv!FW1)","v":""},{"$f":"IF(COLUMN()-26>Setup!$C$6-Setup!$C$5,\"\",Conv!FX1)","v":""},{"$f":"IF(COLUMN()-26>Setup!$C$6-Setup!$C$5,\"\",Conv!FY1)","v":""},{"$f":"IF(COLUMN()-26>Setup!$C$6-Setup!$C$5,\"\",Conv!FZ1)","v":""},{"$f":"IF(COLUMN()-26>Setup!$C$6-Setup!$C$5,\"\",Conv!GA1)","v":""},{"$f":"IF(COLUMN()-26>Setup!$C$6-Setup!$C$5,\"\",Conv!GB1)","v":""},{"$f":"IF(COLUMN()-26>Setup!$C$6-Setup!$C$5,\"\",Conv!GC1)","v":""},{"$f":"IF(COLUMN()-26>Setup!$C$6-Setup!$C$5,\"\",Conv!GD1)","v":""},{"$f":"IF(COLUMN()-26>Setup!$C$6-Setup!$C$5,\"\",Conv!GE1)","v":""},{"$f":"IF(COLUMN()-26>Setup!$C$6-Setup!$C$5,\"\",Conv!GF1)","v":""},{"$f":"IF(COLUMN()-26>Setup!$C$6-Setup!$C$5,\"\",Conv!GG1)","v":""},{"$f":"IF(COLUMN()-26>Setup!$C$6-Setup!$C$5,\"\",Conv!GH1)","v":""},{"$f":"IF(COLUMN()-26>Setup!$C$6-Setup!$C$5,\"\",Conv!GI1)","v":""},{"$f":"IF(COLUMN()-26>Setup!$C$6-Setup!$C$5,\"\",Conv!GJ1)","v":""},{"$f":"IF(COLUMN()-26>Setup!$C$6-Setup!$C$5,\"\",Conv!GK1)","v":""},{"$f":"IF(COLUMN()-26>Setup!$C$6-Setup!$C$5,\"\",Conv!GL1)","v":""},{"$f":"IF(COLUMN()-26>Setup!$C$6-Setup!$C$5,\"\",Conv!GM1)","v":""},{"$f":"IF(COLUMN()-26>Setup!$C$6-Setup!$C$5,\"\",Conv!GN1)","v":""},{"$f":"IF(COLUMN()-26>Setup!$C$6-Setup!$C$5,\"\",Conv!GO1)","v":""},{"$f":"IF(COLUMN()-26>Setup!$C$6-Setup!$C$5,\"\",Conv!GP1)","v":""},{"$f":"IF(COLUMN()-26>Setup!$C$6-Setup!$C$5,\"\",Conv!GQ1)","v":""},{"$f":"IF(COLUMN()-26>Setup!$C$6-Setup!$C$5,\"\",Conv!GR1)","v":""},{"$f":"IF(COLUMN()-26>Setup!$C$6-Setup!$C$5,\"\",Conv!GS1)","v":""},{"$f":"IF(COLUMN()-26>Setup!$C$6-Setup!$C$5,\"\",Conv!GT1)","v":""},{"$f":"IF(COLUMN()-26>Setup!$C$6-Setup!$C$5,\"\",Conv!GU1)","v":""},{"$f":"IF(COLUMN()-26>Setup!$C$6-Setup!$C$5,\"\",Conv!GV1)","v":""},{"$f":"IF(COLUMN()-26>Setup!$C$6-Setup!$C$5,\"\",Conv!GW1)","v":""},{"$f":"IF(COLUMN()-26>Setup!$C$6-Setup!$C$5,\"\",Conv!GX1)","v":""},{"$f":"IF(COLUMN()-26>Setup!$C$6-Setup!$C$5,\"\",Conv!GY1)","v":""},{"$f":"IF(COLUMN()-26>Setup!$C$6-Setup!$C$5,\"\",Conv!GZ1)","v":""},{"$f":"IF(COLUMN()-26>Setup!$C$6-Setup!$C$5,\"\",Conv!HA1)","v":""},{"$f":"IF(COLUMN()-26>Setup!$C$6-Setup!$C$5,\"\",Conv!HB1)","v":""},{"$f":"IF(COLUMN()-26>Setup!$C$6-Setup!$C$5,\"\",Conv!HC1)","v":""},{"$f":"IF(COLUMN()-26>Setup!$C$6-Setup!$C$5,\"\",Conv!HD1)","v":""},{"$f":"IF(COLUMN()-26>Setup!$C$6-Setup!$C$5,\"\",Conv!HE1)","v":""},{"$f":"IF(COLUMN()-26>Setup!$C$6-Setup!$C$5,\"\",Conv!HF1)","v":""},{"$f":"IF(COLUMN()-26>Setup!$C$6-Setup!$C$5,\"\",Conv!HG1)","v":""},{"$f":"IF(COLUMN()-26>Setup!$C$6-Setup!$C$5,\"\",Conv!HH1)","v":""},{"$f":"IF(COLUMN()-26>Setup!$C$6-Setup!$C$5,\"\",Conv!HI1)","v":""},{"$f":"IF(COLUMN()-26>Setup!$C$6-Setup!$C$5,\"\",Conv!HJ1)","v":""},{"$f":"IF(COLUMN()-26>Setup!$C$6-Setup!$C$5,\"\",Conv!HK1)","v":""},{"$f":"IF(COLUMN()-26>Setup!$C$6-Setup!$C$5,\"\",Conv!HL1)","v":""},{"$f":"IF(COLUMN()-26>Setup!$C$6-Setup!$C$5,\"\",Conv!HM1)","v":""},{"$f":"IF(COLUMN()-26>Setup!$C$6-Setup!$C$5,\"\",Conv!HN1)","v":""},{"$f":"IF(COLUMN()-26>Setup!$C$6-Setup!$C$5,\"\",Conv!HO1)","v":""},{"$f":"IF(COLUMN()-26>Setup!$C$6-Setup!$C$5,\"\",Conv!HP1)","v":""},{"$f":"IF(COLUMN()-26>Setup!$C$6-Setup!$C$5,\"\",Conv!HQ1)","v":""},{"$f":"IF(COLUMN()-26>Setup!$C$6-Setup!$C$5,\"\",Conv!HR1)","v":""},{"$f":"IF(COLUMN()-26>Setup!$C$6-Setup!$C$5,\"\",Conv!HS1)","v":""},{"$f":"IF(COLUMN()-26>Setup!$C$6-Setup!$C$5,\"\",Conv!HT1)","v":""},{"$f":"IF(COLUMN()-26>Setup!$C$6-Setup!$C$5,\"\",Conv!HU1)","v":""},{"$f":"IF(COLUMN()-26>Setup!$C$6-Setup!$C$5,\"\",Conv!HV1)","v":""},{"$f":"IF(COLUMN()-26>Setup!$C$6-Setup!$C$5,\"\",Conv!HW1)","v":""},{"$f":"IF(COLUMN()-26>Setup!$C$6-Setup!$C$5,\"\",Conv!HX1)","v":""},{"$f":"IF(COLUMN()-26>Setup!$C$6-Setup!$C$5,\"\",Conv!HY1)","v":""},{"$f":"IF(COLUMN()-26>Setup!$C$6-Setup!$C$5,\"\",Conv!HZ1)","v":""},{"$f":"IF(COLUMN()-26>Setup!$C$6-Setup!$C$5,\"\",Conv!IA1)","v":""},{"$f":"IF(COLUMN()-26>Setup!$C$6-Setup!$C$5,\"\",Conv!IB1)","v":""},{"$f":"IF(COLUMN()-26>Setup!$C$6-Setup!$C$5,\"\",Conv!IC1)","v":""},{"$f":"IF(COLUMN()-26>Setup!$C$6-Setup!$C$5,\"\",Conv!ID1)","v":""},{"$f":"IF(COLUMN()-26>Setup!$C$6-Setup!$C$5,\"\",Conv!IE1)","v":""},{"$f":"IF(COLUMN()-26>Setup!$C$6-Setup!$C$5,\"\",Conv!IF1)","v":""},{"$f":"IF(COLUMN()-26>Setup!$C$6-Setup!$C$5,\"\",Conv!IG1)","v":""},{"$f":"IF(COLUMN()-26>Setup!$C$6-Setup!$C$5,\"\",Conv!IH1)","v":""},{"$f":"IF(COLUMN()-26>Setup!$C$6-Setup!$C$5,\"\",Conv!II1)","v":""},{"$f":"IF(COLUMN()-26>Setup!$C$6-Setup!$C$5,\"\",Conv!IJ1)","v":""},{"$f":"IF(COLUMN()-26>Setup!$C$6-Setup!$C$5,\"\",Conv!IK1)","v":""},{"$f":"IF(COLUMN()-26>Setup!$C$6-Setup!$C$5,\"\",Conv!IL1)","v":""},{"$f":"IF(COLUMN()-26>Setup!$C$6-Setup!$C$5,\"\",Conv!IM1)","v":""},{"$f":"IF(COLUMN()-26>Setup!$C$6-Setup!$C$5,\"\",Conv!IN1)","v":""},{"$f":"IF(COLUMN()-26>Setup!$C$6-Setup!$C$5,\"\",Conv!IO1)","v":""},{"$f":"IF(COLUMN()-26>Setup!$C$6-Setup!$C$5,\"\",Conv!IP1)","v":""},{"$f":"IF(COLUMN()-26>Setup!$C$6-Setup!$C$5,\"\",Conv!IQ1)","v":""},{"$f":"IF(COLUMN()-26>Setup!$C$6-Setup!$C$5,\"\",Conv!IR1)","v":""},{"$f":"IF(COLUMN()-26>Setup!$C$6-Setup!$C$5,\"\",Conv!IS1)","v":""},{"$f":"IF(COLUMN()-26>Setup!$C$6-Setup!$C$5,\"\",Conv!IT1)","v":""},{"$f":"IF(COLUMN()-26>Setup!$C$6-Setup!$C$5,\"\",Conv!IU1)","v":""},{"$f":"IF(COLUMN()-26>Setup!$C$6-Setup!$C$5,\"\",Conv!IV1)","v":""},{"$f":"IF(COLUMN()-26>Setup!$C$6-Setup!$C$5,\"\",Conv!IW1)","v":""},{"$f":"IF(COLUMN()-26>Setup!$C$6-Setup!$C$5,\"\",Conv!IX1)","v":""},{"$f":"IF(COLUMN()-26>Setup!$C$6-Setup!$C$5,\"\",Conv!IY1)","v":""},{"$f":"IF(COLUMN()-26>Setup!$C$6-Setup!$C$5,\"\",Conv!IZ1)","v":""},{"$f":"IF(COLUMN()-26>Setup!$C$6-Setup!$C$5,\"\",Conv!JA1)","v":""},{"$f":"IF(COLUMN()-26>Setup!$C$6-Setup!$C$5,\"\",Conv!JB1)","v":""},{"$f":"IF(COLUMN()-26>Setup!$C$6-Setup!$C$5,\"\",Conv!JC1)","v":""},{"$f":"IF(COLUMN()-26>Setup!$C$6-Setup!$C$5,\"\",Conv!JD1)","v":""},{"$f":"IF(COLUMN()-26>Setup!$C$6-Setup!$C$5,\"\",Conv!JE1)","v":""},{"$f":"IF(COLUMN()-26>Setup!$C$6-Setup!$C$5,\"\",Conv!JF1)","v":""},{"$f":"IF(COLUMN()-26>Setup!$C$6-Setup!$C$5,\"\",Conv!JG1)","v":""},{"$f":"IF(COLUMN()-26>Setup!$C$6-Setup!$C$5,\"\",Conv!JH1)","v":""},{"$f":"IF(COLUMN()-26>Setup!$C$6-Setup!$C$5,\"\",Conv!JI1)","v":""},{"$f":"IF(COLUMN()-26>Setup!$C$6-Setup!$C$5,\"\",Conv!JJ1)","v":""},{"$f":"IF(COLUMN()-26>Setup!$C$6-Setup!$C$5,\"\",Conv!JK1)","v":""},{"$f":"IF(COLUMN()-26>Setup!$C$6-Setup!$C$5,\"\",Conv!JL1)","v":""},{"$f":"IF(COLUMN()-26>Setup!$C$6-Setup!$C$5,\"\",Conv!JM1)","v":""},{"$f":"IF(COLUMN()-26>Setup!$C$6-Setup!$C$5,\"\",Conv!JN1)","v":""}]
[1,{"$f":"IF(ISNUMBER(C2),RANK(C2,$C$2:$C$3004),\"\")","v":""},{"$f":"IF(ISNUMBER(F2),F2+(ROW()*0.001),\"\")","v":""},{"$f":"IF(ISERROR(FIND(\"Withdrew\",RawScores!B6)),RawScores!B6,RIGHT(RawScores!B6,LEN(RawScores!B6)-17))&\", \"&RawScores!C6","v":", "},{"$f":"IF(OR(ISERROR(FIND(\"Withdrew\",RawScores!B6))=FALSE,INDEX(OIQraw,ROW(),LastInputCol-3)=0),\"N\",IF(AND(Setup!$B$22=\"Yes\",INDEX(OIQraw,ROW(),LastInputCol)=1),\"N\",\"Y\"))","v":"N"},{"$f":"IF(E2=\"N\",\"X\",SUMIF(ItemHeaderRow,\"a\",$Z2:$JR2)+SUMIF(ItemHeaderRow,\"b\",$Z2:$JR2))","v":"X"},{"$f":"IF(ISNUMBER(F2),IF(INDEX(OIQraw,ROW(),9)=0,\"U\",INDEX(OIQraw,ROW(),9)),\"X\")","v":"X"},{"$f":"IF(ISNUMBER(F2),IF(INDEX(OIQraw,ROW(),10)=0,9,INDEX(OIQraw,ROW(),10)),\"X\")","v":"X"},{"$f":"IF(AND(ISNUMBER(F2),F2>Setup!$B$14-1),1,0)","v":0},{"$f":"IF(AND(F2>Setup!$B$14-1,Conv!H2<5),1,0)","v":0},{"$f":"IF(AND(F2>Setup!$B$14-1,Conv!G2=\"F\"),1,0)","v":0},{"$f":"IF($H2=L$1,$F2,\"\")","v":""},{"$f":"IF($H2=M$1,$F2,\"\")","v":""},"","",{"$f":"IF($H2=P$1,$F2,\"\")","v":""},{"$f":"IF($H2=Q$1,$F2,\"\")","v":""},{"$f":"IF($H2=R$1,$F2,\"\")","v":""},"",{"$f":"IF(AND($H2>0,H2<5),$F2,\"\")","v":""},{"$f":"IF($G2=U$1,$F2,\"\")","v":""},{"$f":"IF($G2=V$1,$F2,\"\")","v":""},"",{"$f":"IF($E2=\"Y\",SUMIF($Z$1:$JP$1,\"a\",$Z2:$JL2),\"X\")","v":"X"},{"$f":"IF($E2=\"Y\",SUMIF($Z$1:$JP$1,\"b\",$Z2:$JL2),\"X\")","v":"X"},{"$f":"IF($E2=\"Y\",INDEX(OIQraw,ROW(),Setup!$C$5+COLUMN()-26),\"x\")","v":"x"},{"$f":"IF($E2=\"Y\",INDEX(OIQraw,ROW(),Setup!$C$5+COLUMN()-26),\"x\")","v":"x"},{"$f":"IF($E2=\"Y\",INDEX(OIQraw,ROW(),Setup!$C$5+COLUMN()-26),\"x\")","v":"x"},{"$f":"IF($E2=\"Y\",INDEX(OIQraw,ROW(),Setup!$C$5+COLUMN()-26),\"x\")","v":"x"},{"$f":"IF($E2=\"Y\",INDEX(OIQraw,ROW(),Setup!$C$5+COLUMN()-26),\"x\")","v":"x"},{"$f":"IF($E2=\"Y\",INDEX(OIQraw,ROW(),Setup!$C$5+COLUMN()-26),\"x\")","v":"x"},{"$f":"IF($E2=\"Y\",INDEX(OIQraw,ROW(),Setup!$C$5+COLUMN()-26),\"x\")","v":"x"},{"$f":"IF($E2=\"Y\",INDEX(OIQraw,ROW(),Setup!$C$5+COLUMN()-26),\"x\")","v":"x"},{"$f":"IF($E2=\"Y\",INDEX(OIQraw,ROW(),Setup!$C$5+COLUMN()-26),\"x\")","v":"x"},{"$f":"IF($E2=\"Y\",INDEX(OIQraw,ROW(),Setup!$C$5+COLUMN()-26),\"x\")","v":"x"},{"$f":"IF($E2=\"Y\",INDEX(OIQraw,ROW(),Setup!$C$5+COLUMN()-26),\"x\")","v":"x"},{"$f":"IF($E2=\"Y\",INDEX(OIQraw,ROW(),Setup!$C$5+COLUMN()-26),\"x\")","v":"x"},{"$f":"IF($E2=\"Y\",INDEX(OIQraw,ROW(),Setup!$C$5+COLUMN()-26),\"x\")","v":"x"},{"$f":"IF($E2=\"Y\",INDEX(OIQraw,ROW(),Setup!$C$5+COLUMN()-26),\"x\")","v":"x"},{"$f":"IF($E2=\"Y\",INDEX(OIQraw,ROW(),Setup!$C$5+COLUMN()-26),\"x\")","v":"x"},{"$f":"IF($E2=\"Y\",INDEX(OIQraw,ROW(),Setup!$C$5+COLUMN()-26),\"x\")","v":"x"},{"$f":"IF($E2=\"Y\",INDEX(OIQraw,ROW(),Setup!$C$5+COLUMN()-26),\"x\")","v":"x"},{"$f":"IF($E2=\"Y\",INDEX(OIQraw,ROW(),Setup!$C$5+COLUMN()-26),\"x\")","v":"x"},{"$f":"IF($E2=\"Y\",INDEX(OIQraw,ROW(),Setup!$C$5+COLUMN()-26),\"x\")","v":"x"},{"$f":"IF($E2=\"Y\",INDEX(OIQraw,ROW(),Setup!$C$5+COLUMN()-26),\"x\")","v":"x"},{"$f":"IF($E2=\"Y\",INDEX(OIQraw,ROW(),Setup!$C$5+COLUMN()-26),\"x\")","v":"x"},{"$f":"IF($E2=\"Y\",INDEX(OIQraw,ROW(),Setup!$C$5+COLUMN()-26),\"x\")","v":"x"},{"$f":"IF($E2=\"Y\",INDEX(OIQraw,ROW(),Setup!$C$5+COLUMN()-26),\"x\")","v":"x"},{"$f":"IF($E2=\"Y\",INDEX(OIQraw,ROW(),Setup!$C$5+COLUMN()-26),\"x\")","v":"x"},{"$f":"IF($E2=\"Y\",INDEX(OIQraw,ROW(),Setup!$C$5+COLUMN()-26),\"x\")","v":"x"},{"$f":"IF($E2=\"Y\",INDEX(OIQraw,ROW(),Setup!$C$5+COLUMN()-26),\"x\")","v":"x"},{"$f":"IF($E2=\"Y\",INDEX(OIQraw,ROW(),Setup!$C$5+COLUMN()-26),\"x\")","v":"x"},{"$f":"IF($E2=\"Y\",INDEX(OIQraw,ROW(),Setup!$C$5+COLUMN()-26),\"x\")","v":"x"},{"$f":"IF($E2=\"Y\",INDEX(OIQraw,ROW(),Setup!$C$5+COLUMN()-26),\"x\")","v":"x"},{"$f":"IF($E2=\"Y\",INDEX(OIQraw,ROW(),Setup!$C$5+COLUMN()-26),\"x\")","v":"x"},{"$f":"IF($E2=\"Y\",INDEX(OIQraw,ROW(),Setup!$C$5+COLUMN()-26),\"x\")","v":"x"},{"$f":"IF($E2=\"Y\",INDEX(OIQraw,ROW(),Setup!$C$5+COLUMN()-26),\"x\")","v":"x"},{"$f":"IF($E2=\"Y\",INDEX(OIQraw,ROW(),Setup!$C$5+COLUMN()-26),\"x\")","v":"x"},{"$f":"IF($E2=\"Y\",INDEX(OIQraw,ROW(),Setup!$C$5+COLUMN()-26),\"x\")","v":"x"},{"$f":"IF($E2=\"Y\",INDEX(OIQraw,ROW(),Setup!$C$5+COLUMN()-26),\"x\")","v":"x"},{"$f":"IF($E2=\"Y\",INDEX(OIQraw,ROW(),Setup!$C$5+COLUMN()-26),\"x\")","v":"x"},{"$f":"IF($E2=\"Y\",INDEX(OIQraw,ROW(),Setup!$C$5+COLUMN()-26),\"x\")","v":"x"},{"$f":"IF($E2=\"Y\",INDEX(OIQraw,ROW(),Setup!$C$5+COLUMN()-26),\"x\")","v":"x"},{"$f":"IF($E2=\"Y\",INDEX(OIQraw,ROW(),Setup!$C$5+COLUMN()-26),\"x\")","v":"x"},{"$f":"IF($E2=\"Y\",INDEX(OIQraw,ROW(),Setup!$C$5+COLUMN()-26),\"x\")","v":"x"},{"$f":"IF($E2=\"Y\",INDEX(OIQraw,ROW(),Setup!$C$5+COLUMN()-26),\"x\")","v":"x"},{"$f":"IF($E2=\"Y\",INDEX(OIQraw,ROW(),Setup!$C$5+COLUMN()-26),\"x\")","v":"x"},{"$f":"IF($E2=\"Y\",INDEX(OIQraw,ROW(),Setup!$C$5+COLUMN()-26),\"x\")","v":"x"},{"$f":"IF($E2=\"Y\",INDEX(OIQraw,ROW(),Setup!$C$5+COLUMN()-26),\"x\")","v":"x"},{"$f":"IF($E2=\"Y\",INDEX(OIQraw,ROW(),Setup!$C$5+COLUMN()-26),\"x\")","v":"x"},{"$f":"IF($E2=\"Y\",INDEX(OIQraw,ROW(),Setup!$C$5+COLUMN()-26),\"x\")","v":"x"},{"$f":"IF($E2=\"Y\",INDEX(OIQraw,ROW(),Setup!$C$5+COLUMN()-26),\"x\")","v":"x"},{"$f":"IF($E2=\"Y\",INDEX(OIQraw,ROW(),Setup!$C$5+COLUMN()-26),\"x\")","v":"x"},{"$f":"IF($E2=\"Y\",INDEX(OIQraw,ROW(),Setup!$C$5+COLUMN()-26),\"x\")","v":"x"},{"$f":"IF($E2=\"Y\",INDEX(OIQraw,ROW(),Setup!$C$5+COLUMN()-26),\"x\")","v":"x"},{"$f":"IF($E2=\"Y\",INDEX(OIQraw,ROW(),Setup!$C$5+COLUMN()-26),\"x\")","v":"x"},{"$f":"IF($E2=\"Y\",INDEX(OIQraw,ROW(),Setup!$C$5+COLUMN()-26),\"x\")","v":"x"},{"$f":"IF($E2=\"Y\",INDEX(OIQraw,ROW(),Setup!$C$5+COLUMN()-26),\"x\")","v":"x"},{"$f":"IF($E2=\"Y\",INDEX(OIQraw,ROW(),Setup!$C$5+COLUMN()-26),\"x\")","v":"x"},{"$f":"IF($E2=\"Y\",INDEX(OIQraw,ROW(),Setup!$C$5+COLUMN()-26),\"x\")","v":"x"},{"$f":"IF($E2=\"Y\",INDEX(OIQraw,ROW(),Setup!$C$5+COLUMN()-26),\"x\")","v":"x"},{"$f":"IF($E2=\"Y\",INDEX(OIQraw,ROW(),Setup!$C$5+COLUMN()-26),\"x\")","v":"x"},{"$f":"IF($E2=\"Y\",INDEX(OIQraw,ROW(),Setup!$C$5+COLUMN()-26),\"x\")","v":"x"},{"$f":"IF($E2=\"Y\",INDEX(OIQraw,ROW(),Setup!$C$5+COLUMN()-26),\"x\")","v":"x"},{"$f":"IF($E2=\"Y\",INDEX(OIQraw,ROW(),Setup!$C$5+COLUMN()-26),\"x\")","v":"x"},{"$f":"IF($E2=\"Y\",INDEX(OIQraw,ROW(),Setup!$C$5+COLUMN()-26),\"x\")","v":"x"},{"$f":"IF($E2=\"Y\",INDEX(OIQraw,ROW(),Setup!$C$5+COLUMN()-26),\"x\")","v":"x"},{"$f":"IF($E2=\"Y\",INDEX(OIQraw,ROW(),Setup!$C$5+COLUMN()-26),\"x\")","v":"x"},{"$f":"IF($E2=\"Y\",INDEX(OIQraw,ROW(),Setup!$C$5+COLUMN()-26),\"x\")","v":"x"},{"$f":"IF($E2=\"Y\",INDEX(OIQraw,ROW(),Setup!$C$5+COLUMN()-26),\"x\")","v":"x"},{"$f":"IF($E2=\"Y\",INDEX(OIQraw,ROW(),Setup!$C$5+COLUMN()-26),\"x\")","v":"x"},{"$f":"IF($E2=\"Y\",INDEX(OIQraw,ROW(),Setup!$C$5+COLUMN()-26),\"x\")","v":"x"},{"$f":"IF($E2=\"Y\",INDEX(OIQraw,ROW(),Setup!$C$5+COLUMN()-26),\"x\")","v":"x"},{"$f":"IF($E2=\"Y\",INDEX(OIQraw,ROW(),Setup!$C$5+COLUMN()-26),\"x\")","v":"x"},{"$f":"IF($E2=\"Y\",INDEX(OIQraw,ROW(),Setup!$C$5+COLUMN()-26),\"x\")","v":"x"},{"$f":"IF($E2=\"Y\",INDEX(OIQraw,ROW(),Setup!$C$5+COLUMN()-26),\"x\")","v":"x"},{"$f":"IF($E2=\"Y\",INDEX(OIQraw,ROW(),Setup!$C$5+COLUMN()-26),\"x\")","v":"x"},{"$f":"IF($E2=\"Y\",INDEX(OIQraw,ROW(),Setup!$C$5+COLUMN()-26),\"x\")","v":"x"},{"$f":"IF($E2=\"Y\",INDEX(OIQraw,ROW(),Setup!$C$5+COLUMN()-26),\"x\")","v":"x"},{"$f":"IF($E2=\"Y\",INDEX(OIQraw,ROW(),Setup!$C$5+COLUMN()-26),\"x\")","v":"x"},{"$f":"IF($E2=\"Y\",INDEX(OIQraw,ROW(),Setup!$C$5+COLUMN()-26),\"x\")","v":"x"},{"$f":"IF($E2=\"Y\",INDEX(OIQraw,ROW(),Setup!$C$5+COLUMN()-26),\"x\")","v":"x"},{"$f":"IF($E2=\"Y\",INDEX(OIQraw,ROW(),Setup!$C$5+COLUMN()-26),\"x\")","v":"x"},{"$f":"IF($E2=\"Y\",INDEX(OIQraw,ROW(),Setup!$C$5+COLUMN()-26),\"x\")","v":"x"},{"$f":"IF($E2=\"Y\",INDEX(OIQraw,ROW(),Setup!$C$5+COLUMN()-26),\"x\")","v":"x"},{"$f":"IF($E2=\"Y\",INDEX(OIQraw,ROW(),Setup!$C$5+COLUMN()-26),\"x\")","v":"x"},{"$f":"IF($E2=\"Y\",INDEX(OIQraw,ROW(),Setup!$C$5+COLUMN()-26),\"x\")","v":"x"},{"$f":"IF($E2=\"Y\",INDEX(OIQraw,ROW(),Setup!$C$5+COLUMN()-26),\"x\")","v":"x"},{"$f":"IF($E2=\"Y\",INDEX(OIQraw,ROW(),Setup!$C$5+COLUMN()-26),\"x\")","v":"x"},{"$f":"IF($E2=\"Y\",INDEX(OIQraw,ROW(),Setup!$C$5+COLUMN()-26),\"x\")","v":"x"},{"$f":"IF($E2=\"Y\",INDEX(OIQraw,ROW(),Setup!$C$5+COLUMN()-26),\"x\")","v":"x"},{"$f":"IF($E2=\"Y\",INDEX(OIQraw,ROW(),Setup!$C$5+COLUMN()-26),\"x\")","v":"x"},{"$f":"IF($E2=\"Y\",INDEX(OIQraw,ROW(),Setup!$C$5+COLUMN()-26),\"x\")","v":"x"},{"$f":"IF($E2=\"Y\",INDEX(OIQraw,ROW(),Setup!$C$5+COLUMN()-26),\"x\")","v":"x"},{"$f":"IF($E2=\"Y\",INDEX(OIQraw,ROW(),Setup!$C$5+COLUMN()-26),\"x\")","v":"x"},{"$f":"IF($E2=\"Y\",INDEX(OIQraw,ROW(),Setup!$C$5+COLUMN()-26),\"x\")","v":"x"},{"$f":"IF($E2=\"Y\",INDEX(OIQraw,ROW(),Setup!$C$5+COLUMN()-26),\"x\")","v":"x"},{"$f":"IF($E2=\"Y\",INDEX(OIQraw,ROW(),Setup!$C$5+COLUMN()-26),\"x\")","v":"x"},{"$f":"IF($E2=\"Y\",INDEX(OIQraw,ROW(),Setup!$C$5+COLUMN()-26),\"x\")","v":"x"},{"$f":"IF($E2=\"Y\",INDEX(OIQraw,ROW(),Setup!$C$5+COLUMN()-26),\"x\")","v":"x"},{"$f":"IF($E2=\"Y\",INDEX(OIQraw,ROW(),Setup!$C$5+COLUMN()-26),\"x\")","v":"x"},{"$f":"IF($E2=\"Y\",INDEX(OIQraw,ROW(),Setup!$C$5+COLUMN()-26),\"x\")","v":"x"},{"$f":"IF($E2=\"Y\",INDEX(OIQraw,ROW(),Setup!$C$5+COLUMN()-26),\"x\")","v":"x"},{"$f":"IF($E2=\"Y\",INDEX(OIQraw,ROW(),Setup!$C$5+COLUMN()-26),\"x\")","v":"x"},{"$f":"IF($E2=\"Y\",INDEX(OIQraw,ROW(),Setup!$C$5+COLUMN()-26),\"x\")","v":"x"},{"$f":"IF($E2=\"Y\",INDEX(OIQraw,ROW(),Setup!$C$5+COLUMN()-26),\"x\")","v":"x"},{"$f":"IF($E2=\"Y\",INDEX(OIQraw,ROW(),Setup!$C$5+COLUMN()-26),\"x\")","v":"x"},{"$f":"IF($E2=\"Y\",INDEX(OIQraw,ROW(),Setup!$C$5+COLUMN()-26),\"x\")","v":"x"},{"$f":"IF($E2=\"Y\",INDEX(OIQraw,ROW(),Setup!$C$5+COLUMN()-26),\"x\")","v":"x"},{"$f":"IF($E2=\"Y\",INDEX(OIQraw,ROW(),Setup!$C$5+COLUMN()-26),\"x\")","v":"x"},{"$f":"IF($E2=\"Y\",INDEX(OIQraw,ROW(),Setup!$C$5+COLUMN()-26),\"x\")","v":"x"},{"$f":"IF($E2=\"Y\",INDEX(OIQraw,ROW(),Setup!$C$5+COLUMN()-26),\"x\")","v":"x"},{"$f":"IF($E2=\"Y\",INDEX(OIQraw,ROW(),Setup!$C$5+COLUMN()-26),\"x\")","v":"x"},{"$f":"IF($E2=\"Y\",INDEX(OIQraw,ROW(),Setup!$C$5+COLUMN()-26),\"x\")","v":"x"},{"$f":"IF($E2=\"Y\",INDEX(OIQraw,ROW(),Setup!$C$5+COLUMN()-26),\"x\")","v":"x"},{"$f":"IF($E2=\"Y\",INDEX(OIQraw,ROW(),Setup!$C$5+COLUMN()-26),\"x\")","v":"x"},{"$f":"IF($E2=\"Y\",INDEX(OIQraw,ROW(),Setup!$C$5+COLUMN()-26),\"x\")","v":"x"},{"$f":"IF($E2=\"Y\",INDEX(OIQraw,ROW(),Setup!$C$5+COLUMN()-26),\"x\")","v":"x"},{"$f":"IF($E2=\"Y\",INDEX(OIQraw,ROW(),Setup!$C$5+COLUMN()-26),\"x\")","v":"x"},{"$f":"IF($E2=\"Y\",INDEX(OIQraw,ROW(),Setup!$C$5+COLUMN()-26),\"x\")","v":"x"},{"$f":"IF($E2=\"Y\",INDEX(OIQraw,ROW(),Setup!$C$5+COLUMN()-26),\"x\")","v":"x"},{"$f":"IF($E2=\"Y\",INDEX(OIQraw,ROW(),Setup!$C$5+COLUMN()-26),\"x\")","v":"x"},{"$f":"IF($E2=\"Y\",INDEX(OIQraw,ROW(),Setup!$C$5+COLUMN()-26),\"x\")","v":"x"},{"$f":"IF($E2=\"Y\",INDEX(OIQraw,ROW(),Setup!$C$5+COLUMN()-26),\"x\")","v":"x"},{"$f":"IF($E2=\"Y\",INDEX(OIQraw,ROW(),Setup!$C$5+COLUMN()-26),\"x\")","v":"x"},{"$f":"IF($E2=\"Y\",INDEX(OIQraw,ROW(),Setup!$C$5+COLUMN()-26),\"x\")","v":"x"},{"$f":"IF($E2=\"Y\",INDEX(OIQraw,ROW(),Setup!$C$5+COLUMN()-26),\"x\")","v":"x"},{"$f":"IF($E2=\"Y\",INDEX(OIQraw,ROW(),Setup!$C$5+COLUMN()-26),\"x\")","v":"x"},{"$f":"IF($E2=\"Y\",INDEX(OIQraw,ROW(),Setup!$C$5+COLUMN()-26),\"x\")","v":"x"},{"$f":"IF($E2=\"Y\",INDEX(OIQraw,ROW(),Setup!$C$5+COLUMN()-26),\"x\")","v":"x"},{"$f":"IF($E2=\"Y\",INDEX(OIQraw,ROW(),Setup!$C$5+COLUMN()-26),\"x\")","v":"x"},{"$f":"IF($E2=\"Y\",INDEX(OIQraw,ROW(),Setup!$C$5+COLUMN()-26),\"x\")","v":"x"},{"$f":"IF($E2=\"Y\",INDEX(OIQraw,ROW(),Setup!$C$5+COLUMN()-26),\"x\")","v":"x"},{"$f":"IF($E2=\"Y\",INDEX(OIQraw,ROW(),Setup!$C$5+COLUMN()-26),\"x\")","v":"x"},{"$f":"IF($E2=\"Y\",INDEX(OIQraw,ROW(),Setup!$C$5+COLUMN()-26),\"x\")","v":"x"},{"$f":"IF($E2=\"Y\",INDEX(OIQraw,ROW(),Setup!$C$5+COLUMN()-26),\"x\")","v":"x"},{"$f":"IF($E2=\"Y\",INDEX(OIQraw,ROW(),Setup!$C$5+COLUMN()-26),\"x\")","v":"x"},{"$f":"IF($E2=\"Y\",INDEX(OIQraw,ROW(),Setup!$C$5+COLUMN()-26),\"x\")","v":"x"},{"$f":"IF($E2=\"Y\",INDEX(OIQraw,ROW(),Setup!$C$5+COLUMN()-26),\"x\")","v":"x"},{"$f":"IF($E2=\"Y\",INDEX(OIQraw,ROW(),Setup!$C$5+COLUMN()-26),\"x\")","v":"x"},{"$f":"IF($E2=\"Y\",INDEX(OIQraw,ROW(),Setup!$C$5+COLUMN()-26),\"x\")","v":"x"},{"$f":"IF($E2=\"Y\",INDEX(OIQraw,ROW(),Setup!$C$5+COLUMN()-26),\"x\")","v":"x"},{"$f":"IF($E2=\"Y\",INDEX(OIQraw,ROW(),Setup!$C$5+COLUMN()-26),\"x\")","v":"x"},{"$f":"IF($E2=\"Y\",INDEX(OIQraw,ROW(),Setup!$C$5+COLUMN()-26),\"x\")","v":"x"},{"$f":"IF($E2=\"Y\",INDEX(OIQraw,ROW(),Setup!$C$5+COLUMN()-26),\"x\")","v":"x"},{"$f":"IF($E2=\"Y\",INDEX(OIQraw,ROW(),Setup!$C$5+COLUMN()-26),\"x\")","v":"x"},{"$f":"IF($E2=\"Y\",INDEX(OIQraw,ROW(),Setup!$C$5+COLUMN()-26),\"x\")","v":"x"},{"$f":"IF($E2=\"Y\",INDEX(OIQraw,ROW(),Setup!$C$5+COLUMN()-26),\"x\")","v":"x"},{"$f":"IF($E2=\"Y\",INDEX(OIQraw,ROW(),Setup!$C$5+COLUMN()-26),\"x\")","v":"x"},{"$f":"IF($E2=\"Y\",INDEX(OIQraw,ROW(),Setup!$C$5+COLUMN()-26),\"x\")","v":"x"},{"$f":"IF($E2=\"Y\",INDEX(OIQraw,ROW(),Setup!$C$5+COLUMN()-26),\"x\")","v":"x"},{"$f":"IF($E2=\"Y\",INDEX(OIQraw,ROW(),Setup!$C$5+COLUMN()-26),\"x\")","v":"x"},{"$f":"IF($E2=\"Y\",INDEX(OIQraw,ROW(),Setup!$C$5+COLUMN()-26),\"x\")","v":"x"},{"$f":"IF($E2=\"Y\",INDEX(OIQraw,ROW(),Setup!$C$5+COLUMN()-26),\"x\")","v":"x"},{"$f":"IF($E2=\"Y\",INDEX(OIQraw,ROW(),Setup!$C$5+COLUMN()-26),\"x\")","v":"x"},{"$f":"IF($E2=\"Y\",INDEX(OIQraw,ROW(),Setup!$C$5+COLUMN()-26),\"x\")","v":"x"},{"$f":"IF($E2=\"Y\",INDEX(OIQraw,ROW(),Setup!$C$5+COLUMN()-26),\"x\")","v":"x"},{"$f":"IF($E2=\"Y\",INDEX(OIQraw,ROW(),Setup!$C$5+COLUMN()-26),\"x\")","v":"x"},{"$f":"IF($E2=\"Y\",INDEX(OIQraw,ROW(),Setup!$C$5+COLUMN()-26),\"x\")","v":"x"},{"$f":"IF($E2=\"Y\",INDEX(OIQraw,ROW(),Setup!$C$5+COLUMN()-26),\"x\")","v":"x"},{"$f":"IF($E2=\"Y\",INDEX(OIQraw,ROW(),Setup!$C$5+COLUMN()-26),\"x\")","v":"x"},{"$f":"IF($E2=\"Y\",INDEX(OIQraw,ROW(),Setup!$C$5+COLUMN()-26),\"x\")","v":"x"},{"$f":"IF($E2=\"Y\",INDEX(OIQraw,ROW(),Setup!$C$5+COLUMN()-26),\"x\")","v":"x"},{"$f":"IF($E2=\"Y\",INDEX(OIQraw,ROW(),Setup!$C$5+COLUMN()-26),\"x\")","v":"x"},{"$f":"IF($E2=\"Y\",INDEX(OIQraw,ROW(),Setup!$C$5+COLUMN()-26),\"x\")","v":"x"},{"$f":"IF($E2=\"Y\",INDEX(OIQraw,ROW(),Setup!$C$5+COLUMN()-26),\"x\")","v":"x"},{"$f":"IF($E2=\"Y\",INDEX(OIQraw,ROW(),Setup!$C$5+COLUMN()-26),\"x\")","v":"x"},{"$f":"IF($E2=\"Y\",INDEX(OIQraw,ROW(),Setup!$C$5+COLUMN()-26),\"x\")","v":"x"},{"$f":"IF($E2=\"Y\",INDEX(OIQraw,ROW(),Setup!$C$5+COLUMN()-26),\"x\")","v":"x"},{"$f":"IF($E2=\"Y\",INDEX(OIQraw,ROW(),Setup!$C$5+COLUMN()-26),\"x\")","v":"x"},{"$f":"IF($E2=\"Y\",INDEX(OIQraw,ROW(),Setup!$C$5+COLUMN()-26),\"x\")","v":"x"},{"$f":"IF($E2=\"Y\",INDEX(OIQraw,ROW(),Setup!$C$5+COLUMN()-26),\"x\")","v":"x"},{"$f":"IF($E2=\"Y\",INDEX(OIQraw,ROW(),Setup!$C$5+COLUMN()-26),\"x\")","v":"x"},{"$f":"IF($E2=\"Y\",INDEX(OIQraw,ROW(),Setup!$C$5+COLUMN()-26),\"x\")","v":"x"},{"$f":"IF($E2=\"Y\",INDEX(OIQraw,ROW(),Setup!$C$5+COLUMN()-26),\"x\")","v":"x"},{"$f":"IF($E2=\"Y\",INDEX(OIQraw,ROW(),Setup!$C$5+COLUMN()-26),\"x\")","v":"x"},{"$f":"IF($E2=\"Y\",INDEX(OIQraw,ROW(),Setup!$C$5+COLUMN()-26),\"x\")","v":"x"},{"$f":"IF($E2=\"Y\",INDEX(OIQraw,ROW(),Setup!$C$5+COLUMN()-26),\"x\")","v":"x"},{"$f":"IF($E2=\"Y\",INDEX(OIQraw,ROW(),Setup!$C$5+COLUMN()-26),\"x\")","v":"x"},{"$f":"IF($E2=\"Y\",INDEX(OIQraw,ROW(),Setup!$C$5+COLUMN()-26),\"x\")","v":"x"},{"$f":"IF($E2=\"Y\",INDEX(OIQraw,ROW(),Setup!$C$5+COLUMN()-26),\"x\")","v":"x"},{"$f":"IF($E2=\"Y\",INDEX(OIQraw,ROW(),Setup!$C$5+COLUMN()-26),\"x\")","v":"x"},{"$f":"IF($E2=\"Y\",INDEX(OIQraw,ROW(),Setup!$C$5+COLUMN()-26),\"x\")","v":"x"},{"$f":"IF($E2=\"Y\",INDEX(OIQraw,ROW(),Setup!$C$5+COLUMN()-26),\"x\")","v":"x"},{"$f":"IF($E2=\"Y\",INDEX(OIQraw,ROW(),Setup!$C$5+COLUMN()-26),\"x\")","v":"x"},{"$f":"IF($E2=\"Y\",INDEX(OIQraw,ROW(),Setup!$C$5+COLUMN()-26),\"x\")","v":"x"},{"$f":"IF($E2=\"Y\",INDEX(OIQraw,ROW(),Setup!$C$5+COLUMN()-26),\"x\")","v":"x"},{"$f":"IF($E2=\"Y\",INDEX(OIQraw,ROW(),Setup!$C$5+COLUMN()-26),\"x\")","v":"x"},{"$f":"IF($E2=\"Y\",INDEX(OIQraw,ROW(),Setup!$C$5+COLUMN()-26),\"x\")","v":"x"},{"$f":"IF($E2=\"Y\",INDEX(OIQraw,ROW(),Setup!$C$5+COLUMN()-26),\"x\")","v":"x"},{"$f":"IF($E2=\"Y\",INDEX(OIQraw,ROW(),Setup!$C$5+COLUMN()-26),\"x\")","v":"x"},{"$f":"IF($E2=\"Y\",INDEX(OIQraw,ROW(),Setup!$C$5+COLUMN()-26),\"x\")","v":"x"},{"$f":"IF($E2=\"Y\",INDEX(OIQraw,ROW(),Setup!$C$5+COLUMN()-26),\"x\")","v":"x"},{"$f":"IF($E2=\"Y\",INDEX(OIQraw,ROW(),Setup!$C$5+COLUMN()-26),\"x\")","v":"x"},{"$f":"IF($E2=\"Y\",INDEX(OIQraw,ROW(),Setup!$C$5+COLUMN()-26),\"x\")","v":"x"},{"$f":"IF($E2=\"Y\",INDEX(OIQraw,ROW(),Setup!$C$5+COLUMN()-26),\"x\")","v":"x"},{"$f":"IF($E2=\"Y\",INDEX(OIQraw,ROW(),Setup!$C$5+COLUMN()-26),\"x\")","v":"x"},{"$f":"IF($E2=\"Y\",INDEX(OIQraw,ROW(),Setup!$C$5+COLUMN()-26),\"x\")","v":"x"},{"$f":"IF($E2=\"Y\",INDEX(OIQraw,ROW(),Setup!$C$5+COLUMN()-26),\"x\")","v":"x"},{"$f":"IF($E2=\"Y\",INDEX(OIQraw,ROW(),Setup!$C$5+COLUMN()-26),\"x\")","v":"x"},{"$f":"IF($E2=\"Y\",INDEX(OIQraw,ROW(),Setup!$C$5+COLUMN()-26),\"x\")","v":"x"},{"$f":"IF($E2=\"Y\",INDEX(OIQraw,ROW(),Setup!$C$5+COLUMN()-26),\"x\")","v":"x"},{"$f":"IF($E2=\"Y\",INDEX(OIQraw,ROW(),Setup!$C$5+COLUMN()-26),\"x\")","v":"x"},{"$f":"IF($E2=\"Y\",INDEX(OIQraw,ROW(),Setup!$C$5+COLUMN()-26),\"x\")","v":"x"},{"$f":"IF($E2=\"Y\",INDEX(OIQraw,ROW(),Setup!$C$5+COLUMN()-26),\"x\")","v":"x"},{"$f":"IF($E2=\"Y\",INDEX(OIQraw,ROW(),Setup!$C$5+COLUMN()-26),\"x\")","v":"x"},{"$f":"IF($E2=\"Y\",INDEX(OIQraw,ROW(),Setup!$C$5+COLUMN()-26),\"x\")","v":"x"},{"$f":"IF($E2=\"Y\",INDEX(OIQraw,ROW(),Setup!$C$5+COLUMN()-26),\"x\")","v":"x"},{"$f":"IF($E2=\"Y\",INDEX(OIQraw,ROW(),Setup!$C$5+COLUMN()-26),\"x\")","v":"x"},{"$f":"IF($E2=\"Y\",INDEX(OIQraw,ROW(),Setup!$C$5+COLUMN()-26),\"x\")","v":"x"},{"$f":"IF($E2=\"Y\",INDEX(OIQraw,ROW(),Setup!$C$5+COLUMN()-26),\"x\")","v":"x"},{"$f":"IF($E2=\"Y\",INDEX(OIQraw,ROW(),Setup!$C$5+COLUMN()-26),\"x\")","v":"x"},{"$f":"IF($E2=\"Y\",INDEX(OIQraw,ROW(),Setup!$C$5+COLUMN()-26),\"x\")","v":"x"},{"$f":"IF($E2=\"Y\",INDEX(OIQraw,ROW(),Setup!$C$5+COLUMN()-26),\"x\")","v":"x"},{"$f":"IF($E2=\"Y\",INDEX(OIQraw,ROW(),Setup!$C$5+COLUMN()-26),\"x\")","v":"x"},{"$f":"IF($E2=\"Y\",INDEX(OIQraw,ROW(),Setup!$C$5+COLUMN()-26),\"x\")","v":"x"},{"$f":"IF($E2=\"Y\",INDEX(OIQraw,ROW(),Setup!$C$5+COLUMN()-26),\"x\")","v":"x"},{"$f":"IF($E2=\"Y\",INDEX(OIQraw,ROW(),Setup!$C$5+COLUMN()-26),\"x\")","v":"x"},{"$f":"IF($E2=\"Y\",INDEX(OIQraw,ROW(),Setup!$C$5+COLUMN()-26),\"x\")","v":"x"},{"$f":"IF($E2=\"Y\",INDEX(OIQraw,ROW(),Setup!$C$5+COLUMN()-26),\"x\")","v":"x"},{"$f":"IF($E2=\"Y\",INDEX(OIQraw,ROW(),Setup!$C$5+COLUMN()-26),\"x\")","v":"x"},{"$f":"IF($E2=\"Y\",INDEX(OIQraw,ROW(),Setup!$C$5+COLUMN()-26),\"x\")","v":"x"},{"$f":"IF($E2=\"Y\",INDEX(OIQraw,ROW(),Setup!$C$5+COLUMN()-26),\"x\")","v":"x"},{"$f":"IF($E2=\"Y\",INDEX(OIQraw,ROW(),Setup!$C$5+COLUMN()-26),\"x\")","v":"x"},{"$f":"IF($E2=\"Y\",INDEX(OIQraw,ROW(),Setup!$C$5+COLUMN()-26),\"x\")","v":"x"},{"$f":"IF($E2=\"Y\",INDEX(OIQraw,ROW(),Setup!$C$5+COLUMN()-26),\"x\")","v":"x"},{"$f":"IF($E2=\"Y\",INDEX(OIQraw,ROW(),Setup!$C$5+COLUMN()-26),\"x\")","v":"x"},{"$f":"IF($E2=\"Y\",INDEX(OIQraw,ROW(),Setup!$C$5+COLUMN()-26),\"x\")","v":"x"},{"$f":"IF($E2=\"Y\",INDEX(OIQraw,ROW(),Setup!$C$5+COLUMN()-26),\"x\")","v":"x"},{"$f":"IF($E2=\"Y\",INDEX(OIQraw,ROW(),Setup!$C$5+COLUMN()-26),\"x\")","v":"x"},{"$f":"IF($E2=\"Y\",INDEX(OIQraw,ROW(),Setup!$C$5+COLUMN()-26),\"x\")","v":"x"},{"$f":"IF($E2=\"Y\",INDEX(OIQraw,ROW(),Setup!$C$5+COLUMN()-26),\"x\")","v":"x"},{"$f":"IF($E2=\"Y\",INDEX(OIQraw,ROW(),Setup!$C$5+COLUMN()-26),\"x\")","v":"x"},{"$f":"IF($E2=\"Y\",INDEX(OIQraw,ROW(),Setup!$C$5+COLUMN()-26),\"x\")","v":"x"},{"$f":"IF($E2=\"Y\",INDEX(OIQraw,ROW(),Setup!$C$5+COLUMN()-26),\"x\")","v":"x"},{"$f":"IF($E2=\"Y\",INDEX(OIQraw,ROW(),Setup!$C$5+COLUMN()-26),\"x\")","v":"x"},{"$f":"IF($E2=\"Y\",INDEX(OIQraw,ROW(),Setup!$C$5+COLUMN()-26),\"x\")","v":"x"},{"$f":"IF($E2=\"Y\",INDEX(OIQraw,ROW(),Setup!$C$5+COLUMN()-26),\"x\")","v":"x"},{"$f":"IF($E2=\"Y\",INDEX(OIQraw,ROW(),Setup!$C$5+COLUMN()-26),\"x\")","v":"x"},{"$f":"IF($E2=\"Y\",INDEX(OIQraw,ROW(),Setup!$C$5+COLUMN()-26),\"x\")","v":"x"},{"$f":"IF($E2=\"Y\",INDEX(OIQraw,ROW(),Setup!$C$5+COLUMN()-26),\"x\")","v":"x"},{"$f":"IF($E2=\"Y\",INDEX(OIQraw,ROW(),Setup!$C$5+COLUMN()-26),\"x\")","v":"x"},{"$f":"IF($E2=\"Y\",INDEX(OIQraw,ROW(),Setup!$C$5+COLUMN()-26),\"x\")","v":"x"},{"$f":"IF($E2=\"Y\",INDEX(OIQraw,ROW(),Setup!$C$5+COLUMN()-26),\"x\")","v":"x"},{"$f":"IF($E2=\"Y\",INDEX(OIQraw,ROW(),Setup!$C$5+COLUMN()-26),\"x\")","v":"x"},{"$f":"IF($E2=\"Y\",INDEX(OIQraw,ROW(),Setup!$C$5+COLUMN()-26),\"x\")","v":"x"},{"$f":"IF($E2=\"Y\",INDEX(OIQraw,ROW(),Setup!$C$5+COLUMN()-26),\"x\")","v":"x"},{"$f":"IF($E2=\"Y\",INDEX(OIQraw,ROW(),Setup!$C$5+COLUMN()-26),\"x\")","v":"x"},{"$f":"IF($E2=\"Y\",INDEX(OIQraw,ROW(),Setup!$C$5+COLUMN()-26),\"x\")","v":"x"},{"$f":"IF($E2=\"Y\",INDEX(OIQraw,ROW(),Setup!$C$5+COLUMN()-26),\"x\")","v":"x"},{"$f":"IF($E2=\"Y\",INDEX(OIQraw,ROW(),Setup!$C$5+COLUMN()-26),\"x\")","v":"x"},{"$f":"IF($E2=\"Y\",INDEX(OIQraw,ROW(),Setup!$C$5+COLUMN()-26),\"x\")","v":"x"},{"$f":"IF($E2=\"Y\",INDEX(OIQraw,ROW(),Setup!$C$5+COLUMN()-26),\"x\")","v":"x"},{"$f":"IF($E2=\"Y\",INDEX(OIQraw,ROW(),Setup!$C$5+COLUMN()-26),\"x\")","v":"x"},{"$f":"IF($E2=\"Y\",INDEX(OIQraw,ROW(),Setup!$C$5+COLUMN()-26),\"x\")","v":"x"},{"$f":"IF($E2=\"Y\",INDEX(OIQraw,ROW(),Setup!$C$5+COLUMN()-26),\"x\")","v":"x"},{"$f":"IF($E2=\"Y\",INDEX(OIQraw,ROW(),Setup!$C$5+COLUMN()-26),\"x\")","v":"x"},{"$f":"IF($E2=\"Y\",INDEX(OIQraw,ROW(),Setup!$C$5+COLUMN()-26),\"x\")","v":"x"}]
[{"$f":"IF(ISNUMBER(F3),A2+1,A2)","v":1},{"$f":"IF(ISNUMBER(C3),RANK(C3,$C$2:$C$3004),\"\")","v":""},{"$f":"IF(ISNUMBER(F3),F3+(ROW()*0.001),\"\")","v":""},{"$f":"IF(ISERROR(FIND(\"Withdrew\",RawScores!B7)),RawScores!B7,RIGHT(RawScores!B7,LEN(RawScores!B7)-17))&\", \"&RawScores!C7","v":", "},{"$f":"IF(OR(ISERROR(FIND(\"Withdrew\",RawScores!B7))=FALSE,INDEX(OIQraw,ROW(),LastInputCol-3)=0),\"N\",IF(AND(Setup!$B$22=\"Yes\",INDEX(OIQraw,ROW(),LastInputCol)=1),\"N\",\"Y\"))","v":"N"},"X","X","X",{"$f":"IF(AND(ISNUMBER(F3),F3>Setup!$B$14-1),1,0)","v":0},{"$f":"IF(AND(F3>Setup!$B$14-1,Conv!H3<5),1,0)","v":0},{"$f":"IF(AND(F3>Setup!$B$14-1,Conv!G3=\"F\"),1,0)","v":0},"","","","","","","","",{"$f":"IF(AND($H3>0,H3<5),$F3,\"\")","v":""},{"$f":"IF($G3=U$1,$F3,\"\")","v":""},"","",{"$f":"IF($E3=\"Y\",SUMIF($Z$1:$JP$1,\"a\",$Z3:$JL3),\"X\")","v":"X"},{"$f":"IF($E3=\"Y\",SUMIF($Z$1:$JP$1,\"b\",$Z3:$JL3),\"X\")","v":"X"},{"$f":"IF($E3=\"Y\",INDEX(OIQraw,ROW(),Setup!$C$5+COLUMN()-26),\"x\")","v":"x"},{"$f":"IF($E3=\"Y\",INDEX(OIQraw,ROW(),Setup!$C$5+COLUMN()-26),\"x\")","v":"x"},{"$f":"IF($E3=\"Y\",INDEX(OIQraw,ROW(),Setup!$C$5+COLUMN()-26),\"x\")","v":"x"},{"$f":"IF($E3=\"Y\",INDEX(OIQraw,ROW(),Setup!$C$5+COLUMN()-26),\"x\")","v":"x"},{"$f":"IF($E3=\"Y\",INDEX(OIQraw,ROW(),Setup!$C$5+COLUMN()-26),\"x\")","v":"x"},{"$f":"IF($E3=\"Y\",INDEX(OIQraw,ROW(),Setup!$C$5+COLUMN()-26),\"x\")","v":"x"},{"$f":"IF($E3=\"Y\",INDEX(OIQraw,ROW(),Setup!$C$5+COLUMN()-26),\"x\")","v":"x"},{"$f":"IF($E3=\"Y\",INDEX(OIQraw,ROW(),Setup!$C$5+COLUMN()-26),\"x\")","v":"x"},{"$f":"IF($E3=\"Y\",INDEX(OIQraw,ROW(),Setup!$C$5+COLUMN()-26),\"x\")","v":"x"},{"$f":"IF($E3=\"Y\",INDEX(OIQraw,ROW(),Setup!$C$5+COLUMN()-26),\"x\")","v":"x"},{"$f":"IF($E3=\"Y\",INDEX(OIQraw,ROW(),Setup!$C$5+COLUMN()-26),\"x\")","v":"x"},{"$f":"IF($E3=\"Y\",INDEX(OIQraw,ROW(),Setup!$C$5+COLUMN()-26),\"x\")","v":"x"},{"$f":"IF($E3=\"Y\",INDEX(OIQraw,ROW(),Setup!$C$5+COLUMN()-26),\"x\")","v":"x"},{"$f":"IF($E3=\"Y\",INDEX(OIQraw,ROW(),Setup!$C$5+COLUMN()-26),\"x\")","v":"x"},{"$f":"IF($E3=\"Y\",INDEX(OIQraw,ROW(),Setup!$C$5+COLUMN()-26),\"x\")","v":"x"},{"$f":"IF($E3=\"Y\",INDEX(OIQraw,ROW(),Setup!$C$5+COLUMN()-26),\"x\")","v":"x"},{"$f":"IF($E3=\"Y\",INDEX(OIQraw,ROW(),Setup!$C$5+COLUMN()-26),\"x\")","v":"x"},{"$f":"IF($E3=\"Y\",INDEX(OIQraw,ROW(),Setup!$C$5+COLUMN()-26),\"x\")","v":"x"},{"$f":"IF($E3=\"Y\",INDEX(OIQraw,ROW(),Setup!$C$5+COLUMN()-26),\"x\")","v":"x"},{"$f":"IF($E3=\"Y\",INDEX(OIQraw,ROW(),Setup!$C$5+COLUMN()-26),\"x\")","v":"x"},{"$f":"IF($E3=\"Y\",INDEX(OIQraw,ROW(),Setup!$C$5+COLUMN()-26),\"x\")","v":"x"},{"$f":"IF($E3=\"Y\",INDEX(OIQraw,ROW(),Setup!$C$5+COLUMN()-26),\"x\")","v":"x"},{"$f":"IF($E3=\"Y\",INDEX(OIQraw,ROW(),Setup!$C$5+COLUMN()-26),\"x\")","v":"x"},{"$f":"IF($E3=\"Y\",INDEX(OIQraw,ROW(),Setup!$C$5+COLUMN()-26),\"x\")","v":"x"},{"$f":"IF($E3=\"Y\",INDEX(OIQraw,ROW(),Setup!$C$5+COLUMN()-26),\"x\")","v":"x"},{"$f":"IF($E3=\"Y\",INDEX(OIQraw,ROW(),Setup!$C$5+COLUMN()-26),\"x\")","v":"x"},{"$f":"IF($E3=\"Y\",INDEX(OIQraw,ROW(),Setup!$C$5+COLUMN()-26),\"x\")","v":"x"},{"$f":"IF($E3=\"Y\",INDEX(OIQraw,ROW(),Setup!$C$5+COLUMN()-26),\"x\")","v":"x"},{"$f":"IF($E3=\"Y\",INDEX(OIQraw,ROW(),Setup!$C$5+COLUMN()-26),\"x\")","v":"x"},{"$f":"IF($E3=\"Y\",INDEX(OIQraw,ROW(),Setup!$C$5+COLUMN()-26),\"x\")","v":"x"},{"$f":"IF($E3=\"Y\",INDEX(OIQraw,ROW(),Setup!$C$5+COLUMN()-26),\"x\")","v":"x"},{"$f":"IF($E3=\"Y\",INDEX(OIQraw,ROW(),Setup!$C$5+COLUMN()-26),\"x\")","v":"x"},{"$f":"IF($E3=\"Y\",INDEX(OIQraw,ROW(),Setup!$C$5+COLUMN()-26),\"x\")","v":"x"},{"$f":"IF($E3=\"Y\",INDEX(OIQraw,ROW(),Setup!$C$5+COLUMN()-26),\"x\")","v":"x"},{"$f":"IF($E3=\"Y\",INDEX(OIQraw,ROW(),Setup!$C$5+COLUMN()-26),\"x\")","v":"x"},{"$f":"IF($E3=\"Y\",INDEX(OIQraw,ROW(),Setup!$C$5+COLUMN()-26),\"x\")","v":"x"},{"$f":"IF($E3=\"Y\",INDEX(OIQraw,ROW(),Setup!$C$5+COLUMN()-26),\"x\")","v":"x"},{"$f":"IF($E3=\"Y\",INDEX(OIQraw,ROW(),Setup!$C$5+COLUMN()-26),\"x\")","v":"x"},{"$f":"IF($E3=\"Y\",INDEX(OIQraw,ROW(),Setup!$C$5+COLUMN()-26),\"x\")","v":"x"},{"$f":"IF($E3=\"Y\",INDEX(OIQraw,ROW(),Setup!$C$5+COLUMN()-26),\"x\")","v":"x"},{"$f":"IF($E3=\"Y\",INDEX(OIQraw,ROW(),Setup!$C$5+COLUMN()-26),\"x\")","v":"x"},{"$f":"IF($E3=\"Y\",INDEX(OIQraw,ROW(),Setup!$C$5+COLUMN()-26),\"x\")","v":"x"},{"$f":"IF($E3=\"Y\",INDEX(OIQraw,ROW(),Setup!$C$5+COLUMN()-26),\"x\")","v":"x"},{"$f":"IF($E3=\"Y\",INDEX(OIQraw,ROW(),Setup!$C$5+COLUMN()-26),\"x\")","v":"x"},{"$f":"IF($E3=\"Y\",INDEX(OIQraw,ROW(),Setup!$C$5+COLUMN()-26),\"x\")","v":"x"},{"$f":"IF($E3=\"Y\",INDEX(OIQraw,ROW(),Setup!$C$5+COLUMN()-26),\"x\")","v":"x"},{"$f":"IF($E3=\"Y\",INDEX(OIQraw,ROW(),Setup!$C$5+COLUMN()-26),\"x\")","v":"x"},{"$f":"IF($E3=\"Y\",INDEX(OIQraw,ROW(),Setup!$C$5+COLUMN()-26),\"x\")","v":"x"},{"$f":"IF($E3=\"Y\",INDEX(OIQraw,ROW(),Setup!$C$5+COLUMN()-26),\"x\")","v":"x"},{"$f":"IF($E3=\"Y\",INDEX(OIQraw,ROW(),Setup!$C$5+COLUMN()-26),\"x\")","v":"x"},{"$f":"IF($E3=\"Y\",INDEX(OIQraw,ROW(),Setup!$C$5+COLUMN()-26),\"x\")","v":"x"},{"$f":"IF($E3=\"Y\",INDEX(OIQraw,ROW(),Setup!$C$5+COLUMN()-26),\"x\")","v":"x"},{"$f":"IF($E3=\"Y\",INDEX(OIQraw,ROW(),Setup!$C$5+COLUMN()-26),\"x\")","v":"x"},{"$f":"IF($E3=\"Y\",INDEX(OIQraw,ROW(),Setup!$C$5+COLUMN()-26),\"x\")","v":"x"},{"$f":"IF($E3=\"Y\",INDEX(OIQraw,ROW(),Setup!$C$5+COLUMN()-26),\"x\")","v":"x"},{"$f":"IF($E3=\"Y\",INDEX(OIQraw,ROW(),Setup!$C$5+COLUMN()-26),\"x\")","v":"x"},{"$f":"IF($E3=\"Y\",INDEX(OIQraw,ROW(),Setup!$C$5+COLUMN()-26),\"x\")","v":"x"},{"$f":"IF($E3=\"Y\",INDEX(OIQraw,ROW(),Setup!$C$5+COLUMN()-26),\"x\")","v":"x"},{"$f":"IF($E3=\"Y\",INDEX(OIQraw,ROW(),Setup!$C$5+COLUMN()-26),\"x\")","v":"x"},{"$f":"IF($E3=\"Y\",INDEX(OIQraw,ROW(),Setup!$C$5+COLUMN()-26),\"x\")","v":"x"},{"$f":"IF($E3=\"Y\",INDEX(OIQraw,ROW(),Setup!$C$5+COLUMN()-26),\"x\")","v":"x"},{"$f":"IF($E3=\"Y\",INDEX(OIQraw,ROW(),Setup!$C$5+COLUMN()-26),\"x\")","v":"x"},{"$f":"IF($E3=\"Y\",INDEX(OIQraw,ROW(),Setup!$C$5+COLUMN()-26),\"x\")","v":"x"},{"$f":"IF($E3=\"Y\",INDEX(OIQraw,ROW(),Setup!$C$5+COLUMN()-26),\"x\")","v":"x"},{"$f":"IF($E3=\"Y\",INDEX(OIQraw,ROW(),Setup!$C$5+COLUMN()-26),\"x\")","v":"x"},{"$f":"IF($E3=\"Y\",INDEX(OIQraw,ROW(),Setup!$C$5+COLUMN()-26),\"x\")","v":"x"},{"$f":"IF($E3=\"Y\",INDEX(OIQraw,ROW(),Setup!$C$5+COLUMN()-26),\"x\")","v":"x"},{"$f":"IF($E3=\"Y\",INDEX(OIQraw,ROW(),Setup!$C$5+COLUMN()-26),\"x\")","v":"x"},{"$f":"IF($E3=\"Y\",INDEX(OIQraw,ROW(),Setup!$C$5+COLUMN()-26),\"x\")","v":"x"},{"$f":"IF($E3=\"Y\",INDEX(OIQraw,ROW(),Setup!$C$5+COLUMN()-26),\"x\")","v":"x"},{"$f":"IF($E3=\"Y\",INDEX(OIQraw,ROW(),Setup!$C$5+COLUMN()-26),\"x\")","v":"x"},{"$f":"IF($E3=\"Y\",INDEX(OIQraw,ROW(),Setup!$C$5+COLUMN()-26),\"x\")","v":"x"},{"$f":"IF($E3=\"Y\",INDEX(OIQraw,ROW(),Setup!$C$5+COLUMN()-26),\"x\")","v":"x"},{"$f":"IF($E3=\"Y\",INDEX(OIQraw,ROW(),Setup!$C$5+COLUMN()-26),\"x\")","v":"x"},{"$f":"IF($E3=\"Y\",INDEX(OIQraw,ROW(),Setup!$C$5+COLUMN()-26),\"x\")","v":"x"},{"$f":"IF($E3=\"Y\",INDEX(OIQraw,ROW(),Setup!$C$5+COLUMN()-26),\"x\")","v":"x"},{"$f":"IF($E3=\"Y\",INDEX(OIQraw,ROW(),Setup!$C$5+COLUMN()-26),\"x\")","v":"x"},{"$f":"IF($E3=\"Y\",INDEX(OIQraw,ROW(),Setup!$C$5+COLUMN()-26),\"x\")","v":"x"},{"$f":"IF($E3=\"Y\",INDEX(OIQraw,ROW(),Setup!$C$5+COLUMN()-26),\"x\")","v":"x"},{"$f":"IF($E3=\"Y\",INDEX(OIQraw,ROW(),Setup!$C$5+COLUMN()-26),\"x\")","v":"x"},{"$f":"IF($E3=\"Y\",INDEX(OIQraw,ROW(),Setup!$C$5+COLUMN()-26),\"x\")","v":"x"},{"$f":"IF($E3=\"Y\",INDEX(OIQraw,ROW(),Setup!$C$5+COLUMN()-26),\"x\")","v":"x"},{"$f":"IF($E3=\"Y\",INDEX(OIQraw,ROW(),Setup!$C$5+COLUMN()-26),\"x\")","v":"x"},{"$f":"IF($E3=\"Y\",INDEX(OIQraw,ROW(),Setup!$C$5+COLUMN()-26),\"x\")","v":"x"},{"$f":"IF($E3=\"Y\",INDEX(OIQraw,ROW(),Setup!$C$5+COLUMN()-26),\"x\")","v":"x"},{"$f":"IF($E3=\"Y\",INDEX(OIQraw,ROW(),Setup!$C$5+COLUMN()-26),\"x\")","v":"x"},{"$f":"IF($E3=\"Y\",INDEX(OIQraw,ROW(),Setup!$C$5+COLUMN()-26),\"x\")","v":"x"},{"$f":"IF($E3=\"Y\",INDEX(OIQraw,ROW(),Setup!$C$5+COLUMN()-26),\"x\")","v":"x"},{"$f":"IF($E3=\"Y\",INDEX(OIQraw,ROW(),Setup!$C$5+COLUMN()-26),\"x\")","v":"x"},{"$f":"IF($E3=\"Y\",INDEX(OIQraw,ROW(),Setup!$C$5+COLUMN()-26),\"x\")","v":"x"},{"$f":"IF($E3=\"Y\",INDEX(OIQraw,ROW(),Setup!$C$5+COLUMN()-26),\"x\")","v":"x"},{"$f":"IF($E3=\"Y\",INDEX(OIQraw,ROW(),Setup!$C$5+COLUMN()-26),\"x\")","v":"x"},{"$f":"IF($E3=\"Y\",INDEX(OIQraw,ROW(),Setup!$C$5+COLUMN()-26),\"x\")","v":"x"},{"$f":"IF($E3=\"Y\",INDEX(OIQraw,ROW(),Setup!$C$5+COLUMN()-26),\"x\")","v":"x"},{"$f":"IF($E3=\"Y\",INDEX(OIQraw,ROW(),Setup!$C$5+COLUMN()-26),\"x\")","v":"x"},{"$f":"IF($E3=\"Y\",INDEX(OIQraw,ROW(),Setup!$C$5+COLUMN()-26),\"x\")","v":"x"},{"$f":"IF($E3=\"Y\",INDEX(OIQraw,ROW(),Setup!$C$5+COLUMN()-26),\"x\")","v":"x"},{"$f":"IF($E3=\"Y\",INDEX(OIQraw,ROW(),Setup!$C$5+COLUMN()-26),\"x\")","v":"x"},{"$f":"IF($E3=\"Y\",INDEX(OIQraw,ROW(),Setup!$C$5+COLUMN()-26),\"x\")","v":"x"},{"$f":"IF($E3=\"Y\",INDEX(OIQraw,ROW(),Setup!$C$5+COLUMN()-26),\"x\")","v":"x"},{"$f":"IF($E3=\"Y\",INDEX(OIQraw,ROW(),Setup!$C$5+COLUMN()-26),\"x\")","v":"x"},{"$f":"IF($E3=\"Y\",INDEX(OIQraw,ROW(),Setup!$C$5+COLUMN()-26),\"x\")","v":"x"},{"$f":"IF($E3=\"Y\",INDEX(OIQraw,ROW(),Setup!$C$5+COLUMN()-26),\"x\")","v":"x"},{"$f":"IF($E3=\"Y\",INDEX(OIQraw,ROW(),Setup!$C$5+COLUMN()-26),\"x\")","v":"x"},{"$f":"IF($E3=\"Y\",INDEX(OIQraw,ROW(),Setup!$C$5+COLUMN()-26),\"x\")","v":"x"},{"$f":"IF($E3=\"Y\",INDEX(OIQraw,ROW(),Setup!$C$5+COLUMN()-26),\"x\")","v":"x"},{"$f":"IF($E3=\"Y\",INDEX(OIQraw,ROW(),Setup!$C$5+COLUMN()-26),\"x\")","v":"x"},{"$f":"IF($E3=\"Y\",INDEX(OIQraw,ROW(),Setup!$C$5+COLUMN()-26),\"x\")","v":"x"},{"$f":"IF($E3=\"Y\",INDEX(OIQraw,ROW(),Setup!$C$5+COLUMN()-26),\"x\")","v":"x"},{"$f":"IF($E3=\"Y\",INDEX(OIQraw,ROW(),Setup!$C$5+COLUMN()-26),\"x\")","v":"x"},{"$f":"IF($E3=\"Y\",INDEX(OIQraw,ROW(),Setup!$C$5+COLUMN()-26),\"x\")","v":"x"},{"$f":"IF($E3=\"Y\",INDEX(OIQraw,ROW(),Setup!$C$5+COLUMN()-26),\"x\")","v":"x"},{"$f":"IF($E3=\"Y\",INDEX(OIQraw,ROW(),Setup!$C$5+COLUMN()-26),\"x\")","v":"x"},{"$f":"IF($E3=\"Y\",INDEX(OIQraw,ROW(),Setup!$C$5+COLUMN()-26),\"x\")","v":"x"},{"$f":"IF($E3=\"Y\",INDEX(OIQraw,ROW(),Setup!$C$5+COLUMN()-26),\"x\")","v":"x"},{"$f":"IF($E3=\"Y\",INDEX(OIQraw,ROW(),Setup!$C$5+COLUMN()-26),\"x\")","v":"x"},{"$f":"IF($E3=\"Y\",INDEX(OIQraw,ROW(),Setup!$C$5+COLUMN()-26),\"x\")","v":"x"},{"$f":"IF($E3=\"Y\",INDEX(OIQraw,ROW(),Setup!$C$5+COLUMN()-26),\"x\")","v":"x"},{"$f":"IF($E3=\"Y\",INDEX(OIQraw,ROW(),Setup!$C$5+COLUMN()-26),\"x\")","v":"x"},{"$f":"IF($E3=\"Y\",INDEX(OIQraw,ROW(),Setup!$C$5+COLUMN()-26),\"x\")","v":"x"},{"$f":"IF($E3=\"Y\",INDEX(OIQraw,ROW(),Setup!$C$5+COLUMN()-26),\"x\")","v":"x"},{"$f":"IF($E3=\"Y\",INDEX(OIQraw,ROW(),Setup!$C$5+COLUMN()-26),\"x\")","v":"x"},{"$f":"IF($E3=\"Y\",INDEX(OIQraw,ROW(),Setup!$C$5+COLUMN()-26),\"x\")","v":"x"},{"$f":"IF($E3=\"Y\",INDEX(OIQraw,ROW(),Setup!$C$5+COLUMN()-26),\"x\")","v":"x"},{"$f":"IF($E3=\"Y\",INDEX(OIQraw,ROW(),Setup!$C$5+COLUMN()-26),\"x\")","v":"x"},{"$f":"IF($E3=\"Y\",INDEX(OIQraw,ROW(),Setup!$C$5+COLUMN()-26),\"x\")","v":"x"},{"$f":"IF($E3=\"Y\",INDEX(OIQraw,ROW(),Setup!$C$5+COLUMN()-26),\"x\")","v":"x"},{"$f":"IF($E3=\"Y\",INDEX(OIQraw,ROW(),Setup!$C$5+COLUMN()-26),\"x\")","v":"x"},{"$f":"IF($E3=\"Y\",INDEX(OIQraw,ROW(),Setup!$C$5+COLUMN()-26),\"x\")","v":"x"},{"$f":"IF($E3=\"Y\",INDEX(OIQraw,ROW(),Setup!$C$5+COLUMN()-26),\"x\")","v":"x"},{"$f":"IF($E3=\"Y\",INDEX(OIQraw,ROW(),Setup!$C$5+COLUMN()-26),\"x\")","v":"x"},{"$f":"IF($E3=\"Y\",INDEX(OIQraw,ROW(),Setup!$C$5+COLUMN()-26),\"x\")","v":"x"},{"$f":"IF($E3=\"Y\",INDEX(OIQraw,ROW(),Setup!$C$5+COLUMN()-26),\"x\")","v":"x"},{"$f":"IF($E3=\"Y\",INDEX(OIQraw,ROW(),Setup!$C$5+COLUMN()-26),\"x\")","v":"x"},{"$f":"IF($E3=\"Y\",INDEX(OIQraw,ROW(),Setup!$C$5+COLUMN()-26),\"x\")","v":"x"},{"$f":"IF($E3=\"Y\",INDEX(OIQraw,ROW(),Setup!$C$5+COLUMN()-26),\"x\")","v":"x"},{"$f":"IF($E3=\"Y\",INDEX(OIQraw,ROW(),Setup!$C$5+COLUMN()-26),\"x\")","v":"x"},{"$f":"IF($E3=\"Y\",INDEX(OIQraw,ROW(),Setup!$C$5+COLUMN()-26),\"x\")","v":"x"},{"$f":"IF($E3=\"Y\",INDEX(OIQraw,ROW(),Setup!$C$5+COLUMN()-26),\"x\")","v":"x"},{"$f":"IF($E3=\"Y\",INDEX(OIQraw,ROW(),Setup!$C$5+COLUMN()-26),\"x\")","v":"x"},{"$f":"IF($E3=\"Y\",INDEX(OIQraw,ROW(),Setup!$C$5+COLUMN()-26),\"x\")","v":"x"},{"$f":"IF($E3=\"Y\",INDEX(OIQraw,ROW(),Setup!$C$5+COLUMN()-26),\"x\")","v":"x"},{"$f":"IF($E3=\"Y\",INDEX(OIQraw,ROW(),Setup!$C$5+COLUMN()-26),\"x\")","v":"x"},{"$f":"IF($E3=\"Y\",INDEX(OIQraw,ROW(),Setup!$C$5+COLUMN()-26),\"x\")","v":"x"},{"$f":"IF($E3=\"Y\",INDEX(OIQraw,ROW(),Setup!$C$5+COLUMN()-26),\"x\")","v":"x"},{"$f":"IF($E3=\"Y\",INDEX(OIQraw,ROW(),Setup!$C$5+COLUMN()-26),\"x\")","v":"x"},{"$f":"IF($E3=\"Y\",INDEX(OIQraw,ROW(),Setup!$C$5+COLUMN()-26),\"x\")","v":"x"},{"$f":"IF($E3=\"Y\",INDEX(OIQraw,ROW(),Setup!$C$5+COLUMN()-26),\"x\")","v":"x"},{"$f":"IF($E3=\"Y\",INDEX(OIQraw,ROW(),Setup!$C$5+COLUMN()-26),\"x\")","v":"x"},{"$f":"IF($E3=\"Y\",INDEX(OIQraw,ROW(),Setup!$C$5+COLUMN()-26),\"x\")","v":"x"},{"$f":"IF($E3=\"Y\",INDEX(OIQraw,ROW(),Setup!$C$5+COLUMN()-26),\"x\")","v":"x"},{"$f":"IF($E3=\"Y\",INDEX(OIQraw,ROW(),Setup!$C$5+COLUMN()-26),\"x\")","v":"x"},{"$f":"IF($E3=\"Y\",INDEX(OIQraw,ROW(),Setup!$C$5+COLUMN()-26),\"x\")","v":"x"},{"$f":"IF($E3=\"Y\",INDEX(OIQraw,ROW(),Setup!$C$5+COLUMN()-26),\"x\")","v":"x"},{"$f":"IF($E3=\"Y\",INDEX(OIQraw,ROW(),Setup!$C$5+COLUMN()-26),\"x\")","v":"x"},{"$f":"IF($E3=\"Y\",INDEX(OIQraw,ROW(),Setup!$C$5+COLUMN()-26),\"x\")","v":"x"},{"$f":"IF($E3=\"Y\",INDEX(OIQraw,ROW(),Setup!$C$5+COLUMN()-26),\"x\")","v":"x"},{"$f":"IF($E3=\"Y\",INDEX(OIQraw,ROW(),Setup!$C$5+COLUMN()-26),\"x\")","v":"x"},{"$f":"IF($E3=\"Y\",INDEX(OIQraw,ROW(),Setup!$C$5+COLUMN()-26),\"x\")","v":"x"},{"$f":"IF($E3=\"Y\",INDEX(OIQraw,ROW(),Setup!$C$5+COLUMN()-26),\"x\")","v":"x"},{"$f":"IF($E3=\"Y\",INDEX(OIQraw,ROW(),Setup!$C$5+COLUMN()-26),\"x\")","v":"x"},{"$f":"IF($E3=\"Y\",INDEX(OIQraw,ROW(),Setup!$C$5+COLUMN()-26),\"x\")","v":"x"},{"$f":"IF($E3=\"Y\",INDEX(OIQraw,ROW(),Setup!$C$5+COLUMN()-26),\"x\")","v":"x"},{"$f":"IF($E3=\"Y\",INDEX(OIQraw,ROW(),Setup!$C$5+COLUMN()-26),\"x\")","v":"x"},{"$f":"IF($E3=\"Y\",INDEX(OIQraw,ROW(),Setup!$C$5+COLUMN()-26),\"x\")","v":"x"},{"$f":"IF($E3=\"Y\",INDEX(OIQraw,ROW(),Setup!$C$5+COLUMN()-26),\"x\")","v":"x"},{"$f":"IF($E3=\"Y\",INDEX(OIQraw,ROW(),Setup!$C$5+COLUMN()-26),\"x\")","v":"x"},{"$f":"IF($E3=\"Y\",INDEX(OIQraw,ROW(),Setup!$C$5+COLUMN()-26),\"x\")","v":"x"},{"$f":"IF($E3=\"Y\",INDEX(OIQraw,ROW(),Setup!$C$5+COLUMN()-26),\"x\")","v":"x"},{"$f":"IF($E3=\"Y\",INDEX(OIQraw,ROW(),Setup!$C$5+COLUMN()-26),\"x\")","v":"x"},{"$f":"IF($E3=\"Y\",INDEX(OIQraw,ROW(),Setup!$C$5+COLUMN()-26),\"x\")","v":"x"},{"$f":"IF($E3=\"Y\",INDEX(OIQraw,ROW(),Setup!$C$5+COLUMN()-26),\"x\")","v":"x"},{"$f":"IF($E3=\"Y\",INDEX(OIQraw,ROW(),Setup!$C$5+COLUMN()-26),\"x\")","v":"x"},{"$f":"IF($E3=\"Y\",INDEX(OIQraw,ROW(),Setup!$C$5+COLUMN()-26),\"x\")","v":"x"},{"$f":"IF($E3=\"Y\",INDEX(OIQraw,ROW(),Setup!$C$5+COLUMN()-26),\"x\")","v":"x"},{"$f":"IF($E3=\"Y\",INDEX(OIQraw,ROW(),Setup!$C$5+COLUMN()-26),\"x\")","v":"x"},{"$f":"IF($E3=\"Y\",INDEX(OIQraw,ROW(),Setup!$C$5+COLUMN()-26),\"x\")","v":"x"},{"$f":"IF($E3=\"Y\",INDEX(OIQraw,ROW(),Setup!$C$5+COLUMN()-26),\"x\")","v":"x"},{"$f":"IF($E3=\"Y\",INDEX(OIQraw,ROW(),Setup!$C$5+COLUMN()-26),\"x\")","v":"x"},{"$f":"IF($E3=\"Y\",INDEX(OIQraw,ROW(),Setup!$C$5+COLUMN()-26),\"x\")","v":"x"},{"$f":"IF($E3=\"Y\",INDEX(OIQraw,ROW(),Setup!$C$5+COLUMN()-26),\"x\")","v":"x"},{"$f":"IF($E3=\"Y\",INDEX(OIQraw,ROW(),Setup!$C$5+COLUMN()-26),\"x\")","v":"x"},{"$f":"IF($E3=\"Y\",INDEX(OIQraw,ROW(),Setup!$C$5+COLUMN()-26),\"x\")","v":"x"},{"$f":"IF($E3=\"Y\",INDEX(OIQraw,ROW(),Setup!$C$5+COLUMN()-26),\"x\")","v":"x"},{"$f":"IF($E3=\"Y\",INDEX(OIQraw,ROW(),Setup!$C$5+COLUMN()-26),\"x\")","v":"x"},{"$f":"IF($E3=\"Y\",INDEX(OIQraw,ROW(),Setup!$C$5+COLUMN()-26),\"x\")","v":"x"},{"$f":"IF($E3=\"Y\",INDEX(OIQraw,ROW(),Setup!$C$5+COLUMN()-26),\"x\")","v":"x"},{"$f":"IF($E3=\"Y\",INDEX(OIQraw,ROW(),Setup!$C$5+COLUMN()-26),\"x\")","v":"x"},{"$f":"IF($E3=\"Y\",INDEX(OIQraw,ROW(),Setup!$C$5+COLUMN()-26),\"x\")","v":"x"},{"$f":"IF($E3=\"Y\",INDEX(OIQraw,ROW(),Setup!$C$5+COLUMN()-26),\"x\")","v":"x"},{"$f":"IF($E3=\"Y\",INDEX(OIQraw,ROW(),Setup!$C$5+COLUMN()-26),\"x\")","v":"x"},{"$f":"IF($E3=\"Y\",INDEX(OIQraw,ROW(),Setup!$C$5+COLUMN()-26),\"x\")","v":"x"},{"$f":"IF($E3=\"Y\",INDEX(OIQraw,ROW(),Setup!$C$5+COLUMN()-26),\"x\")","v":"x"},{"$f":"IF($E3=\"Y\",INDEX(OIQraw,ROW(),Setup!$C$5+COLUMN()-26),\"x\")","v":"x"},{"$f":"IF($E3=\"Y\",INDEX(OIQraw,ROW(),Setup!$C$5+COLUMN()-26),\"x\")","v":"x"},{"$f":"IF($E3=\"Y\",INDEX(OIQraw,ROW(),Setup!$C$5+COLUMN()-26),\"x\")","v":"x"},{"$f":"IF($E3=\"Y\",INDEX(OIQraw,ROW(),Setup!$C$5+COLUMN()-26),\"x\")","v":"x"},{"$f":"IF($E3=\"Y\",INDEX(OIQraw,ROW(),Setup!$C$5+COLUMN()-26),\"x\")","v":"x"},{"$f":"IF($E3=\"Y\",INDEX(OIQraw,ROW(),Setup!$C$5+COLUMN()-26),\"x\")","v":"x"},{"$f":"IF($E3=\"Y\",INDEX(OIQraw,ROW(),Setup!$C$5+COLUMN()-26),\"x\")","v":"x"},{"$f":"IF($E3=\"Y\",INDEX(OIQraw,ROW(),Setup!$C$5+COLUMN()-26),\"x\")","v":"x"},{"$f":"IF($E3=\"Y\",INDEX(OIQraw,ROW(),Setup!$C$5+COLUMN()-26),\"x\")","v":"x"},{"$f":"IF($E3=\"Y\",INDEX(OIQraw,ROW(),Setup!$C$5+COLUMN()-26),\"x\")","v":"x"},{"$f":"IF($E3=\"Y\",INDEX(OIQraw,ROW(),Setup!$C$5+COLUMN()-26),\"x\")","v":"x"},{"$f":"IF($E3=\"Y\",INDEX(OIQraw,ROW(),Setup!$C$5+COLUMN()-26),\"x\")","v":"x"},{"$f":"IF($E3=\"Y\",INDEX(OIQraw,ROW(),Setup!$C$5+COLUMN()-26),\"x\")","v":"x"},{"$f":"IF($E3=\"Y\",INDEX(OIQraw,ROW(),Setup!$C$5+COLUMN()-26),\"x\")","v":"x"},{"$f":"IF($E3=\"Y\",INDEX(OIQraw,ROW(),Setup!$C$5+COLUMN()-26),\"x\")","v":"x"},{"$f":"IF($E3=\"Y\",INDEX(OIQraw,ROW(),Setup!$C$5+COLUMN()-26),\"x\")","v":"x"},{"$f":"IF($E3=\"Y\",INDEX(OIQraw,ROW(),Setup!$C$5+COLUMN()-26),\"x\")","v":"x"},{"$f":"IF($E3=\"Y\",INDEX(OIQraw,ROW(),Setup!$C$5+COLUMN()-26),\"x\")","v":"x"},{"$f":"IF($E3=\"Y\",INDEX(OIQraw,ROW(),Setup!$C$5+COLUMN()-26),\"x\")","v":"x"},{"$f":"IF($E3=\"Y\",INDEX(OIQraw,ROW(),Setup!$C$5+COLUMN()-26),\"x\")","v":"x"},{"$f":"IF($E3=\"Y\",INDEX(OIQraw,ROW(),Setup!$C$5+COLUMN()-26),\"x\")","v":"x"},{"$f":"IF($E3=\"Y\",INDEX(OIQraw,ROW(),Setup!$C$5+COLUMN()-26),\"x\")","v":"x"},{"$f":"IF($E3=\"Y\",INDEX(OIQraw,ROW(),Setup!$C$5+COLUMN()-26),\"x\")","v":"x"},{"$f":"IF($E3=\"Y\",INDEX(OIQraw,ROW(),Setup!$C$5+COLUMN()-26),\"x\")","v":"x"},{"$f":"IF($E3=\"Y\",INDEX(OIQraw,ROW(),Setup!$C$5+COLUMN()-26),\"x\")","v":"x"},{"$f":"IF($E3=\"Y\",INDEX(OIQraw,ROW(),Setup!$C$5+COLUMN()-26),\"x\")","v":"x"},{"$f":"IF($E3=\"Y\",INDEX(OIQraw,ROW(),Setup!$C$5+COLUMN()-26),\"x\")","v":"x"},{"$f":"IF($E3=\"Y\",INDEX(OIQraw,ROW(),Setup!$C$5+COLUMN()-26),\"x\")","v":"x"},{"$f":"IF($E3=\"Y\",INDEX(OIQraw,ROW(),Setup!$C$5+COLUMN()-26),\"x\")","v":"x"},{"$f":"IF($E3=\"Y\",INDEX(OIQraw,ROW(),Setup!$C$5+COLUMN()-26),\"x\")","v":"x"},{"$f":"IF($E3=\"Y\",INDEX(OIQraw,ROW(),Setup!$C$5+COLUMN()-26),\"x\")","v":"x"},{"$f":"IF($E3=\"Y\",INDEX(OIQraw,ROW(),Setup!$C$5+COLUMN()-26),\"x\")","v":"x"},{"$f":"IF($E3=\"Y\",INDEX(OIQraw,ROW(),Setup!$C$5+COLUMN()-26),\"x\")","v":"x"},{"$f":"IF($E3=\"Y\",INDEX(OIQraw,ROW(),Setup!$C$5+COLUMN()-26),\"x\")","v":"x"},{"$f":"IF($E3=\"Y\",INDEX(OIQraw,ROW(),Setup!$C$5+COLUMN()-26),\"x\")","v":"x"},{"$f":"IF($E3=\"Y\",INDEX(OIQraw,ROW(),Setup!$C$5+COLUMN()-26),\"x\")","v":"x"},{"$f":"IF($E3=\"Y\",INDEX(OIQraw,ROW(),Setup!$C$5+COLUMN()-26),\"x\")","v":"x"},{"$f":"IF($E3=\"Y\",INDEX(OIQraw,ROW(),Setup!$C$5+COLUMN()-26),\"x\")","v":"x"},{"$f":"IF($E3=\"Y\",INDEX(OIQraw,ROW(),Setup!$C$5+COLUMN()-26),\"x\")","v":"x"},{"$f":"IF($E3=\"Y\",INDEX(OIQraw,ROW(),Setup!$C$5+COLUMN()-26),\"x\")","v":"x"},{"$f":"IF($E3=\"Y\",INDEX(OIQraw,ROW(),Setup!$C$5+COLUMN()-26),\"x\")","v":"x"},{"$f":"IF($E3=\"Y\",INDEX(OIQraw,ROW(),Setup!$C$5+COLUMN()-26),\"x\")","v":"x"},{"$f":"IF($E3=\"Y\",INDEX(OIQraw,ROW(),Setup!$C$5+COLUMN()-26),\"x\")","v":"x"},{"$f":"IF($E3=\"Y\",INDEX(OIQraw,ROW(),Setup!$C$5+COLUMN()-26),\"x\")","v":"x"},{"$f":"IF($E3=\"Y\",INDEX(OIQraw,ROW(),Setup!$C$5+COLUMN()-26),\"x\")","v":"x"},{"$f":"IF($E3=\"Y\",INDEX(OIQraw,ROW(),Setup!$C$5+COLUMN()-26),\"x\")","v":"x"},{"$f":"IF($E3=\"Y\",INDEX(OIQraw,ROW(),Setup!$C$5+COLUMN()-26),\"x\")","v":"x"},{"$f":"IF($E3=\"Y\",INDEX(OIQraw,ROW(),Setup!$C$5+COLUMN()-26),\"x\")","v":"x"},{"$f":"IF($E3=\"Y\",INDEX(OIQraw,ROW(),Setup!$C$5+COLUMN()-26),\"x\")","v":"x"},{"$f":"IF($E3=\"Y\",INDEX(OIQraw,ROW(),Setup!$C$5+COLUMN()-26),\"x\")","v":"x"},{"$f":"IF($E3=\"Y\",INDEX(OIQraw,ROW(),Setup!$C$5+COLUMN()-26),\"x\")","v":"x"},{"$f":"IF($E3=\"Y\",INDEX(OIQraw,ROW(),Setup!$C$5+COLUMN()-26),\"x\")","v":"x"},{"$f":"IF($E3=\"Y\",INDEX(OIQraw,ROW(),Setup!$C$5+COLUMN()-26),\"x\")","v":"x"},{"$f":"IF($E3=\"Y\",INDEX(OIQraw,ROW(),Setup!$C$5+COLUMN()-26),\"x\")","v":"x"},{"$f":"IF($E3=\"Y\",INDEX(OIQraw,ROW(),Setup!$C$5+COLUMN()-26),\"x\")","v":"x"},{"$f":"IF($E3=\"Y\",INDEX(OIQraw,ROW(),Setup!$C$5+COLUMN()-26),\"x\")","v":"x"},{"$f":"IF($E3=\"Y\",INDEX(OIQraw,ROW(),Setup!$C$5+COLUMN()-26),\"x\")","v":"x"},{"$f":"IF($E3=\"Y\",INDEX(OIQraw,ROW(),Setup!$C$5+COLUMN()-26),\"x\")","v":"x"},{"$f":"IF($E3=\"Y\",INDEX(OIQraw,ROW(),Setup!$C$5+COLUMN()-26),\"x\")","v":"x"},{"$f":"IF($E3=\"Y\",INDEX(OIQraw,ROW(),Setup!$C$5+COLUMN()-26),\"x\")","v":"x"}]
[1,"","",{"$f":"IF(ISERROR(FIND(\"Withdrew\",RawScores!B8)),RawScores!B8,RIGHT(RawScores!B8,LEN(RawScores!B8)-17))&\", \"&RawScores!C8","v":", "},{"$f":"IF(OR(ISERROR(FIND(\"Withdrew\",RawScores!B8))=FALSE,INDEX(OIQraw,ROW(),LastInputCol-3)=0),\"N\",IF(AND(Setup!$B$22=\"Yes\",INDEX(OIQraw,ROW(),LastInputCol)=1),\"N\",\"Y\"))","v":"N"},"X","X","X",{"$f":"IF(AND(ISNUMBER(F4),F4>Setup!$B$14-1),1,0)","v":0},{"$f":"IF(AND(F4>Setup!$B$14-1,Conv!H4<5),1,0)","v":0},{"$f":"IF(AND(F4>Setup!$B$14-1,Conv!G4=\"F\"),1,0)","v":0},"","","","","","","","","","","","","X","X",{"$f":"IF($E4=\"Y\",INDEX(OIQraw,ROW(),Setup!$C$5+COLUMN()-26),\"x\")","v":"x"},{"$f":"IF($E4=\"Y\",INDEX(OIQraw,ROW(),Setup!$C$5+COLUMN()-26),\"x\")","v":"x"},{"$f":"IF($E4=\"Y\",INDEX(OIQraw,ROW(),Setup!$C$5+COLUMN()-26),\"x\")","v":"x"},{"$f":"IF($E4=\"Y\",INDEX(OIQraw,ROW(),Setup!$C$5+COLUMN()-26),\"x\")","v":"x"},{"$f":"IF($E4=\"Y\",INDEX(OIQraw,ROW(),Setup!$C$5+COLUMN()-26),\"x\")","v":"x"},{"$f":"IF($E4=\"Y\",INDEX(OIQraw,ROW(),Setup!$C$5+COLUMN()-26),\"x\")","v":"x"},{"$f":"IF($E4=\"Y\",INDEX(OIQraw,ROW(),Setup!$C$5+COLUMN()-26),\"x\")","v":"x"},{"$f":"IF($E4=\"Y\",INDEX(OIQraw,ROW(),Setup!$C$5+COLUMN()-26),\"x\")","v":"x"},{"$f":"IF($E4=\"Y\",INDEX(OIQraw,ROW(),Setup!$C$5+COLUMN()-26),\"x\")","v":"x"},{"$f":"IF($E4=\"Y\",INDEX(OIQraw,ROW(),Setup!$C$5+COLUMN()-26),\"x\")","v":"x"},{"$f":"IF($E4=\"Y\",INDEX(OIQraw,ROW(),Setup!$C$5+COLUMN()-26),\"x\")","v":"x"},{"$f":"IF($E4=\"Y\",INDEX(OIQraw,ROW(),Setup!$C$5+COLUMN()-26),\"x\")","v":"x"},{"$f":"IF($E4=\"Y\",INDEX(OIQraw,ROW(),Setup!$C$5+COLUMN()-26),\"x\")","v":"x"},{"$f":"IF($E4=\"Y\",INDEX(OIQraw,ROW(),Setup!$C$5+COLUMN()-26),\"x\")","v":"x"},{"$f":"IF($E4=\"Y\",INDEX(OIQraw,ROW(),Setup!$C$5+COLUMN()-26),\"x\")","v":"x"},{"$f":"IF($E4=\"Y\",INDEX(OIQraw,ROW(),Setup!$C$5+COLUMN()-26),\"x\")","v":"x"},{"$f":"IF($E4=\"Y\",INDEX(OIQraw,ROW(),Setup!$C$5+COLUMN()-26),\"x\")","v":"x"},{"$f":"IF($E4=\"Y\",INDEX(OIQraw,ROW(),Setup!$C$5+COLUMN()-26),\"x\")","v":"x"},{"$f":"IF($E4=\"Y\",INDEX(OIQraw,ROW(),Setup!$C$5+COLUMN()-26),\"x\")","v":"x"},{"$f":"IF($E4=\"Y\",INDEX(OIQraw,ROW(),Setup!$C$5+COLUMN()-26),\"x\")","v":"x"},{"$f":"IF($E4=\"Y\",INDEX(OIQraw,ROW(),Setup!$C$5+COLUMN()-26),\"x\")","v":"x"},{"$f":"IF($E4=\"Y\",INDEX(OIQraw,ROW(),Setup!$C$5+COLUMN()-26),\"x\")","v":"x"},{"$f":"IF($E4=\"Y\",INDEX(OIQraw,ROW(),Setup!$C$5+COLUMN()-26),\"x\")","v":"x"},{"$f":"IF($E4=\"Y\",INDEX(OIQraw,ROW(),Setup!$C$5+COLUMN()-26),\"x\")","v":"x"},{"$f":"IF($E4=\"Y\",INDEX(OIQraw,ROW(),Setup!$C$5+COLUMN()-26),\"x\")","v":"x"},{"$f":"IF($E4=\"Y\",INDEX(OIQraw,ROW(),Setup!$C$5+COLUMN()-26),\"x\")","v":"x"},{"$f":"IF($E4=\"Y\",INDEX(OIQraw,ROW(),Setup!$C$5+COLUMN()-26),\"x\")","v":"x"},{"$f":"IF($E4=\"Y\",INDEX(OIQraw,ROW(),Setup!$C$5+COLUMN()-26),\"x\")","v":"x"},{"$f":"IF($E4=\"Y\",INDEX(OIQraw,ROW(),Setup!$C$5+COLUMN()-26),\"x\")","v":"x"},{"$f":"IF($E4=\"Y\",INDEX(OIQraw,ROW(),Setup!$C$5+COLUMN()-26),\"x\")","v":"x"},{"$f":"IF($E4=\"Y\",INDEX(OIQraw,ROW(),Setup!$C$5+COLUMN()-26),\"x\")","v":"x"},{"$f":"IF($E4=\"Y\",INDEX(OIQraw,ROW(),Setup!$C$5+COLUMN()-26),\"x\")","v":"x"},{"$f":"IF($E4=\"Y\",INDEX(OIQraw,ROW(),Setup!$C$5+COLUMN()-26),\"x\")","v":"x"},{"$f":"IF($E4=\"Y\",INDEX(OIQraw,ROW(),Setup!$C$5+COLUMN()-26),\"x\")","v":"x"},{"$f":"IF($E4=\"Y\",INDEX(OIQraw,ROW(),Setup!$C$5+COLUMN()-26),\"x\")","v":"x"},{"$f":"IF($E4=\"Y\",INDEX(OIQraw,ROW(),Setup!$C$5+COLUMN()-26),\"x\")","v":"x"},{"$f":"IF($E4=\"Y\",INDEX(OIQraw,ROW(),Setup!$C$5+COLUMN()-26),\"x\")","v":"x"},{"$f":"IF($E4=\"Y\",INDEX(OIQraw,ROW(),Setup!$C$5+COLUMN()-26),\"x\")","v":"x"},{"$f":"IF($E4=\"Y\",INDEX(OIQraw,ROW(),Setup!$C$5+COLUMN()-26),\"x\")","v":"x"},{"$f":"IF($E4=\"Y\",INDEX(OIQraw,ROW(),Setup!$C$5+COLUMN()-26),\"x\")","v":"x"},{"$f":"IF($E4=\"Y\",INDEX(OIQraw,ROW(),Setup!$C$5+COLUMN()-26),\"x\")","v":"x"},{"$f":"IF($E4=\"Y\",INDEX(OIQraw,ROW(),Setup!$C$5+COLUMN()-26),\"x\")","v":"x"},{"$f":"IF($E4=\"Y\",INDEX(OIQraw,ROW(),Setup!$C$5+COLUMN()-26),\"x\")","v":"x"},{"$f":"IF($E4=\"Y\",INDEX(OIQraw,ROW(),Setup!$C$5+COLUMN()-26),\"x\")","v":"x"},{"$f":"IF($E4=\"Y\",INDEX(OIQraw,ROW(),Setup!$C$5+COLUMN()-26),\"x\")","v":"x"},{"$f":"IF($E4=\"Y\",INDEX(OIQraw,ROW(),Setup!$C$5+COLUMN()-26),\"x\")","v":"x"},{"$f":"IF($E4=\"Y\",INDEX(OIQraw,ROW(),Setup!$C$5+COLUMN()-26),\"x\")","v":"x"},{"$f":"IF($E4=\"Y\",INDEX(OIQraw,ROW(),Setup!$C$5+COLUMN()-26),\"x\")","v":"x"},{"$f":"IF($E4=\"Y\",INDEX(OIQraw,ROW(),Setup!$C$5+COLUMN()-26),\"x\")","v":"x"},{"$f":"IF($E4=\"Y\",INDEX(OIQraw,ROW(),Setup!$C$5+COLUMN()-26),\"x\")","v":"x"},{"$f":"IF($E4=\"Y\",INDEX(OIQraw,ROW(),Setup!$C$5+COLUMN()-26),\"x\")","v":"x"},{"$f":"IF($E4=\"Y\",INDEX(OIQraw,ROW(),Setup!$C$5+COLUMN()-26),\"x\")","v":"x"},{"$f":"IF($E4=\"Y\",INDEX(OIQraw,ROW(),Setup!$C$5+COLUMN()-26),\"x\")","v":"x"},{"$f":"IF($E4=\"Y\",INDEX(OIQraw,ROW(),Setup!$C$5+COLUMN()-26),\"x\")","v":"x"},{"$f":"IF($E4=\"Y\",INDEX(OIQraw,ROW(),Setup!$C$5+COLUMN()-26),\"x\")","v":"x"},{"$f":"IF($E4=\"Y\",INDEX(OIQraw,ROW(),Setup!$C$5+COLUMN()-26),\"x\")","v":"x"},{"$f":"IF($E4=\"Y\",INDEX(OIQraw,ROW(),Setup!$C$5+COLUMN()-26),\"x\")","v":"x"},{"$f":"IF($E4=\"Y\",INDEX(OIQraw,ROW(),Setup!$C$5+COLUMN()-26),\"x\")","v":"x"},{"$f":"IF($E4=\"Y\",INDEX(OIQraw,ROW(),Setup!$C$5+COLUMN()-26),\"x\")","v":"x"},{"$f":"IF($E4=\"Y\",INDEX(OIQraw,ROW(),Setup!$C$5+COLUMN()-26),\"x\")","v":"x"},{"$f":"IF($E4=\"Y\",INDEX(OIQraw,ROW(),Setup!$C$5+COLUMN()-26),\"x\")","v":"x"},{"$f":"IF($E4=\"Y\",INDEX(OIQraw,ROW(),Setup!$C$5+COLUMN()-26),\"x\")","v":"x"},{"$f":"IF($E4=\"Y\",INDEX(OIQraw,ROW(),Setup!$C$5+COLUMN()-26),\"x\")","v":"x"},{"$f":"IF($E4=\"Y\",INDEX(OIQraw,ROW(),Setup!$C$5+COLUMN()-26),\"x\")","v":"x"},{"$f":"IF($E4=\"Y\",INDEX(OIQraw,ROW(),Setup!$C$5+COLUMN()-26),\"x\")","v":"x"},{"$f":"IF($E4=\"Y\",INDEX(OIQraw,ROW(),Setup!$C$5+COLUMN()-26),\"x\")","v":"x"},{"$f":"IF($E4=\"Y\",INDEX(OIQraw,ROW(),Setup!$C$5+COLUMN()-26),\"x\")","v":"x"},{"$f":"IF($E4=\"Y\",INDEX(OIQraw,ROW(),Setup!$C$5+COLUMN()-26),\"x\")","v":"x"},{"$f":"IF($E4=\"Y\",INDEX(OIQraw,ROW(),Setup!$C$5+COLUMN()-26),\"x\")","v":"x"},{"$f":"IF($E4=\"Y\",INDEX(OIQraw,ROW(),Setup!$C$5+COLUMN()-26),\"x\")","v":"x"},{"$f":"IF($E4=\"Y\",INDEX(OIQraw,ROW(),Setup!$C$5+COLUMN()-26),\"x\")","v":"x"},{"$f":"IF($E4=\"Y\",INDEX(OIQraw,ROW(),Setup!$C$5+COLUMN()-26),\"x\")","v":"x"},{"$f":"IF($E4=\"Y\",INDEX(OIQraw,ROW(),Setup!$C$5+COLUMN()-26),\"x\")","v":"x"},{"$f":"IF($E4=\"Y\",INDEX(OIQraw,ROW(),Setup!$C$5+COLUMN()-26),\"x\")","v":"x"},{"$f":"IF($E4=\"Y\",INDEX(OIQraw,ROW(),Setup!$C$5+COLUMN()-26),\"x\")","v":"x"},{"$f":"IF($E4=\"Y\",INDEX(OIQraw,ROW(),Setup!$C$5+COLUMN()-26),\"x\")","v":"x"},{"$f":"IF($E4=\"Y\",INDEX(OIQraw,ROW(),Setup!$C$5+COLUMN()-26),\"x\")","v":"x"},{"$f":"IF($E4=\"Y\",INDEX(OIQraw,ROW(),Setup!$C$5+COLUMN()-26),\"x\")","v":"x"},{"$f":"IF($E4=\"Y\",INDEX(OIQraw,ROW(),Setup!$C$5+COLUMN()-26),\"x\")","v":"x"},{"$f":"IF($E4=\"Y\",INDEX(OIQraw,ROW(),Setup!$C$5+COLUMN()-26),\"x\")","v":"x"},{"$f":"IF($E4=\"Y\",INDEX(OIQraw,ROW(),Setup!$C$5+COLUMN()-26),\"x\")","v":"x"},{"$f":"IF($E4=\"Y\",INDEX(OIQraw,ROW(),Setup!$C$5+COLUMN()-26),\"x\")","v":"x"},{"$f":"IF($E4=\"Y\",INDEX(OIQraw,ROW(),Setup!$C$5+COLUMN()-26),\"x\")","v":"x"},{"$f":"IF($E4=\"Y\",INDEX(OIQraw,ROW(),Setup!$C$5+COLUMN()-26),\"x\")","v":"x"},{"$f":"IF($E4=\"Y\",INDEX(OIQraw,ROW(),Setup!$C$5+COLUMN()-26),\"x\")","v":"x"},{"$f":"IF($E4=\"Y\",INDEX(OIQraw,ROW(),Setup!$C$5+COLUMN()-26),\"x\")","v":"x"},{"$f":"IF($E4=\"Y\",INDEX(OIQraw,ROW(),Setup!$C$5+COLUMN()-26),\"x\")","v":"x"},{"$f":"IF($E4=\"Y\",INDEX(OIQraw,ROW(),Setup!$C$5+COLUMN()-26),\"x\")","v":"x"},{"$f":"IF($E4=\"Y\",INDEX(OIQraw,ROW(),Setup!$C$5+COLUMN()-26),\"x\")","v":"x"},{"$f":"IF($E4=\"Y\",INDEX(OIQraw,ROW(),Setup!$C$5+COLUMN()-26),\"x\")","v":"x"},{"$f":"IF($E4=\"Y\",INDEX(OIQraw,ROW(),Setup!$C$5+COLUMN()-26),\"x\")","v":"x"},{"$f":"IF($E4=\"Y\",INDEX(OIQraw,ROW(),Setup!$C$5+COLUMN()-26),\"x\")","v":"x"},{"$f":"IF($E4=\"Y\",INDEX(OIQraw,ROW(),Setup!$C$5+COLUMN()-26),\"x\")","v":"x"},{"$f":"IF($E4=\"Y\",INDEX(OIQraw,ROW(),Setup!$C$5+COLUMN()-26),\"x\")","v":"x"},{"$f":"IF($E4=\"Y\",INDEX(OIQraw,ROW(),Setup!$C$5+COLUMN()-26),\"x\")","v":"x"},{"$f":"IF($E4=\"Y\",INDEX(OIQraw,ROW(),Setup!$C$5+COLUMN()-26),\"x\")","v":"x"},{"$f":"IF($E4=\"Y\",INDEX(OIQraw,ROW(),Setup!$C$5+COLUMN()-26),\"x\")","v":"x"},{"$f":"IF($E4=\"Y\",INDEX(OIQraw,ROW(),Setup!$C$5+COLUMN()-26),\"x\")","v":"x"},{"$f":"IF($E4=\"Y\",INDEX(OIQraw,ROW(),Setup!$C$5+COLUMN()-26),\"x\")","v":"x"},{"$f":"IF($E4=\"Y\",INDEX(OIQraw,ROW(),Setup!$C$5+COLUMN()-26),\"x\")","v":"x"},{"$f":"IF($E4=\"Y\",INDEX(OIQraw,ROW(),Setup!$C$5+COLUMN()-26),\"x\")","v":"x"},{"$f":"IF($E4=\"Y\",INDEX(OIQraw,ROW(),Setup!$C$5+COLUMN()-26),\"x\")","v":"x"},{"$f":"IF($E4=\"Y\",INDEX(OIQraw,ROW(),Setup!$C$5+COLUMN()-26),\"x\")","v":"x"},{"$f":"IF($E4=\"Y\",INDEX(OIQraw,ROW(),Setup!$C$5+COLUMN()-26),\"x\")","v":"x"},{"$f":"IF($E4=\"Y\",INDEX(OIQraw,ROW(),Setup!$C$5+COLUMN()-26),\"x\")","v":"x"},{"$f":"IF($E4=\"Y\",INDEX(OIQraw,ROW(),Setup!$C$5+COLUMN()-26),\"x\")","v":"x"},{"$f":"IF($E4=\"Y\",INDEX(OIQraw,ROW(),Setup!$C$5+COLUMN()-26),\"x\")","v":"x"},{"$f":"IF($E4=\"Y\",INDEX(OIQraw,ROW(),Setup!$C$5+COLUMN()-26),\"x\")","v":"x"},{"$f":"IF($E4=\"Y\",INDEX(OIQraw,ROW(),Setup!$C$5+COLUMN()-26),\"x\")","v":"x"},{"$f":"IF($E4=\"Y\",INDEX(OIQraw,ROW(),Setup!$C$5+COLUMN()-26),\"x\")","v":"x"},{"$f":"IF($E4=\"Y\",INDEX(OIQraw,ROW(),Setup!$C$5+COLUMN()-26),\"x\")","v":"x"},{"$f":"IF($E4=\"Y\",INDEX(OIQraw,ROW(),Setup!$C$5+COLUMN()-26),\"x\")","v":"x"},{"$f":"IF($E4=\"Y\",INDEX(OIQraw,ROW(),Setup!$C$5+COLUMN()-26),\"x\")","v":"x"},{"$f":"IF($E4=\"Y\",INDEX(OIQraw,ROW(),Setup!$C$5+COLUMN()-26),\"x\")","v":"x"},{"$f":"IF($E4=\"Y\",INDEX(OIQraw,ROW(),Setup!$C$5+COLUMN()-26),\"x\")","v":"x"},{"$f":"IF($E4=\"Y\",INDEX(OIQraw,ROW(),Setup!$C$5+COLUMN()-26),\"x\")","v":"x"},{"$f":"IF($E4=\"Y\",INDEX(OIQraw,ROW(),Setup!$C$5+COLUMN()-26),\"x\")","v":"x"},{"$f":"IF($E4=\"Y\",INDEX(OIQraw,ROW(),Setup!$C$5+COLUMN()-26),\"x\")","v":"x"},{"$f":"IF($E4=\"Y\",INDEX(OIQraw,ROW(),Setup!$C$5+COLUMN()-26),\"x\")","v":"x"},{"$f":"IF($E4=\"Y\",INDEX(OIQraw,ROW(),Setup!$C$5+COLUMN()-26),\"x\")","v":"x"},{"$f":"IF($E4=\"Y\",INDEX(OIQraw,ROW(),Setup!$C$5+COLUMN()-26),\"x\")","v":"x"},{"$f":"IF($E4=\"Y\",INDEX(OIQraw,ROW(),Setup!$C$5+COLUMN()-26),\"x\")","v":"x"},{"$f":"IF($E4=\"Y\",INDEX(OIQraw,ROW(),Setup!$C$5+COLUMN()-26),\"x\")","v":"x"},{"$f":"IF($E4=\"Y\",INDEX(OIQraw,ROW(),Setup!$C$5+COLUMN()-26),\"x\")","v":"x"},{"$f":"IF($E4=\"Y\",INDEX(OIQraw,ROW(),Setup!$C$5+COLUMN()-26),\"x\")","v":"x"},{"$f":"IF($E4=\"Y\",INDEX(OIQraw,ROW(),Setup!$C$5+COLUMN()-26),\"x\")","v":"x"},{"$f":"IF($E4=\"Y\",INDEX(OIQraw,ROW(),Setup!$C$5+COLUMN()-26),\"x\")","v":"x"},{"$f":"IF($E4=\"Y\",INDEX(OIQraw,ROW(),Setup!$C$5+COLUMN()-26),\"x\")","v":"x"},{"$f":"IF($E4=\"Y\",INDEX(OIQraw,ROW(),Setup!$C$5+COLUMN()-26),\"x\")","v":"x"},{"$f":"IF($E4=\"Y\",INDEX(OIQraw,ROW(),Setup!$C$5+COLUMN()-26),\"x\")","v":"x"},{"$f":"IF($E4=\"Y\",INDEX(OIQraw,ROW(),Setup!$C$5+COLUMN()-26),\"x\")","v":"x"},{"$f":"IF($E4=\"Y\",INDEX(OIQraw,ROW(),Setup!$C$5+COLUMN()-26),\"x\")","v":"x"},{"$f":"IF($E4=\"Y\",INDEX(OIQraw,ROW(),Setup!$C$5+COLUMN()-26),\"x\")","v":"x"},{"$f":"IF($E4=\"Y\",INDEX(OIQraw,ROW(),Setup!$C$5+COLUMN()-26),\"x\")","v":"x"},{"$f":"IF($E4=\"Y\",INDEX(OIQraw,ROW(),Setup!$C$5+COLUMN()-26),\"x\")","v":"x"},{"$f":"IF($E4=\"Y\",INDEX(OIQraw,ROW(),Setup!$C$5+COLUMN()-26),\"x\")","v":"x"},{"$f":"IF($E4=\"Y\",INDEX(OIQraw,ROW(),Setup!$C$5+COLUMN()-26),\"x\")","v":"x"},{"$f":"IF($E4=\"Y\",INDEX(OIQraw,ROW(),Setup!$C$5+COLUMN()-26),\"x\")","v":"x"},{"$f":"IF($E4=\"Y\",INDEX(OIQraw,ROW(),Setup!$C$5+COLUMN()-26),\"x\")","v":"x"},{"$f":"IF($E4=\"Y\",INDEX(OIQraw,ROW(),Setup!$C$5+COLUMN()-26),\"x\")","v":"x"},{"$f":"IF($E4=\"Y\",INDEX(OIQraw,ROW(),Setup!$C$5+COLUMN()-26),\"x\")","v":"x"},{"$f":"IF($E4=\"Y\",INDEX(OIQraw,ROW(),Setup!$C$5+COLUMN()-26),\"x\")","v":"x"},{"$f":"IF($E4=\"Y\",INDEX(OIQraw,ROW(),Setup!$C$5+COLUMN()-26),\"x\")","v":"x"},{"$f":"IF($E4=\"Y\",INDEX(OIQraw,ROW(),Setup!$C$5+COLUMN()-26),\"x\")","v":"x"},{"$f":"IF($E4=\"Y\",INDEX(OIQraw,ROW(),Setup!$C$5+COLUMN()-26),\"x\")","v":"x"},{"$f":"IF($E4=\"Y\",INDEX(OIQraw,ROW(),Setup!$C$5+COLUMN()-26),\"x\")","v":"x"},{"$f":"IF($E4=\"Y\",INDEX(OIQraw,ROW(),Setup!$C$5+COLUMN()-26),\"x\")","v":"x"},{"$f":"IF($E4=\"Y\",INDEX(OIQraw,ROW(),Setup!$C$5+COLUMN()-26),\"x\")","v":"x"},{"$f":"IF($E4=\"Y\",INDEX(OIQraw,ROW(),Setup!$C$5+COLUMN()-26),\"x\")","v":"x"},{"$f":"IF($E4=\"Y\",INDEX(OIQraw,ROW(),Setup!$C$5+COLUMN()-26),\"x\")","v":"x"},{"$f":"IF($E4=\"Y\",INDEX(OIQraw,ROW(),Setup!$C$5+COLUMN()-26),\"x\")","v":"x"},{"$f":"IF($E4=\"Y\",INDEX(OIQraw,ROW(),Setup!$C$5+COLUMN()-26),\"x\")","v":"x"},{"$f":"IF($E4=\"Y\",INDEX(OIQraw,ROW(),Setup!$C$5+COLUMN()-26),\"x\")","v":"x"},{"$f":"IF($E4=\"Y\",INDEX(OIQraw,ROW(),Setup!$C$5+COLUMN()-26),\"x\")","v":"x"},{"$f":"IF($E4=\"Y\",INDEX(OIQraw,ROW(),Setup!$C$5+COLUMN()-26),\"x\")","v":"x"},{"$f":"IF($E4=\"Y\",INDEX(OIQraw,ROW(),Setup!$C$5+COLUMN()-26),\"x\")","v":"x"},{"$f":"IF($E4=\"Y\",INDEX(OIQraw,ROW(),Setup!$C$5+COLUMN()-26),\"x\")","v":"x"},{"$f":"IF($E4=\"Y\",INDEX(OIQraw,ROW(),Setup!$C$5+COLUMN()-26),\"x\")","v":"x"},{"$f":"IF($E4=\"Y\",INDEX(OIQraw,ROW(),Setup!$C$5+COLUMN()-26),\"x\")","v":"x"},{"$f":"IF($E4=\"Y\",INDEX(OIQraw,ROW(),Setup!$C$5+COLUMN()-26),\"x\")","v":"x"},{"$f":"IF($E4=\"Y\",INDEX(OIQraw,ROW(),Setup!$C$5+COLUMN()-26),\"x\")","v":"x"},{"$f":"IF($E4=\"Y\",INDEX(OIQraw,ROW(),Setup!$C$5+COLUMN()-26),\"x\")","v":"x"},{"$f":"IF($E4=\"Y\",INDEX(OIQraw,ROW(),Setup!$C$5+COLUMN()-26),\"x\")","v":"x"},{"$f":"IF($E4=\"Y\",INDEX(OIQraw,ROW(),Setup!$C$5+COLUMN()-26),\"x\")","v":"x"},{"$f":"IF($E4=\"Y\",INDEX(OIQraw,ROW(),Setup!$C$5+COLUMN()-26),\"x\")","v":"x"},{"$f":"IF($E4=\"Y\",INDEX(OIQraw,ROW(),Setup!$C$5+COLUMN()-26),\"x\")","v":"x"},{"$f":"IF($E4=\"Y\",INDEX(OIQraw,ROW(),Setup!$C$5+COLUMN()-26),\"x\")","v":"x"},{"$f":"IF($E4=\"Y\",INDEX(OIQraw,ROW(),Setup!$C$5+COLUMN()-26),\"x\")","v":"x"},{"$f":"IF($E4=\"Y\",INDEX(OIQraw,ROW(),Setup!$C$5+COLUMN()-26),\"x\")","v":"x"},{"$f":"IF($E4=\"Y\",INDEX(OIQraw,ROW(),Setup!$C$5+COLUMN()-26),\"x\")","v":"x"},{"$f":"IF($E4=\"Y\",INDEX(OIQraw,ROW(),Setup!$C$5+COLUMN()-26),\"x\")","v":"x"},{"$f":"IF($E4=\"Y\",INDEX(OIQraw,ROW(),Setup!$C$5+COLUMN()-26),\"x\")","v":"x"},{"$f":"IF($E4=\"Y\",INDEX(OIQraw,ROW(),Setup!$C$5+COLUMN()-26),\"x\")","v":"x"},{"$f":"IF($E4=\"Y\",INDEX(OIQraw,ROW(),Setup!$C$5+COLUMN()-26),\"x\")","v":"x"},{"$f":"IF($E4=\"Y\",INDEX(OIQraw,ROW(),Setup!$C$5+COLUMN()-26),\"x\")","v":"x"},{"$f":"IF($E4=\"Y\",INDEX(OIQraw,ROW(),Setup!$C$5+COLUMN()-26),\"x\")","v":"x"},{"$f":"IF($E4=\"Y\",INDEX(OIQraw,ROW(),Setup!$C$5+COLUMN()-26),\"x\")","v":"x"},{"$f":"IF($E4=\"Y\",INDEX(OIQraw,ROW(),Setup!$C$5+COLUMN()-26),\"x\")","v":"x"},{"$f":"IF($E4=\"Y\",INDEX(OIQraw,ROW(),Setup!$C$5+COLUMN()-26),\"x\")","v":"x"},{"$f":"IF($E4=\"Y\",INDEX(OIQraw,ROW(),Setup!$C$5+COLUMN()-26),\"x\")","v":"x"},{"$f":"IF($E4=\"Y\",INDEX(OIQraw,ROW(),Setup!$C$5+COLUMN()-26),\"x\")","v":"x"},{"$f":"IF($E4=\"Y\",INDEX(OIQraw,ROW(),Setup!$C$5+COLUMN()-26),\"x\")","v":"x"},{"$f":"IF($E4=\"Y\",INDEX(OIQraw,ROW(),Setup!$C$5+COLUMN()-26),\"x\")","v":"x"},{"$f":"IF($E4=\"Y\",INDEX(OIQraw,ROW(),Setup!$C$5+COLUMN()-26),\"x\")","v":"x"},{"$f":"IF($E4=\"Y\",INDEX(OIQraw,ROW(),Setup!$C$5+COLUMN()-26),\"x\")","v":"x"},{"$f":"IF($E4=\"Y\",INDEX(OIQraw,ROW(),Setup!$C$5+COLUMN()-26),\"x\")","v":"x"},{"$f":"IF($E4=\"Y\",INDEX(OIQraw,ROW(),Setup!$C$5+COLUMN()-26),\"x\")","v":"x"},{"$f":"IF($E4=\"Y\",INDEX(OIQraw,ROW(),Setup!$C$5+COLUMN()-26),\"x\")","v":"x"},{"$f":"IF($E4=\"Y\",INDEX(OIQraw,ROW(),Setup!$C$5+COLUMN()-26),\"x\")","v":"x"},{"$f":"IF($E4=\"Y\",INDEX(OIQraw,ROW(),Setup!$C$5+COLUMN()-26),\"x\")","v":"x"},{"$f":"IF($E4=\"Y\",INDEX(OIQraw,ROW(),Setup!$C$5+COLUMN()-26),\"x\")","v":"x"},{"$f":"IF($E4=\"Y\",INDEX(OIQraw,ROW(),Setup!$C$5+COLUMN()-26),\"x\")","v":"x"},{"$f":"IF($E4=\"Y\",INDEX(OIQraw,ROW(),Setup!$C$5+COLUMN()-26),\"x\")","v":"x"},{"$f":"IF($E4=\"Y\",INDEX(OIQraw,ROW(),Setup!$C$5+COLUMN()-26),\"x\")","v":"x"},{"$f":"IF($E4=\"Y\",INDEX(OIQraw,ROW(),Setup!$C$5+COLUMN()-26),\"x\")","v":"x"},{"$f":"IF($E4=\"Y\",INDEX(OIQraw,ROW(),Setup!$C$5+COLUMN()-26),\"x\")","v":"x"},{"$f":"IF($E4=\"Y\",INDEX(OIQraw,ROW(),Setup!$C$5+COLUMN()-26),\"x\")","v":"x"},{"$f":"IF($E4=\"Y\",INDEX(OIQraw,ROW(),Setup!$C$5+COLUMN()-26),\"x\")","v":"x"},{"$f":"IF($E4=\"Y\",INDEX(OIQraw,ROW(),Setup!$C$5+COLUMN()-26),\"x\")","v":"x"},{"$f":"IF($E4=\"Y\",INDEX(OIQraw,ROW(),Setup!$C$5+COLUMN()-26),\"x\")","v":"x"},{"$f":"IF($E4=\"Y\",INDEX(OIQraw,ROW(),Setup!$C$5+COLUMN()-26),\"x\")","v":"x"},{"$f":"IF($E4=\"Y\",INDEX(OIQraw,ROW(),Setup!$C$5+COLUMN()-26),\"x\")","v":"x"},{"$f":"IF($E4=\"Y\",INDEX(OIQraw,ROW(),Setup!$C$5+COLUMN()-26),\"x\")","v":"x"},{"$f":"IF($E4=\"Y\",INDEX(OIQraw,ROW(),Setup!$C$5+COLUMN()-26),\"x\")","v":"x"},{"$f":"IF($E4=\"Y\",INDEX(OIQraw,ROW(),Setup!$C$5+COLUMN()-26),\"x\")","v":"x"},{"$f":"IF($E4=\"Y\",INDEX(OIQraw,ROW(),Setup!$C$5+COLUMN()-26),\"x\")","v":"x"},{"$f":"IF($E4=\"Y\",INDEX(OIQraw,ROW(),Setup!$C$5+COLUMN()-26),\"x\")","v":"x"},{"$f":"IF($E4=\"Y\",INDEX(OIQraw,ROW(),Setup!$C$5+COLUMN()-26),\"x\")","v":"x"},{"$f":"IF($E4=\"Y\",INDEX(OIQraw,ROW(),Setup!$C$5+COLUMN()-26),\"x\")","v":"x"},{"$f":"IF($E4=\"Y\",INDEX(OIQraw,ROW(),Setup!$C$5+COLUMN()-26),\"x\")","v":"x"},{"$f":"IF($E4=\"Y\",INDEX(OIQraw,ROW(),Setup!$C$5+COLUMN()-26),\"x\")","v":"x"},{"$f":"IF($E4=\"Y\",INDEX(OIQraw,ROW(),Setup!$C$5+COLUMN()-26),\"x\")","v":"x"},{"$f":"IF($E4=\"Y\",INDEX(OIQraw,ROW(),Setup!$C$5+COLUMN()-26),\"x\")","v":"x"},{"$f":"IF($E4=\"Y\",INDEX(OIQraw,ROW(),Setup!$C$5+COLUMN()-26),\"x\")","v":"x"},{"$f":"IF($E4=\"Y\",INDEX(OIQraw,ROW(),Setup!$C$5+COLUMN()-26),\"x\")","v":"x"},{"$f":"IF($E4=\"Y\",INDEX(OIQraw,ROW(),Setup!$C$5+COLUMN()-26),\"x\")","v":"x"},{"$f":"IF($E4=\"Y\",INDEX(OIQraw,ROW(),Setup!$C$5+COLUMN()-26),\"x\")","v":"x"},{"$f":"IF($E4=\"Y\",INDEX(OIQraw,ROW(),Setup!$C$5+COLUMN()-26),\"x\")","v":"x"},{"$f":"IF($E4=\"Y\",INDEX(OIQraw,ROW(),Setup!$C$5+COLUMN()-26),\"x\")","v":"x"},{"$f":"IF($E4=\"Y\",INDEX(OIQraw,ROW(),Setup!$C$5+COLUMN()-26),\"x\")","v":"x"},{"$f":"IF($E4=\"Y\",INDEX(OIQraw,ROW(),Setup!$C$5+COLUMN()-26),\"x\")","v":"x"},{"$f":"IF($E4=\"Y\",INDEX(OIQraw,ROW(),Setup!$C$5+COLUMN()-26),\"x\")","v":"x"},{"$f":"IF($E4=\"Y\",INDEX(OIQraw,ROW(),Setup!$C$5+COLUMN()-26),\"x\")","v":"x"},{"$f":"IF($E4=\"Y\",INDEX(OIQraw,ROW(),Setup!$C$5+COLUMN()-26),\"x\")","v":"x"},{"$f":"IF($E4=\"Y\",INDEX(OIQraw,ROW(),Setup!$C$5+COLUMN()-26),\"x\")","v":"x"},{"$f":"IF($E4=\"Y\",INDEX(OIQraw,ROW(),Setup!$C$5+COLUMN()-26),\"x\")","v":"x"},{"$f":"IF($E4=\"Y\",INDEX(OIQraw,ROW(),Setup!$C$5+COLUMN()-26),\"x\")","v":"x"},{"$f":"IF($E4=\"Y\",INDEX(OIQraw,ROW(),Setup!$C$5+COLUMN()-26),\"x\")","v":"x"},{"$f":"IF($E4=\"Y\",INDEX(OIQraw,ROW(),Setup!$C$5+COLUMN()-26),\"x\")","v":"x"},{"$f":"IF($E4=\"Y\",INDEX(OIQraw,ROW(),Setup!$C$5+COLUMN()-26),\"x\")","v":"x"},{"$f":"IF($E4=\"Y\",INDEX(OIQraw,ROW(),Setup!$C$5+COLUMN()-26),\"x\")","v":"x"},{"$f":"IF($E4=\"Y\",INDEX(OIQraw,ROW(),Setup!$C$5+COLUMN()-26),\"x\")","v":"x"},{"$f":"IF($E4=\"Y\",INDEX(OIQraw,ROW(),Setup!$C$5+COLUMN()-26),\"x\")","v":"x"},{"$f":"IF($E4=\"Y\",INDEX(OIQraw,ROW(),Setup!$C$5+COLUMN()-26),\"x\")","v":"x"},{"$f":"IF($E4=\"Y\",INDEX(OIQraw,ROW(),Setup!$C$5+COLUMN()-26),\"x\")","v":"x"},{"$f":"IF($E4=\"Y\",INDEX(OIQraw,ROW(),Setup!$C$5+COLUMN()-26),\"x\")","v":"x"},{"$f":"IF($E4=\"Y\",INDEX(OIQraw,ROW(),Setup!$C$5+COLUMN()-26),\"x\")","v":"x"},{"$f":"IF($E4=\"Y\",INDEX(OIQraw,ROW(),Setup!$C$5+COLUMN()-26),\"x\")","v":"x"},{"$f":"IF($E4=\"Y\",INDEX(OIQraw,ROW(),Setup!$C$5+COLUMN()-26),\"x\")","v":"x"},{"$f":"IF($E4=\"Y\",INDEX(OIQraw,ROW(),Setup!$C$5+COLUMN()-26),\"x\")","v":"x"},{"$f":"IF($E4=\"Y\",INDEX(OIQraw,ROW(),Setup!$C$5+COLUMN()-26),\"x\")","v":"x"},{"$f":"IF($E4=\"Y\",INDEX(OIQraw,ROW(),Setup!$C$5+COLUMN()-26),\"x\")","v":"x"},{"$f":"IF($E4=\"Y\",INDEX(OIQraw,ROW(),Setup!$C$5+COLUMN()-26),\"x\")","v":"x"},{"$f":"IF($E4=\"Y\",INDEX(OIQraw,ROW(),Setup!$C$5+COLUMN()-26),\"x\")","v":"x"},{"$f":"IF($E4=\"Y\",INDEX(OIQraw,ROW(),Setup!$C$5+COLUMN()-26),\"x\")","v":"x"},{"$f":"IF($E4=\"Y\",INDEX(OIQraw,ROW(),Setup!$C$5+COLUMN()-26),\"x\")","v":"x"},{"$f":"IF($E4=\"Y\",INDEX(OIQraw,ROW(),Setup!$C$5+COLUMN()-26),\"x\")","v":"x"},{"$f":"IF($E4=\"Y\",INDEX(OIQraw,ROW(),Setup!$C$5+COLUMN()-26),\"x\")","v":"x"},{"$f":"IF($E4=\"Y\",INDEX(OIQraw,ROW(),Setup!$C$5+COLUMN()-26),\"x\")","v":"x"},{"$f":"IF($E4=\"Y\",INDEX(OIQraw,ROW(),Setup!$C$5+COLUMN()-26),\"x\")","v":"x"},{"$f":"IF($E4=\"Y\",INDEX(OIQraw,ROW(),Setup!$C$5+COLUMN()-26),\"x\")","v":"x"},{"$f":"IF($E4=\"Y\",INDEX(OIQraw,ROW(),Setup!$C$5+COLUMN()-26),\"x\")","v":"x"},{"$f":"IF($E4=\"Y\",INDEX(OIQraw,ROW(),Setup!$C$5+COLUMN()-26),\"x\")","v":"x"}]
[1,"","",{"$f":"IF(ISERROR(FIND(\"Withdrew\",RawScores!B9)),RawScores!B9,RIGHT(RawScores!B9,LEN(RawScores!B9)-17))&\", \"&RawScores!C9","v":", "},{"$f":"IF(OR(ISERROR(FIND(\"Withdrew\",RawScores!B9))=FALSE,INDEX(OIQraw,ROW(),LastInputCol-3)=0),\"N\",IF(AND(Setup!$B$22=\"Yes\",INDEX(OIQraw,ROW(),LastInputCol)=1),\"N\",\"Y\"))","v":"N"},"X","X","X",{"$f":"IF(AND(ISNUMBER(F5),F5>Setup!$B$14-1),1,0)","v":0},{"$f":"IF(AND(F5>Setup!$B$14-1,Conv!H5<5),1,0)","v":0},{"$f":"IF(AND(F5>Setup!$B$14-1,Conv!G5=\"F\"),1,0)","v":0},"","","","","","","","","","","","","X","X",{"$f":"IF($E5=\"Y\",INDEX(OIQraw,ROW(),Setup!$C$5+COLUMN()-26),\"x\")","v":"x"},{"$f":"IF($E5=\"Y\",INDEX(OIQraw,ROW(),Setup!$C$5+COLUMN()-26),\"x\")","v":"x"},{"$f":"IF($E5=\"Y\",INDEX(OIQraw,ROW(),Setup!$C$5+COLUMN()-26),\"x\")","v":"x"},{"$f":"IF($E5=\"Y\",INDEX(OIQraw,ROW(),Setup!$C$5+COLUMN()-26),\"x\")","v":"x"},{"$f":"IF($E5=\"Y\",INDEX(OIQraw,ROW(),Setup!$C$5+COLUMN()-26),\"x\")","v":"x"},{"$f":"IF($E5=\"Y\",INDEX(OIQraw,ROW(),Setup!$C$5+COLUMN()-26),\"x\")","v":"x"},{"$f":"IF($E5=\"Y\",INDEX(OIQraw,ROW(),Setup!$C$5+COLUMN()-26),\"x\")","v":"x"},{"$f":"IF($E5=\"Y\",INDEX(OIQraw,ROW(),Setup!$C$5+COLUMN()-26),\"x\")","v":"x"},{"$f":"IF($E5=\"Y\",INDEX(OIQraw,ROW(),Setup!$C$5+COLUMN()-26),\"x\")","v":"x"},{"$f":"IF($E5=\"Y\",INDEX(OIQraw,ROW(),Setup!$C$5+COLUMN()-26),\"x\")","v":"x"},{"$f":"IF($E5=\"Y\",INDEX(OIQraw,ROW(),Setup!$C$5+COLUMN()-26),\"x\")","v":"x"},{"$f":"IF($E5=\"Y\",INDEX(OIQraw,ROW(),Setup!$C$5+COLUMN()-26),\"x\")","v":"x"},{"$f":"IF($E5=\"Y\",INDEX(OIQraw,ROW(),Setup!$C$5+COLUMN()-26),\"x\")","v":"x"},{"$f":"IF($E5=\"Y\",INDEX(OIQraw,ROW(),Setup!$C$5+COLUMN()-26),\"x\")","v":"x"},{"$f":"IF($E5=\"Y\",INDEX(OIQraw,ROW(),Setup!$C$5+COLUMN()-26),\"x\")","v":"x"},{"$f":"IF($E5=\"Y\",INDEX(OIQraw,ROW(),Setup!$C$5+COLUMN()-26),\"x\")","v":"x"},{"$f":"IF($E5=\"Y\",INDEX(OIQraw,ROW(),Setup!$C$5+COLUMN()-26),\"x\")","v":"x"},{"$f":"IF($E5=\"Y\",INDEX(OIQraw,ROW(),Setup!$C$5+COLUMN()-26),\"x\")","v":"x"},{"$f":"IF($E5=\"Y\",INDEX(OIQraw,ROW(),Setup!$C$5+COLUMN()-26),\"x\")","v":"x"},{"$f":"IF($E5=\"Y\",INDEX(OIQraw,ROW(),Setup!$C$5+COLUMN()-26),\"x\")","v":"x"},{"$f":"IF($E5=\"Y\",INDEX(OIQraw,ROW(),Setup!$C$5+COLUMN()-26),\"x\")","v":"x"},{"$f":"IF($E5=\"Y\",INDEX(OIQraw,ROW(),Setup!$C$5+COLUMN()-26),\"x\")","v":"x"},{"$f":"IF($E5=\"Y\",INDEX(OIQraw,ROW(),Setup!$C$5+COLUMN()-26),\"x\")","v":"x"},{"$f":"IF($E5=\"Y\",INDEX(OIQraw,ROW(),Setup!$C$5+COLUMN()-26),\"x\")","v":"x"},{"$f":"IF($E5=\"Y\",INDEX(OIQraw,ROW(),Setup!$C$5+COLUMN()-26),\"x\")","v":"x"},{"$f":"IF($E5=\"Y\",INDEX(OIQraw,ROW(),Setup!$C$5+COLUMN()-26),\"x\")","v":"x"},{"$f":"IF($E5=\"Y\",INDEX(OIQraw,ROW(),Setup!$C$5+COLUMN()-26),\"x\")","v":"x"},{"$f":"IF($E5=\"Y\",INDEX(OIQraw,ROW(),Setup!$C$5+COLUMN()-26),\"x\")","v":"x"},{"$f":"IF($E5=\"Y\",INDEX(OIQraw,ROW(),Setup!$C$5+COLUMN()-26),\"x\")","v":"x"},{"$f":"IF($E5=\"Y\",INDEX(OIQraw,ROW(),Setup!$C$5+COLUMN()-26),\"x\")","v":"x"},{"$f":"IF($E5=\"Y\",INDEX(OIQraw,ROW(),Setup!$C$5+COLUMN()-26),\"x\")","v":"x"},{"$f":"IF($E5=\"Y\",INDEX(OIQraw,ROW(),Setup!$C$5+COLUMN()-26),\"x\")","v":"x"},{"$f":"IF($E5=\"Y\",INDEX(OIQraw,ROW(),Setup!$C$5+COLUMN()-26),\"x\")","v":"x"},{"$f":"IF($E5=\"Y\",INDEX(OIQraw,ROW(),Setup!$C$5+COLUMN()-26),\"x\")","v":"x"},{"$f":"IF($E5=\"Y\",INDEX(OIQraw,ROW(),Setup!$C$5+COLUMN()-26),\"x\")","v":"x"},{"$f":"IF($E5=\"Y\",INDEX(OIQraw,ROW(),Setup!$C$5+COLUMN()-26),\"x\")","v":"x"},{"$f":"IF($E5=\"Y\",INDEX(OIQraw,ROW(),Setup!$C$5+COLUMN()-26),\"x\")","v":"x"},{"$f":"IF($E5=\"Y\",INDEX(OIQraw,ROW(),Setup!$C$5+COLUMN()-26),\"x\")","v":"x"},{"$f":"IF($E5=\"Y\",INDEX(OIQraw,ROW(),Setup!$C$5+COLUMN()-26),\"x\")","v":"x"},{"$f":"IF($E5=\"Y\",INDEX(OIQraw,ROW(),Setup!$C$5+COLUMN()-26),\"x\")","v":"x"},{"$f":"IF($E5=\"Y\",INDEX(OIQraw,ROW(),Setup!$C$5+COLUMN()-26),\"x\")","v":"x"},{"$f":"IF($E5=\"Y\",INDEX(OIQraw,ROW(),Setup!$C$5+COLUMN()-26),\"x\")","v":"x"},{"$f":"IF($E5=\"Y\",INDEX(OIQraw,ROW(),Setup!$C$5+COLUMN()-26),\"x\")","v":"x"},{"$f":"IF($E5=\"Y\",INDEX(OIQraw,ROW(),Setup!$C$5+COLUMN()-26),\"x\")","v":"x"},{"$f":"IF($E5=\"Y\",INDEX(OIQraw,ROW(),Setup!$C$5+COLUMN()-26),\"x\")","v":"x"},{"$f":"IF($E5=\"Y\",INDEX(OIQraw,ROW(),Setup!$C$5+COLUMN()-26),\"x\")","v":"x"},{"$f":"IF($E5=\"Y\",INDEX(OIQraw,ROW(),Setup!$C$5+COLUMN()-26),\"x\")","v":"x"},{"$f":"IF($E5=\"Y\",INDEX(OIQraw,ROW(),Setup!$C$5+COLUMN()-26),\"x\")","v":"x"},{"$f":"IF($E5=\"Y\",INDEX(OIQraw,ROW(),Setup!$C$5+COLUMN()-26),\"x\")","v":"x"},{"$f":"IF($E5=\"Y\",INDEX(OIQraw,ROW(),Setup!$C$5+COLUMN()-26),\"x\")","v":"x"},{"$f":"IF($E5=\"Y\",INDEX(OIQraw,ROW(),Setup!$C$5+COLUMN()-26),\"x\")","v":"x"},{"$f":"IF($E5=\"Y\",INDEX(OIQraw,ROW(),Setup!$C$5+COLUMN()-26),\"x\")","v":"x"},{"$f":"IF($E5=\"Y\",INDEX(OIQraw,ROW(),Setup!$C$5+COLUMN()-26),\"x\")","v":"x"},{"$f":"IF($E5=\"Y\",INDEX(OIQraw,ROW(),Setup!$C$5+COLUMN()-26),\"x\")","v":"x"},{"$f":"IF($E5=\"Y\",INDEX(OIQraw,ROW(),Setup!$C$5+COLUMN()-26),\"x\")","v":"x"},{"$f":"IF($E5=\"Y\",INDEX(OIQraw,ROW(),Setup!$C$5+COLUMN()-26),\"x\")","v":"x"},{"$f":"IF($E5=\"Y\",INDEX(OIQraw,ROW(),Setup!$C$5+COLUMN()-26),\"x\")","v":"x"},{"$f":"IF($E5=\"Y\",INDEX(OIQraw,ROW(),Setup!$C$5+COLUMN()-26),\"x\")","v":"x"},{"$f":"IF($E5=\"Y\",INDEX(OIQraw,ROW(),Setup!$C$5+COLUMN()-26),\"x\")","v":"x"},{"$f":"IF($E5=\"Y\",INDEX(OIQraw,ROW(),Setup!$C$5+COLUMN()-26),\"x\")","v":"x"},{"$f":"IF($E5=\"Y\",INDEX(OIQraw,ROW(),Setup!$C$5+COLUMN()-26),\"x\")","v":"x"},{"$f":"IF($E5=\"Y\",INDEX(OIQraw,ROW(),Setup!$C$5+COLUMN()-26),\"x\")","v":"x"},{"$f":"IF($E5=\"Y\",INDEX(OIQraw,ROW(),Setup!$C$5+COLUMN()-26),\"x\")","v":"x"},{"$f":"IF($E5=\"Y\",INDEX(OIQraw,ROW(),Setup!$C$5+COLUMN()-26),\"x\")","v":"x"},{"$f":"IF($E5=\"Y\",INDEX(OIQraw,ROW(),Setup!$C$5+COLUMN()-26),\"x\")","v":"x"},{"$f":"IF($E5=\"Y\",INDEX(OIQraw,ROW(),Setup!$C$5+COLUMN()-26),\"x\")","v":"x"},{"$f":"IF($E5=\"Y\",INDEX(OIQraw,ROW(),Setup!$C$5+COLUMN()-26),\"x\")","v":"x"},{"$f":"IF($E5=\"Y\",INDEX(OIQraw,ROW(),Setup!$C$5+COLUMN()-26),\"x\")","v":"x"},{"$f":"IF($E5=\"Y\",INDEX(OIQraw,ROW(),Setup!$C$5+COLUMN()-26),\"x\")","v":"x"},{"$f":"IF($E5=\"Y\",INDEX(OIQraw,ROW(),Setup!$C$5+COLUMN()-26),\"x\")","v":"x"},{"$f":"IF($E5=\"Y\",INDEX(OIQraw,ROW(),Setup!$C$5+COLUMN()-26),\"x\")","v":"x"},{"$f":"IF($E5=\"Y\",INDEX(OIQraw,ROW(),Setup!$C$5+COLUMN()-26),\"x\")","v":"x"},{"$f":"IF($E5=\"Y\",INDEX(OIQraw,ROW(),Setup!$C$5+COLUMN()-26),\"x\")","v":"x"},{"$f":"IF($E5=\"Y\",INDEX(OIQraw,ROW(),Setup!$C$5+COLUMN()-26),\"x\")","v":"x"},{"$f":"IF($E5=\"Y\",INDEX(OIQraw,ROW(),Setup!$C$5+COLUMN()-26),\"x\")","v":"x"},{"$f":"IF($E5=\"Y\",INDEX(OIQraw,ROW(),Setup!$C$5+COLUMN()-26),\"x\")","v":"x"},{"$f":"IF($E5=\"Y\",INDEX(OIQraw,ROW(),Setup!$C$5+COLUMN()-26),\"x\")","v":"x"},{"$f":"IF($E5=\"Y\",INDEX(OIQraw,ROW(),Setup!$C$5+COLUMN()-26),\"x\")","v":"x"},{"$f":"IF($E5=\"Y\",INDEX(OIQraw,ROW(),Setup!$C$5+COLUMN()-26),\"x\")","v":"x"},{"$f":"IF($E5=\"Y\",INDEX(OIQraw,ROW(),Setup!$C$5+COLUMN()-26),\"x\")","v":"x"},{"$f":"IF($E5=\"Y\",INDEX(OIQraw,ROW(),Setup!$C$5+COLUMN()-26),\"x\")","v":"x"},{"$f":"IF($E5=\"Y\",INDEX(OIQraw,ROW(),Setup!$C$5+COLUMN()-26),\"x\")","v":"x"},{"$f":"IF($E5=\"Y\",INDEX(OIQraw,ROW(),Setup!$C$5+COLUMN()-26),\"x\")","v":"x"},{"$f":"IF($E5=\"Y\",INDEX(OIQraw,ROW(),Setup!$C$5+COLUMN()-26),\"x\")","v":"x"},{"$f":"IF($E5=\"Y\",INDEX(OIQraw,ROW(),Setup!$C$5+COLUMN()-26),\"x\")","v":"x"},{"$f":"IF($E5=\"Y\",INDEX(OIQraw,ROW(),Setup!$C$5+COLUMN()-26),\"x\")","v":"x"},{"$f":"IF($E5=\"Y\",INDEX(OIQraw,ROW(),Setup!$C$5+COLUMN()-26),\"x\")","v":"x"},{"$f":"IF($E5=\"Y\",INDEX(OIQraw,ROW(),Setup!$C$5+COLUMN()-26),\"x\")","v":"x"},{"$f":"IF($E5=\"Y\",INDEX(OIQraw,ROW(),Setup!$C$5+COLUMN()-26),\"x\")","v":"x"},{"$f":"IF($E5=\"Y\",INDEX(OIQraw,ROW(),Setup!$C$5+COLUMN()-26),\"x\")","v":"x"},{"$f":"IF($E5=\"Y\",INDEX(OIQraw,ROW(),Setup!$C$5+COLUMN()-26),\"x\")","v":"x"},{"$f":"IF($E5=\"Y\",INDEX(OIQraw,ROW(),Setup!$C$5+COLUMN()-26),\"x\")","v":"x"},{"$f":"IF($E5=\"Y\",INDEX(OIQraw,ROW(),Setup!$C$5+COLUMN()-26),\"x\")","v":"x"},{"$f":"IF($E5=\"Y\",INDEX(OIQraw,ROW(),Setup!$C$5+COLUMN()-26),\"x\")","v":"x"},{"$f":"IF($E5=\"Y\",INDEX(OIQraw,ROW(),Setup!$C$5+COLUMN()-26),\"x\")","v":"x"},{"$f":"IF($E5=\"Y\",INDEX(OIQraw,ROW(),Setup!$C$5+COLUMN()-26),\"x\")","v":"x"},{"$f":"IF($E5=\"Y\",INDEX(OIQraw,ROW(),Setup!$C$5+COLUMN()-26),\"x\")","v":"x"},{"$f":"IF($E5=\"Y\",INDEX(OIQraw,ROW(),Setup!$C$5+COLUMN()-26),\"x\")","v":"x"},{"$f":"IF($E5=\"Y\",INDEX(OIQraw,ROW(),Setup!$C$5+COLUMN()-26),\"x\")","v":"x"},{"$f":"IF($E5=\"Y\",INDEX(OIQraw,ROW(),Setup!$C$5+COLUMN()-26),\"x\")","v":"x"},{"$f":"IF($E5=\"Y\",INDEX(OIQraw,ROW(),Setup!$C$5+COLUMN()-26),\"x\")","v":"x"},{"$f":"IF($E5=\"Y\",INDEX(OIQraw,ROW(),Setup!$C$5+COLUMN()-26),\"x\")","v":"x"},{"$f":"IF($E5=\"Y\",INDEX(OIQraw,ROW(),Setup!$C$5+COLUMN()-26),\"x\")","v":"x"},{"$f":"IF($E5=\"Y\",INDEX(OIQraw,ROW(),Setup!$C$5+COLUMN()-26),\"x\")","v":"x"},{"$f":"IF($E5=\"Y\",INDEX(OIQraw,ROW(),Setup!$C$5+COLUMN()-26),\"x\")","v":"x"},{"$f":"IF($E5=\"Y\",INDEX(OIQraw,ROW(),Setup!$C$5+COLUMN()-26),\"x\")","v":"x"},{"$f":"IF($E5=\"Y\",INDEX(OIQraw,ROW(),Setup!$C$5+COLUMN()-26),\"x\")","v":"x"},{"$f":"IF($E5=\"Y\",INDEX(OIQraw,ROW(),Setup!$C$5+COLUMN()-26),\"x\")","v":"x"},{"$f":"IF($E5=\"Y\",INDEX(OIQraw,ROW(),Setup!$C$5+COLUMN()-26),\"x\")","v":"x"},{"$f":"IF($E5=\"Y\",INDEX(OIQraw,ROW(),Setup!$C$5+COLUMN()-26),\"x\")","v":"x"},{"$f":"IF($E5=\"Y\",INDEX(OIQraw,ROW(),Setup!$C$5+COLUMN()-26),\"x\")","v":"x"},{"$f":"IF($E5=\"Y\",INDEX(OIQraw,ROW(),Setup!$C$5+COLUMN()-26),\"x\")","v":"x"},{"$f":"IF($E5=\"Y\",INDEX(OIQraw,ROW(),Setup!$C$5+COLUMN()-26),\"x\")","v":"x"},{"$f":"IF($E5=\"Y\",INDEX(OIQraw,ROW(),Setup!$C$5+COLUMN()-26),\"x\")","v":"x"},{"$f":"IF($E5=\"Y\",INDEX(OIQraw,ROW(),Setup!$C$5+COLUMN()-26),\"x\")","v":"x"},{"$f":"IF($E5=\"Y\",INDEX(OIQraw,ROW(),Setup!$C$5+COLUMN()-26),\"x\")","v":"x"},{"$f":"IF($E5=\"Y\",INDEX(OIQraw,ROW(),Setup!$C$5+COLUMN()-26),\"x\")","v":"x"},{"$f":"IF($E5=\"Y\",INDEX(OIQraw,ROW(),Setup!$C$5+COLUMN()-26),\"x\")","v":"x"},{"$f":"IF($E5=\"Y\",INDEX(OIQraw,ROW(),Setup!$C$5+COLUMN()-26),\"x\")","v":"x"},{"$f":"IF($E5=\"Y\",INDEX(OIQraw,ROW(),Setup!$C$5+COLUMN()-26),\"x\")","v":"x"},{"$f":"IF($E5=\"Y\",INDEX(OIQraw,ROW(),Setup!$C$5+COLUMN()-26),\"x\")","v":"x"},{"$f":"IF($E5=\"Y\",INDEX(OIQraw,ROW(),Setup!$C$5+COLUMN()-26),\"x\")","v":"x"},{"$f":"IF($E5=\"Y\",INDEX(OIQraw,ROW(),Setup!$C$5+COLUMN()-26),\"x\")","v":"x"},{"$f":"IF($E5=\"Y\",INDEX(OIQraw,ROW(),Setup!$C$5+COLUMN()-26),\"x\")","v":"x"},{"$f":"IF($E5=\"Y\",INDEX(OIQraw,ROW(),Setup!$C$5+COLUMN()-26),\"x\")","v":"x"},{"$f":"IF($E5=\"Y\",INDEX(OIQraw,ROW(),Setup!$C$5+COLUMN()-26),\"x\")","v":"x"},{"$f":"IF($E5=\"Y\",INDEX(OIQraw,ROW(),Setup!$C$5+COLUMN()-26),\"x\")","v":"x"},{"$f":"IF($E5=\"Y\",INDEX(OIQraw,ROW(),Setup!$C$5+COLUMN()-26),\"x\")","v":"x"},{"$f":"IF($E5=\"Y\",INDEX(OIQraw,ROW(),Setup!$C$5+COLUMN()-26),\"x\")","v":"x"},{"$f":"IF($E5=\"Y\",INDEX(OIQraw,ROW(),Setup!$C$5+COLUMN()-26),\"x\")","v":"x"},{"$f":"IF($E5=\"Y\",INDEX(OIQraw,ROW(),Setup!$C$5+COLUMN()-26),\"x\")","v":"x"},{"$f":"IF($E5=\"Y\",INDEX(OIQraw,ROW(),Setup!$C$5+COLUMN()-26),\"x\")","v":"x"},{"$f":"IF($E5=\"Y\",INDEX(OIQraw,ROW(),Setup!$C$5+COLUMN()-26),\"x\")","v":"x"},{"$f":"IF($E5=\"Y\",INDEX(OIQraw,ROW(),Setup!$C$5+COLUMN()-26),\"x\")","v":"x"},{"$f":"IF($E5=\"Y\",INDEX(OIQraw,ROW(),Setup!$C$5+COLUMN()-26),\"x\")","v":"x"},{"$f":"IF($E5=\"Y\",INDEX(OIQraw,ROW(),Setup!$C$5+COLUMN()-26),\"x\")","v":"x"},{"$f":"IF($E5=\"Y\",INDEX(OIQraw,ROW(),Setup!$C$5+COLUMN()-26),\"x\")","v":"x"},{"$f":"IF($E5=\"Y\",INDEX(OIQraw,ROW(),Setup!$C$5+COLUMN()-26),\"x\")","v":"x"},{"$f":"IF($E5=\"Y\",INDEX(OIQraw,ROW(),Setup!$C$5+COLUMN()-26),\"x\")","v":"x"},{"$f":"IF($E5=\"Y\",INDEX(OIQraw,ROW(),Setup!$C$5+COLUMN()-26),\"x\")","v":"x"},{"$f":"IF($E5=\"Y\",INDEX(OIQraw,ROW(),Setup!$C$5+COLUMN()-26),\"x\")","v":"x"},{"$f":"IF($E5=\"Y\",INDEX(OIQraw,ROW(),Setup!$C$5+COLUMN()-26),\"x\")","v":"x"},{"$f":"IF($E5=\"Y\",INDEX(OIQraw,ROW(),Setup!$C$5+COLUMN()-26),\"x\")","v":"x"},{"$f":"IF($E5=\"Y\",INDEX(OIQraw,ROW(),Setup!$C$5+COLUMN()-26),\"x\")","v":"x"},{"$f":"IF($E5=\"Y\",INDEX(OIQraw,ROW(),Setup!$C$5+COLUMN()-26),\"x\")","v":"x"},{"$f":"IF($E5=\"Y\",INDEX(OIQraw,ROW(),Setup!$C$5+COLUMN()-26),\"x\")","v":"x"},{"$f":"IF($E5=\"Y\",INDEX(OIQraw,ROW(),Setup!$C$5+COLUMN()-26),\"x\")","v":"x"},{"$f":"IF($E5=\"Y\",INDEX(OIQraw,ROW(),Setup!$C$5+COLUMN()-26),\"x\")","v":"x"},{"$f":"IF($E5=\"Y\",INDEX(OIQraw,ROW(),Setup!$C$5+COLUMN()-26),\"x\")","v":"x"},{"$f":"IF($E5=\"Y\",INDEX(OIQraw,ROW(),Setup!$C$5+COLUMN()-26),\"x\")","v":"x"},{"$f":"IF($E5=\"Y\",INDEX(OIQraw,ROW(),Setup!$C$5+COLUMN()-26),\"x\")","v":"x"},{"$f":"IF($E5=\"Y\",INDEX(OIQraw,ROW(),Setup!$C$5+COLUMN()-26),\"x\")","v":"x"},{"$f":"IF($E5=\"Y\",INDEX(OIQraw,ROW(),Setup!$C$5+COLUMN()-26),\"x\")","v":"x"},{"$f":"IF($E5=\"Y\",INDEX(OIQraw,ROW(),Setup!$C$5+COLUMN()-26),\"x\")","v":"x"},{"$f":"IF($E5=\"Y\",INDEX(OIQraw,ROW(),Setup!$C$5+COLUMN()-26),\"x\")","v":"x"},{"$f":"IF($E5=\"Y\",INDEX(OIQraw,ROW(),Setup!$C$5+COLUMN()-26),\"x\")","v":"x"},{"$f":"IF($E5=\"Y\",INDEX(OIQraw,ROW(),Setup!$C$5+COLUMN()-26),\"x\")","v":"x"},{"$f":"IF($E5=\"Y\",INDEX(OIQraw,ROW(),Setup!$C$5+COLUMN()-26),\"x\")","v":"x"},{"$f":"IF($E5=\"Y\",INDEX(OIQraw,ROW(),Setup!$C$5+COLUMN()-26),\"x\")","v":"x"},{"$f":"IF($E5=\"Y\",INDEX(OIQraw,ROW(),Setup!$C$5+COLUMN()-26),\"x\")","v":"x"},{"$f":"IF($E5=\"Y\",INDEX(OIQraw,ROW(),Setup!$C$5+COLUMN()-26),\"x\")","v":"x"},{"$f":"IF($E5=\"Y\",INDEX(OIQraw,ROW(),Setup!$C$5+COLUMN()-26),\"x\")","v":"x"},{"$f":"IF($E5=\"Y\",INDEX(OIQraw,ROW(),Setup!$C$5+COLUMN()-26),\"x\")","v":"x"},{"$f":"IF($E5=\"Y\",INDEX(OIQraw,ROW(),Setup!$C$5+COLUMN()-26),\"x\")","v":"x"},{"$f":"IF($E5=\"Y\",INDEX(OIQraw,ROW(),Setup!$C$5+COLUMN()-26),\"x\")","v":"x"},{"$f":"IF($E5=\"Y\",INDEX(OIQraw,ROW(),Setup!$C$5+COLUMN()-26),\"x\")","v":"x"},{"$f":"IF($E5=\"Y\",INDEX(OIQraw,ROW(),Setup!$C$5+COLUMN()-26),\"x\")","v":"x"},{"$f":"IF($E5=\"Y\",INDEX(OIQraw,ROW(),Setup!$C$5+COLUMN()-26),\"x\")","v":"x"},{"$f":"IF($E5=\"Y\",INDEX(OIQraw,ROW(),Setup!$C$5+COLUMN()-26),\"x\")","v":"x"},{"$f":"IF($E5=\"Y\",INDEX(OIQraw,ROW(),Setup!$C$5+COLUMN()-26),\"x\")","v":"x"},{"$f":"IF($E5=\"Y\",INDEX(OIQraw,ROW(),Setup!$C$5+COLUMN()-26),\"x\")","v":"x"},{"$f":"IF($E5=\"Y\",INDEX(OIQraw,ROW(),Setup!$C$5+COLUMN()-26),\"x\")","v":"x"},{"$f":"IF($E5=\"Y\",INDEX(OIQraw,ROW(),Setup!$C$5+COLUMN()-26),\"x\")","v":"x"},{"$f":"IF($E5=\"Y\",INDEX(OIQraw,ROW(),Setup!$C$5+COLUMN()-26),\"x\")","v":"x"},{"$f":"IF($E5=\"Y\",INDEX(OIQraw,ROW(),Setup!$C$5+COLUMN()-26),\"x\")","v":"x"},{"$f":"IF($E5=\"Y\",INDEX(OIQraw,ROW(),Setup!$C$5+COLUMN()-26),\"x\")","v":"x"},{"$f":"IF($E5=\"Y\",INDEX(OIQraw,ROW(),Setup!$C$5+COLUMN()-26),\"x\")","v":"x"},{"$f":"IF($E5=\"Y\",INDEX(OIQraw,ROW(),Setup!$C$5+COLUMN()-26),\"x\")","v":"x"},{"$f":"IF($E5=\"Y\",INDEX(OIQraw,ROW(),Setup!$C$5+COLUMN()-26),\"x\")","v":"x"},{"$f":"IF($E5=\"Y\",INDEX(OIQraw,ROW(),Setup!$C$5+COLUMN()-26),\"x\")","v":"x"},{"$f":"IF($E5=\"Y\",INDEX(OIQraw,ROW(),Setup!$C$5+COLUMN()-26),\"x\")","v":"x"},{"$f":"IF($E5=\"Y\",INDEX(OIQraw,ROW(),Setup!$C$5+COLUMN()-26),\"x\")","v":"x"},{"$f":"IF($E5=\"Y\",INDEX(OIQraw,ROW(),Setup!$C$5+COLUMN()-26),\"x\")","v":"x"},{"$f":"IF($E5=\"Y\",INDEX(OIQraw,ROW(),Setup!$C$5+COLUMN()-26),\"x\")","v":"x"},{"$f":"IF($E5=\"Y\",INDEX(OIQraw,ROW(),Setup!$C$5+COLUMN()-26),\"x\")","v":"x"},{"$f":"IF($E5=\"Y\",INDEX(OIQraw,ROW(),Setup!$C$5+COLUMN()-26),\"x\")","v":"x"},{"$f":"IF($E5=\"Y\",INDEX(OIQraw,ROW(),Setup!$C$5+COLUMN()-26),\"x\")","v":"x"},{"$f":"IF($E5=\"Y\",INDEX(OIQraw,ROW(),Setup!$C$5+COLUMN()-26),\"x\")","v":"x"},{"$f":"IF($E5=\"Y\",INDEX(OIQraw,ROW(),Setup!$C$5+COLUMN()-26),\"x\")","v":"x"},{"$f":"IF($E5=\"Y\",INDEX(OIQraw,ROW(),Setup!$C$5+COLUMN()-26),\"x\")","v":"x"},{"$f":"IF($E5=\"Y\",INDEX(OIQraw,ROW(),Setup!$C$5+COLUMN()-26),\"x\")","v":"x"},{"$f":"IF($E5=\"Y\",INDEX(OIQraw,ROW(),Setup!$C$5+COLUMN()-26),\"x\")","v":"x"},{"$f":"IF($E5=\"Y\",INDEX(OIQraw,ROW(),Setup!$C$5+COLUMN()-26),\"x\")","v":"x"},{"$f":"IF($E5=\"Y\",INDEX(OIQraw,ROW(),Setup!$C$5+COLUMN()-26),\"x\")","v":"x"},{"$f":"IF($E5=\"Y\",INDEX(OIQraw,ROW(),Setup!$C$5+COLUMN()-26),\"x\")","v":"x"},{"$f":"IF($E5=\"Y\",INDEX(OIQraw,ROW(),Setup!$C$5+COLUMN()-26),\"x\")","v":"x"},{"$f":"IF($E5=\"Y\",INDEX(OIQraw,ROW(),Setup!$C$5+COLUMN()-26),\"x\")","v":"x"},{"$f":"IF($E5=\"Y\",INDEX(OIQraw,ROW(),Setup!$C$5+COLUMN()-26),\"x\")","v":"x"},{"$f":"IF($E5=\"Y\",INDEX(OIQraw,ROW(),Setup!$C$5+COLUMN()-26),\"x\")","v":"x"},{"$f":"IF($E5=\"Y\",INDEX(OIQraw,ROW(),Setup!$C$5+COLUMN()-26),\"x\")","v":"x"},{"$f":"IF($E5=\"Y\",INDEX(OIQraw,ROW(),Setup!$C$5+COLUMN()-26),\"x\")","v":"x"},{"$f":"IF($E5=\"Y\",INDEX(OIQraw,ROW(),Setup!$C$5+COLUMN()-26),\"x\")","v":"x"},{"$f":"IF($E5=\"Y\",INDEX(OIQraw,ROW(),Setup!$C$5+COLUMN()-26),\"x\")","v":"x"},{"$f":"IF($E5=\"Y\",INDEX(OIQraw,ROW(),Setup!$C$5+COLUMN()-26),\"x\")","v":"x"},{"$f":"IF($E5=\"Y\",INDEX(OIQraw,ROW(),Setup!$C$5+COLUMN()-26),\"x\")","v":"x"},{"$f":"IF($E5=\"Y\",INDEX(OIQraw,ROW(),Setup!$C$5+COLUMN()-26),\"x\")","v":"x"},{"$f":"IF($E5=\"Y\",INDEX(OIQraw,ROW(),Setup!$C$5+COLUMN()-26),\"x\")","v":"x"},{"$f":"IF($E5=\"Y\",INDEX(OIQraw,ROW(),Setup!$C$5+COLUMN()-26),\"x\")","v":"x"},{"$f":"IF($E5=\"Y\",INDEX(OIQraw,ROW(),Setup!$C$5+COLUMN()-26),\"x\")","v":"x"},{"$f":"IF($E5=\"Y\",INDEX(OIQraw,ROW(),Setup!$C$5+COLUMN()-26),\"x\")","v":"x"},{"$f":"IF($E5=\"Y\",INDEX(OIQraw,ROW(),Setup!$C$5+COLUMN()-26),\"x\")","v":"x"},{"$f":"IF($E5=\"Y\",INDEX(OIQraw,ROW(),Setup!$C$5+COLUMN()-26),\"x\")","v":"x"},{"$f":"IF($E5=\"Y\",INDEX(OIQraw,ROW(),Setup!$C$5+COLUMN()-26),\"x\")","v":"x"},{"$f":"IF($E5=\"Y\",INDEX(OIQraw,ROW(),Setup!$C$5+COLUMN()-26),\"x\")","v":"x"},{"$f":"IF($E5=\"Y\",INDEX(OIQraw,ROW(),Setup!$C$5+COLUMN()-26),\"x\")","v":"x"},{"$f":"IF($E5=\"Y\",INDEX(OIQraw,ROW(),Setup!$C$5+COLUMN()-26),\"x\")","v":"x"},{"$f":"IF($E5=\"Y\",INDEX(OIQraw,ROW(),Setup!$C$5+COLUMN()-26),\"x\")","v":"x"},{"$f":"IF($E5=\"Y\",INDEX(OIQraw,ROW(),Setup!$C$5+COLUMN()-26),\"x\")","v":"x"},{"$f":"IF($E5=\"Y\",INDEX(OIQraw,ROW(),Setup!$C$5+COLUMN()-26),\"x\")","v":"x"},{"$f":"IF($E5=\"Y\",INDEX(OIQraw,ROW(),Setup!$C$5+COLUMN()-26),\"x\")","v":"x"},{"$f":"IF($E5=\"Y\",INDEX(OIQraw,ROW(),Setup!$C$5+COLUMN()-26),\"x\")","v":"x"},{"$f":"IF($E5=\"Y\",INDEX(OIQraw,ROW(),Setup!$C$5+COLUMN()-26),\"x\")","v":"x"},{"$f":"IF($E5=\"Y\",INDEX(OIQraw,ROW(),Setup!$C$5+COLUMN()-26),\"x\")","v":"x"},{"$f":"IF($E5=\"Y\",INDEX(OIQraw,ROW(),Setup!$C$5+COLUMN()-26),\"x\")","v":"x"},{"$f":"IF($E5=\"Y\",INDEX(OIQraw,ROW(),Setup!$C$5+COLUMN()-26),\"x\")","v":"x"},{"$f":"IF($E5=\"Y\",INDEX(OIQraw,ROW(),Setup!$C$5+COLUMN()-26),\"x\")","v":"x"},{"$f":"IF($E5=\"Y\",INDEX(OIQraw,ROW(),Setup!$C$5+COLUMN()-26),\"x\")","v":"x"},{"$f":"IF($E5=\"Y\",INDEX(OIQraw,ROW(),Setup!$C$5+COLUMN()-26),\"x\")","v":"x"},{"$f":"IF($E5=\"Y\",INDEX(OIQraw,ROW(),Setup!$C$5+COLUMN()-26),\"x\")","v":"x"},{"$f":"IF($E5=\"Y\",INDEX(OIQraw,ROW(),Setup!$C$5+COLUMN()-26),\"x\")","v":"x"},{"$f":"IF($E5=\"Y\",INDEX(OIQraw,ROW(),Setup!$C$5+COLUMN()-26),\"x\")","v":"x"},{"$f":"IF($E5=\"Y\",INDEX(OIQraw,ROW(),Setup!$C$5+COLUMN()-26),\"x\")","v":"x"},{"$f":"IF($E5=\"Y\",INDEX(OIQraw,ROW(),Setup!$C$5+COLUMN()-26),\"x\")","v":"x"},{"$f":"IF($E5=\"Y\",INDEX(OIQraw,ROW(),Setup!$C$5+COLUMN()-26),\"x\")","v":"x"},{"$f":"IF($E5=\"Y\",INDEX(OIQraw,ROW(),Setup!$C$5+COLUMN()-26),\"x\")","v":"x"},{"$f":"IF($E5=\"Y\",INDEX(OIQraw,ROW(),Setup!$C$5+COLUMN()-26),\"x\")","v":"x"},{"$f":"IF($E5=\"Y\",INDEX(OIQraw,ROW(),Setup!$C$5+COLUMN()-26),\"x\")","v":"x"},{"$f":"IF($E5=\"Y\",INDEX(OIQraw,ROW(),Setup!$C$5+COLUMN()-26),\"x\")","v":"x"},{"$f":"IF($E5=\"Y\",INDEX(OIQraw,ROW(),Setup!$C$5+COLUMN()-26),\"x\")","v":"x"},{"$f":"IF($E5=\"Y\",INDEX(OIQraw,ROW(),Setup!$C$5+COLUMN()-26),\"x\")","v":"x"},{"$f":"IF($E5=\"Y\",INDEX(OIQraw,ROW(),Setup!$C$5+COLUMN()-26),\"x\")","v":"x"},{"$f":"IF($E5=\"Y\",INDEX(OIQraw,ROW(),Setup!$C$5+COLUMN()-26),\"x\")","v":"x"},{"$f":"IF($E5=\"Y\",INDEX(OIQraw,ROW(),Setup!$C$5+COLUMN()-26),\"x\")","v":"x"},{"$f":"IF($E5=\"Y\",INDEX(OIQraw,ROW(),Setup!$C$5+COLUMN()-26),\"x\")","v":"x"},{"$f":"IF($E5=\"Y\",INDEX(OIQraw,ROW(),Setup!$C$5+COLUMN()-26),\"x\")","v":"x"},{"$f":"IF($E5=\"Y\",INDEX(OIQraw,ROW(),Setup!$C$5+COLUMN()-26),\"x\")","v":"x"},{"$f":"IF($E5=\"Y\",INDEX(OIQraw,ROW(),Setup!$C$5+COLUMN()-26),\"x\")","v":"x"},{"$f":"IF($E5=\"Y\",INDEX(OIQraw,ROW(),Setup!$C$5+COLUMN()-26),\"x\")","v":"x"},{"$f":"IF($E5=\"Y\",INDEX(OIQraw,ROW(),Setup!$C$5+COLUMN()-26),\"x\")","v":"x"},{"$f":"IF($E5=\"Y\",INDEX(OIQraw,ROW(),Setup!$C$5+COLUMN()-26),\"x\")","v":"x"},{"$f":"IF($E5=\"Y\",INDEX(OIQraw,ROW(),Setup!$C$5+COLUMN()-26),\"x\")","v":"x"},{"$f":"IF($E5=\"Y\",INDEX(OIQraw,ROW(),Setup!$C$5+COLUMN()-26),\"x\")","v":"x"},{"$f":"IF($E5=\"Y\",INDEX(OIQraw,ROW(),Setup!$C$5+COLUMN()-26),\"x\")","v":"x"}]
[{"$f":"IF(ISNUMBER(F6),A5+1,A5)","v":1},{"$f":"IF(ISNUMBER(C6),RANK(C6,$C$2:$C$3004),\"\")","v":""},{"$f":"IF(ISNUMBER(F6),F6+(ROW()*0.001),\"\")","v":""},{"$f":"IF(ISERROR(FIND(\"Withdrew\",RawScores!B10)),RawScores!B10,RIGHT(RawScores!B10,LEN(RawScores!B10)-17))&\", \"&RawScores!C10","v":", "},{"$f":"IF(OR(ISERROR(FIND(\"Withdrew\",RawScores!B10))=FALSE,INDEX(OIQraw,ROW(),LastInputCol-3)=0),\"N\",IF(AND(Setup!$B$22=\"Yes\",INDEX(OIQraw,ROW(),LastInputCol)=1),\"N\",\"Y\"))","v":"N"},"X","X","X",{"$f":"IF(AND(ISNUMBER(F6),F6>Setup!$B$14-1),1,0)","v":0},{"$f":"IF(AND(F6>Setup!$B$14-1,Conv!H6<5),1,0)","v":0},{"$f":"IF(AND(F6>Setup!$B$14-1,Conv!G6=\"F\"),1,0)","v":0},"","","","","","","","",{"$f":"IF(AND($H6>0,H6<5),$F6,\"\")","v":""},"","","","X","X",{"$f":"IF($E6=\"Y\",INDEX(OIQraw,ROW(),Setup!$C$5+COLUMN()-26),\"x\")","v":"x"},{"$f":"IF($E6=\"Y\",INDEX(OIQraw,ROW(),Setup!$C$5+COLUMN()-26),\"x\")","v":"x"},{"$f":"IF($E6=\"Y\",INDEX(OIQraw,ROW(),Setup!$C$5+COLUMN()-26),\"x\")","v":"x"},{"$f":"IF($E6=\"Y\",INDEX(OIQraw,ROW(),Setup!$C$5+COLUMN()-26),\"x\")","v":"x"},{"$f":"IF($E6=\"Y\",INDEX(OIQraw,ROW(),Setup!$C$5+COLUMN()-26),\"x\")","v":"x"},{"$f":"IF($E6=\"Y\",INDEX(OIQraw,ROW(),Setup!$C$5+COLUMN()-26),\"x\")","v":"x"},{"$f":"IF($E6=\"Y\",INDEX(OIQraw,ROW(),Setup!$C$5+COLUMN()-26),\"x\")","v":"x"},{"$f":"IF($E6=\"Y\",INDEX(OIQraw,ROW(),Setup!$C$5+COLUMN()-26),\"x\")","v":"x"},{"$f":"IF($E6=\"Y\",INDEX(OIQraw,ROW(),Setup!$C$5+COLUMN()-26),\"x\")","v":"x"},{"$f":"IF($E6=\"Y\",INDEX(OIQraw,ROW(),Setup!$C$5+COLUMN()-26),\"x\")","v":"x"},{"$f":"IF($E6=\"Y\",INDEX(OIQraw,ROW(),Setup!$C$5+COLUMN()-26),\"x\")","v":"x"},{"$f":"IF($E6=\"Y\",INDEX(OIQraw,ROW(),Setup!$C$5+COLUMN()-26),\"x\")","v":"x"},{"$f":"IF($E6=\"Y\",INDEX(OIQraw,ROW(),Setup!$C$5+COLUMN()-26),\"x\")","v":"x"},{"$f":"IF($E6=\"Y\",INDEX(OIQraw,ROW(),Setup!$C$5+COLUMN()-26),\"x\")","v":"x"},{"$f":"IF($E6=\"Y\",INDEX(OIQraw,ROW(),Setup!$C$5+COLUMN()-26),\"x\")","v":"x"},{"$f":"IF($E6=\"Y\",INDEX(OIQraw,ROW(),Setup!$C$5+COLUMN()-26),\"x\")","v":"x"},{"$f":"IF($E6=\"Y\",INDEX(OIQraw,ROW(),Setup!$C$5+COLUMN()-26),\"x\")","v":"x"},{"$f":"IF($E6=\"Y\",INDEX(OIQraw,ROW(),Setup!$C$5+COLUMN()-26),\"x\")","v":"x"},{"$f":"IF($E6=\"Y\",INDEX(OIQraw,ROW(),Setup!$C$5+COLUMN()-26),\"x\")","v":"x"},{"$f":"IF($E6=\"Y\",INDEX(OIQraw,ROW(),Setup!$C$5+COLUMN()-26),\"x\")","v":"x"},{"$f":"IF($E6=\"Y\",INDEX(OIQraw,ROW(),Setup!$C$5+COLUMN()-26),\"x\")","v":"x"},{"$f":"IF($E6=\"Y\",INDEX(OIQraw,ROW(),Setup!$C$5+COLUMN()-26),\"x\")","v":"x"},{"$f":"IF($E6=\"Y\",INDEX(OIQraw,ROW(),Setup!$C$5+COLUMN()-26),\"x\")","v":"x"},{"$f":"IF($E6=\"Y\",INDEX(OIQraw,ROW(),Setup!$C$5+COLUMN()-26),\"x\")","v":"x"},{"$f":"IF($E6=\"Y\",INDEX(OIQraw,ROW(),Setup!$C$5+COLUMN()-26),\"x\")","v":"x"},{"$f":"IF($E6=\"Y\",INDEX(OIQraw,ROW(),Setup!$C$5+COLUMN()-26),\"x\")","v":"x"},{"$f":"IF($E6=\"Y\",INDEX(OIQraw,ROW(),Setup!$C$5+COLUMN()-26),\"x\")","v":"x"},{"$f":"IF($E6=\"Y\",INDEX(OIQraw,ROW(),Setup!$C$5+COLUMN()-26),\"x\")","v":"x"},{"$f":"IF($E6=\"Y\",INDEX(OIQraw,ROW(),Setup!$C$5+COLUMN()-26),\"x\")","v":"x"},{"$f":"IF($E6=\"Y\",INDEX(OIQraw,ROW(),Setup!$C$5+COLUMN()-26),\"x\")","v":"x"},{"$f":"IF($E6=\"Y\",INDEX(OIQraw,ROW(),Setup!$C$5+COLUMN()-26),\"x\")","v":"x"},{"$f":"IF($E6=\"Y\",INDEX(OIQraw,ROW(),Setup!$C$5+COLUMN()-26),\"x\")","v":"x"},{"$f":"IF($E6=\"Y\",INDEX(OIQraw,ROW(),Setup!$C$5+COLUMN()-26),\"x\")","v":"x"},{"$f":"IF($E6=\"Y\",INDEX(OIQraw,ROW(),Setup!$C$5+COLUMN()-26),\"x\")","v":"x"},{"$f":"IF($E6=\"Y\",INDEX(OIQraw,ROW(),Setup!$C$5+COLUMN()-26),\"x\")","v":"x"},{"$f":"IF($E6=\"Y\",INDEX(OIQraw,ROW(),Setup!$C$5+COLUMN()-26),\"x\")","v":"x"},{"$f":"IF($E6=\"Y\",INDEX(OIQraw,ROW(),Setup!$C$5+COLUMN()-26),\"x\")","v":"x"},{"$f":"IF($E6=\"Y\",INDEX(OIQraw,ROW(),Setup!$C$5+COLUMN()-26),\"x\")","v":"x"},{"$f":"IF($E6=\"Y\",INDEX(OIQraw,ROW(),Setup!$C$5+COLUMN()-26),\"x\")","v":"x"},{"$f":"IF($E6=\"Y\",INDEX(OIQraw,ROW(),Setup!$C$5+COLUMN()-26),\"x\")","v":"x"},{"$f":"IF($E6=\"Y\",INDEX(OIQraw,ROW(),Setup!$C$5+COLUMN()-26),\"x\")","v":"x"},{"$f":"IF($E6=\"Y\",INDEX(OIQraw,ROW(),Setup!$C$5+COLUMN()-26),\"x\")","v":"x"},{"$f":"IF($E6=\"Y\",INDEX(OIQraw,ROW(),Setup!$C$5+COLUMN()-26),\"x\")","v":"x"},{"$f":"IF($E6=\"Y\",INDEX(OIQraw,ROW(),Setup!$C$5+COLUMN()-26),\"x\")","v":"x"},{"$f":"IF($E6=\"Y\",INDEX(OIQraw,ROW(),Setup!$C$5+COLUMN()-26),\"x\")","v":"x"},{"$f":"IF($E6=\"Y\",INDEX(OIQraw,ROW(),Setup!$C$5+COLUMN()-26),\"x\")","v":"x"},{"$f":"IF($E6=\"Y\",INDEX(OIQraw,ROW(),Setup!$C$5+COLUMN()-26),\"x\")","v":"x"},{"$f":"IF($E6=\"Y\",INDEX(OIQraw,ROW(),Setup!$C$5+COLUMN()-26),\"x\")","v":"x"},{"$f":"IF($E6=\"Y\",INDEX(OIQraw,ROW(),Setup!$C$5+COLUMN()-26),\"x\")","v":"x"},{"$f":"IF($E6=\"Y\",INDEX(OIQraw,ROW(),Setup!$C$5+COLUMN()-26),\"x\")","v":"x"},{"$f":"IF($E6=\"Y\",INDEX(OIQraw,ROW(),Setup!$C$5+COLUMN()-26),\"x\")","v":"x"},{"$f":"IF($E6=\"Y\",INDEX(OIQraw,ROW(),Setup!$C$5+COLUMN()-26),\"x\")","v":"x"},{"$f":"IF($E6=\"Y\",INDEX(OIQraw,ROW(),Setup!$C$5+COLUMN()-26),\"x\")","v":"x"},{"$f":"IF($E6=\"Y\",INDEX(OIQraw,ROW(),Setup!$C$5+COLUMN()-26),\"x\")","v":"x"},{"$f":"IF($E6=\"Y\",INDEX(OIQraw,ROW(),Setup!$C$5+COLUMN()-26),\"x\")","v":"x"},{"$f":"IF($E6=\"Y\",INDEX(OIQraw,ROW(),Setup!$C$5+COLUMN()-26),\"x\")","v":"x"},{"$f":"IF($E6=\"Y\",INDEX(OIQraw,ROW(),Setup!$C$5+COLUMN()-26),\"x\")","v":"x"},{"$f":"IF($E6=\"Y\",INDEX(OIQraw,ROW(),Setup!$C$5+COLUMN()-26),\"x\")","v":"x"},{"$f":"IF($E6=\"Y\",INDEX(OIQraw,ROW(),Setup!$C$5+COLUMN()-26),\"x\")","v":"x"},{"$f":"IF($E6=\"Y\",INDEX(OIQraw,ROW(),Setup!$C$5+COLUMN()-26),\"x\")","v":"x"},{"$f":"IF($E6=\"Y\",INDEX(OIQraw,ROW(),Setup!$C$5+COLUMN()-26),\"x\")","v":"x"},{"$f":"IF($E6=\"Y\",INDEX(OIQraw,ROW(),Setup!$C$5+COLUMN()-26),\"x\")","v":"x"},{"$f":"IF($E6=\"Y\",INDEX(OIQraw,ROW(),Setup!$C$5+COLUMN()-26),\"x\")","v":"x"},{"$f":"IF($E6=\"Y\",INDEX(OIQraw,ROW(),Setup!$C$5+COLUMN()-26),\"x\")","v":"x"},{"$f":"IF($E6=\"Y\",INDEX(OIQraw,ROW(),Setup!$C$5+COLUMN()-26),\"x\")","v":"x"},{"$f":"IF($E6=\"Y\",INDEX(OIQraw,ROW(),Setup!$C$5+COLUMN()-26),\"x\")","v":"x"},{"$f":"IF($E6=\"Y\",INDEX(OIQraw,ROW(),Setup!$C$5+COLUMN()-26),\"x\")","v":"x"},{"$f":"IF($E6=\"Y\",INDEX(OIQraw,ROW(),Setup!$C$5+COLUMN()-26),\"x\")","v":"x"},{"$f":"IF($E6=\"Y\",INDEX(OIQraw,ROW(),Setup!$C$5+COLUMN()-26),\"x\")","v":"x"},{"$f":"IF($E6=\"Y\",INDEX(OIQraw,ROW(),Setup!$C$5+COLUMN()-26),\"x\")","v":"x"},{"$f":"IF($E6=\"Y\",INDEX(OIQraw,ROW(),Setup!$C$5+COLUMN()-26),\"x\")","v":"x"},{"$f":"IF($E6=\"Y\",INDEX(OIQraw,ROW(),Setup!$C$5+COLUMN()-26),\"x\")","v":"x"},{"$f":"IF($E6=\"Y\",INDEX(OIQraw,ROW(),Setup!$C$5+COLUMN()-26),\"x\")","v":"x"},{"$f":"IF($E6=\"Y\",INDEX(OIQraw,ROW(),Setup!$C$5+COLUMN()-26),\"x\")","v":"x"},{"$f":"IF($E6=\"Y\",INDEX(OIQraw,ROW(),Setup!$C$5+COLUMN()-26),\"x\")","v":"x"},{"$f":"IF($E6=\"Y\",INDEX(OIQraw,ROW(),Setup!$C$5+COLUMN()-26),\"x\")","v":"x"},{"$f":"IF($E6=\"Y\",INDEX(OIQraw,ROW(),Setup!$C$5+COLUMN()-26),\"x\")","v":"x"},{"$f":"IF($E6=\"Y\",INDEX(OIQraw,ROW(),Setup!$C$5+COLUMN()-26),\"x\")","v":"x"},{"$f":"IF($E6=\"Y\",INDEX(OIQraw,ROW(),Setup!$C$5+COLUMN()-26),\"x\")","v":"x"},{"$f":"IF($E6=\"Y\",INDEX(OIQraw,ROW(),Setup!$C$5+COLUMN()-26),\"x\")","v":"x"},{"$f":"IF($E6=\"Y\",INDEX(OIQraw,ROW(),Setup!$C$5+COLUMN()-26),\"x\")","v":"x"},{"$f":"IF($E6=\"Y\",INDEX(OIQraw,ROW(),Setup!$C$5+COLUMN()-26),\"x\")","v":"x"},{"$f":"IF($E6=\"Y\",INDEX(OIQraw,ROW(),Setup!$C$5+COLUMN()-26),\"x\")","v":"x"},{"$f":"IF($E6=\"Y\",INDEX(OIQraw,ROW(),Setup!$C$5+COLUMN()-26),\"x\")","v":"x"},{"$f":"IF($E6=\"Y\",INDEX(OIQraw,ROW(),Setup!$C$5+COLUMN()-26),\"x\")","v":"x"},{"$f":"IF($E6=\"Y\",INDEX(OIQraw,ROW(),Setup!$C$5+COLUMN()-26),\"x\")","v":"x"},{"$f":"IF($E6=\"Y\",INDEX(OIQraw,ROW(),Setup!$C$5+COLUMN()-26),\"x\")","v":"x"},{"$f":"IF($E6=\"Y\",INDEX(OIQraw,ROW(),Setup!$C$5+COLUMN()-26),\"x\")","v":"x"},{"$f":"IF($E6=\"Y\",INDEX(OIQraw,ROW(),Setup!$C$5+COLUMN()-26),\"x\")","v":"x"},{"$f":"IF($E6=\"Y\",INDEX(OIQraw,ROW(),Setup!$C$5+COLUMN()-26),\"x\")","v":"x"},{"$f":"IF($E6=\"Y\",INDEX(OIQraw,ROW(),Setup!$C$5+COLUMN()-26),\"x\")","v":"x"},{"$f":"IF($E6=\"Y\",INDEX(OIQraw,ROW(),Setup!$C$5+COLUMN()-26),\"x\")","v":"x"},{"$f":"IF($E6=\"Y\",INDEX(OIQraw,ROW(),Setup!$C$5+COLUMN()-26),\"x\")","v":"x"},{"$f":"IF($E6=\"Y\",INDEX(OIQraw,ROW(),Setup!$C$5+COLUMN()-26),\"x\")","v":"x"},{"$f":"IF($E6=\"Y\",INDEX(OIQraw,ROW(),Setup!$C$5+COLUMN()-26),\"x\")","v":"x"},{"$f":"IF($E6=\"Y\",INDEX(OIQraw,ROW(),Setup!$C$5+COLUMN()-26),\"x\")","v":"x"},{"$f":"IF($E6=\"Y\",INDEX(OIQraw,ROW(),Setup!$C$5+COLUMN()-26),\"x\")","v":"x"},{"$f":"IF($E6=\"Y\",INDEX(OIQraw,ROW(),Setup!$C$5+COLUMN()-26),\"x\")","v":"x"},{"$f":"IF($E6=\"Y\",INDEX(OIQraw,ROW(),Setup!$C$5+COLUMN()-26),\"x\")","v":"x"},{"$f":"IF($E6=\"Y\",INDEX(OIQraw,ROW(),Setup!$C$5+COLUMN()-26),\"x\")","v":"x"},{"$f":"IF($E6=\"Y\",INDEX(OIQraw,ROW(),Setup!$C$5+COLUMN()-26),\"x\")","v":"x"},{"$f":"IF($E6=\"Y\",INDEX(OIQraw,ROW(),Setup!$C$5+COLUMN()-26),\"x\")","v":"x"},{"$f":"IF($E6=\"Y\",INDEX(OIQraw,ROW(),Setup!$C$5+COLUMN()-26),\"x\")","v":"x"},{"$f":"IF($E6=\"Y\",INDEX(OIQraw,ROW(),Setup!$C$5+COLUMN()-26),\"x\")","v":"x"},{"$f":"IF($E6=\"Y\",INDEX(OIQraw,ROW(),Setup!$C$5+COLUMN()-26),\"x\")","v":"x"},{"$f":"IF($E6=\"Y\",INDEX(OIQraw,ROW(),Setup!$C$5+COLUMN()-26),\"x\")","v":"x"},{"$f":"IF($E6=\"Y\",INDEX(OIQraw,ROW(),Setup!$C$5+COLUMN()-26),\"x\")","v":"x"},{"$f":"IF($E6=\"Y\",INDEX(OIQraw,ROW(),Setup!$C$5+COLUMN()-26),\"x\")","v":"x"},{"$f":"IF($E6=\"Y\",INDEX(OIQraw,ROW(),Setup!$C$5+COLUMN()-26),\"x\")","v":"x"},{"$f":"IF($E6=\"Y\",INDEX(OIQraw,ROW(),Setup!$C$5+COLUMN()-26),\"x\")","v":"x"},{"$f":"IF($E6=\"Y\",INDEX(OIQraw,ROW(),Setup!$C$5+COLUMN()-26),\"x\")","v":"x"},{"$f":"IF($E6=\"Y\",INDEX(OIQraw,ROW(),Setup!$C$5+COLUMN()-26),\"x\")","v":"x"},{"$f":"IF($E6=\"Y\",INDEX(OIQraw,ROW(),Setup!$C$5+COLUMN()-26),\"x\")","v":"x"},{"$f":"IF($E6=\"Y\",INDEX(OIQraw,ROW(),Setup!$C$5+COLUMN()-26),\"x\")","v":"x"},{"$f":"IF($E6=\"Y\",INDEX(OIQraw,ROW(),Setup!$C$5+COLUMN()-26),\"x\")","v":"x"},{"$f":"IF($E6=\"Y\",INDEX(OIQraw,ROW(),Setup!$C$5+COLUMN()-26),\"x\")","v":"x"},{"$f":"IF($E6=\"Y\",INDEX(OIQraw,ROW(),Setup!$C$5+COLUMN()-26),\"x\")","v":"x"},{"$f":"IF($E6=\"Y\",INDEX(OIQraw,ROW(),Setup!$C$5+COLUMN()-26),\"x\")","v":"x"},{"$f":"IF($E6=\"Y\",INDEX(OIQraw,ROW(),Setup!$C$5+COLUMN()-26),\"x\")","v":"x"},{"$f":"IF($E6=\"Y\",INDEX(OIQraw,ROW(),Setup!$C$5+COLUMN()-26),\"x\")","v":"x"},{"$f":"IF($E6=\"Y\",INDEX(OIQraw,ROW(),Setup!$C$5+COLUMN()-26),\"x\")","v":"x"},{"$f":"IF($E6=\"Y\",INDEX(OIQraw,ROW(),Setup!$C$5+COLUMN()-26),\"x\")","v":"x"},{"$f":"IF($E6=\"Y\",INDEX(OIQraw,ROW(),Setup!$C$5+COLUMN()-26),\"x\")","v":"x"},{"$f":"IF($E6=\"Y\",INDEX(OIQraw,ROW(),Setup!$C$5+COLUMN()-26),\"x\")","v":"x"},{"$f":"IF($E6=\"Y\",INDEX(OIQraw,ROW(),Setup!$C$5+COLUMN()-26),\"x\")","v":"x"},{"$f":"IF($E6=\"Y\",INDEX(OIQraw,ROW(),Setup!$C$5+COLUMN()-26),\"x\")","v":"x"},{"$f":"IF($E6=\"Y\",INDEX(OIQraw,ROW(),Setup!$C$5+COLUMN()-26),\"x\")","v":"x"},{"$f":"IF($E6=\"Y\",INDEX(OIQraw,ROW(),Setup!$C$5+COLUMN()-26),\"x\")","v":"x"},{"$f":"IF($E6=\"Y\",INDEX(OIQraw,ROW(),Setup!$C$5+COLUMN()-26),\"x\")","v":"x"},{"$f":"IF($E6=\"Y\",INDEX(OIQraw,ROW(),Setup!$C$5+COLUMN()-26),\"x\")","v":"x"},{"$f":"IF($E6=\"Y\",INDEX(OIQraw,ROW(),Setup!$C$5+COLUMN()-26),\"x\")","v":"x"},{"$f":"IF($E6=\"Y\",INDEX(OIQraw,ROW(),Setup!$C$5+COLUMN()-26),\"x\")","v":"x"},{"$f":"IF($E6=\"Y\",INDEX(OIQraw,ROW(),Setup!$C$5+COLUMN()-26),\"x\")","v":"x"},{"$f":"IF($E6=\"Y\",INDEX(OIQraw,ROW(),Setup!$C$5+COLUMN()-26),\"x\")","v":"x"},{"$f":"IF($E6=\"Y\",INDEX(OIQraw,ROW(),Setup!$C$5+COLUMN()-26),\"x\")","v":"x"},{"$f":"IF($E6=\"Y\",INDEX(OIQraw,ROW(),Setup!$C$5+COLUMN()-26),\"x\")","v":"x"},{"$f":"IF($E6=\"Y\",INDEX(OIQraw,ROW(),Setup!$C$5+COLUMN()-26),\"x\")","v":"x"},{"$f":"IF($E6=\"Y\",INDEX(OIQraw,ROW(),Setup!$C$5+COLUMN()-26),\"x\")","v":"x"},{"$f":"IF($E6=\"Y\",INDEX(OIQraw,ROW(),Setup!$C$5+COLUMN()-26),\"x\")","v":"x"},{"$f":"IF($E6=\"Y\",INDEX(OIQraw,ROW(),Setup!$C$5+COLUMN()-26),\"x\")","v":"x"},{"$f":"IF($E6=\"Y\",INDEX(OIQraw,ROW(),Setup!$C$5+COLUMN()-26),\"x\")","v":"x"},{"$f":"IF($E6=\"Y\",INDEX(OIQraw,ROW(),Setup!$C$5+COLUMN()-26),\"x\")","v":"x"},{"$f":"IF($E6=\"Y\",INDEX(OIQraw,ROW(),Setup!$C$5+COLUMN()-26),\"x\")","v":"x"},{"$f":"IF($E6=\"Y\",INDEX(OIQraw,ROW(),Setup!$C$5+COLUMN()-26),\"x\")","v":"x"},{"$f":"IF($E6=\"Y\",INDEX(OIQraw,ROW(),Setup!$C$5+COLUMN()-26),\"x\")","v":"x"},{"$f":"IF($E6=\"Y\",INDEX(OIQraw,ROW(),Setup!$C$5+COLUMN()-26),\"x\")","v":"x"},{"$f":"IF($E6=\"Y\",INDEX(OIQraw,ROW(),Setup!$C$5+COLUMN()-26),\"x\")","v":"x"},{"$f":"IF($E6=\"Y\",INDEX(OIQraw,ROW(),Setup!$C$5+COLUMN()-26),\"x\")","v":"x"},{"$f":"IF($E6=\"Y\",INDEX(OIQraw,ROW(),Setup!$C$5+COLUMN()-26),\"x\")","v":"x"},{"$f":"IF($E6=\"Y\",INDEX(OIQraw,ROW(),Setup!$C$5+COLUMN()-26),\"x\")","v":"x"},{"$f":"IF($E6=\"Y\",INDEX(OIQraw,ROW(),Setup!$C$5+COLUMN()-26),\"x\")","v":"x"},{"$f":"IF($E6=\"Y\",INDEX(OIQraw,ROW(),Setup!$C$5+COLUMN()-26),\"x\")","v":"x"},{"$f":"IF($E6=\"Y\",INDEX(OIQraw,ROW(),Setup!$C$5+COLUMN()-26),\"x\")","v":"x"},{"$f":"IF($E6=\"Y\",INDEX(OIQraw,ROW(),Setup!$C$5+COLUMN()-26),\"x\")","v":"x"},{"$f":"IF($E6=\"Y\",INDEX(OIQraw,ROW(),Setup!$C$5+COLUMN()-26),\"x\")","v":"x"},{"$f":"IF($E6=\"Y\",INDEX(OIQraw,ROW(),Setup!$C$5+COLUMN()-26),\"x\")","v":"x"},{"$f":"IF($E6=\"Y\",INDEX(OIQraw,ROW(),Setup!$C$5+COLUMN()-26),\"x\")","v":"x"},{"$f":"IF($E6=\"Y\",INDEX(OIQraw,ROW(),Setup!$C$5+COLUMN()-26),\"x\")","v":"x"},{"$f":"IF($E6=\"Y\",INDEX(OIQraw,ROW(),Setup!$C$5+COLUMN()-26),\"x\")","v":"x"},{"$f":"IF($E6=\"Y\",INDEX(OIQraw,ROW(),Setup!$C$5+COLUMN()-26),\"x\")","v":"x"},{"$f":"IF($E6=\"Y\",INDEX(OIQraw,ROW(),Setup!$C$5+COLUMN()-26),\"x\")","v":"x"},{"$f":"IF($E6=\"Y\",INDEX(OIQraw,ROW(),Setup!$C$5+COLUMN()-26),\"x\")","v":"x"},{"$f":"IF($E6=\"Y\",INDEX(OIQraw,ROW(),Setup!$C$5+COLUMN()-26),\"x\")","v":"x"},{"$f":"IF($E6=\"Y\",INDEX(OIQraw,ROW(),Setup!$C$5+COLUMN()-26),\"x\")","v":"x"},{"$f":"IF($E6=\"Y\",INDEX(OIQraw,ROW(),Setup!$C$5+COLUMN()-26),\"x\")","v":"x"},{"$f":"IF($E6=\"Y\",INDEX(OIQraw,ROW(),Setup!$C$5+COLUMN()-26),\"x\")","v":"x"},{"$f":"IF($E6=\"Y\",INDEX(OIQraw,ROW(),Setup!$C$5+COLUMN()-26),\"x\")","v":"x"},{"$f":"IF($E6=\"Y\",INDEX(OIQraw,ROW(),Setup!$C$5+COLUMN()-26),\"x\")","v":"x"},{"$f":"IF($E6=\"Y\",INDEX(OIQraw,ROW(),Setup!$C$5+COLUMN()-26),\"x\")","v":"x"},{"$f":"IF($E6=\"Y\",INDEX(OIQraw,ROW(),Setup!$C$5+COLUMN()-26),\"x\")","v":"x"},{"$f":"IF($E6=\"Y\",INDEX(OIQraw,ROW(),Setup!$C$5+COLUMN()-26),\"x\")","v":"x"},{"$f":"IF($E6=\"Y\",INDEX(OIQraw,ROW(),Setup!$C$5+COLUMN()-26),\"x\")","v":"x"},{"$f":"IF($E6=\"Y\",INDEX(OIQraw,ROW(),Setup!$C$5+COLUMN()-26),\"x\")","v":"x"},{"$f":"IF($E6=\"Y\",INDEX(OIQraw,ROW(),Setup!$C$5+COLUMN()-26),\"x\")","v":"x"},{"$f":"IF($E6=\"Y\",INDEX(OIQraw,ROW(),Setup!$C$5+COLUMN()-26),\"x\")","v":"x"},{"$f":"IF($E6=\"Y\",INDEX(OIQraw,ROW(),Setup!$C$5+COLUMN()-26),\"x\")","v":"x"},{"$f":"IF($E6=\"Y\",INDEX(OIQraw,ROW(),Setup!$C$5+COLUMN()-26),\"x\")","v":"x"},{"$f":"IF($E6=\"Y\",INDEX(OIQraw,ROW(),Setup!$C$5+COLUMN()-26),\"x\")","v":"x"},{"$f":"IF($E6=\"Y\",INDEX(OIQraw,ROW(),Setup!$C$5+COLUMN()-26),\"x\")","v":"x"},{"$f":"IF($E6=\"Y\",INDEX(OIQraw,ROW(),Setup!$C$5+COLUMN()-26),\"x\")","v":"x"},{"$f":"IF($E6=\"Y\",INDEX(OIQraw,ROW(),Setup!$C$5+COLUMN()-26),\"x\")","v":"x"},{"$f":"IF($E6=\"Y\",INDEX(OIQraw,ROW(),Setup!$C$5+COLUMN()-26),\"x\")","v":"x"},{"$f":"IF($E6=\"Y\",INDEX(OIQraw,ROW(),Setup!$C$5+COLUMN()-26),\"x\")","v":"x"},{"$f":"IF($E6=\"Y\",INDEX(OIQraw,ROW(),Setup!$C$5+COLUMN()-26),\"x\")","v":"x"},{"$f":"IF($E6=\"Y\",INDEX(OIQraw,ROW(),Setup!$C$5+COLUMN()-26),\"x\")","v":"x"},{"$f":"IF($E6=\"Y\",INDEX(OIQraw,ROW(),Setup!$C$5+COLUMN()-26),\"x\")","v":"x"},{"$f":"IF($E6=\"Y\",INDEX(OIQraw,ROW(),Setup!$C$5+COLUMN()-26),\"x\")","v":"x"},{"$f":"IF($E6=\"Y\",INDEX(OIQraw,ROW(),Setup!$C$5+COLUMN()-26),\"x\")","v":"x"},{"$f":"IF($E6=\"Y\",INDEX(OIQraw,ROW(),Setup!$C$5+COLUMN()-26),\"x\")","v":"x"},{"$f":"IF($E6=\"Y\",INDEX(OIQraw,ROW(),Setup!$C$5+COLUMN()-26),\"x\")","v":"x"},{"$f":"IF($E6=\"Y\",INDEX(OIQraw,ROW(),Setup!$C$5+COLUMN()-26),\"x\")","v":"x"},{"$f":"IF($E6=\"Y\",INDEX(OIQraw,ROW(),Setup!$C$5+COLUMN()-26),\"x\")","v":"x"},{"$f":"IF($E6=\"Y\",INDEX(OIQraw,ROW(),Setup!$C$5+COLUMN()-26),\"x\")","v":"x"},{"$f":"IF($E6=\"Y\",INDEX(OIQraw,ROW(),Setup!$C$5+COLUMN()-26),\"x\")","v":"x"},{"$f":"IF($E6=\"Y\",INDEX(OIQraw,ROW(),Setup!$C$5+COLUMN()-26),\"x\")","v":"x"},{"$f":"IF($E6=\"Y\",INDEX(OIQraw,ROW(),Setup!$C$5+COLUMN()-26),\"x\")","v":"x"},{"$f":"IF($E6=\"Y\",INDEX(OIQraw,ROW(),Setup!$C$5+COLUMN()-26),\"x\")","v":"x"},{"$f":"IF($E6=\"Y\",INDEX(OIQraw,ROW(),Setup!$C$5+COLUMN()-26),\"x\")","v":"x"},{"$f":"IF($E6=\"Y\",INDEX(OIQraw,ROW(),Setup!$C$5+COLUMN()-26),\"x\")","v":"x"},{"$f":"IF($E6=\"Y\",INDEX(OIQraw,ROW(),Setup!$C$5+COLUMN()-26),\"x\")","v":"x"},{"$f":"IF($E6=\"Y\",INDEX(OIQraw,ROW(),Setup!$C$5+COLUMN()-26),\"x\")","v":"x"},{"$f":"IF($E6=\"Y\",INDEX(OIQraw,ROW(),Setup!$C$5+COLUMN()-26),\"x\")","v":"x"},{"$f":"IF($E6=\"Y\",INDEX(OIQraw,ROW(),Setup!$C$5+COLUMN()-26),\"x\")","v":"x"},{"$f":"IF($E6=\"Y\",INDEX(OIQraw,ROW(),Setup!$C$5+COLUMN()-26),\"x\")","v":"x"},{"$f":"IF($E6=\"Y\",INDEX(OIQraw,ROW(),Setup!$C$5+COLUMN()-26),\"x\")","v":"x"},{"$f":"IF($E6=\"Y\",INDEX(OIQraw,ROW(),Setup!$C$5+COLUMN()-26),\"x\")","v":"x"},{"$f":"IF($E6=\"Y\",INDEX(OIQraw,ROW(),Setup!$C$5+COLUMN()-26),\"x\")","v":"x"},{"$f":"IF($E6=\"Y\",INDEX(OIQraw,ROW(),Setup!$C$5+COLUMN()-26),\"x\")","v":"x"},{"$f":"IF($E6=\"Y\",INDEX(OIQraw,ROW(),Setup!$C$5+COLUMN()-26),\"x\")","v":"x"},{"$f":"IF($E6=\"Y\",INDEX(OIQraw,ROW(),Setup!$C$5+COLUMN()-26),\"x\")","v":"x"},{"$f":"IF($E6=\"Y\",INDEX(OIQraw,ROW(),Setup!$C$5+COLUMN()-26),\"x\")","v":"x"},{"$f":"IF($E6=\"Y\",INDEX(OIQraw,ROW(),Setup!$C$5+COLUMN()-26),\"x\")","v":"x"},{"$f":"IF($E6=\"Y\",INDEX(OIQraw,ROW(),Setup!$C$5+COLUMN()-26),\"x\")","v":"x"},{"$f":"IF($E6=\"Y\",INDEX(OIQraw,ROW(),Setup!$C$5+COLUMN()-26),\"x\")","v":"x"},{"$f":"IF($E6=\"Y\",INDEX(OIQraw,ROW(),Setup!$C$5+COLUMN()-26),\"x\")","v":"x"},{"$f":"IF($E6=\"Y\",INDEX(OIQraw,ROW(),Setup!$C$5+COLUMN()-26),\"x\")","v":"x"},{"$f":"IF($E6=\"Y\",INDEX(OIQraw,ROW(),Setup!$C$5+COLUMN()-26),\"x\")","v":"x"},{"$f":"IF($E6=\"Y\",INDEX(OIQraw,ROW(),Setup!$C$5+COLUMN()-26),\"x\")","v":"x"},{"$f":"IF($E6=\"Y\",INDEX(OIQraw,ROW(),Setup!$C$5+COLUMN()-26),\"x\")","v":"x"},{"$f":"IF($E6=\"Y\",INDEX(OIQraw,ROW(),Setup!$C$5+COLUMN()-26),\"x\")","v":"x"},{"$f":"IF($E6=\"Y\",INDEX(OIQraw,ROW(),Setup!$C$5+COLUMN()-26),\"x\")","v":"x"},{"$f":"IF($E6=\"Y\",INDEX(OIQraw,ROW(),Setup!$C$5+COLUMN()-26),\"x\")","v":"x"},{"$f":"IF($E6=\"Y\",INDEX(OIQraw,ROW(),Setup!$C$5+COLUMN()-26),\"x\")","v":"x"},{"$f":"IF($E6=\"Y\",INDEX(OIQraw,ROW(),Setup!$C$5+COLUMN()-26),\"x\")","v":"x"},{"$f":"IF($E6=\"Y\",INDEX(OIQraw,ROW(),Setup!$C$5+COLUMN()-26),\"x\")","v":"x"},{"$f":"IF($E6=\"Y\",INDEX(OIQraw,ROW(),Setup!$C$5+COLUMN()-26),\"x\")","v":"x"},{"$f":"IF($E6=\"Y\",INDEX(OIQraw,ROW(),Setup!$C$5+COLUMN()-26),\"x\")","v":"x"},{"$f":"IF($E6=\"Y\",INDEX(OIQraw,ROW(),Setup!$C$5+COLUMN()-26),\"x\")","v":"x"},{"$f":"IF($E6=\"Y\",INDEX(OIQraw,ROW(),Setup!$C$5+COLUMN()-26),\"x\")","v":"x"},{"$f":"IF($E6=\"Y\",INDEX(OIQraw,ROW(),Setup!$C$5+COLUMN()-26),\"x\")","v":"x"},{"$f":"IF($E6=\"Y\",INDEX(OIQraw,ROW(),Setup!$C$5+COLUMN()-26),\"x\")","v":"x"},{"$f":"IF($E6=\"Y\",INDEX(OIQraw,ROW(),Setup!$C$5+COLUMN()-26),\"x\")","v":"x"},{"$f":"IF($E6=\"Y\",INDEX(OIQraw,ROW(),Setup!$C$5+COLUMN()-26),\"x\")","v":"x"},{"$f":"IF($E6=\"Y\",INDEX(OIQraw,ROW(),Setup!$C$5+COLUMN()-26),\"x\")","v":"x"},{"$f":"IF($E6=\"Y\",INDEX(OIQraw,ROW(),Setup!$C$5+COLUMN()-26),\"x\")","v":"x"},{"$f":"IF($E6=\"Y\",INDEX(OIQraw,ROW(),Setup!$C$5+COLUMN()-26),\"x\")","v":"x"},{"$f":"IF($E6=\"Y\",INDEX(OIQraw,ROW(),Setup!$C$5+COLUMN()-26),\"x\")","v":"x"},{"$f":"IF($E6=\"Y\",INDEX(OIQraw,ROW(),Setup!$C$5+COLUMN()-26),\"x\")","v":"x"},{"$f":"IF($E6=\"Y\",INDEX(OIQraw,ROW(),Setup!$C$5+COLUMN()-26),\"x\")","v":"x"},{"$f":"IF($E6=\"Y\",INDEX(OIQraw,ROW(),Setup!$C$5+COLUMN()-26),\"x\")","v":"x"},{"$f":"IF($E6=\"Y\",INDEX(OIQraw,ROW(),Setup!$C$5+COLUMN()-26),\"x\")","v":"x"},{"$f":"IF($E6=\"Y\",INDEX(OIQraw,ROW(),Setup!$C$5+COLUMN()-26),\"x\")","v":"x"},{"$f":"IF($E6=\"Y\",INDEX(OIQraw,ROW(),Setup!$C$5+COLUMN()-26),\"x\")","v":"x"},{"$f":"IF($E6=\"Y\",INDEX(OIQraw,ROW(),Setup!$C$5+COLUMN()-26),\"x\")","v":"x"},{"$f":"IF($E6=\"Y\",INDEX(OIQraw,ROW(),Setup!$C$5+COLUMN()-26),\"x\")","v":"x"},{"$f":"IF($E6=\"Y\",INDEX(OIQraw,ROW(),Setup!$C$5+COLUMN()-26),\"x\")","v":"x"},{"$f":"IF($E6=\"Y\",INDEX(OIQraw,ROW(),Setup!$C$5+COLUMN()-26),\"x\")","v":"x"},{"$f":"IF($E6=\"Y\",INDEX(OIQraw,ROW(),Setup!$C$5+COLUMN()-26),\"x\")","v":"x"},{"$f":"IF($E6=\"Y\",INDEX(OIQraw,ROW(),Setup!$C$5+COLUMN()-26),\"x\")","v":"x"},{"$f":"IF($E6=\"Y\",INDEX(OIQraw,ROW(),Setup!$C$5+COLUMN()-26),\"x\")","v":"x"},{"$f":"IF($E6=\"Y\",INDEX(OIQraw,ROW(),Setup!$C$5+COLUMN()-26),\"x\")","v":"x"},{"$f":"IF($E6=\"Y\",INDEX(OIQraw,ROW(),Setup!$C$5+COLUMN()-26),\"x\")","v":"x"},{"$f":"IF($E6=\"Y\",INDEX(OIQraw,ROW(),Setup!$C$5+COLUMN()-26),\"x\")","v":"x"}]
[{"$f":"IF(ISNUMBER(F7),A6+1,A6)","v":1},{"$f":"IF(ISNUMBER(C7),RANK(C7,$C$2:$C$3004),\"\")","v":""},{"$f":"IF(ISNUMBER(F7),F7+(ROW()*0.001),\"\")","v":""},{"$f":"IF(ISERROR(FIND(\"Withdrew\",RawScores!B11)),RawScores!B11,RIGHT(RawScores!B11,LEN(RawScores!B11)-17))&\", \"&RawScores!C11","v":", "},{"$f":"IF(OR(ISERROR(FIND(\"Withdrew\",RawScores!B11))=FALSE,INDEX(OIQraw,ROW(),LastInputCol-3)=0),\"N\",IF(AND(Setup!$B$22=\"Yes\",INDEX(OIQraw,ROW(),LastInputCol)=1),\"N\",\"Y\"))","v":"N"},{"$f":"IF(E7=\"N\",\"X\",SUMIF(ItemHeaderRow,\"a\",$Z7:$JR7)+SUMIF(ItemHeaderRow,\"b\",$Z7:$JR7))","v":"X"},"X","X",{"$f":"IF(AND(ISNUMBER(F7),F7>Setup!$B$14-1),1,0)","v":0},{"$f":"IF(AND(F7>Setup!$B$14-1,Conv!H7<5),1,0)","v":0},{"$f":"IF(AND(F7>Setup!$B$14-1,Conv!G7=\"F\"),1,0)","v":0},"","","","","","","","",{"$f":"IF(AND($H7>0,H7<5),$F7,\"\")","v":""},"","","","X","X",{"$f":"IF($E7=\"Y\",INDEX(OIQraw,ROW(),Setup!$C$5+COLUMN()-26),\"x\")","v":"x"},{"$f":"IF($E7=\"Y\",INDEX(OIQraw,ROW(),Setup!$C$5+COLUMN()-26),\"x\")","v":"x"},{"$f":"IF($E7=\"Y\",INDEX(OIQraw,ROW(),Setup!$C$5+COLUMN()-26),\"x\")","v":"x"},{"$f":"IF($E7=\"Y\",INDEX(OIQraw,ROW(),Setup!$C$5+COLUMN()-26),\"x\")","v":"x"},{"$f":"IF($E7=\"Y\",INDEX(OIQraw,ROW(),Setup!$C$5+COLUMN()-26),\"x\")","v":"x"},{"$f":"IF($E7=\"Y\",INDEX(OIQraw,ROW(),Setup!$C$5+COLUMN()-26),\"x\")","v":"x"},{"$f":"IF($E7=\"Y\",INDEX(OIQraw,ROW(),Setup!$C$5+COLUMN()-26),\"x\")","v":"x"},{"$f":"IF($E7=\"Y\",INDEX(OIQraw,ROW(),Setup!$C$5+COLUMN()-26),\"x\")","v":"x"},{"$f":"IF($E7=\"Y\",INDEX(OIQraw,ROW(),Setup!$C$5+COLUMN()-26),\"x\")","v":"x"},{"$f":"IF($E7=\"Y\",INDEX(OIQraw,ROW(),Setup!$C$5+COLUMN()-26),\"x\")","v":"x"},{"$f":"IF($E7=\"Y\",INDEX(OIQraw,ROW(),Setup!$C$5+COLUMN()-26),\"x\")","v":"x"},{"$f":"IF($E7=\"Y\",INDEX(OIQraw,ROW(),Setup!$C$5+COLUMN()-26),\"x\")","v":"x"},{"$f":"IF($E7=\"Y\",INDEX(OIQraw,ROW(),Setup!$C$5+COLUMN()-26),\"x\")","v":"x"},{"$f":"IF($E7=\"Y\",INDEX(OIQraw,ROW(),Setup!$C$5+COLUMN()-26),\"x\")","v":"x"},{"$f":"IF($E7=\"Y\",INDEX(OIQraw,ROW(),Setup!$C$5+COLUMN()-26),\"x\")","v":"x"},{"$f":"IF($E7=\"Y\",INDEX(OIQraw,ROW(),Setup!$C$5+COLUMN()-26),\"x\")","v":"x"},{"$f":"IF($E7=\"Y\",INDEX(OIQraw,ROW(),Setup!$C$5+COLUMN()-26),\"x\")","v":"x"},{"$f":"IF($E7=\"Y\",INDEX(OIQraw,ROW(),Setup!$C$5+COLUMN()-26),\"x\")","v":"x"},{"$f":"IF($E7=\"Y\",INDEX(OIQraw,ROW(),Setup!$C$5+COLUMN()-26),\"x\")","v":"x"},{"$f":"IF($E7=\"Y\",INDEX(OIQraw,ROW(),Setup!$C$5+COLUMN()-26),\"x\")","v":"x"},{"$f":"IF($E7=\"Y\",INDEX(OIQraw,ROW(),Setup!$C$5+COLUMN()-26),\"x\")","v":"x"},{"$f":"IF($E7=\"Y\",INDEX(OIQraw,ROW(),Setup!$C$5+COLUMN()-26),\"x\")","v":"x"},{"$f":"IF($E7=\"Y\",INDEX(OIQraw,ROW(),Setup!$C$5+COLUMN()-26),\"x\")","v":"x"},{"$f":"IF($E7=\"Y\",INDEX(OIQraw,ROW(),Setup!$C$5+COLUMN()-26),\"x\")","v":"x"},{"$f":"IF($E7=\"Y\",INDEX(OIQraw,ROW(),Setup!$C$5+COLUMN()-26),\"x\")","v":"x"},{"$f":"IF($E7=\"Y\",INDEX(OIQraw,ROW(),Setup!$C$5+COLUMN()-26),\"x\")","v":"x"},{"$f":"IF($E7=\"Y\",INDEX(OIQraw,ROW(),Setup!$C$5+COLUMN()-26),\"x\")","v":"x"},{"$f":"IF($E7=\"Y\",INDEX(OIQraw,ROW(),Setup!$C$5+COLUMN()-26),\"x\")","v":"x"},{"$f":"IF($E7=\"Y\",INDEX(OIQraw,ROW(),Setup!$C$5+COLUMN()-26),\"x\")","v":"x"},{"$f":"IF($E7=\"Y\",INDEX(OIQraw,ROW(),Setup!$C$5+COLUMN()-26),\"x\")","v":"x"},{"$f":"IF($E7=\"Y\",INDEX(OIQraw,ROW(),Setup!$C$5+COLUMN()-26),\"x\")","v":"x"},{"$f":"IF($E7=\"Y\",INDEX(OIQraw,ROW(),Setup!$C$5+COLUMN()-26),\"x\")","v":"x"},{"$f":"IF($E7=\"Y\",INDEX(OIQraw,ROW(),Setup!$C$5+COLUMN()-26),\"x\")","v":"x"},{"$f":"IF($E7=\"Y\",INDEX(OIQraw,ROW(),Setup!$C$5+COLUMN()-26),\"x\")","v":"x"},{"$f":"IF($E7=\"Y\",INDEX(OIQraw,ROW(),Setup!$C$5+COLUMN()-26),\"x\")","v":"x"},{"$f":"IF($E7=\"Y\",INDEX(OIQraw,ROW(),Setup!$C$5+COLUMN()-26),\"x\")","v":"x"},{"$f":"IF($E7=\"Y\",INDEX(OIQraw,ROW(),Setup!$C$5+COLUMN()-26),\"x\")","v":"x"},{"$f":"IF($E7=\"Y\",INDEX(OIQraw,ROW(),Setup!$C$5+COLUMN()-26),\"x\")","v":"x"},{"$f":"IF($E7=\"Y\",INDEX(OIQraw,ROW(),Setup!$C$5+COLUMN()-26),\"x\")","v":"x"},{"$f":"IF($E7=\"Y\",INDEX(OIQraw,ROW(),Setup!$C$5+COLUMN()-26),\"x\")","v":"x"},{"$f":"IF($E7=\"Y\",INDEX(OIQraw,ROW(),Setup!$C$5+COLUMN()-26),\"x\")","v":"x"},{"$f":"IF($E7=\"Y\",INDEX(OIQraw,ROW(),Setup!$C$5+COLUMN()-26),\"x\")","v":"x"},{"$f":"IF($E7=\"Y\",INDEX(OIQraw,ROW(),Setup!$C$5+COLUMN()-26),\"x\")","v":"x"},{"$f":"IF($E7=\"Y\",INDEX(OIQraw,ROW(),Setup!$C$5+COLUMN()-26),\"x\")","v":"x"},{"$f":"IF($E7=\"Y\",INDEX(OIQraw,ROW(),Setup!$C$5+COLUMN()-26),\"x\")","v":"x"},{"$f":"IF($E7=\"Y\",INDEX(OIQraw,ROW(),Setup!$C$5+COLUMN()-26),\"x\")","v":"x"},{"$f":"IF($E7=\"Y\",INDEX(OIQraw,ROW(),Setup!$C$5+COLUMN()-26),\"x\")","v":"x"},{"$f":"IF($E7=\"Y\",INDEX(OIQraw,ROW(),Setup!$C$5+COLUMN()-26),\"x\")","v":"x"},{"$f":"IF($E7=\"Y\",INDEX(OIQraw,ROW(),Setup!$C$5+COLUMN()-26),\"x\")","v":"x"},{"$f":"IF($E7=\"Y\",INDEX(OIQraw,ROW(),Setup!$C$5+COLUMN()-26),\"x\")","v":"x"},{"$f":"IF($E7=\"Y\",INDEX(OIQraw,ROW(),Setup!$C$5+COLUMN()-26),\"x\")","v":"x"},{"$f":"IF($E7=\"Y\",INDEX(OIQraw,ROW(),Setup!$C$5+COLUMN()-26),\"x\")","v":"x"},{"$f":"IF($E7=\"Y\",INDEX(OIQraw,ROW(),Setup!$C$5+COLUMN()-26),\"x\")","v":"x"},{"$f":"IF($E7=\"Y\",INDEX(OIQraw,ROW(),Setup!$C$5+COLUMN()-26),\"x\")","v":"x"},{"$f":"IF($E7=\"Y\",INDEX(OIQraw,ROW(),Setup!$C$5+COLUMN()-26),\"x\")","v":"x"},{"$f":"IF($E7=\"Y\",INDEX(OIQraw,ROW(),Setup!$C$5+COLUMN()-26),\"x\")","v":"x"},{"$f":"IF($E7=\"Y\",INDEX(OIQraw,ROW(),Setup!$C$5+COLUMN()-26),\"x\")","v":"x"},{"$f":"IF($E7=\"Y\",INDEX(OIQraw,ROW(),Setup!$C$5+COLUMN()-26),\"x\")","v":"x"},{"$f":"IF($E7=\"Y\",INDEX(OIQraw,ROW(),Setup!$C$5+COLUMN()-26),\"x\")","v":"x"},{"$f":"IF($E7=\"Y\",INDEX(OIQraw,ROW(),Setup!$C$5+COLUMN()-26),\"x\")","v":"x"},{"$f":"IF($E7=\"Y\",INDEX(OIQraw,ROW(),Setup!$C$5+COLUMN()-26),\"x\")","v":"x"},{"$f":"IF($E7=\"Y\",INDEX(OIQraw,ROW(),Setup!$C$5+COLUMN()-26),\"x\")","v":"x"},{"$f":"IF($E7=\"Y\",INDEX(OIQraw,ROW(),Setup!$C$5+COLUMN()-26),\"x\")","v":"x"},{"$f":"IF($E7=\"Y\",INDEX(OIQraw,ROW(),Setup!$C$5+COLUMN()-26),\"x\")","v":"x"},{"$f":"IF($E7=\"Y\",INDEX(OIQraw,ROW(),Setup!$C$5+COLUMN()-26),\"x\")","v":"x"},{"$f":"IF($E7=\"Y\",INDEX(OIQraw,ROW(),Setup!$C$5+COLUMN()-26),\"x\")","v":"x"},{"$f":"IF($E7=\"Y\",INDEX(OIQraw,ROW(),Setup!$C$5+COLUMN()-26),\"x\")","v":"x"},{"$f":"IF($E7=\"Y\",INDEX(OIQraw,ROW(),Setup!$C$5+COLUMN()-26),\"x\")","v":"x"},{"$f":"IF($E7=\"Y\",INDEX(OIQraw,ROW(),Setup!$C$5+COLUMN()-26),\"x\")","v":"x"},{"$f":"IF($E7=\"Y\",INDEX(OIQraw,ROW(),Setup!$C$5+COLUMN()-26),\"x\")","v":"x"},{"$f":"IF($E7=\"Y\",INDEX(OIQraw,ROW(),Setup!$C$5+COLUMN()-26),\"x\")","v":"x"},{"$f":"IF($E7=\"Y\",INDEX(OIQraw,ROW(),Setup!$C$5+COLUMN()-26),\"x\")","v":"x"},{"$f":"IF($E7=\"Y\",INDEX(OIQraw,ROW(),Setup!$C$5+COLUMN()-26),\"x\")","v":"x"},{"$f":"IF($E7=\"Y\",INDEX(OIQraw,ROW(),Setup!$C$5+COLUMN()-26),\"x\")","v":"x"},{"$f":"IF($E7=\"Y\",INDEX(OIQraw,ROW(),Setup!$C$5+COLUMN()-26),\"x\")","v":"x"},{"$f":"IF($E7=\"Y\",INDEX(OIQraw,ROW(),Setup!$C$5+COLUMN()-26),\"x\")","v":"x"},{"$f":"IF($E7=\"Y\",INDEX(OIQraw,ROW(),Setup!$C$5+COLUMN()-26),\"x\")","v":"x"},{"$f":"IF($E7=\"Y\",INDEX(OIQraw,ROW(),Setup!$C$5+COLUMN()-26),\"x\")","v":"x"},{"$f":"IF($E7=\"Y\",INDEX(OIQraw,ROW(),Setup!$C$5+COLUMN()-26),\"x\")","v":"x"},{"$f":"IF($E7=\"Y\",INDEX(OIQraw,ROW(),Setup!$C$5+COLUMN()-26),\"x\")","v":"x"},{"$f":"IF($E7=\"Y\",INDEX(OIQraw,ROW(),Setup!$C$5+COLUMN()-26),\"x\")","v":"x"},{"$f":"IF($E7=\"Y\",INDEX(OIQraw,ROW(),Setup!$C$5+COLUMN()-26),\"x\")","v":"x"},{"$f":"IF($E7=\"Y\",INDEX(OIQraw,ROW(),Setup!$C$5+COLUMN()-26),\"x\")","v":"x"},{"$f":"IF($E7=\"Y\",INDEX(OIQraw,ROW(),Setup!$C$5+COLUMN()-26),\"x\")","v":"x"},{"$f":"IF($E7=\"Y\",INDEX(OIQraw,ROW(),Setup!$C$5+COLUMN()-26),\"x\")","v":"x"},{"$f":"IF($E7=\"Y\",INDEX(OIQraw,ROW(),Setup!$C$5+COLUMN()-26),\"x\")","v":"x"},{"$f":"IF($E7=\"Y\",INDEX(OIQraw,ROW(),Setup!$C$5+COLUMN()-26),\"x\")","v":"x"},{"$f":"IF($E7=\"Y\",INDEX(OIQraw,ROW(),Setup!$C$5+COLUMN()-26),\"x\")","v":"x"},{"$f":"IF($E7=\"Y\",INDEX(OIQraw,ROW(),Setup!$C$5+COLUMN()-26),\"x\")","v":"x"},{"$f":"IF($E7=\"Y\",INDEX(OIQraw,ROW(),Setup!$C$5+COLUMN()-26),\"x\")","v":"x"},{"$f":"IF($E7=\"Y\",INDEX(OIQraw,ROW(),Setup!$C$5+COLUMN()-26),\"x\")","v":"x"},{"$f":"IF($E7=\"Y\",INDEX(OIQraw,ROW(),Setup!$C$5+COLUMN()-26),\"x\")","v":"x"},{"$f":"IF($E7=\"Y\",INDEX(OIQraw,ROW(),Setup!$C$5+COLUMN()-26),\"x\")","v":"x"},{"$f":"IF($E7=\"Y\",INDEX(OIQraw,ROW(),Setup!$C$5+COLUMN()-26),\"x\")","v":"x"},{"$f":"IF($E7=\"Y\",INDEX(OIQraw,ROW(),Setup!$C$5+COLUMN()-26),\"x\")","v":"x"},{"$f":"IF($E7=\"Y\",INDEX(OIQraw,ROW(),Setup!$C$5+COLUMN()-26),\"x\")","v":"x"},{"$f":"IF($E7=\"Y\",INDEX(OIQraw,ROW(),Setup!$C$5+COLUMN()-26),\"x\")","v":"x"},{"$f":"IF($E7=\"Y\",INDEX(OIQraw,ROW(),Setup!$C$5+COLUMN()-26),\"x\")","v":"x"},{"$f":"IF($E7=\"Y\",INDEX(OIQraw,ROW(),Setup!$C$5+COLUMN()-26),\"x\")","v":"x"},{"$f":"IF($E7=\"Y\",INDEX(OIQraw,ROW(),Setup!$C$5+COLUMN()-26),\"x\")","v":"x"},{"$f":"IF($E7=\"Y\",INDEX(OIQraw,ROW(),Setup!$C$5+COLUMN()-26),\"x\")","v":"x"},{"$f":"IF($E7=\"Y\",INDEX(OIQraw,ROW(),Setup!$C$5+COLUMN()-26),\"x\")","v":"x"},{"$f":"IF($E7=\"Y\",INDEX(OIQraw,ROW(),Setup!$C$5+COLUMN()-26),\"x\")","v":"x"},{"$f":"IF($E7=\"Y\",INDEX(OIQraw,ROW(),Setup!$C$5+COLUMN()-26),\"x\")","v":"x"},{"$f":"IF($E7=\"Y\",INDEX(OIQraw,ROW(),Setup!$C$5+COLUMN()-26),\"x\")","v":"x"},{"$f":"IF($E7=\"Y\",INDEX(OIQraw,ROW(),Setup!$C$5+COLUMN()-26),\"x\")","v":"x"},{"$f":"IF($E7=\"Y\",INDEX(OIQraw,ROW(),Setup!$C$5+COLUMN()-26),\"x\")","v":"x"},{"$f":"IF($E7=\"Y\",INDEX(OIQraw,ROW(),Setup!$C$5+COLUMN()-26),\"x\")","v":"x"},{"$f":"IF($E7=\"Y\",INDEX(OIQraw,ROW(),Setup!$C$5+COLUMN()-26),\"x\")","v":"x"},{"$f":"IF($E7=\"Y\",INDEX(OIQraw,ROW(),Setup!$C$5+COLUMN()-26),\"x\")","v":"x"},{"$f":"IF($E7=\"Y\",INDEX(OIQraw,ROW(),Setup!$C$5+COLUMN()-26),\"x\")","v":"x"},{"$f":"IF($E7=\"Y\",INDEX(OIQraw,ROW(),Setup!$C$5+COLUMN()-26),\"x\")","v":"x"},{"$f":"IF($E7=\"Y\",INDEX(OIQraw,ROW(),Setup!$C$5+COLUMN()-26),\"x\")","v":"x"},{"$f":"IF($E7=\"Y\",INDEX(OIQraw,ROW(),Setup!$C$5+COLUMN()-26),\"x\")","v":"x"},{"$f":"IF($E7=\"Y\",INDEX(OIQraw,ROW(),Setup!$C$5+COLUMN()-26),\"x\")","v":"x"},{"$f":"IF($E7=\"Y\",INDEX(OIQraw,ROW(),Setup!$C$5+COLUMN()-26),\"x\")","v":"x"},{"$f":"IF($E7=\"Y\",INDEX(OIQraw,ROW(),Setup!$C$5+COLUMN()-26),\"x\")","v":"x"},{"$f":"IF($E7=\"Y\",INDEX(OIQraw,ROW(),Setup!$C$5+COLUMN()-26),\"x\")","v":"x"},{"$f":"IF($E7=\"Y\",INDEX(OIQraw,ROW(),Setup!$C$5+COLUMN()-26),\"x\")","v":"x"},{"$f":"IF($E7=\"Y\",INDEX(OIQraw,ROW(),Setup!$C$5+COLUMN()-26),\"x\")","v":"x"},{"$f":"IF($E7=\"Y\",INDEX(OIQraw,ROW(),Setup!$C$5+COLUMN()-26),\"x\")","v":"x"},{"$f":"IF($E7=\"Y\",INDEX(OIQraw,ROW(),Setup!$C$5+COLUMN()-26),\"x\")","v":"x"},{"$f":"IF($E7=\"Y\",INDEX(OIQraw,ROW(),Setup!$C$5+COLUMN()-26),\"x\")","v":"x"},{"$f":"IF($E7=\"Y\",INDEX(OIQraw,ROW(),Setup!$C$5+COLUMN()-26),\"x\")","v":"x"},{"$f":"IF($E7=\"Y\",INDEX(OIQraw,ROW(),Setup!$C$5+COLUMN()-26),\"x\")","v":"x"},{"$f":"IF($E7=\"Y\",INDEX(OIQraw,ROW(),Setup!$C$5+COLUMN()-26),\"x\")","v":"x"},{"$f":"IF($E7=\"Y\",INDEX(OIQraw,ROW(),Setup!$C$5+COLUMN()-26),\"x\")","v":"x"},{"$f":"IF($E7=\"Y\",INDEX(OIQraw,ROW(),Setup!$C$5+COLUMN()-26),\"x\")","v":"x"},{"$f":"IF($E7=\"Y\",INDEX(OIQraw,ROW(),Setup!$C$5+COLUMN()-26),\"x\")","v":"x"},{"$f":"IF($E7=\"Y\",INDEX(OIQraw,ROW(),Setup!$C$5+COLUMN()-26),\"x\")","v":"x"},{"$f":"IF($E7=\"Y\",INDEX(OIQraw,ROW(),Setup!$C$5+COLUMN()-26),\"x\")","v":"x"},{"$f":"IF($E7=\"Y\",INDEX(OIQraw,ROW(),Setup!$C$5+COLUMN()-26),\"x\")","v":"x"},{"$f":"IF($E7=\"Y\",INDEX(OIQraw,ROW(),Setup!$C$5+COLUMN()-26),\"x\")","v":"x"},{"$f":"IF($E7=\"Y\",INDEX(OIQraw,ROW(),Setup!$C$5+COLUMN()-26),\"x\")","v":"x"},{"$f":"IF($E7=\"Y\",INDEX(OIQraw,ROW(),Setup!$C$5+COLUMN()-26),\"x\")","v":"x"},{"$f":"IF($E7=\"Y\",INDEX(OIQraw,ROW(),Setup!$C$5+COLUMN()-26),\"x\")","v":"x"},{"$f":"IF($E7=\"Y\",INDEX(OIQraw,ROW(),Setup!$C$5+COLUMN()-26),\"x\")","v":"x"},{"$f":"IF($E7=\"Y\",INDEX(OIQraw,ROW(),Setup!$C$5+COLUMN()-26),\"x\")","v":"x"},{"$f":"IF($E7=\"Y\",INDEX(OIQraw,ROW(),Setup!$C$5+COLUMN()-26),\"x\")","v":"x"},{"$f":"IF($E7=\"Y\",INDEX(OIQraw,ROW(),Setup!$C$5+COLUMN()-26),\"x\")","v":"x"},{"$f":"IF($E7=\"Y\",INDEX(OIQraw,ROW(),Setup!$C$5+COLUMN()-26),\"x\")","v":"x"},{"$f":"IF($E7=\"Y\",INDEX(OIQraw,ROW(),Setup!$C$5+COLUMN()-26),\"x\")","v":"x"},{"$f":"IF($E7=\"Y\",INDEX(OIQraw,ROW(),Setup!$C$5+COLUMN()-26),\"x\")","v":"x"},{"$f":"IF($E7=\"Y\",INDEX(OIQraw,ROW(),Setup!$C$5+COLUMN()-26),\"x\")","v":"x"},{"$f":"IF($E7=\"Y\",INDEX(OIQraw,ROW(),Setup!$C$5+COLUMN()-26),\"x\")","v":"x"},{"$f":"IF($E7=\"Y\",INDEX(OIQraw,ROW(),Setup!$C$5+COLUMN()-26),\"x\")","v":"x"},{"$f":"IF($E7=\"Y\",INDEX(OIQraw,ROW(),Setup!$C$5+COLUMN()-26),\"x\")","v":"x"},{"$f":"IF($E7=\"Y\",INDEX(OIQraw,ROW(),Setup!$C$5+COLUMN()-26),\"x\")","v":"x"},{"$f":"IF($E7=\"Y\",INDEX(OIQraw,ROW(),Setup!$C$5+COLUMN()-26),\"x\")","v":"x"},{"$f":"IF($E7=\"Y\",INDEX(OIQraw,ROW(),Setup!$C$5+COLUMN()-26),\"x\")","v":"x"},{"$f":"IF($E7=\"Y\",INDEX(OIQraw,ROW(),Setup!$C$5+COLUMN()-26),\"x\")","v":"x"},{"$f":"IF($E7=\"Y\",INDEX(OIQraw,ROW(),Setup!$C$5+COLUMN()-26),\"x\")","v":"x"},{"$f":"IF($E7=\"Y\",INDEX(OIQraw,ROW(),Setup!$C$5+COLUMN()-26),\"x\")","v":"x"},{"$f":"IF($E7=\"Y\",INDEX(OIQraw,ROW(),Setup!$C$5+COLUMN()-26),\"x\")","v":"x"},{"$f":"IF($E7=\"Y\",INDEX(OIQraw,ROW(),Setup!$C$5+COLUMN()-26),\"x\")","v":"x"},{"$f":"IF($E7=\"Y\",INDEX(OIQraw,ROW(),Setup!$C$5+COLUMN()-26),\"x\")","v":"x"},{"$f":"IF($E7=\"Y\",INDEX(OIQraw,ROW(),Setup!$C$5+COLUMN()-26),\"x\")","v":"x"},{"$f":"IF($E7=\"Y\",INDEX(OIQraw,ROW(),Setup!$C$5+COLUMN()-26),\"x\")","v":"x"},{"$f":"IF($E7=\"Y\",INDEX(OIQraw,ROW(),Setup!$C$5+COLUMN()-26),\"x\")","v":"x"},{"$f":"IF($E7=\"Y\",INDEX(OIQraw,ROW(),Setup!$C$5+COLUMN()-26),\"x\")","v":"x"},{"$f":"IF($E7=\"Y\",INDEX(OIQraw,ROW(),Setup!$C$5+COLUMN()-26),\"x\")","v":"x"},{"$f":"IF($E7=\"Y\",INDEX(OIQraw,ROW(),Setup!$C$5+COLUMN()-26),\"x\")","v":"x"},{"$f":"IF($E7=\"Y\",INDEX(OIQraw,ROW(),Setup!$C$5+COLUMN()-26),\"x\")","v":"x"},{"$f":"IF($E7=\"Y\",INDEX(OIQraw,ROW(),Setup!$C$5+COLUMN()-26),\"x\")","v":"x"},{"$f":"IF($E7=\"Y\",INDEX(OIQraw,ROW(),Setup!$C$5+COLUMN()-26),\"x\")","v":"x"},{"$f":"IF($E7=\"Y\",INDEX(OIQraw,ROW(),Setup!$C$5+COLUMN()-26),\"x\")","v":"x"},{"$f":"IF($E7=\"Y\",INDEX(OIQraw,ROW(),Setup!$C$5+COLUMN()-26),\"x\")","v":"x"},{"$f":"IF($E7=\"Y\",INDEX(OIQraw,ROW(),Setup!$C$5+COLUMN()-26),\"x\")","v":"x"},{"$f":"IF($E7=\"Y\",INDEX(OIQraw,ROW(),Setup!$C$5+COLUMN()-26),\"x\")","v":"x"},{"$f":"IF($E7=\"Y\",INDEX(OIQraw,ROW(),Setup!$C$5+COLUMN()-26),\"x\")","v":"x"},{"$f":"IF($E7=\"Y\",INDEX(OIQraw,ROW(),Setup!$C$5+COLUMN()-26),\"x\")","v":"x"},{"$f":"IF($E7=\"Y\",INDEX(OIQraw,ROW(),Setup!$C$5+COLUMN()-26),\"x\")","v":"x"},{"$f":"IF($E7=\"Y\",INDEX(OIQraw,ROW(),Setup!$C$5+COLUMN()-26),\"x\")","v":"x"},{"$f":"IF($E7=\"Y\",INDEX(OIQraw,ROW(),Setup!$C$5+COLUMN()-26),\"x\")","v":"x"},{"$f":"IF($E7=\"Y\",INDEX(OIQraw,ROW(),Setup!$C$5+COLUMN()-26),\"x\")","v":"x"},{"$f":"IF($E7=\"Y\",INDEX(OIQraw,ROW(),Setup!$C$5+COLUMN()-26),\"x\")","v":"x"},{"$f":"IF($E7=\"Y\",INDEX(OIQraw,ROW(),Setup!$C$5+COLUMN()-26),\"x\")","v":"x"},{"$f":"IF($E7=\"Y\",INDEX(OIQraw,ROW(),Setup!$C$5+COLUMN()-26),\"x\")","v":"x"},{"$f":"IF($E7=\"Y\",INDEX(OIQraw,ROW(),Setup!$C$5+COLUMN()-26),\"x\")","v":"x"},{"$f":"IF($E7=\"Y\",INDEX(OIQraw,ROW(),Setup!$C$5+COLUMN()-26),\"x\")","v":"x"},{"$f":"IF($E7=\"Y\",INDEX(OIQraw,ROW(),Setup!$C$5+COLUMN()-26),\"x\")","v":"x"},{"$f":"IF($E7=\"Y\",INDEX(OIQraw,ROW(),Setup!$C$5+COLUMN()-26),\"x\")","v":"x"},{"$f":"IF($E7=\"Y\",INDEX(OIQraw,ROW(),Setup!$C$5+COLUMN()-26),\"x\")","v":"x"},{"$f":"IF($E7=\"Y\",INDEX(OIQraw,ROW(),Setup!$C$5+COLUMN()-26),\"x\")","v":"x"},{"$f":"IF($E7=\"Y\",INDEX(OIQraw,ROW(),Setup!$C$5+COLUMN()-26),\"x\")","v":"x"},{"$f":"IF($E7=\"Y\",INDEX(OIQraw,ROW(),Setup!$C$5+COLUMN()-26),\"x\")","v":"x"},{"$f":"IF($E7=\"Y\",INDEX(OIQraw,ROW(),Setup!$C$5+COLUMN()-26),\"x\")","v":"x"},{"$f":"IF($E7=\"Y\",INDEX(OIQraw,ROW(),Setup!$C$5+COLUMN()-26),\"x\")","v":"x"},{"$f":"IF($E7=\"Y\",INDEX(OIQraw,ROW(),Setup!$C$5+COLUMN()-26),\"x\")","v":"x"},{"$f":"IF($E7=\"Y\",INDEX(OIQraw,ROW(),Setup!$C$5+COLUMN()-26),\"x\")","v":"x"},{"$f":"IF($E7=\"Y\",INDEX(OIQraw,ROW(),Setup!$C$5+COLUMN()-26),\"x\")","v":"x"},{"$f":"IF($E7=\"Y\",INDEX(OIQraw,ROW(),Setup!$C$5+COLUMN()-26),\"x\")","v":"x"},{"$f":"IF($E7=\"Y\",INDEX(OIQraw,ROW(),Setup!$C$5+COLUMN()-26),\"x\")","v":"x"},{"$f":"IF($E7=\"Y\",INDEX(OIQraw,ROW(),Setup!$C$5+COLUMN()-26),\"x\")","v":"x"},{"$f":"IF($E7=\"Y\",INDEX(OIQraw,ROW(),Setup!$C$5+COLUMN()-26),\"x\")","v":"x"},{"$f":"IF($E7=\"Y\",INDEX(OIQraw,ROW(),Setup!$C$5+COLUMN()-26),\"x\")","v":"x"},{"$f":"IF($E7=\"Y\",INDEX(OIQraw,ROW(),Setup!$C$5+COLUMN()-26),\"x\")","v":"x"},{"$f":"IF($E7=\"Y\",INDEX(OIQraw,ROW(),Setup!$C$5+COLUMN()-26),\"x\")","v":"x"},{"$f":"IF($E7=\"Y\",INDEX(OIQraw,ROW(),Setup!$C$5+COLUMN()-26),\"x\")","v":"x"},{"$f":"IF($E7=\"Y\",INDEX(OIQraw,ROW(),Setup!$C$5+COLUMN()-26),\"x\")","v":"x"},{"$f":"IF($E7=\"Y\",INDEX(OIQraw,ROW(),Setup!$C$5+COLUMN()-26),\"x\")","v":"x"},{"$f":"IF($E7=\"Y\",INDEX(OIQraw,ROW(),Setup!$C$5+COLUMN()-26),\"x\")","v":"x"},{"$f":"IF($E7=\"Y\",INDEX(OIQraw,ROW(),Setup!$C$5+COLUMN()-26),\"x\")","v":"x"},{"$f":"IF($E7=\"Y\",INDEX(OIQraw,ROW(),Setup!$C$5+COLUMN()-26),\"x\")","v":"x"},{"$f":"IF($E7=\"Y\",INDEX(OIQraw,ROW(),Setup!$C$5+COLUMN()-26),\"x\")","v":"x"},{"$f":"IF($E7=\"Y\",INDEX(OIQraw,ROW(),Setup!$C$5+COLUMN()-26),\"x\")","v":"x"},{"$f":"IF($E7=\"Y\",INDEX(OIQraw,ROW(),Setup!$C$5+COLUMN()-26),\"x\")","v":"x"},{"$f":"IF($E7=\"Y\",INDEX(OIQraw,ROW(),Setup!$C$5+COLUMN()-26),\"x\")","v":"x"},{"$f":"IF($E7=\"Y\",INDEX(OIQraw,ROW(),Setup!$C$5+COLUMN()-26),\"x\")","v":"x"},{"$f":"IF($E7=\"Y\",INDEX(OIQraw,ROW(),Setup!$C$5+COLUMN()-26),\"x\")","v":"x"},{"$f":"IF($E7=\"Y\",INDEX(OIQraw,ROW(),Setup!$C$5+COLUMN()-26),\"x\")","v":"x"},{"$f":"IF($E7=\"Y\",INDEX(OIQraw,ROW(),Setup!$C$5+COLUMN()-26),\"x\")","v":"x"},{"$f":"IF($E7=\"Y\",INDEX(OIQraw,ROW(),Setup!$C$5+COLUMN()-26),\"x\")","v":"x"},{"$f":"IF($E7=\"Y\",INDEX(OIQraw,ROW(),Setup!$C$5+COLUMN()-26),\"x\")","v":"x"},{"$f":"IF($E7=\"Y\",INDEX(OIQraw,ROW(),Setup!$C$5+COLUMN()-26),\"x\")","v":"x"},{"$f":"IF($E7=\"Y\",INDEX(OIQraw,ROW(),Setup!$C$5+COLUMN()-26),\"x\")","v":"x"},{"$f":"IF($E7=\"Y\",INDEX(OIQraw,ROW(),Setup!$C$5+COLUMN()-26),\"x\")","v":"x"},{"$f":"IF($E7=\"Y\",INDEX(OIQraw,ROW(),Setup!$C$5+COLUMN()-26),\"x\")","v":"x"},{"$f":"IF($E7=\"Y\",INDEX(OIQraw,ROW(),Setup!$C$5+COLUMN()-26),\"x\")","v":"x"},{"$f":"IF($E7=\"Y\",INDEX(OIQraw,ROW(),Setup!$C$5+COLUMN()-26),\"x\")","v":"x"},{"$f":"IF($E7=\"Y\",INDEX(OIQraw,ROW(),Setup!$C$5+COLUMN()-26),\"x\")","v":"x"},{"$f":"IF($E7=\"Y\",INDEX(OIQraw,ROW(),Setup!$C$5+COLUMN()-26),\"x\")","v":"x"},{"$f":"IF($E7=\"Y\",INDEX(OIQraw,ROW(),Setup!$C$5+COLUMN()-26),\"x\")","v":"x"},{"$f":"IF($E7=\"Y\",INDEX(OIQraw,ROW(),Setup!$C$5+COLUMN()-26),\"x\")","v":"x"},{"$f":"IF($E7=\"Y\",INDEX(OIQraw,ROW(),Setup!$C$5+COLUMN()-26),\"x\")","v":"x"},{"$f":"IF($E7=\"Y\",INDEX(OIQraw,ROW(),Setup!$C$5+COLUMN()-26),\"x\")","v":"x"},{"$f":"IF($E7=\"Y\",INDEX(OIQraw,ROW(),Setup!$C$5+COLUMN()-26),\"x\")","v":"x"},{"$f":"IF($E7=\"Y\",INDEX(OIQraw,ROW(),Setup!$C$5+COLUMN()-26),\"x\")","v":"x"},{"$f":"IF($E7=\"Y\",INDEX(OIQraw,ROW(),Setup!$C$5+COLUMN()-26),\"x\")","v":"x"},{"$f":"IF($E7=\"Y\",INDEX(OIQraw,ROW(),Setup!$C$5+COLUMN()-26),\"x\")","v":"x"},{"$f":"IF($E7=\"Y\",INDEX(OIQraw,ROW(),Setup!$C$5+COLUMN()-26),\"x\")","v":"x"},{"$f":"IF($E7=\"Y\",INDEX(OIQraw,ROW(),Setup!$C$5+COLUMN()-26),\"x\")","v":"x"},{"$f":"IF($E7=\"Y\",INDEX(OIQraw,ROW(),Setup!$C$5+COLUMN()-26),\"x\")","v":"x"},{"$f":"IF($E7=\"Y\",INDEX(OIQraw,ROW(),Setup!$C$5+COLUMN()-26),\"x\")","v":"x"},{"$f":"IF($E7=\"Y\",INDEX(OIQraw,ROW(),Setup!$C$5+COLUMN()-26),\"x\")","v":"x"},{"$f":"IF($E7=\"Y\",INDEX(OIQraw,ROW(),Setup!$C$5+COLUMN()-26),\"x\")","v":"x"},{"$f":"IF($E7=\"Y\",INDEX(OIQraw,ROW(),Setup!$C$5+COLUMN()-26),\"x\")","v":"x"},{"$f":"IF($E7=\"Y\",INDEX(OIQraw,ROW(),Setup!$C$5+COLUMN()-26),\"x\")","v":"x"},{"$f":"IF($E7=\"Y\",INDEX(OIQraw,ROW(),Setup!$C$5+COLUMN()-26),\"x\")","v":"x"},{"$f":"IF($E7=\"Y\",INDEX(OIQraw,ROW(),Setup!$C$5+COLUMN()-26),\"x\")","v":"x"},{"$f":"IF($E7=\"Y\",INDEX(OIQraw,ROW(),Setup!$C$5+COLUMN()-26),\"x\")","v":"x"},{"$f":"IF($E7=\"Y\",INDEX(OIQraw,ROW(),Setup!$C$5+COLUMN()-26),\"x\")","v":"x"},{"$f":"IF($E7=\"Y\",INDEX(OIQraw,ROW(),Setup!$C$5+COLUMN()-26),\"x\")","v":"x"},{"$f":"IF($E7=\"Y\",INDEX(OIQraw,ROW(),Setup!$C$5+COLUMN()-26),\"x\")","v":"x"},{"$f":"IF($E7=\"Y\",INDEX(OIQraw,ROW(),Setup!$C$5+COLUMN()-26),\"x\")","v":"x"},{"$f":"IF($E7=\"Y\",INDEX(OIQraw,ROW(),Setup!$C$5+COLUMN()-26),\"x\")","v":"x"},{"$f":"IF($E7=\"Y\",INDEX(OIQraw,ROW(),Setup!$C$5+COLUMN()-26),\"x\")","v":"x"},{"$f":"IF($E7=\"Y\",INDEX(OIQraw,ROW(),Setup!$C$5+COLUMN()-26),\"x\")","v":"x"},{"$f":"IF($E7=\"Y\",INDEX(OIQraw,ROW(),Setup!$C$5+COLUMN()-26),\"x\")","v":"x"},{"$f":"IF($E7=\"Y\",INDEX(OIQraw,ROW(),Setup!$C$5+COLUMN()-26),\"x\")","v":"x"},{"$f":"IF($E7=\"Y\",INDEX(OIQraw,ROW(),Setup!$C$5+COLUMN()-26),\"x\")","v":"x"},{"$f":"IF($E7=\"Y\",INDEX(OIQraw,ROW(),Setup!$C$5+COLUMN()-26),\"x\")","v":"x"},{"$f":"IF($E7=\"Y\",INDEX(OIQraw,ROW(),Setup!$C$5+COLUMN()-26),\"x\")","v":"x"}]
[1,"","",{"$f":"IF(ISERROR(FIND(\"Withdrew\",RawScores!B12)),RawScores!B12,RIGHT(RawScores!B12,LEN(RawScores!B12)-17))&\", \"&RawScores!C12","v":", "},{"$f":"IF(OR(ISERROR(FIND(\"Withdrew\",RawScores!B12))=FALSE,INDEX(OIQraw,ROW(),LastInputCol-3)=0),\"N\",IF(AND(Setup!$B$22=\"Yes\",INDEX(OIQraw,ROW(),LastInputCol)=1),\"N\",\"Y\"))","v":"N"},"X","X","X",{"$f":"IF(AND(ISNUMBER(F8),F8>Setup!$B$14-1),1,0)","v":0},{"$f":"IF(AND(F8>Setup!$B$14-1,Conv!H8<5),1,0)","v":0},{"$f":"IF(AND(F8>Setup!$B$14-1,Conv!G8=\"F\"),1,0)","v":0},"","","","","","","","","","","","","X","X",{"$f":"IF($E8=\"Y\",INDEX(OIQraw,ROW(),Setup!$C$5+COLUMN()-26),\"x\")","v":"x"},{"$f":"IF($E8=\"Y\",INDEX(OIQraw,ROW(),Setup!$C$5+COLUMN()-26),\"x\")","v":"x"},{"$f":"IF($E8=\"Y\",INDEX(OIQraw,ROW(),Setup!$C$5+COLUMN()-26),\"x\")","v":"x"},{"$f":"IF($E8=\"Y\",INDEX(OIQraw,ROW(),Setup!$C$5+COLUMN()-26),\"x\")","v":"x"},{"$f":"IF($E8=\"Y\",INDEX(OIQraw,ROW(),Setup!$C$5+COLUMN()-26),\"x\")","v":"x"},{"$f":"IF($E8=\"Y\",INDEX(OIQraw,ROW(),Setup!$C$5+COLUMN()-26),\"x\")","v":"x"},{"$f":"IF($E8=\"Y\",INDEX(OIQraw,ROW(),Setup!$C$5+COLUMN()-26),\"x\")","v":"x"},{"$f":"IF($E8=\"Y\",INDEX(OIQraw,ROW(),Setup!$C$5+COLUMN()-26),\"x\")","v":"x"},{"$f":"IF($E8=\"Y\",INDEX(OIQraw,ROW(),Setup!$C$5+COLUMN()-26),\"x\")","v":"x"},{"$f":"IF($E8=\"Y\",INDEX(OIQraw,ROW(),Setup!$C$5+COLUMN()-26),\"x\")","v":"x"},{"$f":"IF($E8=\"Y\",INDEX(OIQraw,ROW(),Setup!$C$5+COLUMN()-26),\"x\")","v":"x"},{"$f":"IF($E8=\"Y\",INDEX(OIQraw,ROW(),Setup!$C$5+COLUMN()-26),\"x\")","v":"x"},{"$f":"IF($E8=\"Y\",INDEX(OIQraw,ROW(),Setup!$C$5+COLUMN()-26),\"x\")","v":"x"},{"$f":"IF($E8=\"Y\",INDEX(OIQraw,ROW(),Setup!$C$5+COLUMN()-26),\"x\")","v":"x"},{"$f":"IF($E8=\"Y\",INDEX(OIQraw,ROW(),Setup!$C$5+COLUMN()-26),\"x\")","v":"x"},{"$f":"IF($E8=\"Y\",INDEX(OIQraw,ROW(),Setup!$C$5+COLUMN()-26),\"x\")","v":"x"},{"$f":"IF($E8=\"Y\",INDEX(OIQraw,ROW(),Setup!$C$5+COLUMN()-26),\"x\")","v":"x"},{"$f":"IF($E8=\"Y\",INDEX(OIQraw,ROW(),Setup!$C$5+COLUMN()-26),\"x\")","v":"x"},{"$f":"IF($E8=\"Y\",INDEX(OIQraw,ROW(),Setup!$C$5+COLUMN()-26),\"x\")","v":"x"},{"$f":"IF($E8=\"Y\",INDEX(OIQraw,ROW(),Setup!$C$5+COLUMN()-26),\"x\")","v":"x"},{"$f":"IF($E8=\"Y\",INDEX(OIQraw,ROW(),Setup!$C$5+COLUMN()-26),\"x\")","v":"x"},{"$f":"IF($E8=\"Y\",INDEX(OIQraw,ROW(),Setup!$C$5+COLUMN()-26),\"x\")","v":"x"},{"$f":"IF($E8=\"Y\",INDEX(OIQraw,ROW(),Setup!$C$5+COLUMN()-26),\"x\")","v":"x"},{"$f":"IF($E8=\"Y\",INDEX(OIQraw,ROW(),Setup!$C$5+COLUMN()-26),\"x\")","v":"x"},{"$f":"IF($E8=\"Y\",INDEX(OIQraw,ROW(),Setup!$C$5+COLUMN()-26),\"x\")","v":"x"},{"$f":"IF($E8=\"Y\",INDEX(OIQraw,ROW(),Setup!$C$5+COLUMN()-26),\"x\")","v":"x"},{"$f":"IF($E8=\"Y\",INDEX(OIQraw,ROW(),Setup!$C$5+COLUMN()-26),\"x\")","v":"x"},{"$f":"IF($E8=\"Y\",INDEX(OIQraw,ROW(),Setup!$C$5+COLUMN()-26),\"x\")","v":"x"},{"$f":"IF($E8=\"Y\",INDEX(OIQraw,ROW(),Setup!$C$5+COLUMN()-26),\"x\")","v":"x"},{"$f":"IF($E8=\"Y\",INDEX(OIQraw,ROW(),Setup!$C$5+COLUMN()-26),\"x\")","v":"x"},{"$f":"IF($E8=\"Y\",INDEX(OIQraw,ROW(),Setup!$C$5+COLUMN()-26),\"x\")","v":"x"},{"$f":"IF($E8=\"Y\",INDEX(OIQraw,ROW(),Setup!$C$5+COLUMN()-26),\"x\")","v":"x"},{"$f":"IF($E8=\"Y\",INDEX(OIQraw,ROW(),Setup!$C$5+COLUMN()-26),\"x\")","v":"x"},{"$f":"IF($E8=\"Y\",INDEX(OIQraw,ROW(),Setup!$C$5+COLUMN()-26),\"x\")","v":"x"},{"$f":"IF($E8=\"Y\",INDEX(OIQraw,ROW(),Setup!$C$5+COLUMN()-26),\"x\")","v":"x"},{"$f":"IF($E8=\"Y\",INDEX(OIQraw,ROW(),Setup!$C$5+COLUMN()-26),\"x\")","v":"x"},{"$f":"IF($E8=\"Y\",INDEX(OIQraw,ROW(),Setup!$C$5+COLUMN()-26),\"x\")","v":"x"},{"$f":"IF($E8=\"Y\",INDEX(OIQraw,ROW(),Setup!$C$5+COLUMN()-26),\"x\")","v":"x"},{"$f":"IF($E8=\"Y\",INDEX(OIQraw,ROW(),Setup!$C$5+COLUMN()-26),\"x\")","v":"x"},{"$f":"IF($E8=\"Y\",INDEX(OIQraw,ROW(),Setup!$C$5+COLUMN()-26),\"x\")","v":"x"},{"$f":"IF($E8=\"Y\",INDEX(OIQraw,ROW(),Setup!$C$5+COLUMN()-26),\"x\")","v":"x"},{"$f":"IF($E8=\"Y\",INDEX(OIQraw,ROW(),Setup!$C$5+COLUMN()-26),\"x\")","v":"x"},{"$f":"IF($E8=\"Y\",INDEX(OIQraw,ROW(),Setup!$C$5+COLUMN()-26),\"x\")","v":"x"},{"$f":"IF($E8=\"Y\",INDEX(OIQraw,ROW(),Setup!$C$5+COLUMN()-26),\"x\")","v":"x"},{"$f":"IF($E8=\"Y\",INDEX(OIQraw,ROW(),Setup!$C$5+COLUMN()-26),\"x\")","v":"x"},{"$f":"IF($E8=\"Y\",INDEX(OIQraw,ROW(),Setup!$C$5+COLUMN()-26),\"x\")","v":"x"},{"$f":"IF($E8=\"Y\",INDEX(OIQraw,ROW(),Setup!$C$5+COLUMN()-26),\"x\")","v":"x"},{"$f":"IF($E8=\"Y\",INDEX(OIQraw,ROW(),Setup!$C$5+COLUMN()-26),\"x\")","v":"x"},{"$f":"IF($E8=\"Y\",INDEX(OIQraw,ROW(),Setup!$C$5+COLUMN()-26),\"x\")","v":"x"},{"$f":"IF($E8=\"Y\",INDEX(OIQraw,ROW(),Setup!$C$5+COLUMN()-26),\"x\")","v":"x"},{"$f":"IF($E8=\"Y\",INDEX(OIQraw,ROW(),Setup!$C$5+COLUMN()-26),\"x\")","v":"x"},{"$f":"IF($E8=\"Y\",INDEX(OIQraw,ROW(),Setup!$C$5+COLUMN()-26),\"x\")","v":"x"},{"$f":"IF($E8=\"Y\",INDEX(OIQraw,ROW(),Setup!$C$5+COLUMN()-26),\"x\")","v":"x"},{"$f":"IF($E8=\"Y\",INDEX(OIQraw,ROW(),Setup!$C$5+COLUMN()-26),\"x\")","v":"x"},{"$f":"IF($E8=\"Y\",INDEX(OIQraw,ROW(),Setup!$C$5+COLUMN()-26),\"x\")","v":"x"},{"$f":"IF($E8=\"Y\",INDEX(OIQraw,ROW(),Setup!$C$5+COLUMN()-26),\"x\")","v":"x"},{"$f":"IF($E8=\"Y\",INDEX(OIQraw,ROW(),Setup!$C$5+COLUMN()-26),\"x\")","v":"x"},{"$f":"IF($E8=\"Y\",INDEX(OIQraw,ROW(),Setup!$C$5+COLUMN()-26),\"x\")","v":"x"},{"$f":"IF($E8=\"Y\",INDEX(OIQraw,ROW(),Setup!$C$5+COLUMN()-26),\"x\")","v":"x"},{"$f":"IF($E8=\"Y\",INDEX(OIQraw,ROW(),Setup!$C$5+COLUMN()-26),\"x\")","v":"x"},{"$f":"IF($E8=\"Y\",INDEX(OIQraw,ROW(),Setup!$C$5+COLUMN()-26),\"x\")","v":"x"},{"$f":"IF($E8=\"Y\",INDEX(OIQraw,ROW(),Setup!$C$5+COLUMN()-26),\"x\")","v":"x"},{"$f":"IF($E8=\"Y\",INDEX(OIQraw,ROW(),Setup!$C$5+COLUMN()-26),\"x\")","v":"x"},{"$f":"IF($E8=\"Y\",INDEX(OIQraw,ROW(),Setup!$C$5+COLUMN()-26),\"x\")","v":"x"},{"$f":"IF($E8=\"Y\",INDEX(OIQraw,ROW(),Setup!$C$5+COLUMN()-26),\"x\")","v":"x"},{"$f":"IF($E8=\"Y\",INDEX(OIQraw,ROW(),Setup!$C$5+COLUMN()-26),\"x\")","v":"x"},{"$f":"IF($E8=\"Y\",INDEX(OIQraw,ROW(),Setup!$C$5+COLUMN()-26),\"x\")","v":"x"},{"$f":"IF($E8=\"Y\",INDEX(OIQraw,ROW(),Setup!$C$5+COLUMN()-26),\"x\")","v":"x"},{"$f":"IF($E8=\"Y\",INDEX(OIQraw,ROW(),Setup!$C$5+COLUMN()-26),\"x\")","v":"x"},{"$f":"IF($E8=\"Y\",INDEX(OIQraw,ROW(),Setup!$C$5+COLUMN()-26),\"x\")","v":"x"},{"$f":"IF($E8=\"Y\",INDEX(OIQraw,ROW(),Setup!$C$5+COLUMN()-26),\"x\")","v":"x"},{"$f":"IF($E8=\"Y\",INDEX(OIQraw,ROW(),Setup!$C$5+COLUMN()-26),\"x\")","v":"x"},{"$f":"IF($E8=\"Y\",INDEX(OIQraw,ROW(),Setup!$C$5+COLUMN()-26),\"x\")","v":"x"},{"$f":"IF($E8=\"Y\",INDEX(OIQraw,ROW(),Setup!$C$5+COLUMN()-26),\"x\")","v":"x"},{"$f":"IF($E8=\"Y\",INDEX(OIQraw,ROW(),Setup!$C$5+COLUMN()-26),\"x\")","v":"x"},{"$f":"IF($E8=\"Y\",INDEX(OIQraw,ROW(),Setup!$C$5+COLUMN()-26),\"x\")","v":"x"},{"$f":"IF($E8=\"Y\",INDEX(OIQraw,ROW(),Setup!$C$5+COLUMN()-26),\"x\")","v":"x"},{"$f":"IF($E8=\"Y\",INDEX(OIQraw,ROW(),Setup!$C$5+COLUMN()-26),\"x\")","v":"x"},{"$f":"IF($E8=\"Y\",INDEX(OIQraw,ROW(),Setup!$C$5+COLUMN()-26),\"x\")","v":"x"},{"$f":"IF($E8=\"Y\",INDEX(OIQraw,ROW(),Setup!$C$5+COLUMN()-26),\"x\")","v":"x"},{"$f":"IF($E8=\"Y\",INDEX(OIQraw,ROW(),Setup!$C$5+COLUMN()-26),\"x\")","v":"x"},{"$f":"IF($E8=\"Y\",INDEX(OIQraw,ROW(),Setup!$C$5+COLUMN()-26),\"x\")","v":"x"},{"$f":"IF($E8=\"Y\",INDEX(OIQraw,ROW(),Setup!$C$5+COLUMN()-26),\"x\")","v":"x"},{"$f":"IF($E8=\"Y\",INDEX(OIQraw,ROW(),Setup!$C$5+COLUMN()-26),\"x\")","v":"x"},{"$f":"IF($E8=\"Y\",INDEX(OIQraw,ROW(),Setup!$C$5+COLUMN()-26),\"x\")","v":"x"},{"$f":"IF($E8=\"Y\",INDEX(OIQraw,ROW(),Setup!$C$5+COLUMN()-26),\"x\")","v":"x"},{"$f":"IF($E8=\"Y\",INDEX(OIQraw,ROW(),Setup!$C$5+COLUMN()-26),\"x\")","v":"x"},{"$f":"IF($E8=\"Y\",INDEX(OIQraw,ROW(),Setup!$C$5+COLUMN()-26),\"x\")","v":"x"},{"$f":"IF($E8=\"Y\",INDEX(OIQraw,ROW(),Setup!$C$5+COLUMN()-26),\"x\")","v":"x"},{"$f":"IF($E8=\"Y\",INDEX(OIQraw,ROW(),Setup!$C$5+COLUMN()-26),\"x\")","v":"x"},{"$f":"IF($E8=\"Y\",INDEX(OIQraw,ROW(),Setup!$C$5+COLUMN()-26),\"x\")","v":"x"},{"$f":"IF($E8=\"Y\",INDEX(OIQraw,ROW(),Setup!$C$5+COLUMN()-26),\"x\")","v":"x"},{"$f":"IF($E8=\"Y\",INDEX(OIQraw,ROW(),Setup!$C$5+COLUMN()-26),\"x\")","v":"x"},{"$f":"IF($E8=\"Y\",INDEX(OIQraw,ROW(),Setup!$C$5+COLUMN()-26),\"x\")","v":"x"},{"$f":"IF($E8=\"Y\",INDEX(OIQraw,ROW(),Setup!$C$5+COLUMN()-26),\"x\")","v":"x"},{"$f":"IF($E8=\"Y\",INDEX(OIQraw,ROW(),Setup!$C$5+COLUMN()-26),\"x\")","v":"x"},{"$f":"IF($E8=\"Y\",INDEX(OIQraw,ROW(),Setup!$C$5+COLUMN()-26),\"x\")","v":"x"},{"$f":"IF($E8=\"Y\",INDEX(OIQraw,ROW(),Setup!$C$5+COLUMN()-26),\"x\")","v":"x"},{"$f":"IF($E8=\"Y\",INDEX(OIQraw,ROW(),Setup!$C$5+COLUMN()-26),\"x\")","v":"x"},{"$f":"IF($E8=\"Y\",INDEX(OIQraw,ROW(),Setup!$C$5+COLUMN()-26),\"x\")","v":"x"},{"$f":"IF($E8=\"Y\",INDEX(OIQraw,ROW(),Setup!$C$5+COLUMN()-26),\"x\")","v":"x"},{"$f":"IF($E8=\"Y\",INDEX(OIQraw,ROW(),Setup!$C$5+COLUMN()-26),\"x\")","v":"x"},{"$f":"IF($E8=\"Y\",INDEX(OIQraw,ROW(),Setup!$C$5+COLUMN()-26),\"x\")","v":"x"},{"$f":"IF($E8=\"Y\",INDEX(OIQraw,ROW(),Setup!$C$5+COLUMN()-26),\"x\")","v":"x"},{"$f":"IF($E8=\"Y\",INDEX(OIQraw,ROW(),Setup!$C$5+COLUMN()-26),\"x\")","v":"x"},{"$f":"IF($E8=\"Y\",INDEX(OIQraw,ROW(),Setup!$C$5+COLUMN()-26),\"x\")","v":"x"},{"$f":"IF($E8=\"Y\",INDEX(OIQraw,ROW(),Setup!$C$5+COLUMN()-26),\"x\")","v":"x"},{"$f":"IF($E8=\"Y\",INDEX(OIQraw,ROW(),Setup!$C$5+COLUMN()-26),\"x\")","v":"x"},{"$f":"IF($E8=\"Y\",INDEX(OIQraw,ROW(),Setup!$C$5+COLUMN()-26),\"x\")","v":"x"},{"$f":"IF($E8=\"Y\",INDEX(OIQraw,ROW(),Setup!$C$5+COLUMN()-26),\"x\")","v":"x"},{"$f":"IF($E8=\"Y\",INDEX(OIQraw,ROW(),Setup!$C$5+COLUMN()-26),\"x\")","v":"x"},{"$f":"IF($E8=\"Y\",INDEX(OIQraw,ROW(),Setup!$C$5+COLUMN()-26),\"x\")","v":"x"},{"$f":"IF($E8=\"Y\",INDEX(OIQraw,ROW(),Setup!$C$5+COLUMN()-26),\"x\")","v":"x"},{"$f":"IF($E8=\"Y\",INDEX(OIQraw,ROW(),Setup!$C$5+COLUMN()-26),\"x\")","v":"x"},{"$f":"IF($E8=\"Y\",INDEX(OIQraw,ROW(),Setup!$C$5+COLUMN()-26),\"x\")","v":"x"},{"$f":"IF($E8=\"Y\",INDEX(OIQraw,ROW(),Setup!$C$5+COLUMN()-26),\"x\")","v":"x"},{"$f":"IF($E8=\"Y\",INDEX(OIQraw,ROW(),Setup!$C$5+COLUMN()-26),\"x\")","v":"x"},{"$f":"IF($E8=\"Y\",INDEX(OIQraw,ROW(),Setup!$C$5+COLUMN()-26),\"x\")","v":"x"},{"$f":"IF($E8=\"Y\",INDEX(OIQraw,ROW(),Setup!$C$5+COLUMN()-26),\"x\")","v":"x"},{"$f":"IF($E8=\"Y\",INDEX(OIQraw,ROW(),Setup!$C$5+COLUMN()-26),\"x\")","v":"x"},{"$f":"IF($E8=\"Y\",INDEX(OIQraw,ROW(),Setup!$C$5+COLUMN()-26),\"x\")","v":"x"},{"$f":"IF($E8=\"Y\",INDEX(OIQraw,ROW(),Setup!$C$5+COLUMN()-26),\"x\")","v":"x"},{"$f":"IF($E8=\"Y\",INDEX(OIQraw,ROW(),Setup!$C$5+COLUMN()-26),\"x\")","v":"x"},{"$f":"IF($E8=\"Y\",INDEX(OIQraw,ROW(),Setup!$C$5+COLUMN()-26),\"x\")","v":"x"},{"$f":"IF($E8=\"Y\",INDEX(OIQraw,ROW(),Setup!$C$5+COLUMN()-26),\"x\")","v":"x"},{"$f":"IF($E8=\"Y\",INDEX(OIQraw,ROW(),Setup!$C$5+COLUMN()-26),\"x\")","v":"x"},{"$f":"IF($E8=\"Y\",INDEX(OIQraw,ROW(),Setup!$C$5+COLUMN()-26),\"x\")","v":"x"},{"$f":"IF($E8=\"Y\",INDEX(OIQraw,ROW(),Setup!$C$5+COLUMN()-26),\"x\")","v":"x"},{"$f":"IF($E8=\"Y\",INDEX(OIQraw,ROW(),Setup!$C$5+COLUMN()-26),\"x\")","v":"x"},{"$f":"IF($E8=\"Y\",INDEX(OIQraw,ROW(),Setup!$C$5+COLUMN()-26),\"x\")","v":"x"},{"$f":"IF($E8=\"Y\",INDEX(OIQraw,ROW(),Setup!$C$5+COLUMN()-26),\"x\")","v":"x"},{"$f":"IF($E8=\"Y\",INDEX(OIQraw,ROW(),Setup!$C$5+COLUMN()-26),\"x\")","v":"x"},{"$f":"IF($E8=\"Y\",INDEX(OIQraw,ROW(),Setup!$C$5+COLUMN()-26),\"x\")","v":"x"},{"$f":"IF($E8=\"Y\",INDEX(OIQraw,ROW(),Setup!$C$5+COLUMN()-26),\"x\")","v":"x"},{"$f":"IF($E8=\"Y\",INDEX(OIQraw,ROW(),Setup!$C$5+COLUMN()-26),\"x\")","v":"x"},{"$f":"IF($E8=\"Y\",INDEX(OIQraw,ROW(),Setup!$C$5+COLUMN()-26),\"x\")","v":"x"},{"$f":"IF($E8=\"Y\",INDEX(OIQraw,ROW(),Setup!$C$5+COLUMN()-26),\"x\")","v":"x"},{"$f":"IF($E8=\"Y\",INDEX(OIQraw,ROW(),Setup!$C$5+COLUMN()-26),\"x\")","v":"x"},{"$f":"IF($E8=\"Y\",INDEX(OIQraw,ROW(),Setup!$C$5+COLUMN()-26),\"x\")","v":"x"},{"$f":"IF($E8=\"Y\",INDEX(OIQraw,ROW(),Setup!$C$5+COLUMN()-26),\"x\")","v":"x"},{"$f":"IF($E8=\"Y\",INDEX(OIQraw,ROW(),Setup!$C$5+COLUMN()-26),\"x\")","v":"x"},{"$f":"IF($E8=\"Y\",INDEX(OIQraw,ROW(),Setup!$C$5+COLUMN()-26),\"x\")","v":"x"},{"$f":"IF($E8=\"Y\",INDEX(OIQraw,ROW(),Setup!$C$5+COLUMN()-26),\"x\")","v":"x"},{"$f":"IF($E8=\"Y\",INDEX(OIQraw,ROW(),Setup!$C$5+COLUMN()-26),\"x\")","v":"x"},{"$f":"IF($E8=\"Y\",INDEX(OIQraw,ROW(),Setup!$C$5+COLUMN()-26),\"x\")","v":"x"},{"$f":"IF($E8=\"Y\",INDEX(OIQraw,ROW(),Setup!$C$5+COLUMN()-26),\"x\")","v":"x"},{"$f":"IF($E8=\"Y\",INDEX(OIQraw,ROW(),Setup!$C$5+COLUMN()-26),\"x\")","v":"x"},{"$f":"IF($E8=\"Y\",INDEX(OIQraw,ROW(),Setup!$C$5+COLUMN()-26),\"x\")","v":"x"},{"$f":"IF($E8=\"Y\",INDEX(OIQraw,ROW(),Setup!$C$5+COLUMN()-26),\"x\")","v":"x"},{"$f":"IF($E8=\"Y\",INDEX(OIQraw,ROW(),Setup!$C$5+COLUMN()-26),\"x\")","v":"x"},{"$f":"IF($E8=\"Y\",INDEX(OIQraw,ROW(),Setup!$C$5+COLUMN()-26),\"x\")","v":"x"},{"$f":"IF($E8=\"Y\",INDEX(OIQraw,ROW(),Setup!$C$5+COLUMN()-26),\"x\")","v":"x"},{"$f":"IF($E8=\"Y\",INDEX(OIQraw,ROW(),Setup!$C$5+COLUMN()-26),\"x\")","v":"x"},{"$f":"IF($E8=\"Y\",INDEX(OIQraw,ROW(),Setup!$C$5+COLUMN()-26),\"x\")","v":"x"},{"$f":"IF($E8=\"Y\",INDEX(OIQraw,ROW(),Setup!$C$5+COLUMN()-26),\"x\")","v":"x"},{"$f":"IF($E8=\"Y\",INDEX(OIQraw,ROW(),Setup!$C$5+COLUMN()-26),\"x\")","v":"x"},{"$f":"IF($E8=\"Y\",INDEX(OIQraw,ROW(),Setup!$C$5+COLUMN()-26),\"x\")","v":"x"},{"$f":"IF($E8=\"Y\",INDEX(OIQraw,ROW(),Setup!$C$5+COLUMN()-26),\"x\")","v":"x"},{"$f":"IF($E8=\"Y\",INDEX(OIQraw,ROW(),Setup!$C$5+COLUMN()-26),\"x\")","v":"x"},{"$f":"IF($E8=\"Y\",INDEX(OIQraw,ROW(),Setup!$C$5+COLUMN()-26),\"x\")","v":"x"},{"$f":"IF($E8=\"Y\",INDEX(OIQraw,ROW(),Setup!$C$5+COLUMN()-26),\"x\")","v":"x"},{"$f":"IF($E8=\"Y\",INDEX(OIQraw,ROW(),Setup!$C$5+COLUMN()-26),\"x\")","v":"x"},{"$f":"IF($E8=\"Y\",INDEX(OIQraw,ROW(),Setup!$C$5+COLUMN()-26),\"x\")","v":"x"},{"$f":"IF($E8=\"Y\",INDEX(OIQraw,ROW(),Setup!$C$5+COLUMN()-26),\"x\")","v":"x"},{"$f":"IF($E8=\"Y\",INDEX(OIQraw,ROW(),Setup!$C$5+COLUMN()-26),\"x\")","v":"x"},{"$f":"IF($E8=\"Y\",INDEX(OIQraw,ROW(),Setup!$C$5+COLUMN()-26),\"x\")","v":"x"},{"$f":"IF($E8=\"Y\",INDEX(OIQraw,ROW(),Setup!$C$5+COLUMN()-26),\"x\")","v":"x"},{"$f":"IF($E8=\"Y\",INDEX(OIQraw,ROW(),Setup!$C$5+COLUMN()-26),\"x\")","v":"x"},{"$f":"IF($E8=\"Y\",INDEX(OIQraw,ROW(),Setup!$C$5+COLUMN()-26),\"x\")","v":"x"},{"$f":"IF($E8=\"Y\",INDEX(OIQraw,ROW(),Setup!$C$5+COLUMN()-26),\"x\")","v":"x"},{"$f":"IF($E8=\"Y\",INDEX(OIQraw,ROW(),Setup!$C$5+COLUMN()-26),\"x\")","v":"x"},{"$f":"IF($E8=\"Y\",INDEX(OIQraw,ROW(),Setup!$C$5+COLUMN()-26),\"x\")","v":"x"},{"$f":"IF($E8=\"Y\",INDEX(OIQraw,ROW(),Setup!$C$5+COLUMN()-26),\"x\")","v":"x"},{"$f":"IF($E8=\"Y\",INDEX(OIQraw,ROW(),Setup!$C$5+COLUMN()-26),\"x\")","v":"x"},{"$f":"IF($E8=\"Y\",INDEX(OIQraw,ROW(),Setup!$C$5+COLUMN()-26),\"x\")","v":"x"},{"$f":"IF($E8=\"Y\",INDEX(OIQraw,ROW(),Setup!$C$5+COLUMN()-26),\"x\")","v":"x"},{"$f":"IF($E8=\"Y\",INDEX(OIQraw,ROW(),Setup!$C$5+COLUMN()-26),\"x\")","v":"x"},{"$f":"IF($E8=\"Y\",INDEX(OIQraw,ROW(),Setup!$C$5+COLUMN()-26),\"x\")","v":"x"},{"$f":"IF($E8=\"Y\",INDEX(OIQraw,ROW(),Setup!$C$5+COLUMN()-26),\"x\")","v":"x"},{"$f":"IF($E8=\"Y\",INDEX(OIQraw,ROW(),Setup!$C$5+COLUMN()-26),\"x\")","v":"x"},{"$f":"IF($E8=\"Y\",INDEX(OIQraw,ROW(),Setup!$C$5+COLUMN()-26),\"x\")","v":"x"},{"$f":"IF($E8=\"Y\",INDEX(OIQraw,ROW(),Setup!$C$5+COLUMN()-26),\"x\")","v":"x"},{"$f":"IF($E8=\"Y\",INDEX(OIQraw,ROW(),Setup!$C$5+COLUMN()-26),\"x\")","v":"x"},{"$f":"IF($E8=\"Y\",INDEX(OIQraw,ROW(),Setup!$C$5+COLUMN()-26),\"x\")","v":"x"},{"$f":"IF($E8=\"Y\",INDEX(OIQraw,ROW(),Setup!$C$5+COLUMN()-26),\"x\")","v":"x"},{"$f":"IF($E8=\"Y\",INDEX(OIQraw,ROW(),Setup!$C$5+COLUMN()-26),\"x\")","v":"x"},{"$f":"IF($E8=\"Y\",INDEX(OIQraw,ROW(),Setup!$C$5+COLUMN()-26),\"x\")","v":"x"},{"$f":"IF($E8=\"Y\",INDEX(OIQraw,ROW(),Setup!$C$5+COLUMN()-26),\"x\")","v":"x"},{"$f":"IF($E8=\"Y\",INDEX(OIQraw,ROW(),Setup!$C$5+COLUMN()-26),\"x\")","v":"x"},{"$f":"IF($E8=\"Y\",INDEX(OIQraw,ROW(),Setup!$C$5+COLUMN()-26),\"x\")","v":"x"},{"$f":"IF($E8=\"Y\",INDEX(OIQraw,ROW(),Setup!$C$5+COLUMN()-26),\"x\")","v":"x"},{"$f":"IF($E8=\"Y\",INDEX(OIQraw,ROW(),Setup!$C$5+COLUMN()-26),\"x\")","v":"x"},{"$f":"IF($E8=\"Y\",INDEX(OIQraw,ROW(),Setup!$C$5+COLUMN()-26),\"x\")","v":"x"},{"$f":"IF($E8=\"Y\",INDEX(OIQraw,ROW(),Setup!$C$5+COLUMN()-26),\"x\")","v":"x"},{"$f":"IF($E8=\"Y\",INDEX(OIQraw,ROW(),Setup!$C$5+COLUMN()-26),\"x\")","v":"x"},{"$f":"IF($E8=\"Y\",INDEX(OIQraw,ROW(),Setup!$C$5+COLUMN()-26),\"x\")","v":"x"},{"$f":"IF($E8=\"Y\",INDEX(OIQraw,ROW(),Setup!$C$5+COLUMN()-26),\"x\")","v":"x"},{"$f":"IF($E8=\"Y\",INDEX(OIQraw,ROW(),Setup!$C$5+COLUMN()-26),\"x\")","v":"x"},{"$f":"IF($E8=\"Y\",INDEX(OIQraw,ROW(),Setup!$C$5+COLUMN()-26),\"x\")","v":"x"},{"$f":"IF($E8=\"Y\",INDEX(OIQraw,ROW(),Setup!$C$5+COLUMN()-26),\"x\")","v":"x"},{"$f":"IF($E8=\"Y\",INDEX(OIQraw,ROW(),Setup!$C$5+COLUMN()-26),\"x\")","v":"x"},{"$f":"IF($E8=\"Y\",INDEX(OIQraw,ROW(),Setup!$C$5+COLUMN()-26),\"x\")","v":"x"},{"$f":"IF($E8=\"Y\",INDEX(OIQraw,ROW(),Setup!$C$5+COLUMN()-26),\"x\")","v":"x"},{"$f":"IF($E8=\"Y\",INDEX(OIQraw,ROW(),Setup!$C$5+COLUMN()-26),\"x\")","v":"x"},{"$f":"IF($E8=\"Y\",INDEX(OIQraw,ROW(),Setup!$C$5+COLUMN()-26),\"x\")","v":"x"},{"$f":"IF($E8=\"Y\",INDEX(OIQraw,ROW(),Setup!$C$5+COLUMN()-26),\"x\")","v":"x"},{"$f":"IF($E8=\"Y\",INDEX(OIQraw,ROW(),Setup!$C$5+COLUMN()-26),\"x\")","v":"x"},{"$f":"IF($E8=\"Y\",INDEX(OIQraw,ROW(),Setup!$C$5+COLUMN()-26),\"x\")","v":"x"},{"$f":"IF($E8=\"Y\",INDEX(OIQraw,ROW(),Setup!$C$5+COLUMN()-26),\"x\")","v":"x"},{"$f":"IF($E8=\"Y\",INDEX(OIQraw,ROW(),Setup!$C$5+COLUMN()-26),\"x\")","v":"x"},{"$f":"IF($E8=\"Y\",INDEX(OIQraw,ROW(),Setup!$C$5+COLUMN()-26),\"x\")","v":"x"},{"$f":"IF($E8=\"Y\",INDEX(OIQraw,ROW(),Setup!$C$5+COLUMN()-26),\"x\")","v":"x"},{"$f":"IF($E8=\"Y\",INDEX(OIQraw,ROW(),Setup!$C$5+COLUMN()-26),\"x\")","v":"x"},{"$f":"IF($E8=\"Y\",INDEX(OIQraw,ROW(),Setup!$C$5+COLUMN()-26),\"x\")","v":"x"},{"$f":"IF($E8=\"Y\",INDEX(OIQraw,ROW(),Setup!$C$5+COLUMN()-26),\"x\")","v":"x"},{"$f":"IF($E8=\"Y\",INDEX(OIQraw,ROW(),Setup!$C$5+COLUMN()-26),\"x\")","v":"x"},{"$f":"IF($E8=\"Y\",INDEX(OIQraw,ROW(),Setup!$C$5+COLUMN()-26),\"x\")","v":"x"},{"$f":"IF($E8=\"Y\",INDEX(OIQraw,ROW(),Setup!$C$5+COLUMN()-26),\"x\")","v":"x"},{"$f":"IF($E8=\"Y\",INDEX(OIQraw,ROW(),Setup!$C$5+COLUMN()-26),\"x\")","v":"x"},{"$f":"IF($E8=\"Y\",INDEX(OIQraw,ROW(),Setup!$C$5+COLUMN()-26),\"x\")","v":"x"},{"$f":"IF($E8=\"Y\",INDEX(OIQraw,ROW(),Setup!$C$5+COLUMN()-26),\"x\")","v":"x"},{"$f":"IF($E8=\"Y\",INDEX(OIQraw,ROW(),Setup!$C$5+COLUMN()-26),\"x\")","v":"x"},{"$f":"IF($E8=\"Y\",INDEX(OIQraw,ROW(),Setup!$C$5+COLUMN()-26),\"x\")","v":"x"},{"$f":"IF($E8=\"Y\",INDEX(OIQraw,ROW(),Setup!$C$5+COLUMN()-26),\"x\")","v":"x"},{"$f":"IF($E8=\"Y\",INDEX(OIQraw,ROW(),Setup!$C$5+COLUMN()-26),\"x\")","v":"x"},{"$f":"IF($E8=\"Y\",INDEX(OIQraw,ROW(),Setup!$C$5+COLUMN()-26),\"x\")","v":"x"},{"$f":"IF($E8=\"Y\",INDEX(OIQraw,ROW(),Setup!$C$5+COLUMN()-26),\"x\")","v":"x"},{"$f":"IF($E8=\"Y\",INDEX(OIQraw,ROW(),Setup!$C$5+COLUMN()-26),\"x\")","v":"x"},{"$f":"IF($E8=\"Y\",INDEX(OIQraw,ROW(),Setup!$C$5+COLUMN()-26),\"x\")","v":"x"},{"$f":"IF($E8=\"Y\",INDEX(OIQraw,ROW(),Setup!$C$5+COLUMN()-26),\"x\")","v":"x"},{"$f":"IF($E8=\"Y\",INDEX(OIQraw,ROW(),Setup!$C$5+COLUMN()-26),\"x\")","v":"x"},{"$f":"IF($E8=\"Y\",INDEX(OIQraw,ROW(),Setup!$C$5+COLUMN()-26),\"x\")","v":"x"},{"$f":"IF($E8=\"Y\",INDEX(OIQraw,ROW(),Setup!$C$5+COLUMN()-26),\"x\")","v":"x"},{"$f":"IF($E8=\"Y\",INDEX(OIQraw,ROW(),Setup!$C$5+COLUMN()-26),\"x\")","v":"x"},{"$f":"IF($E8=\"Y\",INDEX(OIQraw,ROW(),Setup!$C$5+COLUMN()-26),\"x\")","v":"x"},{"$f":"IF($E8=\"Y\",INDEX(OIQraw,ROW(),Setup!$C$5+COLUMN()-26),\"x\")","v":"x"},{"$f":"IF($E8=\"Y\",INDEX(OIQraw,ROW(),Setup!$C$5+COLUMN()-26),\"x\")","v":"x"},{"$f":"IF($E8=\"Y\",INDEX(OIQraw,ROW(),Setup!$C$5+COLUMN()-26),\"x\")","v":"x"},{"$f":"IF($E8=\"Y\",INDEX(OIQraw,ROW(),Setup!$C$5+COLUMN()-26),\"x\")","v":"x"},{"$f":"IF($E8=\"Y\",INDEX(OIQraw,ROW(),Setup!$C$5+COLUMN()-26),\"x\")","v":"x"},{"$f":"IF($E8=\"Y\",INDEX(OIQraw,ROW(),Setup!$C$5+COLUMN()-26),\"x\")","v":"x"},{"$f":"IF($E8=\"Y\",INDEX(OIQraw,ROW(),Setup!$C$5+COLUMN()-26),\"x\")","v":"x"},{"$f":"IF($E8=\"Y\",INDEX(OIQraw,ROW(),Setup!$C$5+COLUMN()-26),\"x\")","v":"x"},{"$f":"IF($E8=\"Y\",INDEX(OIQraw,ROW(),Setup!$C$5+COLUMN()-26),\"x\")","v":"x"},{"$f":"IF($E8=\"Y\",INDEX(OIQraw,ROW(),Setup!$C$5+COLUMN()-26),\"x\")","v":"x"},{"$f":"IF($E8=\"Y\",INDEX(OIQraw,ROW(),Setup!$C$5+COLUMN()-26),\"x\")","v":"x"},{"$f":"IF($E8=\"Y\",INDEX(OIQraw,ROW(),Setup!$C$5+COLUMN()-26),\"x\")","v":"x"},{"$f":"IF($E8=\"Y\",INDEX(OIQraw,ROW(),Setup!$C$5+COLUMN()-26),\"x\")","v":"x"},{"$f":"IF($E8=\"Y\",INDEX(OIQraw,ROW(),Setup!$C$5+COLUMN()-26),\"x\")","v":"x"},{"$f":"IF($E8=\"Y\",INDEX(OIQraw,ROW(),Setup!$C$5+COLUMN()-26),\"x\")","v":"x"},{"$f":"IF($E8=\"Y\",INDEX(OIQraw,ROW(),Setup!$C$5+COLUMN()-26),\"x\")","v":"x"},{"$f":"IF($E8=\"Y\",INDEX(OIQraw,ROW(),Setup!$C$5+COLUMN()-26),\"x\")","v":"x"},{"$f":"IF($E8=\"Y\",INDEX(OIQraw,ROW(),Setup!$C$5+COLUMN()-26),\"x\")","v":"x"}]
[1,"","",{"$f":"IF(ISERROR(FIND(\"Withdrew\",RawScores!B13)),RawScores!B13,RIGHT(RawScores!B13,LEN(RawScores!B13)-17))&\", \"&RawScores!C13","v":", "},{"$f":"IF(OR(ISERROR(FIND(\"Withdrew\",RawScores!B13))=FALSE,INDEX(OIQraw,ROW(),LastInputCol-3)=0),\"N\",IF(AND(Setup!$B$22=\"Yes\",INDEX(OIQraw,ROW(),LastInputCol)=1),\"N\",\"Y\"))","v":"N"},"X","X","X",{"$f":"IF(AND(ISNUMBER(F9),F9>Setup!$B$14-1),1,0)","v":0},{"$f":"IF(AND(F9>Setup!$B$14-1,Conv!H9<5),1,0)","v":0},{"$f":"IF(AND(F9>Setup!$B$14-1,Conv!G9=\"F\"),1,0)","v":0},"","","","","","","","","","","","","X","X",{"$f":"IF($E9=\"Y\",INDEX(OIQraw,ROW(),Setup!$C$5+COLUMN()-26),\"x\")","v":"x"},{"$f":"IF($E9=\"Y\",INDEX(OIQraw,ROW(),Setup!$C$5+COLUMN()-26),\"x\")","v":"x"},{"$f":"IF($E9=\"Y\",INDEX(OIQraw,ROW(),Setup!$C$5+COLUMN()-26),\"x\")","v":"x"},{"$f":"IF($E9=\"Y\",INDEX(OIQraw,ROW(),Setup!$C$5+COLUMN()-26),\"x\")","v":"x"},{"$f":"IF($E9=\"Y\",INDEX(OIQraw,ROW(),Setup!$C$5+COLUMN()-26),\"x\")","v":"x"},{"$f":"IF($E9=\"Y\",INDEX(OIQraw,ROW(),Setup!$C$5+COLUMN()-26),\"x\")","v":"x"},{"$f":"IF($E9=\"Y\",INDEX(OIQraw,ROW(),Setup!$C$5+COLUMN()-26),\"x\")","v":"x"},{"$f":"IF($E9=\"Y\",INDEX(OIQraw,ROW(),Setup!$C$5+COLUMN()-26),\"x\")","v":"x"},{"$f":"IF($E9=\"Y\",INDEX(OIQraw,ROW(),Setup!$C$5+COLUMN()-26),\"x\")","v":"x"},{"$f":"IF($E9=\"Y\",INDEX(OIQraw,ROW(),Setup!$C$5+COLUMN()-26),\"x\")","v":"x"},{"$f":"IF($E9=\"Y\",INDEX(OIQraw,ROW(),Setup!$C$5+COLUMN()-26),\"x\")","v":"x"},{"$f":"IF($E9=\"Y\",INDEX(OIQraw,ROW(),Setup!$C$5+COLUMN()-26),\"x\")","v":"x"},{"$f":"IF($E9=\"Y\",INDEX(OIQraw,ROW(),Setup!$C$5+COLUMN()-26),\"x\")","v":"x"},{"$f":"IF($E9=\"Y\",INDEX(OIQraw,ROW(),Setup!$C$5+COLUMN()-26),\"x\")","v":"x"},{"$f":"IF($E9=\"Y\",INDEX(OIQraw,ROW(),Setup!$C$5+COLUMN()-26),\"x\")","v":"x"},{"$f":"IF($E9=\"Y\",INDEX(OIQraw,ROW(),Setup!$C$5+COLUMN()-26),\"x\")","v":"x"},{"$f":"IF($E9=\"Y\",INDEX(OIQraw,ROW(),Setup!$C$5+COLUMN()-26),\"x\")","v":"x"},{"$f":"IF($E9=\"Y\",INDEX(OIQraw,ROW(),Setup!$C$5+COLUMN()-26),\"x\")","v":"x"},{"$f":"IF($E9=\"Y\",INDEX(OIQraw,ROW(),Setup!$C$5+COLUMN()-26),\"x\")","v":"x"},{"$f":"IF($E9=\"Y\",INDEX(OIQraw,ROW(),Setup!$C$5+COLUMN()-26),\"x\")","v":"x"},{"$f":"IF($E9=\"Y\",INDEX(OIQraw,ROW(),Setup!$C$5+COLUMN()-26),\"x\")","v":"x"},{"$f":"IF($E9=\"Y\",INDEX(OIQraw,ROW(),Setup!$C$5+COLUMN()-26),\"x\")","v":"x"},{"$f":"IF($E9=\"Y\",INDEX(OIQraw,ROW(),Setup!$C$5+COLUMN()-26),\"x\")","v":"x"},{"$f":"IF($E9=\"Y\",INDEX(OIQraw,ROW(),Setup!$C$5+COLUMN()-26),\"x\")","v":"x"},{"$f":"IF($E9=\"Y\",INDEX(OIQraw,ROW(),Setup!$C$5+COLUMN()-26),\"x\")","v":"x"},{"$f":"IF($E9=\"Y\",INDEX(OIQraw,ROW(),Setup!$C$5+COLUMN()-26),\"x\")","v":"x"},{"$f":"IF($E9=\"Y\",INDEX(OIQraw,ROW(),Setup!$C$5+COLUMN()-26),\"x\")","v":"x"},{"$f":"IF($E9=\"Y\",INDEX(OIQraw,ROW(),Setup!$C$5+COLUMN()-26),\"x\")","v":"x"},{"$f":"IF($E9=\"Y\",INDEX(OIQraw,ROW(),Setup!$C$5+COLUMN()-26),\"x\")","v":"x"},{"$f":"IF($E9=\"Y\",INDEX(OIQraw,ROW(),Setup!$C$5+COLUMN()-26),\"x\")","v":"x"},{"$f":"IF($E9=\"Y\",INDEX(OIQraw,ROW(),Setup!$C$5+COLUMN()-26),\"x\")","v":"x"},{"$f":"IF($E9=\"Y\",INDEX(OIQraw,ROW(),Setup!$C$5+COLUMN()-26),\"x\")","v":"x"},{"$f":"IF($E9=\"Y\",INDEX(OIQraw,ROW(),Setup!$C$5+COLUMN()-26),\"x\")","v":"x"},{"$f":"IF($E9=\"Y\",INDEX(OIQraw,ROW(),Setup!$C$5+COLUMN()-26),\"x\")","v":"x"},{"$f":"IF($E9=\"Y\",INDEX(OIQraw,ROW(),Setup!$C$5+COLUMN()-26),\"x\")","v":"x"},{"$f":"IF($E9=\"Y\",INDEX(OIQraw,ROW(),Setup!$C$5+COLUMN()-26),\"x\")","v":"x"},{"$f":"IF($E9=\"Y\",INDEX(OIQraw,ROW(),Setup!$C$5+COLUMN()-26),\"x\")","v":"x"},{"$f":"IF($E9=\"Y\",INDEX(OIQraw,ROW(),Setup!$C$5+COLUMN()-26),\"x\")","v":"x"},{"$f":"IF($E9=\"Y\",INDEX(OIQraw,ROW(),Setup!$C$5+COLUMN()-26),\"x\")","v":"x"},{"$f":"IF($E9=\"Y\",INDEX(OIQraw,ROW(),Setup!$C$5+COLUMN()-26),\"x\")","v":"x"},{"$f":"IF($E9=\"Y\",INDEX(OIQraw,ROW(),Setup!$C$5+COLUMN()-26),\"x\")","v":"x"},{"$f":"IF($E9=\"Y\",INDEX(OIQraw,ROW(),Setup!$C$5+COLUMN()-26),\"x\")","v":"x"},{"$f":"IF($E9=\"Y\",INDEX(OIQraw,ROW(),Setup!$C$5+COLUMN()-26),\"x\")","v":"x"},{"$f":"IF($E9=\"Y\",INDEX(OIQraw,ROW(),Setup!$C$5+COLUMN()-26),\"x\")","v":"x"},{"$f":"IF($E9=\"Y\",INDEX(OIQraw,ROW(),Setup!$C$5+COLUMN()-26),\"x\")","v":"x"},{"$f":"IF($E9=\"Y\",INDEX(OIQraw,ROW(),Setup!$C$5+COLUMN()-26),\"x\")","v":"x"},{"$f":"IF($E9=\"Y\",INDEX(OIQraw,ROW(),Setup!$C$5+COLUMN()-26),\"x\")","v":"x"},{"$f":"IF($E9=\"Y\",INDEX(OIQraw,ROW(),Setup!$C$5+COLUMN()-26),\"x\")","v":"x"},{"$f":"IF($E9=\"Y\",INDEX(OIQraw,ROW(),Setup!$C$5+COLUMN()-26),\"x\")","v":"x"},{"$f":"IF($E9=\"Y\",INDEX(OIQraw,ROW(),Setup!$C$5+COLUMN()-26),\"x\")","v":"x"},{"$f":"IF($E9=\"Y\",INDEX(OIQraw,ROW(),Setup!$C$5+COLUMN()-26),\"x\")","v":"x"},{"$f":"IF($E9=\"Y\",INDEX(OIQraw,ROW(),Setup!$C$5+COLUMN()-26),\"x\")","v":"x"},{"$f":"IF($E9=\"Y\",INDEX(OIQraw,ROW(),Setup!$C$5+COLUMN()-26),\"x\")","v":"x"},{"$f":"IF($E9=\"Y\",INDEX(OIQraw,ROW(),Setup!$C$5+COLUMN()-26),\"x\")","v":"x"},{"$f":"IF($E9=\"Y\",INDEX(OIQraw,ROW(),Setup!$C$5+COLUMN()-26),\"x\")","v":"x"},{"$f":"IF($E9=\"Y\",INDEX(OIQraw,ROW(),Setup!$C$5+COLUMN()-26),\"x\")","v":"x"},{"$f":"IF($E9=\"Y\",INDEX(OIQraw,ROW(),Setup!$C$5+COLUMN()-26),\"x\")","v":"x"},{"$f":"IF($E9=\"Y\",INDEX(OIQraw,ROW(),Setup!$C$5+COLUMN()-26),\"x\")","v":"x"},{"$f":"IF($E9=\"Y\",INDEX(OIQraw,ROW(),Setup!$C$5+COLUMN()-26),\"x\")","v":"x"},{"$f":"IF($E9=\"Y\",INDEX(OIQraw,ROW(),Setup!$C$5+COLUMN()-26),\"x\")","v":"x"},{"$f":"IF($E9=\"Y\",INDEX(OIQraw,ROW(),Setup!$C$5+COLUMN()-26),\"x\")","v":"x"},{"$f":"IF($E9=\"Y\",INDEX(OIQraw,ROW(),Setup!$C$5+COLUMN()-26),\"x\")","v":"x"},{"$f":"IF($E9=\"Y\",INDEX(OIQraw,ROW(),Setup!$C$5+COLUMN()-26),\"x\")","v":"x"},{"$f":"IF($E9=\"Y\",INDEX(OIQraw,ROW(),Setup!$C$5+COLUMN()-26),\"x\")","v":"x"},{"$f":"IF($E9=\"Y\",INDEX(OIQraw,ROW(),Setup!$C$5+COLUMN()-26),\"x\")","v":"x"},{"$f":"IF($E9=\"Y\",INDEX(OIQraw,ROW(),Setup!$C$5+COLUMN()-26),\"x\")","v":"x"},{"$f":"IF($E9=\"Y\",INDEX(OIQraw,ROW(),Setup!$C$5+COLUMN()-26),\"x\")","v":"x"},{"$f":"IF($E9=\"Y\",INDEX(OIQraw,ROW(),Setup!$C$5+COLUMN()-26),\"x\")","v":"x"},{"$f":"IF($E9=\"Y\",INDEX(OIQraw,ROW(),Setup!$C$5+COLUMN()-26),\"x\")","v":"x"},{"$f":"IF($E9=\"Y\",INDEX(OIQraw,ROW(),Setup!$C$5+COLUMN()-26),\"x\")","v":"x"},{"$f":"IF($E9=\"Y\",INDEX(OIQraw,ROW(),Setup!$C$5+COLUMN()-26),\"x\")","v":"x"},{"$f":"IF($E9=\"Y\",INDEX(OIQraw,ROW(),Setup!$C$5+COLUMN()-26),\"x\")","v":"x"},{"$f":"IF($E9=\"Y\",INDEX(OIQraw,ROW(),Setup!$C$5+COLUMN()-26),\"x\")","v":"x"},{"$f":"IF($E9=\"Y\",INDEX(OIQraw,ROW(),Setup!$C$5+COLUMN()-26),\"x\")","v":"x"},{"$f":"IF($E9=\"Y\",INDEX(OIQraw,ROW(),Setup!$C$5+COLUMN()-26),\"x\")","v":"x"},{"$f":"IF($E9=\"Y\",INDEX(OIQraw,ROW(),Setup!$C$5+COLUMN()-26),\"x\")","v":"x"},{"$f":"IF($E9=\"Y\",INDEX(OIQraw,ROW(),Setup!$C$5+COLUMN()-26),\"x\")","v":"x"},{"$f":"IF($E9=\"Y\",INDEX(OIQraw,ROW(),Setup!$C$5+COLUMN()-26),\"x\")","v":"x"},{"$f":"IF($E9=\"Y\",INDEX(OIQraw,ROW(),Setup!$C$5+COLUMN()-26),\"x\")","v":"x"},{"$f":"IF($E9=\"Y\",INDEX(OIQraw,ROW(),Setup!$C$5+COLUMN()-26),\"x\")","v":"x"},{"$f":"IF($E9=\"Y\",INDEX(OIQraw,ROW(),Setup!$C$5+COLUMN()-26),\"x\")","v":"x"},{"$f":"IF($E9=\"Y\",INDEX(OIQraw,ROW(),Setup!$C$5+COLUMN()-26),\"x\")","v":"x"},{"$f":"IF($E9=\"Y\",INDEX(OIQraw,ROW(),Setup!$C$5+COLUMN()-26),\"x\")","v":"x"},{"$f":"IF($E9=\"Y\",INDEX(OIQraw,ROW(),Setup!$C$5+COLUMN()-26),\"x\")","v":"x"},{"$f":"IF($E9=\"Y\",INDEX(OIQraw,ROW(),Setup!$C$5+COLUMN()-26),\"x\")","v":"x"},{"$f":"IF($E9=\"Y\",INDEX(OIQraw,ROW(),Setup!$C$5+COLUMN()-26),\"x\")","v":"x"},{"$f":"IF($E9=\"Y\",INDEX(OIQraw,ROW(),Setup!$C$5+COLUMN()-26),\"x\")","v":"x"},{"$f":"IF($E9=\"Y\",INDEX(OIQraw,ROW(),Setup!$C$5+COLUMN()-26),\"x\")","v":"x"},{"$f":"IF($E9=\"Y\",INDEX(OIQraw,ROW(),Setup!$C$5+COLUMN()-26),\"x\")","v":"x"},{"$f":"IF($E9=\"Y\",INDEX(OIQraw,ROW(),Setup!$C$5+COLUMN()-26),\"x\")","v":"x"},{"$f":"IF($E9=\"Y\",INDEX(OIQraw,ROW(),Setup!$C$5+COLUMN()-26),\"x\")","v":"x"},{"$f":"IF($E9=\"Y\",INDEX(OIQraw,ROW(),Setup!$C$5+COLUMN()-26),\"x\")","v":"x"},{"$f":"IF($E9=\"Y\",INDEX(OIQraw,ROW(),Setup!$C$5+COLUMN()-26),\"x\")","v":"x"},{"$f":"IF($E9=\"Y\",INDEX(OIQraw,ROW(),Setup!$C$5+COLUMN()-26),\"x\")","v":"x"},{"$f":"IF($E9=\"Y\",INDEX(OIQraw,ROW(),Setup!$C$5+COLUMN()-26),\"x\")","v":"x"},{"$f":"IF($E9=\"Y\",INDEX(OIQraw,ROW(),Setup!$C$5+COLUMN()-26),\"x\")","v":"x"},{"$f":"IF($E9=\"Y\",INDEX(OIQraw,ROW(),Setup!$C$5+COLUMN()-26),\"x\")","v":"x"},{"$f":"IF($E9=\"Y\",INDEX(OIQraw,ROW(),Setup!$C$5+COLUMN()-26),\"x\")","v":"x"},{"$f":"IF($E9=\"Y\",INDEX(OIQraw,ROW(),Setup!$C$5+COLUMN()-26),\"x\")","v":"x"},{"$f":"IF($E9=\"Y\",INDEX(OIQraw,ROW(),Setup!$C$5+COLUMN()-26),\"x\")","v":"x"},{"$f":"IF($E9=\"Y\",INDEX(OIQraw,ROW(),Setup!$C$5+COLUMN()-26),\"x\")","v":"x"},{"$f":"IF($E9=\"Y\",INDEX(OIQraw,ROW(),Setup!$C$5+COLUMN()-26),\"x\")","v":"x"},{"$f":"IF($E9=\"Y\",INDEX(OIQraw,ROW(),Setup!$C$5+COLUMN()-26),\"x\")","v":"x"},{"$f":"IF($E9=\"Y\",INDEX(OIQraw,ROW(),Setup!$C$5+COLUMN()-26),\"x\")","v":"x"},{"$f":"IF($E9=\"Y\",INDEX(OIQraw,ROW(),Setup!$C$5+COLUMN()-26),\"x\")","v":"x"},{"$f":"IF($E9=\"Y\",INDEX(OIQraw,ROW(),Setup!$C$5+COLUMN()-26),\"x\")","v":"x"},{"$f":"IF($E9=\"Y\",INDEX(OIQraw,ROW(),Setup!$C$5+COLUMN()-26),\"x\")","v":"x"},{"$f":"IF($E9=\"Y\",INDEX(OIQraw,ROW(),Setup!$C$5+COLUMN()-26),\"x\")","v":"x"},{"$f":"IF($E9=\"Y\",INDEX(OIQraw,ROW(),Setup!$C$5+COLUMN()-26),\"x\")","v":"x"},{"$f":"IF($E9=\"Y\",INDEX(OIQraw,ROW(),Setup!$C$5+COLUMN()-26),\"x\")","v":"x"},{"$f":"IF($E9=\"Y\",INDEX(OIQraw,ROW(),Setup!$C$5+COLUMN()-26),\"x\")","v":"x"},{"$f":"IF($E9=\"Y\",INDEX(OIQraw,ROW(),Setup!$C$5+COLUMN()-26),\"x\")","v":"x"},{"$f":"IF($E9=\"Y\",INDEX(OIQraw,ROW(),Setup!$C$5+COLUMN()-26),\"x\")","v":"x"},{"$f":"IF($E9=\"Y\",INDEX(OIQraw,ROW(),Setup!$C$5+COLUMN()-26),\"x\")","v":"x"},{"$f":"IF($E9=\"Y\",INDEX(OIQraw,ROW(),Setup!$C$5+COLUMN()-26),\"x\")","v":"x"},{"$f":"IF($E9=\"Y\",INDEX(OIQraw,ROW(),Setup!$C$5+COLUMN()-26),\"x\")","v":"x"},{"$f":"IF($E9=\"Y\",INDEX(OIQraw,ROW(),Setup!$C$5+COLUMN()-26),\"x\")","v":"x"},{"$f":"IF($E9=\"Y\",INDEX(OIQraw,ROW(),Setup!$C$5+COLUMN()-26),\"x\")","v":"x"},{"$f":"IF($E9=\"Y\",INDEX(OIQraw,ROW(),Setup!$C$5+COLUMN()-26),\"x\")","v":"x"},{"$f":"IF($E9=\"Y\",INDEX(OIQraw,ROW(),Setup!$C$5+COLUMN()-26),\"x\")","v":"x"},{"$f":"IF($E9=\"Y\",INDEX(OIQraw,ROW(),Setup!$C$5+COLUMN()-26),\"x\")","v":"x"},{"$f":"IF($E9=\"Y\",INDEX(OIQraw,ROW(),Setup!$C$5+COLUMN()-26),\"x\")","v":"x"},{"$f":"IF($E9=\"Y\",INDEX(OIQraw,ROW(),Setup!$C$5+COLUMN()-26),\"x\")","v":"x"},{"$f":"IF($E9=\"Y\",INDEX(OIQraw,ROW(),Setup!$C$5+COLUMN()-26),\"x\")","v":"x"},{"$f":"IF($E9=\"Y\",INDEX(OIQraw,ROW(),Setup!$C$5+COLUMN()-26),\"x\")","v":"x"},{"$f":"IF($E9=\"Y\",INDEX(OIQraw,ROW(),Setup!$C$5+COLUMN()-26),\"x\")","v":"x"},{"$f":"IF($E9=\"Y\",INDEX(OIQraw,ROW(),Setup!$C$5+COLUMN()-26),\"x\")","v":"x"},{"$f":"IF($E9=\"Y\",INDEX(OIQraw,ROW(),Setup!$C$5+COLUMN()-26),\"x\")","v":"x"},{"$f":"IF($E9=\"Y\",INDEX(OIQraw,ROW(),Setup!$C$5+COLUMN()-26),\"x\")","v":"x"},{"$f":"IF($E9=\"Y\",INDEX(OIQraw,ROW(),Setup!$C$5+COLUMN()-26),\"x\")","v":"x"},{"$f":"IF($E9=\"Y\",INDEX(OIQraw,ROW(),Setup!$C$5+COLUMN()-26),\"x\")","v":"x"},{"$f":"IF($E9=\"Y\",INDEX(OIQraw,ROW(),Setup!$C$5+COLUMN()-26),\"x\")","v":"x"},{"$f":"IF($E9=\"Y\",INDEX(OIQraw,ROW(),Setup!$C$5+COLUMN()-26),\"x\")","v":"x"},{"$f":"IF($E9=\"Y\",INDEX(OIQraw,ROW(),Setup!$C$5+COLUMN()-26),\"x\")","v":"x"},{"$f":"IF($E9=\"Y\",INDEX(OIQraw,ROW(),Setup!$C$5+COLUMN()-26),\"x\")","v":"x"},{"$f":"IF($E9=\"Y\",INDEX(OIQraw,ROW(),Setup!$C$5+COLUMN()-26),\"x\")","v":"x"},{"$f":"IF($E9=\"Y\",INDEX(OIQraw,ROW(),Setup!$C$5+COLUMN()-26),\"x\")","v":"x"},{"$f":"IF($E9=\"Y\",INDEX(OIQraw,ROW(),Setup!$C$5+COLUMN()-26),\"x\")","v":"x"},{"$f":"IF($E9=\"Y\",INDEX(OIQraw,ROW(),Setup!$C$5+COLUMN()-26),\"x\")","v":"x"},{"$f":"IF($E9=\"Y\",INDEX(OIQraw,ROW(),Setup!$C$5+COLUMN()-26),\"x\")","v":"x"},{"$f":"IF($E9=\"Y\",INDEX(OIQraw,ROW(),Setup!$C$5+COLUMN()-26),\"x\")","v":"x"},{"$f":"IF($E9=\"Y\",INDEX(OIQraw,ROW(),Setup!$C$5+COLUMN()-26),\"x\")","v":"x"},{"$f":"IF($E9=\"Y\",INDEX(OIQraw,ROW(),Setup!$C$5+COLUMN()-26),\"x\")","v":"x"},{"$f":"IF($E9=\"Y\",INDEX(OIQraw,ROW(),Setup!$C$5+COLUMN()-26),\"x\")","v":"x"},{"$f":"IF($E9=\"Y\",INDEX(OIQraw,ROW(),Setup!$C$5+COLUMN()-26),\"x\")","v":"x"},{"$f":"IF($E9=\"Y\",INDEX(OIQraw,ROW(),Setup!$C$5+COLUMN()-26),\"x\")","v":"x"},{"$f":"IF($E9=\"Y\",INDEX(OIQraw,ROW(),Setup!$C$5+COLUMN()-26),\"x\")","v":"x"},{"$f":"IF($E9=\"Y\",INDEX(OIQraw,ROW(),Setup!$C$5+COLUMN()-26),\"x\")","v":"x"},{"$f":"IF($E9=\"Y\",INDEX(OIQraw,ROW(),Setup!$C$5+COLUMN()-26),\"x\")","v":"x"},{"$f":"IF($E9=\"Y\",INDEX(OIQraw,ROW(),Setup!$C$5+COLUMN()-26),\"x\")","v":"x"},{"$f":"IF($E9=\"Y\",INDEX(OIQraw,ROW(),Setup!$C$5+COLUMN()-26),\"x\")","v":"x"},{"$f":"IF($E9=\"Y\",INDEX(OIQraw,ROW(),Setup!$C$5+COLUMN()-26),\"x\")","v":"x"},{"$f":"IF($E9=\"Y\",INDEX(OIQraw,ROW(),Setup!$C$5+COLUMN()-26),\"x\")","v":"x"},{"$f":"IF($E9=\"Y\",INDEX(OIQraw,ROW(),Setup!$C$5+COLUMN()-26),\"x\")","v":"x"},{"$f":"IF($E9=\"Y\",INDEX(OIQraw,ROW(),Setup!$C$5+COLUMN()-26),\"x\")","v":"x"},{"$f":"IF($E9=\"Y\",INDEX(OIQraw,ROW(),Setup!$C$5+COLUMN()-26),\"x\")","v":"x"},{"$f":"IF($E9=\"Y\",INDEX(OIQraw,ROW(),Setup!$C$5+COLUMN()-26),\"x\")","v":"x"},{"$f":"IF($E9=\"Y\",INDEX(OIQraw,ROW(),Setup!$C$5+COLUMN()-26),\"x\")","v":"x"},{"$f":"IF($E9=\"Y\",INDEX(OIQraw,ROW(),Setup!$C$5+COLUMN()-26),\"x\")","v":"x"},{"$f":"IF($E9=\"Y\",INDEX(OIQraw,ROW(),Setup!$C$5+COLUMN()-26),\"x\")","v":"x"},{"$f":"IF($E9=\"Y\",INDEX(OIQraw,ROW(),Setup!$C$5+COLUMN()-26),\"x\")","v":"x"},{"$f":"IF($E9=\"Y\",INDEX(OIQraw,ROW(),Setup!$C$5+COLUMN()-26),\"x\")","v":"x"},{"$f":"IF($E9=\"Y\",INDEX(OIQraw,ROW(),Setup!$C$5+COLUMN()-26),\"x\")","v":"x"},{"$f":"IF($E9=\"Y\",INDEX(OIQraw,ROW(),Setup!$C$5+COLUMN()-26),\"x\")","v":"x"},{"$f":"IF($E9=\"Y\",INDEX(OIQraw,ROW(),Setup!$C$5+COLUMN()-26),\"x\")","v":"x"},{"$f":"IF($E9=\"Y\",INDEX(OIQraw,ROW(),Setup!$C$5+COLUMN()-26),\"x\")","v":"x"},{"$f":"IF($E9=\"Y\",INDEX(OIQraw,ROW(),Setup!$C$5+COLUMN()-26),\"x\")","v":"x"},{"$f":"IF($E9=\"Y\",INDEX(OIQraw,ROW(),Setup!$C$5+COLUMN()-26),\"x\")","v":"x"},{"$f":"IF($E9=\"Y\",INDEX(OIQraw,ROW(),Setup!$C$5+COLUMN()-26),\"x\")","v":"x"},{"$f":"IF($E9=\"Y\",INDEX(OIQraw,ROW(),Setup!$C$5+COLUMN()-26),\"x\")","v":"x"},{"$f":"IF($E9=\"Y\",INDEX(OIQraw,ROW(),Setup!$C$5+COLUMN()-26),\"x\")","v":"x"},{"$f":"IF($E9=\"Y\",INDEX(OIQraw,ROW(),Setup!$C$5+COLUMN()-26),\"x\")","v":"x"},{"$f":"IF($E9=\"Y\",INDEX(OIQraw,ROW(),Setup!$C$5+COLUMN()-26),\"x\")","v":"x"},{"$f":"IF($E9=\"Y\",INDEX(OIQraw,ROW(),Setup!$C$5+COLUMN()-26),\"x\")","v":"x"},{"$f":"IF($E9=\"Y\",INDEX(OIQraw,ROW(),Setup!$C$5+COLUMN()-26),\"x\")","v":"x"},{"$f":"IF($E9=\"Y\",INDEX(OIQraw,ROW(),Setup!$C$5+COLUMN()-26),\"x\")","v":"x"},{"$f":"IF($E9=\"Y\",INDEX(OIQraw,ROW(),Setup!$C$5+COLUMN()-26),\"x\")","v":"x"},{"$f":"IF($E9=\"Y\",INDEX(OIQraw,ROW(),Setup!$C$5+COLUMN()-26),\"x\")","v":"x"},{"$f":"IF($E9=\"Y\",INDEX(OIQraw,ROW(),Setup!$C$5+COLUMN()-26),\"x\")","v":"x"},{"$f":"IF($E9=\"Y\",INDEX(OIQraw,ROW(),Setup!$C$5+COLUMN()-26),\"x\")","v":"x"},{"$f":"IF($E9=\"Y\",INDEX(OIQraw,ROW(),Setup!$C$5+COLUMN()-26),\"x\")","v":"x"},{"$f":"IF($E9=\"Y\",INDEX(OIQraw,ROW(),Setup!$C$5+COLUMN()-26),\"x\")","v":"x"},{"$f":"IF($E9=\"Y\",INDEX(OIQraw,ROW(),Setup!$C$5+COLUMN()-26),\"x\")","v":"x"},{"$f":"IF($E9=\"Y\",INDEX(OIQraw,ROW(),Setup!$C$5+COLUMN()-26),\"x\")","v":"x"},{"$f":"IF($E9=\"Y\",INDEX(OIQraw,ROW(),Setup!$C$5+COLUMN()-26),\"x\")","v":"x"},{"$f":"IF($E9=\"Y\",INDEX(OIQraw,ROW(),Setup!$C$5+COLUMN()-26),\"x\")","v":"x"},{"$f":"IF($E9=\"Y\",INDEX(OIQraw,ROW(),Setup!$C$5+COLUMN()-26),\"x\")","v":"x"},{"$f":"IF($E9=\"Y\",INDEX(OIQraw,ROW(),Setup!$C$5+COLUMN()-26),\"x\")","v":"x"},{"$f":"IF($E9=\"Y\",INDEX(OIQraw,ROW(),Setup!$C$5+COLUMN()-26),\"x\")","v":"x"},{"$f":"IF($E9=\"Y\",INDEX(OIQraw,ROW(),Setup!$C$5+COLUMN()-26),\"x\")","v":"x"},{"$f":"IF($E9=\"Y\",INDEX(OIQraw,ROW(),Setup!$C$5+COLUMN()-26),\"x\")","v":"x"},{"$f":"IF($E9=\"Y\",INDEX(OIQraw,ROW(),Setup!$C$5+COLUMN()-26),\"x\")","v":"x"},{"$f":"IF($E9=\"Y\",INDEX(OIQraw,ROW(),Setup!$C$5+COLUMN()-26),\"x\")","v":"x"},{"$f":"IF($E9=\"Y\",INDEX(OIQraw,ROW(),Setup!$C$5+COLUMN()-26),\"x\")","v":"x"},{"$f":"IF($E9=\"Y\",INDEX(OIQraw,ROW(),Setup!$C$5+COLUMN()-26),\"x\")","v":"x"},{"$f":"IF($E9=\"Y\",INDEX(OIQraw,ROW(),Setup!$C$5+COLUMN()-26),\"x\")","v":"x"},{"$f":"IF($E9=\"Y\",INDEX(OIQraw,ROW(),Setup!$C$5+COLUMN()-26),\"x\")","v":"x"},{"$f":"IF($E9=\"Y\",INDEX(OIQraw,ROW(),Setup!$C$5+COLUMN()-26),\"x\")","v":"x"},{"$f":"IF($E9=\"Y\",INDEX(OIQraw,ROW(),Setup!$C$5+COLUMN()-26),\"x\")","v":"x"},{"$f":"IF($E9=\"Y\",INDEX(OIQraw,ROW(),Setup!$C$5+COLUMN()-26),\"x\")","v":"x"},{"$f":"IF($E9=\"Y\",INDEX(OIQraw,ROW(),Setup!$C$5+COLUMN()-26),\"x\")","v":"x"},{"$f":"IF($E9=\"Y\",INDEX(OIQraw,ROW(),Setup!$C$5+COLUMN()-26),\"x\")","v":"x"},{"$f":"IF($E9=\"Y\",INDEX(OIQraw,ROW(),Setup!$C$5+COLUMN()-26),\"x\")","v":"x"},{"$f":"IF($E9=\"Y\",INDEX(OIQraw,ROW(),Setup!$C$5+COLUMN()-26),\"x\")","v":"x"},{"$f":"IF($E9=\"Y\",INDEX(OIQraw,ROW(),Setup!$C$5+COLUMN()-26),\"x\")","v":"x"},{"$f":"IF($E9=\"Y\",INDEX(OIQraw,ROW(),Setup!$C$5+COLUMN()-26),\"x\")","v":"x"},{"$f":"IF($E9=\"Y\",INDEX(OIQraw,ROW(),Setup!$C$5+COLUMN()-26),\"x\")","v":"x"},{"$f":"IF($E9=\"Y\",INDEX(OIQraw,ROW(),Setup!$C$5+COLUMN()-26),\"x\")","v":"x"},{"$f":"IF($E9=\"Y\",INDEX(OIQraw,ROW(),Setup!$C$5+COLUMN()-26),\"x\")","v":"x"},{"$f":"IF($E9=\"Y\",INDEX(OIQraw,ROW(),Setup!$C$5+COLUMN()-26),\"x\")","v":"x"},{"$f":"IF($E9=\"Y\",INDEX(OIQraw,ROW(),Setup!$C$5+COLUMN()-26),\"x\")","v":"x"},{"$f":"IF($E9=\"Y\",INDEX(OIQraw,ROW(),Setup!$C$5+COLUMN()-26),\"x\")","v":"x"},{"$f":"IF($E9=\"Y\",INDEX(OIQraw,ROW(),Setup!$C$5+COLUMN()-26),\"x\")","v":"x"},{"$f":"IF($E9=\"Y\",INDEX(OIQraw,ROW(),Setup!$C$5+COLUMN()-26),\"x\")","v":"x"},{"$f":"IF($E9=\"Y\",INDEX(OIQraw,ROW(),Setup!$C$5+COLUMN()-26),\"x\")","v":"x"},{"$f":"IF($E9=\"Y\",INDEX(OIQraw,ROW(),Setup!$C$5+COLUMN()-26),\"x\")","v":"x"},{"$f":"IF($E9=\"Y\",INDEX(OIQraw,ROW(),Setup!$C$5+COLUMN()-26),\"x\")","v":"x"},{"$f":"IF($E9=\"Y\",INDEX(OIQraw,ROW(),Setup!$C$5+COLUMN()-26),\"x\")","v":"x"},{"$f":"IF($E9=\"Y\",INDEX(OIQraw,ROW(),Setup!$C$5+COLUMN()-26),\"x\")","v":"x"},{"$f":"IF($E9=\"Y\",INDEX(OIQraw,ROW(),Setup!$C$5+COLUMN()-26),\"x\")","v":"x"},{"$f":"IF($E9=\"Y\",INDEX(OIQraw,ROW(),Setup!$C$5+COLUMN()-26),\"x\")","v":"x"},{"$f":"IF($E9=\"Y\",INDEX(OIQraw,ROW(),Setup!$C$5+COLUMN()-26),\"x\")","v":"x"},{"$f":"IF($E9=\"Y\",INDEX(OIQraw,ROW(),Setup!$C$5+COLUMN()-26),\"x\")","v":"x"},{"$f":"IF($E9=\"Y\",INDEX(OIQraw,ROW(),Setup!$C$5+COLUMN()-26),\"x\")","v":"x"},{"$f":"IF($E9=\"Y\",INDEX(OIQraw,ROW(),Setup!$C$5+COLUMN()-26),\"x\")","v":"x"},{"$f":"IF($E9=\"Y\",INDEX(OIQraw,ROW(),Setup!$C$5+COLUMN()-26),\"x\")","v":"x"},{"$f":"IF($E9=\"Y\",INDEX(OIQraw,ROW(),Setup!$C$5+COLUMN()-26),\"x\")","v":"x"},{"$f":"IF($E9=\"Y\",INDEX(OIQraw,ROW(),Setup!$C$5+COLUMN()-26),\"x\")","v":"x"},{"$f":"IF($E9=\"Y\",INDEX(OIQraw,ROW(),Setup!$C$5+COLUMN()-26),\"x\")","v":"x"},{"$f":"IF($E9=\"Y\",INDEX(OIQraw,ROW(),Setup!$C$5+COLUMN()-26),\"x\")","v":"x"},{"$f":"IF($E9=\"Y\",INDEX(OIQraw,ROW(),Setup!$C$5+COLUMN()-26),\"x\")","v":"x"},{"$f":"IF($E9=\"Y\",INDEX(OIQraw,ROW(),Setup!$C$5+COLUMN()-26),\"x\")","v":"x"},{"$f":"IF($E9=\"Y\",INDEX(OIQraw,ROW(),Setup!$C$5+COLUMN()-26),\"x\")","v":"x"},{"$f":"IF($E9=\"Y\",INDEX(OIQraw,ROW(),Setup!$C$5+COLUMN()-26),\"x\")","v":"x"},{"$f":"IF($E9=\"Y\",INDEX(OIQraw,ROW(),Setup!$C$5+COLUMN()-26),\"x\")","v":"x"},{"$f":"IF($E9=\"Y\",INDEX(OIQraw,ROW(),Setup!$C$5+COLUMN()-26),\"x\")","v":"x"},{"$f":"IF($E9=\"Y\",INDEX(OIQraw,ROW(),Setup!$C$5+COLUMN()-26),\"x\")","v":"x"},{"$f":"IF($E9=\"Y\",INDEX(OIQraw,ROW(),Setup!$C$5+COLUMN()-26),\"x\")","v":"x"},{"$f":"IF($E9=\"Y\",INDEX(OIQraw,ROW(),Setup!$C$5+COLUMN()-26),\"x\")","v":"x"},{"$f":"IF($E9=\"Y\",INDEX(OIQraw,ROW(),Setup!$C$5+COLUMN()-26),\"x\")","v":"x"},{"$f":"IF($E9=\"Y\",INDEX(OIQraw,ROW(),Setup!$C$5+COLUMN()-26),\"x\")","v":"x"},{"$f":"IF($E9=\"Y\",INDEX(OIQraw,ROW(),Setup!$C$5+COLUMN()-26),\"x\")","v":"x"},{"$f":"IF($E9=\"Y\",INDEX(OIQraw,ROW(),Setup!$C$5+COLUMN()-26),\"x\")","v":"x"},{"$f":"IF($E9=\"Y\",INDEX(OIQraw,ROW(),Setup!$C$5+COLUMN()-26),\"x\")","v":"x"},{"$f":"IF($E9=\"Y\",INDEX(OIQraw,ROW(),Setup!$C$5+COLUMN()-26),\"x\")","v":"x"},{"$f":"IF($E9=\"Y\",INDEX(OIQraw,ROW(),Setup!$C$5+COLUMN()-26),\"x\")","v":"x"},{"$f":"IF($E9=\"Y\",INDEX(OIQraw,ROW(),Setup!$C$5+COLUMN()-26),\"x\")","v":"x"},{"$f":"IF($E9=\"Y\",INDEX(OIQraw,ROW(),Setup!$C$5+COLUMN()-26),\"x\")","v":"x"},{"$f":"IF($E9=\"Y\",INDEX(OIQraw,ROW(),Setup!$C$5+COLUMN()-26),\"x\")","v":"x"},{"$f":"IF($E9=\"Y\",INDEX(OIQraw,ROW(),Setup!$C$5+COLUMN()-26),\"x\")","v":"x"},{"$f":"IF($E9=\"Y\",INDEX(OIQraw,ROW(),Setup!$C$5+COLUMN()-26),\"x\")","v":"x"},{"$f":"IF($E9=\"Y\",INDEX(OIQraw,ROW(),Setup!$C$5+COLUMN()-26),\"x\")","v":"x"},{"$f":"IF($E9=\"Y\",INDEX(OIQraw,ROW(),Setup!$C$5+COLUMN()-26),\"x\")","v":"x"}]
[1,"","",{"$f":"IF(ISERROR(FIND(\"Withdrew\",RawScores!B14)),RawScores!B14,RIGHT(RawScores!B14,LEN(RawScores!B14)-17))&\", \"&RawScores!C14","v":", "},{"$f":"IF(OR(ISERROR(FIND(\"Withdrew\",RawScores!B14))=FALSE,INDEX(OIQraw,ROW(),LastInputCol-3)=0),\"N\",IF(AND(Setup!$B$22=\"Yes\",INDEX(OIQraw,ROW(),LastInputCol)=1),\"N\",\"Y\"))","v":"N"},"X","X","X",{"$f":"IF(AND(ISNUMBER(F10),F10>Setup!$B$14-1),1,0)","v":0},{"$f":"IF(AND(F10>Setup!$B$14-1,Conv!H10<5),1,0)","v":0},{"$f":"IF(AND(F10>Setup!$B$14-1,Conv!G10=\"F\"),1,0)","v":0},"","","","","","","","","","","","","X","X",{"$f":"IF($E10=\"Y\",INDEX(OIQraw,ROW(),Setup!$C$5+COLUMN()-26),\"x\")","v":"x"},{"$f":"IF($E10=\"Y\",INDEX(OIQraw,ROW(),Setup!$C$5+COLUMN()-26),\"x\")","v":"x"},{"$f":"IF($E10=\"Y\",INDEX(OIQraw,ROW(),Setup!$C$5+COLUMN()-26),\"x\")","v":"x"},{"$f":"IF($E10=\"Y\",INDEX(OIQraw,ROW(),Setup!$C$5+COLUMN()-26),\"x\")","v":"x"},{"$f":"IF($E10=\"Y\",INDEX(OIQraw,ROW(),Setup!$C$5+COLUMN()-26),\"x\")","v":"x"},{"$f":"IF($E10=\"Y\",INDEX(OIQraw,ROW(),Setup!$C$5+COLUMN()-26),\"x\")","v":"x"},{"$f":"IF($E10=\"Y\",INDEX(OIQraw,ROW(),Setup!$C$5+COLUMN()-26),\"x\")","v":"x"},{"$f":"IF($E10=\"Y\",INDEX(OIQraw,ROW(),Setup!$C$5+COLUMN()-26),\"x\")","v":"x"},{"$f":"IF($E10=\"Y\",INDEX(OIQraw,ROW(),Setup!$C$5+COLUMN()-26),\"x\")","v":"x"},{"$f":"IF($E10=\"Y\",INDEX(OIQraw,ROW(),Setup!$C$5+COLUMN()-26),\"x\")","v":"x"},{"$f":"IF($E10=\"Y\",INDEX(OIQraw,ROW(),Setup!$C$5+COLUMN()-26),\"x\")","v":"x"},{"$f":"IF($E10=\"Y\",INDEX(OIQraw,ROW(),Setup!$C$5+COLUMN()-26),\"x\")","v":"x"},{"$f":"IF($E10=\"Y\",INDEX(OIQraw,ROW(),Setup!$C$5+COLUMN()-26),\"x\")","v":"x"},{"$f":"IF($E10=\"Y\",INDEX(OIQraw,ROW(),Setup!$C$5+COLUMN()-26),\"x\")","v":"x"},{"$f":"IF($E10=\"Y\",INDEX(OIQraw,ROW(),Setup!$C$5+COLUMN()-26),\"x\")","v":"x"},{"$f":"IF($E10=\"Y\",INDEX(OIQraw,ROW(),Setup!$C$5+COLUMN()-26),\"x\")","v":"x"},{"$f":"IF($E10=\"Y\",INDEX(OIQraw,ROW(),Setup!$C$5+COLUMN()-26),\"x\")","v":"x"},{"$f":"IF($E10=\"Y\",INDEX(OIQraw,ROW(),Setup!$C$5+COLUMN()-26),\"x\")","v":"x"},{"$f":"IF($E10=\"Y\",INDEX(OIQraw,ROW(),Setup!$C$5+COLUMN()-26),\"x\")","v":"x"},{"$f":"IF($E10=\"Y\",INDEX(OIQraw,ROW(),Setup!$C$5+COLUMN()-26),\"x\")","v":"x"},{"$f":"IF($E10=\"Y\",INDEX(OIQraw,ROW(),Setup!$C$5+COLUMN()-26),\"x\")","v":"x"},{"$f":"IF($E10=\"Y\",INDEX(OIQraw,ROW(),Setup!$C$5+COLUMN()-26),\"x\")","v":"x"},{"$f":"IF($E10=\"Y\",INDEX(OIQraw,ROW(),Setup!$C$5+COLUMN()-26),\"x\")","v":"x"},{"$f":"IF($E10=\"Y\",INDEX(OIQraw,ROW(),Setup!$C$5+COLUMN()-26),\"x\")","v":"x"},{"$f":"IF($E10=\"Y\",INDEX(OIQraw,ROW(),Setup!$C$5+COLUMN()-26),\"x\")","v":"x"},{"$f":"IF($E10=\"Y\",INDEX(OIQraw,ROW(),Setup!$C$5+COLUMN()-26),\"x\")","v":"x"},{"$f":"IF($E10=\"Y\",INDEX(OIQraw,ROW(),Setup!$C$5+COLUMN()-26),\"x\")","v":"x"},{"$f":"IF($E10=\"Y\",INDEX(OIQraw,ROW(),Setup!$C$5+COLUMN()-26),\"x\")","v":"x"},{"$f":"IF($E10=\"Y\",INDEX(OIQraw,ROW(),Setup!$C$5+COLUMN()-26),\"x\")","v":"x"},{"$f":"IF($E10=\"Y\",INDEX(OIQraw,ROW(),Setup!$C$5+COLUMN()-26),\"x\")","v":"x"},{"$f":"IF($E10=\"Y\",INDEX(OIQraw,ROW(),Setup!$C$5+COLUMN()-26),\"x\")","v":"x"},{"$f":"IF($E10=\"Y\",INDEX(OIQraw,ROW(),Setup!$C$5+COLUMN()-26),\"x\")","v":"x"},{"$f":"IF($E10=\"Y\",INDEX(OIQraw,ROW(),Setup!$C$5+COLUMN()-26),\"x\")","v":"x"},{"$f":"IF($E10=\"Y\",INDEX(OIQraw,ROW(),Setup!$C$5+COLUMN()-26),\"x\")","v":"x"},{"$f":"IF($E10=\"Y\",INDEX(OIQraw,ROW(),Setup!$C$5+COLUMN()-26),\"x\")","v":"x"},{"$f":"IF($E10=\"Y\",INDEX(OIQraw,ROW(),Setup!$C$5+COLUMN()-26),\"x\")","v":"x"},{"$f":"IF($E10=\"Y\",INDEX(OIQraw,ROW(),Setup!$C$5+COLUMN()-26),\"x\")","v":"x"},{"$f":"IF($E10=\"Y\",INDEX(OIQraw,ROW(),Setup!$C$5+COLUMN()-26),\"x\")","v":"x"},{"$f":"IF($E10=\"Y\",INDEX(OIQraw,ROW(),Setup!$C$5+COLUMN()-26),\"x\")","v":"x"},{"$f":"IF($E10=\"Y\",INDEX(OIQraw,ROW(),Setup!$C$5+COLUMN()-26),\"x\")","v":"x"},{"$f":"IF($E10=\"Y\",INDEX(OIQraw,ROW(),Setup!$C$5+COLUMN()-26),\"x\")","v":"x"},{"$f":"IF($E10=\"Y\",INDEX(OIQraw,ROW(),Setup!$C$5+COLUMN()-26),\"x\")","v":"x"},{"$f":"IF($E10=\"Y\",INDEX(OIQraw,ROW(),Setup!$C$5+COLUMN()-26),\"x\")","v":"x"},{"$f":"IF($E10=\"Y\",INDEX(OIQraw,ROW(),Setup!$C$5+COLUMN()-26),\"x\")","v":"x"},{"$f":"IF($E10=\"Y\",INDEX(OIQraw,ROW(),Setup!$C$5+COLUMN()-26),\"x\")","v":"x"},{"$f":"IF($E10=\"Y\",INDEX(OIQraw,ROW(),Setup!$C$5+COLUMN()-26),\"x\")","v":"x"},{"$f":"IF($E10=\"Y\",INDEX(OIQraw,ROW(),Setup!$C$5+COLUMN()-26),\"x\")","v":"x"},{"$f":"IF($E10=\"Y\",INDEX(OIQraw,ROW(),Setup!$C$5+COLUMN()-26),\"x\")","v":"x"},{"$f":"IF($E10=\"Y\",INDEX(OIQraw,ROW(),Setup!$C$5+COLUMN()-26),\"x\")","v":"x"},{"$f":"IF($E10=\"Y\",INDEX(OIQraw,ROW(),Setup!$C$5+COLUMN()-26),\"x\")","v":"x"},{"$f":"IF($E10=\"Y\",INDEX(OIQraw,ROW(),Setup!$C$5+COLUMN()-26),\"x\")","v":"x"},{"$f":"IF($E10=\"Y\",INDEX(OIQraw,ROW(),Setup!$C$5+COLUMN()-26),\"x\")","v":"x"},{"$f":"IF($E10=\"Y\",INDEX(OIQraw,ROW(),Setup!$C$5+COLUMN()-26),\"x\")","v":"x"},{"$f":"IF($E10=\"Y\",INDEX(OIQraw,ROW(),Setup!$C$5+COLUMN()-26),\"x\")","v":"x"},{"$f":"IF($E10=\"Y\",INDEX(OIQraw,ROW(),Setup!$C$5+COLUMN()-26),\"x\")","v":"x"},{"$f":"IF($E10=\"Y\",INDEX(OIQraw,ROW(),Setup!$C$5+COLUMN()-26),\"x\")","v":"x"},{"$f":"IF($E10=\"Y\",INDEX(OIQraw,ROW(),Setup!$C$5+COLUMN()-26),\"x\")","v":"x"},{"$f":"IF($E10=\"Y\",INDEX(OIQraw,ROW(),Setup!$C$5+COLUMN()-26),\"x\")","v":"x"},{"$f":"IF($E10=\"Y\",INDEX(OIQraw,ROW(),Setup!$C$5+COLUMN()-26),\"x\")","v":"x"},{"$f":"IF($E10=\"Y\",INDEX(OIQraw,ROW(),Setup!$C$5+COLUMN()-26),\"x\")","v":"x"},{"$f":"IF($E10=\"Y\",INDEX(OIQraw,ROW(),Setup!$C$5+COLUMN()-26),\"x\")","v":"x"},{"$f":"IF($E10=\"Y\",INDEX(OIQraw,ROW(),Setup!$C$5+COLUMN()-26),\"x\")","v":"x"},{"$f":"IF($E10=\"Y\",INDEX(OIQraw,ROW(),Setup!$C$5+COLUMN()-26),\"x\")","v":"x"},{"$f":"IF($E10=\"Y\",INDEX(OIQraw,ROW(),Setup!$C$5+COLUMN()-26),\"x\")","v":"x"},{"$f":"IF($E10=\"Y\",INDEX(OIQraw,ROW(),Setup!$C$5+COLUMN()-26),\"x\")","v":"x"},{"$f":"IF($E10=\"Y\",INDEX(OIQraw,ROW(),Setup!$C$5+COLUMN()-26),\"x\")","v":"x"},{"$f":"IF($E10=\"Y\",INDEX(OIQraw,ROW(),Setup!$C$5+COLUMN()-26),\"x\")","v":"x"},{"$f":"IF($E10=\"Y\",INDEX(OIQraw,ROW(),Setup!$C$5+COLUMN()-26),\"x\")","v":"x"},{"$f":"IF($E10=\"Y\",INDEX(OIQraw,ROW(),Setup!$C$5+COLUMN()-26),\"x\")","v":"x"},{"$f":"IF($E10=\"Y\",INDEX(OIQraw,ROW(),Setup!$C$5+COLUMN()-26),\"x\")","v":"x"},{"$f":"IF($E10=\"Y\",INDEX(OIQraw,ROW(),Setup!$C$5+COLUMN()-26),\"x\")","v":"x"},{"$f":"IF($E10=\"Y\",INDEX(OIQraw,ROW(),Setup!$C$5+COLUMN()-26),\"x\")","v":"x"},{"$f":"IF($E10=\"Y\",INDEX(OIQraw,ROW(),Setup!$C$5+COLUMN()-26),\"x\")","v":"x"},{"$f":"IF($E10=\"Y\",INDEX(OIQraw,ROW(),Setup!$C$5+COLUMN()-26),\"x\")","v":"x"},{"$f":"IF($E10=\"Y\",INDEX(OIQraw,ROW(),Setup!$C$5+COLUMN()-26),\"x\")","v":"x"},{"$f":"IF($E10=\"Y\",INDEX(OIQraw,ROW(),Setup!$C$5+COLUMN()-26),\"x\")","v":"x"},{"$f":"IF($E10=\"Y\",INDEX(OIQraw,ROW(),Setup!$C$5+COLUMN()-26),\"x\")","v":"x"},{"$f":"IF($E10=\"Y\",INDEX(OIQraw,ROW(),Setup!$C$5+COLUMN()-26),\"x\")","v":"x"},{"$f":"IF($E10=\"Y\",INDEX(OIQraw,ROW(),Setup!$C$5+COLUMN()-26),\"x\")","v":"x"},{"$f":"IF($E10=\"Y\",INDEX(OIQraw,ROW(),Setup!$C$5+COLUMN()-26),\"x\")","v":"x"},{"$f":"IF($E10=\"Y\",INDEX(OIQraw,ROW(),Setup!$C$5+COLUMN()-26),\"x\")","v":"x"},{"$f":"IF($E10=\"Y\",INDEX(OIQraw,ROW(),Setup!$C$5+COLUMN()-26),\"x\")","v":"x"},{"$f":"IF($E10=\"Y\",INDEX(OIQraw,ROW(),Setup!$C$5+COLUMN()-26),\"x\")","v":"x"},{"$f":"IF($E10=\"Y\",INDEX(OIQraw,ROW(),Setup!$C$5+COLUMN()-26),\"x\")","v":"x"},{"$f":"IF($E10=\"Y\",INDEX(OIQraw,ROW(),Setup!$C$5+COLUMN()-26),\"x\")","v":"x"},{"$f":"IF($E10=\"Y\",INDEX(OIQraw,ROW(),Setup!$C$5+COLUMN()-26),\"x\")","v":"x"},{"$f":"IF($E10=\"Y\",INDEX(OIQraw,ROW(),Setup!$C$5+COLUMN()-26),\"x\")","v":"x"},{"$f":"IF($E10=\"Y\",INDEX(OIQraw,ROW(),Setup!$C$5+COLUMN()-26),\"x\")","v":"x"},{"$f":"IF($E10=\"Y\",INDEX(OIQraw,ROW(),Setup!$C$5+COLUMN()-26),\"x\")","v":"x"},{"$f":"IF($E10=\"Y\",INDEX(OIQraw,ROW(),Setup!$C$5+COLUMN()-26),\"x\")","v":"x"},{"$f":"IF($E10=\"Y\",INDEX(OIQraw,ROW(),Setup!$C$5+COLUMN()-26),\"x\")","v":"x"},{"$f":"IF($E10=\"Y\",INDEX(OIQraw,ROW(),Setup!$C$5+COLUMN()-26),\"x\")","v":"x"},{"$f":"IF($E10=\"Y\",INDEX(OIQraw,ROW(),Setup!$C$5+COLUMN()-26),\"x\")","v":"x"},{"$f":"IF($E10=\"Y\",INDEX(OIQraw,ROW(),Setup!$C$5+COLUMN()-26),\"x\")","v":"x"},{"$f":"IF($E10=\"Y\",INDEX(OIQraw,ROW(),Setup!$C$5+COLUMN()-26),\"x\")","v":"x"},{"$f":"IF($E10=\"Y\",INDEX(OIQraw,ROW(),Setup!$C$5+COLUMN()-26),\"x\")","v":"x"},{"$f":"IF($E10=\"Y\",INDEX(OIQraw,ROW(),Setup!$C$5+COLUMN()-26),\"x\")","v":"x"},{"$f":"IF($E10=\"Y\",INDEX(OIQraw,ROW(),Setup!$C$5+COLUMN()-26),\"x\")","v":"x"},{"$f":"IF($E10=\"Y\",INDEX(OIQraw,ROW(),Setup!$C$5+COLUMN()-26),\"x\")","v":"x"},{"$f":"IF($E10=\"Y\",INDEX(OIQraw,ROW(),Setup!$C$5+COLUMN()-26),\"x\")","v":"x"},{"$f":"IF($E10=\"Y\",INDEX(OIQraw,ROW(),Setup!$C$5+COLUMN()-26),\"x\")","v":"x"},{"$f":"IF($E10=\"Y\",INDEX(OIQraw,ROW(),Setup!$C$5+COLUMN()-26),\"x\")","v":"x"},{"$f":"IF($E10=\"Y\",INDEX(OIQraw,ROW(),Setup!$C$5+COLUMN()-26),\"x\")","v":"x"},{"$f":"IF($E10=\"Y\",INDEX(OIQraw,ROW(),Setup!$C$5+COLUMN()-26),\"x\")","v":"x"},{"$f":"IF($E10=\"Y\",INDEX(OIQraw,ROW(),Setup!$C$5+COLUMN()-26),\"x\")","v":"x"},{"$f":"IF($E10=\"Y\",INDEX(OIQraw,ROW(),Setup!$C$5+COLUMN()-26),\"x\")","v":"x"},{"$f":"IF($E10=\"Y\",INDEX(OIQraw,ROW(),Setup!$C$5+COLUMN()-26),\"x\")","v":"x"},{"$f":"IF($E10=\"Y\",INDEX(OIQraw,ROW(),Setup!$C$5+COLUMN()-26),\"x\")","v":"x"},{"$f":"IF($E10=\"Y\",INDEX(OIQraw,ROW(),Setup!$C$5+COLUMN()-26),\"x\")","v":"x"},{"$f":"IF($E10=\"Y\",INDEX(OIQraw,ROW(),Setup!$C$5+COLUMN()-26),\"x\")","v":"x"},{"$f":"IF($E10=\"Y\",INDEX(OIQraw,ROW(),Setup!$C$5+COLUMN()-26),\"x\")","v":"x"},{"$f":"IF($E10=\"Y\",INDEX(OIQraw,ROW(),Setup!$C$5+COLUMN()-26),\"x\")","v":"x"},{"$f":"IF($E10=\"Y\",INDEX(OIQraw,ROW(),Setup!$C$5+COLUMN()-26),\"x\")","v":"x"},{"$f":"IF($E10=\"Y\",INDEX(OIQraw,ROW(),Setup!$C$5+COLUMN()-26),\"x\")","v":"x"},{"$f":"IF($E10=\"Y\",INDEX(OIQraw,ROW(),Setup!$C$5+COLUMN()-26),\"x\")","v":"x"},{"$f":"IF($E10=\"Y\",INDEX(OIQraw,ROW(),Setup!$C$5+COLUMN()-26),\"x\")","v":"x"},{"$f":"IF($E10=\"Y\",INDEX(OIQraw,ROW(),Setup!$C$5+COLUMN()-26),\"x\")","v":"x"},{"$f":"IF($E10=\"Y\",INDEX(OIQraw,ROW(),Setup!$C$5+COLUMN()-26),\"x\")","v":"x"},{"$f":"IF($E10=\"Y\",INDEX(OIQraw,ROW(),Setup!$C$5+COLUMN()-26),\"x\")","v":"x"},{"$f":"IF($E10=\"Y\",INDEX(OIQraw,ROW(),Setup!$C$5+COLUMN()-26),\"x\")","v":"x"},{"$f":"IF($E10=\"Y\",INDEX(OIQraw,ROW(),Setup!$C$5+COLUMN()-26),\"x\")","v":"x"},{"$f":"IF($E10=\"Y\",INDEX(OIQraw,ROW(),Setup!$C$5+COLUMN()-26),\"x\")","v":"x"},{"$f":"IF($E10=\"Y\",INDEX(OIQraw,ROW(),Setup!$C$5+COLUMN()-26),\"x\")","v":"x"},{"$f":"IF($E10=\"Y\",INDEX(OIQraw,ROW(),Setup!$C$5+COLUMN()-26),\"x\")","v":"x"},{"$f":"IF($E10=\"Y\",INDEX(OIQraw,ROW(),Setup!$C$5+COLUMN()-26),\"x\")","v":"x"},{"$f":"IF($E10=\"Y\",INDEX(OIQraw,ROW(),Setup!$C$5+COLUMN()-26),\"x\")","v":"x"},{"$f":"IF($E10=\"Y\",INDEX(OIQraw,ROW(),Setup!$C$5+COLUMN()-26),\"x\")","v":"x"},{"$f":"IF($E10=\"Y\",INDEX(OIQraw,ROW(),Setup!$C$5+COLUMN()-26),\"x\")","v":"x"},{"$f":"IF($E10=\"Y\",INDEX(OIQraw,ROW(),Setup!$C$5+COLUMN()-26),\"x\")","v":"x"},{"$f":"IF($E10=\"Y\",INDEX(OIQraw,ROW(),Setup!$C$5+COLUMN()-26),\"x\")","v":"x"},{"$f":"IF($E10=\"Y\",INDEX(OIQraw,ROW(),Setup!$C$5+COLUMN()-26),\"x\")","v":"x"},{"$f":"IF($E10=\"Y\",INDEX(OIQraw,ROW(),Setup!$C$5+COLUMN()-26),\"x\")","v":"x"},{"$f":"IF($E10=\"Y\",INDEX(OIQraw,ROW(),Setup!$C$5+COLUMN()-26),\"x\")","v":"x"},{"$f":"IF($E10=\"Y\",INDEX(OIQraw,ROW(),Setup!$C$5+COLUMN()-26),\"x\")","v":"x"},{"$f":"IF($E10=\"Y\",INDEX(OIQraw,ROW(),Setup!$C$5+COLUMN()-26),\"x\")","v":"x"},{"$f":"IF($E10=\"Y\",INDEX(OIQraw,ROW(),Setup!$C$5+COLUMN()-26),\"x\")","v":"x"},{"$f":"IF($E10=\"Y\",INDEX(OIQraw,ROW(),Setup!$C$5+COLUMN()-26),\"x\")","v":"x"},{"$f":"IF($E10=\"Y\",INDEX(OIQraw,ROW(),Setup!$C$5+COLUMN()-26),\"x\")","v":"x"},{"$f":"IF($E10=\"Y\",INDEX(OIQraw,ROW(),Setup!$C$5+COLUMN()-26),\"x\")","v":"x"},{"$f":"IF($E10=\"Y\",INDEX(OIQraw,ROW(),Setup!$C$5+COLUMN()-26),\"x\")","v":"x"},{"$f":"IF($E10=\"Y\",INDEX(OIQraw,ROW(),Setup!$C$5+COLUMN()-26),\"x\")","v":"x"},{"$f":"IF($E10=\"Y\",INDEX(OIQraw,ROW(),Setup!$C$5+COLUMN()-26),\"x\")","v":"x"},{"$f":"IF($E10=\"Y\",INDEX(OIQraw,ROW(),Setup!$C$5+COLUMN()-26),\"x\")","v":"x"},{"$f":"IF($E10=\"Y\",INDEX(OIQraw,ROW(),Setup!$C$5+COLUMN()-26),\"x\")","v":"x"},{"$f":"IF($E10=\"Y\",INDEX(OIQraw,ROW(),Setup!$C$5+COLUMN()-26),\"x\")","v":"x"},{"$f":"IF($E10=\"Y\",INDEX(OIQraw,ROW(),Setup!$C$5+COLUMN()-26),\"x\")","v":"x"},{"$f":"IF($E10=\"Y\",INDEX(OIQraw,ROW(),Setup!$C$5+COLUMN()-26),\"x\")","v":"x"},{"$f":"IF($E10=\"Y\",INDEX(OIQraw,ROW(),Setup!$C$5+COLUMN()-26),\"x\")","v":"x"},{"$f":"IF($E10=\"Y\",INDEX(OIQraw,ROW(),Setup!$C$5+COLUMN()-26),\"x\")","v":"x"},{"$f":"IF($E10=\"Y\",INDEX(OIQraw,ROW(),Setup!$C$5+COLUMN()-26),\"x\")","v":"x"},{"$f":"IF($E10=\"Y\",INDEX(OIQraw,ROW(),Setup!$C$5+COLUMN()-26),\"x\")","v":"x"},{"$f":"IF($E10=\"Y\",INDEX(OIQraw,ROW(),Setup!$C$5+COLUMN()-26),\"x\")","v":"x"},{"$f":"IF($E10=\"Y\",INDEX(OIQraw,ROW(),Setup!$C$5+COLUMN()-26),\"x\")","v":"x"},{"$f":"IF($E10=\"Y\",INDEX(OIQraw,ROW(),Setup!$C$5+COLUMN()-26),\"x\")","v":"x"},{"$f":"IF($E10=\"Y\",INDEX(OIQraw,ROW(),Setup!$C$5+COLUMN()-26),\"x\")","v":"x"},{"$f":"IF($E10=\"Y\",INDEX(OIQraw,ROW(),Setup!$C$5+COLUMN()-26),\"x\")","v":"x"},{"$f":"IF($E10=\"Y\",INDEX(OIQraw,ROW(),Setup!$C$5+COLUMN()-26),\"x\")","v":"x"},{"$f":"IF($E10=\"Y\",INDEX(OIQraw,ROW(),Setup!$C$5+COLUMN()-26),\"x\")","v":"x"},{"$f":"IF($E10=\"Y\",INDEX(OIQraw,ROW(),Setup!$C$5+COLUMN()-26),\"x\")","v":"x"},{"$f":"IF($E10=\"Y\",INDEX(OIQraw,ROW(),Setup!$C$5+COLUMN()-26),\"x\")","v":"x"},{"$f":"IF($E10=\"Y\",INDEX(OIQraw,ROW(),Setup!$C$5+COLUMN()-26),\"x\")","v":"x"},{"$f":"IF($E10=\"Y\",INDEX(OIQraw,ROW(),Setup!$C$5+COLUMN()-26),\"x\")","v":"x"},{"$f":"IF($E10=\"Y\",INDEX(OIQraw,ROW(),Setup!$C$5+COLUMN()-26),\"x\")","v":"x"},{"$f":"IF($E10=\"Y\",INDEX(OIQraw,ROW(),Setup!$C$5+COLUMN()-26),\"x\")","v":"x"},{"$f":"IF($E10=\"Y\",INDEX(OIQraw,ROW(),Setup!$C$5+COLUMN()-26),\"x\")","v":"x"},{"$f":"IF($E10=\"Y\",INDEX(OIQraw,ROW(),Setup!$C$5+COLUMN()-26),\"x\")","v":"x"},{"$f":"IF($E10=\"Y\",INDEX(OIQraw,ROW(),Setup!$C$5+COLUMN()-26),\"x\")","v":"x"},{"$f":"IF($E10=\"Y\",INDEX(OIQraw,ROW(),Setup!$C$5+COLUMN()-26),\"x\")","v":"x"},{"$f":"IF($E10=\"Y\",INDEX(OIQraw,ROW(),Setup!$C$5+COLUMN()-26),\"x\")","v":"x"},{"$f":"IF($E10=\"Y\",INDEX(OIQraw,ROW(),Setup!$C$5+COLUMN()-26),\"x\")","v":"x"},{"$f":"IF($E10=\"Y\",INDEX(OIQraw,ROW(),Setup!$C$5+COLUMN()-26),\"x\")","v":"x"},{"$f":"IF($E10=\"Y\",INDEX(OIQraw,ROW(),Setup!$C$5+COLUMN()-26),\"x\")","v":"x"},{"$f":"IF($E10=\"Y\",INDEX(OIQraw,ROW(),Setup!$C$5+COLUMN()-26),\"x\")","v":"x"},{"$f":"IF($E10=\"Y\",INDEX(OIQraw,ROW(),Setup!$C$5+COLUMN()-26),\"x\")","v":"x"},{"$f":"IF($E10=\"Y\",INDEX(OIQraw,ROW(),Setup!$C$5+COLUMN()-26),\"x\")","v":"x"},{"$f":"IF($E10=\"Y\",INDEX(OIQraw,ROW(),Setup!$C$5+COLUMN()-26),\"x\")","v":"x"},{"$f":"IF($E10=\"Y\",INDEX(OIQraw,ROW(),Setup!$C$5+COLUMN()-26),\"x\")","v":"x"},{"$f":"IF($E10=\"Y\",INDEX(OIQraw,ROW(),Setup!$C$5+COLUMN()-26),\"x\")","v":"x"},{"$f":"IF($E10=\"Y\",INDEX(OIQraw,ROW(),Setup!$C$5+COLUMN()-26),\"x\")","v":"x"},{"$f":"IF($E10=\"Y\",INDEX(OIQraw,ROW(),Setup!$C$5+COLUMN()-26),\"x\")","v":"x"},{"$f":"IF($E10=\"Y\",INDEX(OIQraw,ROW(),Setup!$C$5+COLUMN()-26),\"x\")","v":"x"},{"$f":"IF($E10=\"Y\",INDEX(OIQraw,ROW(),Setup!$C$5+COLUMN()-26),\"x\")","v":"x"},{"$f":"IF($E10=\"Y\",INDEX(OIQraw,ROW(),Setup!$C$5+COLUMN()-26),\"x\")","v":"x"},{"$f":"IF($E10=\"Y\",INDEX(OIQraw,ROW(),Setup!$C$5+COLUMN()-26),\"x\")","v":"x"},{"$f":"IF($E10=\"Y\",INDEX(OIQraw,ROW(),Setup!$C$5+COLUMN()-26),\"x\")","v":"x"},{"$f":"IF($E10=\"Y\",INDEX(OIQraw,ROW(),Setup!$C$5+COLUMN()-26),\"x\")","v":"x"},{"$f":"IF($E10=\"Y\",INDEX(OIQraw,ROW(),Setup!$C$5+COLUMN()-26),\"x\")","v":"x"},{"$f":"IF($E10=\"Y\",INDEX(OIQraw,ROW(),Setup!$C$5+COLUMN()-26),\"x\")","v":"x"},{"$f":"IF($E10=\"Y\",INDEX(OIQraw,ROW(),Setup!$C$5+COLUMN()-26),\"x\")","v":"x"},{"$f":"IF($E10=\"Y\",INDEX(OIQraw,ROW(),Setup!$C$5+COLUMN()-26),\"x\")","v":"x"},{"$f":"IF($E10=\"Y\",INDEX(OIQraw,ROW(),Setup!$C$5+COLUMN()-26),\"x\")","v":"x"},{"$f":"IF($E10=\"Y\",INDEX(OIQraw,ROW(),Setup!$C$5+COLUMN()-26),\"x\")","v":"x"},{"$f":"IF($E10=\"Y\",INDEX(OIQraw,ROW(),Setup!$C$5+COLUMN()-26),\"x\")","v":"x"},{"$f":"IF($E10=\"Y\",INDEX(OIQraw,ROW(),Setup!$C$5+COLUMN()-26),\"x\")","v":"x"},{"$f":"IF($E10=\"Y\",INDEX(OIQraw,ROW(),Setup!$C$5+COLUMN()-26),\"x\")","v":"x"},{"$f":"IF($E10=\"Y\",INDEX(OIQraw,ROW(),Setup!$C$5+COLUMN()-26),\"x\")","v":"x"},{"$f":"IF($E10=\"Y\",INDEX(OIQraw,ROW(),Setup!$C$5+COLUMN()-26),\"x\")","v":"x"},{"$f":"IF($E10=\"Y\",INDEX(OIQraw,ROW(),Setup!$C$5+COLUMN()-26),\"x\")","v":"x"},{"$f":"IF($E10=\"Y\",INDEX(OIQraw,ROW(),Setup!$C$5+COLUMN()-26),\"x\")","v":"x"},{"$f":"IF($E10=\"Y\",INDEX(OIQraw,ROW(),Setup!$C$5+COLUMN()-26),\"x\")","v":"x"},{"$f":"IF($E10=\"Y\",INDEX(OIQraw,ROW(),Setup!$C$5+COLUMN()-26),\"x\")","v":"x"},{"$f":"IF($E10=\"Y\",INDEX(OIQraw,ROW(),Setup!$C$5+COLUMN()-26),\"x\")","v":"x"},{"$f":"IF($E10=\"Y\",INDEX(OIQraw,ROW(),Setup!$C$5+COLUMN()-26),\"x\")","v":"x"},{"$f":"IF($E10=\"Y\",INDEX(OIQraw,ROW(),Setup!$C$5+COLUMN()-26),\"x\")","v":"x"},{"$f":"IF($E10=\"Y\",INDEX(OIQraw,ROW(),Setup!$C$5+COLUMN()-26),\"x\")","v":"x"},{"$f":"IF($E10=\"Y\",INDEX(OIQraw,ROW(),Setup!$C$5+COLUMN()-26),\"x\")","v":"x"},{"$f":"IF($E10=\"Y\",INDEX(OIQraw,ROW(),Setup!$C$5+COLUMN()-26),\"x\")","v":"x"},{"$f":"IF($E10=\"Y\",INDEX(OIQraw,ROW(),Setup!$C$5+COLUMN()-26),\"x\")","v":"x"},{"$f":"IF($E10=\"Y\",INDEX(OIQraw,ROW(),Setup!$C$5+COLUMN()-26),\"x\")","v":"x"},{"$f":"IF($E10=\"Y\",INDEX(OIQraw,ROW(),Setup!$C$5+COLUMN()-26),\"x\")","v":"x"},{"$f":"IF($E10=\"Y\",INDEX(OIQraw,ROW(),Setup!$C$5+COLUMN()-26),\"x\")","v":"x"},{"$f":"IF($E10=\"Y\",INDEX(OIQraw,ROW(),Setup!$C$5+COLUMN()-26),\"x\")","v":"x"},{"$f":"IF($E10=\"Y\",INDEX(OIQraw,ROW(),Setup!$C$5+COLUMN()-26),\"x\")","v":"x"},{"$f":"IF($E10=\"Y\",INDEX(OIQraw,ROW(),Setup!$C$5+COLUMN()-26),\"x\")","v":"x"},{"$f":"IF($E10=\"Y\",INDEX(OIQraw,ROW(),Setup!$C$5+COLUMN()-26),\"x\")","v":"x"},{"$f":"IF($E10=\"Y\",INDEX(OIQraw,ROW(),Setup!$C$5+COLUMN()-26),\"x\")","v":"x"},{"$f":"IF($E10=\"Y\",INDEX(OIQraw,ROW(),Setup!$C$5+COLUMN()-26),\"x\")","v":"x"},{"$f":"IF($E10=\"Y\",INDEX(OIQraw,ROW(),Setup!$C$5+COLUMN()-26),\"x\")","v":"x"},{"$f":"IF($E10=\"Y\",INDEX(OIQraw,ROW(),Setup!$C$5+COLUMN()-26),\"x\")","v":"x"},{"$f":"IF($E10=\"Y\",INDEX(OIQraw,ROW(),Setup!$C$5+COLUMN()-26),\"x\")","v":"x"},{"$f":"IF($E10=\"Y\",INDEX(OIQraw,ROW(),Setup!$C$5+COLUMN()-26),\"x\")","v":"x"},{"$f":"IF($E10=\"Y\",INDEX(OIQraw,ROW(),Setup!$C$5+COLUMN()-26),\"x\")","v":"x"},{"$f":"IF($E10=\"Y\",INDEX(OIQraw,ROW(),Setup!$C$5+COLUMN()-26),\"x\")","v":"x"},{"$f":"IF($E10=\"Y\",INDEX(OIQraw,ROW(),Setup!$C$5+COLUMN()-26),\"x\")","v":"x"},{"$f":"IF($E10=\"Y\",INDEX(OIQraw,ROW(),Setup!$C$5+COLUMN()-26),\"x\")","v":"x"},{"$f":"IF($E10=\"Y\",INDEX(OIQraw,ROW(),Setup!$C$5+COLUMN()-26),\"x\")","v":"x"},{"$f":"IF($E10=\"Y\",INDEX(OIQraw,ROW(),Setup!$C$5+COLUMN()-26),\"x\")","v":"x"},{"$f":"IF($E10=\"Y\",INDEX(OIQraw,ROW(),Setup!$C$5+COLUMN()-26),\"x\")","v":"x"},{"$f":"IF($E10=\"Y\",INDEX(OIQraw,ROW(),Setup!$C$5+COLUMN()-26),\"x\")","v":"x"},{"$f":"IF($E10=\"Y\",INDEX(OIQraw,ROW(),Setup!$C$5+COLUMN()-26),\"x\")","v":"x"},{"$f":"IF($E10=\"Y\",INDEX(OIQraw,ROW(),Setup!$C$5+COLUMN()-26),\"x\")","v":"x"},{"$f":"IF($E10=\"Y\",INDEX(OIQraw,ROW(),Setup!$C$5+COLUMN()-26),\"x\")","v":"x"},{"$f":"IF($E10=\"Y\",INDEX(OIQraw,ROW(),Setup!$C$5+COLUMN()-26),\"x\")","v":"x"},{"$f":"IF($E10=\"Y\",INDEX(OIQraw,ROW(),Setup!$C$5+COLUMN()-26),\"x\")","v":"x"},{"$f":"IF($E10=\"Y\",INDEX(OIQraw,ROW(),Setup!$C$5+COLUMN()-26),\"x\")","v":"x"},{"$f":"IF($E10=\"Y\",INDEX(OIQraw,ROW(),Setup!$C$5+COLUMN()-26),\"x\")","v":"x"},{"$f":"IF($E10=\"Y\",INDEX(OIQraw,ROW(),Setup!$C$5+COLUMN()-26),\"x\")","v":"x"},{"$f":"IF($E10=\"Y\",INDEX(OIQraw,ROW(),Setup!$C$5+COLUMN()-26),\"x\")","v":"x"},{"$f":"IF($E10=\"Y\",INDEX(OIQraw,ROW(),Setup!$C$5+COLUMN()-26),\"x\")","v":"x"},{"$f":"IF($E10=\"Y\",INDEX(OIQraw,ROW(),Setup!$C$5+COLUMN()-26),\"x\")","v":"x"},{"$f":"IF($E10=\"Y\",INDEX(OIQraw,ROW(),Setup!$C$5+COLUMN()-26),\"x\")","v":"x"},{"$f":"IF($E10=\"Y\",INDEX(OIQraw,ROW(),Setup!$C$5+COLUMN()-26),\"x\")","v":"x"},{"$f":"IF($E10=\"Y\",INDEX(OIQraw,ROW(),Setup!$C$5+COLUMN()-26),\"x\")","v":"x"},{"$f":"IF($E10=\"Y\",INDEX(OIQraw,ROW(),Setup!$C$5+COLUMN()-26),\"x\")","v":"x"},{"$f":"IF($E10=\"Y\",INDEX(OIQraw,ROW(),Setup!$C$5+COLUMN()-26),\"x\")","v":"x"},{"$f":"IF($E10=\"Y\",INDEX(OIQraw,ROW(),Setup!$C$5+COLUMN()-26),\"x\")","v":"x"},{"$f":"IF($E10=\"Y\",INDEX(OIQraw,ROW(),Setup!$C$5+COLUMN()-26),\"x\")","v":"x"},{"$f":"IF($E10=\"Y\",INDEX(OIQraw,ROW(),Setup!$C$5+COLUMN()-26),\"x\")","v":"x"},{"$f":"IF($E10=\"Y\",INDEX(OIQraw,ROW(),Setup!$C$5+COLUMN()-26),\"x\")","v":"x"},{"$f":"IF($E10=\"Y\",INDEX(OIQraw,ROW(),Setup!$C$5+COLUMN()-26),\"x\")","v":"x"},{"$f":"IF($E10=\"Y\",INDEX(OIQraw,ROW(),Setup!$C$5+COLUMN()-26),\"x\")","v":"x"},{"$f":"IF($E10=\"Y\",INDEX(OIQraw,ROW(),Setup!$C$5+COLUMN()-26),\"x\")","v":"x"},{"$f":"IF($E10=\"Y\",INDEX(OIQraw,ROW(),Setup!$C$5+COLUMN()-26),\"x\")","v":"x"}]
[1,"","",{"$f":"IF(ISERROR(FIND(\"Withdrew\",RawScores!B15)),RawScores!B15,RIGHT(RawScores!B15,LEN(RawScores!B15)-17))&\", \"&RawScores!C15","v":", "},{"$f":"IF(OR(ISERROR(FIND(\"Withdrew\",RawScores!B15))=FALSE,INDEX(OIQraw,ROW(),LastInputCol-3)=0),\"N\",IF(AND(Setup!$B$22=\"Yes\",INDEX(OIQraw,ROW(),LastInputCol)=1),\"N\",\"Y\"))","v":"N"},"X","X","X",{"$f":"IF(AND(ISNUMBER(F11),F11>Setup!$B$14-1),1,0)","v":0},{"$f":"IF(AND(F11>Setup!$B$14-1,Conv!H11<5),1,0)","v":0},{"$f":"IF(AND(F11>Setup!$B$14-1,Conv!G11=\"F\"),1,0)","v":0},"","","","","","","","","","","","","X","X",{"$f":"IF($E11=\"Y\",INDEX(OIQraw,ROW(),Setup!$C$5+COLUMN()-26),\"x\")","v":"x"},{"$f":"IF($E11=\"Y\",INDEX(OIQraw,ROW(),Setup!$C$5+COLUMN()-26),\"x\")","v":"x"},{"$f":"IF($E11=\"Y\",INDEX(OIQraw,ROW(),Setup!$C$5+COLUMN()-26),\"x\")","v":"x"},{"$f":"IF($E11=\"Y\",INDEX(OIQraw,ROW(),Setup!$C$5+COLUMN()-26),\"x\")","v":"x"},{"$f":"IF($E11=\"Y\",INDEX(OIQraw,ROW(),Setup!$C$5+COLUMN()-26),\"x\")","v":"x"},{"$f":"IF($E11=\"Y\",INDEX(OIQraw,ROW(),Setup!$C$5+COLUMN()-26),\"x\")","v":"x"},{"$f":"IF($E11=\"Y\",INDEX(OIQraw,ROW(),Setup!$C$5+COLUMN()-26),\"x\")","v":"x"},{"$f":"IF($E11=\"Y\",INDEX(OIQraw,ROW(),Setup!$C$5+COLUMN()-26),\"x\")","v":"x"},{"$f":"IF($E11=\"Y\",INDEX(OIQraw,ROW(),Setup!$C$5+COLUMN()-26),\"x\")","v":"x"},{"$f":"IF($E11=\"Y\",INDEX(OIQraw,ROW(),Setup!$C$5+COLUMN()-26),\"x\")","v":"x"},{"$f":"IF($E11=\"Y\",INDEX(OIQraw,ROW(),Setup!$C$5+COLUMN()-26),\"x\")","v":"x"},{"$f":"IF($E11=\"Y\",INDEX(OIQraw,ROW(),Setup!$C$5+COLUMN()-26),\"x\")","v":"x"},{"$f":"IF($E11=\"Y\",INDEX(OIQraw,ROW(),Setup!$C$5+COLUMN()-26),\"x\")","v":"x"},{"$f":"IF($E11=\"Y\",INDEX(OIQraw,ROW(),Setup!$C$5+COLUMN()-26),\"x\")","v":"x"},{"$f":"IF($E11=\"Y\",INDEX(OIQraw,ROW(),Setup!$C$5+COLUMN()-26),\"x\")","v":"x"},{"$f":"IF($E11=\"Y\",INDEX(OIQraw,ROW(),Setup!$C$5+COLUMN()-26),\"x\")","v":"x"},{"$f":"IF($E11=\"Y\",INDEX(OIQraw,ROW(),Setup!$C$5+COLUMN()-26),\"x\")","v":"x"},{"$f":"IF($E11=\"Y\",INDEX(OIQraw,ROW(),Setup!$C$5+COLUMN()-26),\"x\")","v":"x"},{"$f":"IF($E11=\"Y\",INDEX(OIQraw,ROW(),Setup!$C$5+COLUMN()-26),\"x\")","v":"x"},{"$f":"IF($E11=\"Y\",INDEX(OIQraw,ROW(),Setup!$C$5+COLUMN()-26),\"x\")","v":"x"},{"$f":"IF($E11=\"Y\",INDEX(OIQraw,ROW(),Setup!$C$5+COLUMN()-26),\"x\")","v":"x"},{"$f":"IF($E11=\"Y\",INDEX(OIQraw,ROW(),Setup!$C$5+COLUMN()-26),\"x\")","v":"x"},{"$f":"IF($E11=\"Y\",INDEX(OIQraw,ROW(),Setup!$C$5+COLUMN()-26),\"x\")","v":"x"},{"$f":"IF($E11=\"Y\",INDEX(OIQraw,ROW(),Setup!$C$5+COLUMN()-26),\"x\")","v":"x"},{"$f":"IF($E11=\"Y\",INDEX(OIQraw,ROW(),Setup!$C$5+COLUMN()-26),\"x\")","v":"x"},{"$f":"IF($E11=\"Y\",INDEX(OIQraw,ROW(),Setup!$C$5+COLUMN()-26),\"x\")","v":"x"},{"$f":"IF($E11=\"Y\",INDEX(OIQraw,ROW(),Setup!$C$5+COLUMN()-26),\"x\")","v":"x"},{"$f":"IF($E11=\"Y\",INDEX(OIQraw,ROW(),Setup!$C$5+COLUMN()-26),\"x\")","v":"x"},{"$f":"IF($E11=\"Y\",INDEX(OIQraw,ROW(),Setup!$C$5+COLUMN()-26),\"x\")","v":"x"},{"$f":"IF($E11=\"Y\",INDEX(OIQraw,ROW(),Setup!$C$5+COLUMN()-26),\"x\")","v":"x"},{"$f":"IF($E11=\"Y\",INDEX(OIQraw,ROW(),Setup!$C$5+COLUMN()-26),\"x\")","v":"x"},{"$f":"IF($E11=\"Y\",INDEX(OIQraw,ROW(),Setup!$C$5+COLUMN()-26),\"x\")","v":"x"},{"$f":"IF($E11=\"Y\",INDEX(OIQraw,ROW(),Setup!$C$5+COLUMN()-26),\"x\")","v":"x"},{"$f":"IF($E11=\"Y\",INDEX(OIQraw,ROW(),Setup!$C$5+COLUMN()-26),\"x\")","v":"x"},{"$f":"IF($E11=\"Y\",INDEX(OIQraw,ROW(),Setup!$C$5+COLUMN()-26),\"x\")","v":"x"},{"$f":"IF($E11=\"Y\",INDEX(OIQraw,ROW(),Setup!$C$5+COLUMN()-26),\"x\")","v":"x"},{"$f":"IF($E11=\"Y\",INDEX(OIQraw,ROW(),Setup!$C$5+COLUMN()-26),\"x\")","v":"x"},{"$f":"IF($E11=\"Y\",INDEX(OIQraw,ROW(),Setup!$C$5+COLUMN()-26),\"x\")","v":"x"},{"$f":"IF($E11=\"Y\",INDEX(OIQraw,ROW(),Setup!$C$5+COLUMN()-26),\"x\")","v":"x"},{"$f":"IF($E11=\"Y\",INDEX(OIQraw,ROW(),Setup!$C$5+COLUMN()-26),\"x\")","v":"x"},{"$f":"IF($E11=\"Y\",INDEX(OIQraw,ROW(),Setup!$C$5+COLUMN()-26),\"x\")","v":"x"},{"$f":"IF($E11=\"Y\",INDEX(OIQraw,ROW(),Setup!$C$5+COLUMN()-26),\"x\")","v":"x"},{"$f":"IF($E11=\"Y\",INDEX(OIQraw,ROW(),Setup!$C$5+COLUMN()-26),\"x\")","v":"x"},{"$f":"IF($E11=\"Y\",INDEX(OIQraw,ROW(),Setup!$C$5+COLUMN()-26),\"x\")","v":"x"},{"$f":"IF($E11=\"Y\",INDEX(OIQraw,ROW(),Setup!$C$5+COLUMN()-26),\"x\")","v":"x"},{"$f":"IF($E11=\"Y\",INDEX(OIQraw,ROW(),Setup!$C$5+COLUMN()-26),\"x\")","v":"x"},{"$f":"IF($E11=\"Y\",INDEX(OIQraw,ROW(),Setup!$C$5+COLUMN()-26),\"x\")","v":"x"},{"$f":"IF($E11=\"Y\",INDEX(OIQraw,ROW(),Setup!$C$5+COLUMN()-26),\"x\")","v":"x"},{"$f":"IF($E11=\"Y\",INDEX(OIQraw,ROW(),Setup!$C$5+COLUMN()-26),\"x\")","v":"x"},{"$f":"IF($E11=\"Y\",INDEX(OIQraw,ROW(),Setup!$C$5+COLUMN()-26),\"x\")","v":"x"},{"$f":"IF($E11=\"Y\",INDEX(OIQraw,ROW(),Setup!$C$5+COLUMN()-26),\"x\")","v":"x"},{"$f":"IF($E11=\"Y\",INDEX(OIQraw,ROW(),Setup!$C$5+COLUMN()-26),\"x\")","v":"x"},{"$f":"IF($E11=\"Y\",INDEX(OIQraw,ROW(),Setup!$C$5+COLUMN()-26),\"x\")","v":"x"},{"$f":"IF($E11=\"Y\",INDEX(OIQraw,ROW(),Setup!$C$5+COLUMN()-26),\"x\")","v":"x"},{"$f":"IF($E11=\"Y\",INDEX(OIQraw,ROW(),Setup!$C$5+COLUMN()-26),\"x\")","v":"x"},{"$f":"IF($E11=\"Y\",INDEX(OIQraw,ROW(),Setup!$C$5+COLUMN()-26),\"x\")","v":"x"},{"$f":"IF($E11=\"Y\",INDEX(OIQraw,ROW(),Setup!$C$5+COLUMN()-26),\"x\")","v":"x"},{"$f":"IF($E11=\"Y\",INDEX(OIQraw,ROW(),Setup!$C$5+COLUMN()-26),\"x\")","v":"x"},{"$f":"IF($E11=\"Y\",INDEX(OIQraw,ROW(),Setup!$C$5+COLUMN()-26),\"x\")","v":"x"},{"$f":"IF($E11=\"Y\",INDEX(OIQraw,ROW(),Setup!$C$5+COLUMN()-26),\"x\")","v":"x"},{"$f":"IF($E11=\"Y\",INDEX(OIQraw,ROW(),Setup!$C$5+COLUMN()-26),\"x\")","v":"x"},{"$f":"IF($E11=\"Y\",INDEX(OIQraw,ROW(),Setup!$C$5+COLUMN()-26),\"x\")","v":"x"},{"$f":"IF($E11=\"Y\",INDEX(OIQraw,ROW(),Setup!$C$5+COLUMN()-26),\"x\")","v":"x"},{"$f":"IF($E11=\"Y\",INDEX(OIQraw,ROW(),Setup!$C$5+COLUMN()-26),\"x\")","v":"x"},{"$f":"IF($E11=\"Y\",INDEX(OIQraw,ROW(),Setup!$C$5+COLUMN()-26),\"x\")","v":"x"},{"$f":"IF($E11=\"Y\",INDEX(OIQraw,ROW(),Setup!$C$5+COLUMN()-26),\"x\")","v":"x"},{"$f":"IF($E11=\"Y\",INDEX(OIQraw,ROW(),Setup!$C$5+COLUMN()-26),\"x\")","v":"x"},{"$f":"IF($E11=\"Y\",INDEX(OIQraw,ROW(),Setup!$C$5+COLUMN()-26),\"x\")","v":"x"},{"$f":"IF($E11=\"Y\",INDEX(OIQraw,ROW(),Setup!$C$5+COLUMN()-26),\"x\")","v":"x"},{"$f":"IF($E11=\"Y\",INDEX(OIQraw,ROW(),Setup!$C$5+COLUMN()-26),\"x\")","v":"x"},{"$f":"IF($E11=\"Y\",INDEX(OIQraw,ROW(),Setup!$C$5+COLUMN()-26),\"x\")","v":"x"},{"$f":"IF($E11=\"Y\",INDEX(OIQraw,ROW(),Setup!$C$5+COLUMN()-26),\"x\")","v":"x"},{"$f":"IF($E11=\"Y\",INDEX(OIQraw,ROW(),Setup!$C$5+COLUMN()-26),\"x\")","v":"x"},{"$f":"IF($E11=\"Y\",INDEX(OIQraw,ROW(),Setup!$C$5+COLUMN()-26),\"x\")","v":"x"},{"$f":"IF($E11=\"Y\",INDEX(OIQraw,ROW(),Setup!$C$5+COLUMN()-26),\"x\")","v":"x"},{"$f":"IF($E11=\"Y\",INDEX(OIQraw,ROW(),Setup!$C$5+COLUMN()-26),\"x\")","v":"x"},{"$f":"IF($E11=\"Y\",INDEX(OIQraw,ROW(),Setup!$C$5+COLUMN()-26),\"x\")","v":"x"},{"$f":"IF($E11=\"Y\",INDEX(OIQraw,ROW(),Setup!$C$5+COLUMN()-26),\"x\")","v":"x"},{"$f":"IF($E11=\"Y\",INDEX(OIQraw,ROW(),Setup!$C$5+COLUMN()-26),\"x\")","v":"x"},{"$f":"IF($E11=\"Y\",INDEX(OIQraw,ROW(),Setup!$C$5+COLUMN()-26),\"x\")","v":"x"},{"$f":"IF($E11=\"Y\",INDEX(OIQraw,ROW(),Setup!$C$5+COLUMN()-26),\"x\")","v":"x"},{"$f":"IF($E11=\"Y\",INDEX(OIQraw,ROW(),Setup!$C$5+COLUMN()-26),\"x\")","v":"x"},{"$f":"IF($E11=\"Y\",INDEX(OIQraw,ROW(),Setup!$C$5+COLUMN()-26),\"x\")","v":"x"},{"$f":"IF($E11=\"Y\",INDEX(OIQraw,ROW(),Setup!$C$5+COLUMN()-26),\"x\")","v":"x"},{"$f":"IF($E11=\"Y\",INDEX(OIQraw,ROW(),Setup!$C$5+COLUMN()-26),\"x\")","v":"x"},{"$f":"IF($E11=\"Y\",INDEX(OIQraw,ROW(),Setup!$C$5+COLUMN()-26),\"x\")","v":"x"},{"$f":"IF($E11=\"Y\",INDEX(OIQraw,ROW(),Setup!$C$5+COLUMN()-26),\"x\")","v":"x"},{"$f":"IF($E11=\"Y\",INDEX(OIQraw,ROW(),Setup!$C$5+COLUMN()-26),\"x\")","v":"x"},{"$f":"IF($E11=\"Y\",INDEX(OIQraw,ROW(),Setup!$C$5+COLUMN()-26),\"x\")","v":"x"},{"$f":"IF($E11=\"Y\",INDEX(OIQraw,ROW(),Setup!$C$5+COLUMN()-26),\"x\")","v":"x"},{"$f":"IF($E11=\"Y\",INDEX(OIQraw,ROW(),Setup!$C$5+COLUMN()-26),\"x\")","v":"x"},{"$f":"IF($E11=\"Y\",INDEX(OIQraw,ROW(),Setup!$C$5+COLUMN()-26),\"x\")","v":"x"},{"$f":"IF($E11=\"Y\",INDEX(OIQraw,ROW(),Setup!$C$5+COLUMN()-26),\"x\")","v":"x"},{"$f":"IF($E11=\"Y\",INDEX(OIQraw,ROW(),Setup!$C$5+COLUMN()-26),\"x\")","v":"x"},{"$f":"IF($E11=\"Y\",INDEX(OIQraw,ROW(),Setup!$C$5+COLUMN()-26),\"x\")","v":"x"},{"$f":"IF($E11=\"Y\",INDEX(OIQraw,ROW(),Setup!$C$5+COLUMN()-26),\"x\")","v":"x"},{"$f":"IF($E11=\"Y\",INDEX(OIQraw,ROW(),Setup!$C$5+COLUMN()-26),\"x\")","v":"x"},{"$f":"IF($E11=\"Y\",INDEX(OIQraw,ROW(),Setup!$C$5+COLUMN()-26),\"x\")","v":"x"},{"$f":"IF($E11=\"Y\",INDEX(OIQraw,ROW(),Setup!$C$5+COLUMN()-26),\"x\")","v":"x"},{"$f":"IF($E11=\"Y\",INDEX(OIQraw,ROW(),Setup!$C$5+COLUMN()-26),\"x\")","v":"x"},{"$f":"IF($E11=\"Y\",INDEX(OIQraw,ROW(),Setup!$C$5+COLUMN()-26),\"x\")","v":"x"},{"$f":"IF($E11=\"Y\",INDEX(OIQraw,ROW(),Setup!$C$5+COLUMN()-26),\"x\")","v":"x"},{"$f":"IF($E11=\"Y\",INDEX(OIQraw,ROW(),Setup!$C$5+COLUMN()-26),\"x\")","v":"x"},{"$f":"IF($E11=\"Y\",INDEX(OIQraw,ROW(),Setup!$C$5+COLUMN()-26),\"x\")","v":"x"},{"$f":"IF($E11=\"Y\",INDEX(OIQraw,ROW(),Setup!$C$5+COLUMN()-26),\"x\")","v":"x"},{"$f":"IF($E11=\"Y\",INDEX(OIQraw,ROW(),Setup!$C$5+COLUMN()-26),\"x\")","v":"x"},{"$f":"IF($E11=\"Y\",INDEX(OIQraw,ROW(),Setup!$C$5+COLUMN()-26),\"x\")","v":"x"},{"$f":"IF($E11=\"Y\",INDEX(OIQraw,ROW(),Setup!$C$5+COLUMN()-26),\"x\")","v":"x"},{"$f":"IF($E11=\"Y\",INDEX(OIQraw,ROW(),Setup!$C$5+COLUMN()-26),\"x\")","v":"x"},{"$f":"IF($E11=\"Y\",INDEX(OIQraw,ROW(),Setup!$C$5+COLUMN()-26),\"x\")","v":"x"},{"$f":"IF($E11=\"Y\",INDEX(OIQraw,ROW(),Setup!$C$5+COLUMN()-26),\"x\")","v":"x"},{"$f":"IF($E11=\"Y\",INDEX(OIQraw,ROW(),Setup!$C$5+COLUMN()-26),\"x\")","v":"x"},{"$f":"IF($E11=\"Y\",INDEX(OIQraw,ROW(),Setup!$C$5+COLUMN()-26),\"x\")","v":"x"},{"$f":"IF($E11=\"Y\",INDEX(OIQraw,ROW(),Setup!$C$5+COLUMN()-26),\"x\")","v":"x"},{"$f":"IF($E11=\"Y\",INDEX(OIQraw,ROW(),Setup!$C$5+COLUMN()-26),\"x\")","v":"x"},{"$f":"IF($E11=\"Y\",INDEX(OIQraw,ROW(),Setup!$C$5+COLUMN()-26),\"x\")","v":"x"},{"$f":"IF($E11=\"Y\",INDEX(OIQraw,ROW(),Setup!$C$5+COLUMN()-26),\"x\")","v":"x"},{"$f":"IF($E11=\"Y\",INDEX(OIQraw,ROW(),Setup!$C$5+COLUMN()-26),\"x\")","v":"x"},{"$f":"IF($E11=\"Y\",INDEX(OIQraw,ROW(),Setup!$C$5+COLUMN()-26),\"x\")","v":"x"},{"$f":"IF($E11=\"Y\",INDEX(OIQraw,ROW(),Setup!$C$5+COLUMN()-26),\"x\")","v":"x"},{"$f":"IF($E11=\"Y\",INDEX(OIQraw,ROW(),Setup!$C$5+COLUMN()-26),\"x\")","v":"x"},{"$f":"IF($E11=\"Y\",INDEX(OIQraw,ROW(),Setup!$C$5+COLUMN()-26),\"x\")","v":"x"},{"$f":"IF($E11=\"Y\",INDEX(OIQraw,ROW(),Setup!$C$5+COLUMN()-26),\"x\")","v":"x"},{"$f":"IF($E11=\"Y\",INDEX(OIQraw,ROW(),Setup!$C$5+COLUMN()-26),\"x\")","v":"x"},{"$f":"IF($E11=\"Y\",INDEX(OIQraw,ROW(),Setup!$C$5+COLUMN()-26),\"x\")","v":"x"},{"$f":"IF($E11=\"Y\",INDEX(OIQraw,ROW(),Setup!$C$5+COLUMN()-26),\"x\")","v":"x"},{"$f":"IF($E11=\"Y\",INDEX(OIQraw,ROW(),Setup!$C$5+COLUMN()-26),\"x\")","v":"x"},{"$f":"IF($E11=\"Y\",INDEX(OIQraw,ROW(),Setup!$C$5+COLUMN()-26),\"x\")","v":"x"},{"$f":"IF($E11=\"Y\",INDEX(OIQraw,ROW(),Setup!$C$5+COLUMN()-26),\"x\")","v":"x"},{"$f":"IF($E11=\"Y\",INDEX(OIQraw,ROW(),Setup!$C$5+COLUMN()-26),\"x\")","v":"x"},{"$f":"IF($E11=\"Y\",INDEX(OIQraw,ROW(),Setup!$C$5+COLUMN()-26),\"x\")","v":"x"},{"$f":"IF($E11=\"Y\",INDEX(OIQraw,ROW(),Setup!$C$5+COLUMN()-26),\"x\")","v":"x"},{"$f":"IF($E11=\"Y\",INDEX(OIQraw,ROW(),Setup!$C$5+COLUMN()-26),\"x\")","v":"x"},{"$f":"IF($E11=\"Y\",INDEX(OIQraw,ROW(),Setup!$C$5+COLUMN()-26),\"x\")","v":"x"},{"$f":"IF($E11=\"Y\",INDEX(OIQraw,ROW(),Setup!$C$5+COLUMN()-26),\"x\")","v":"x"},{"$f":"IF($E11=\"Y\",INDEX(OIQraw,ROW(),Setup!$C$5+COLUMN()-26),\"x\")","v":"x"},{"$f":"IF($E11=\"Y\",INDEX(OIQraw,ROW(),Setup!$C$5+COLUMN()-26),\"x\")","v":"x"},{"$f":"IF($E11=\"Y\",INDEX(OIQraw,ROW(),Setup!$C$5+COLUMN()-26),\"x\")","v":"x"},{"$f":"IF($E11=\"Y\",INDEX(OIQraw,ROW(),Setup!$C$5+COLUMN()-26),\"x\")","v":"x"},{"$f":"IF($E11=\"Y\",INDEX(OIQraw,ROW(),Setup!$C$5+COLUMN()-26),\"x\")","v":"x"},{"$f":"IF($E11=\"Y\",INDEX(OIQraw,ROW(),Setup!$C$5+COLUMN()-26),\"x\")","v":"x"},{"$f":"IF($E11=\"Y\",INDEX(OIQraw,ROW(),Setup!$C$5+COLUMN()-26),\"x\")","v":"x"},{"$f":"IF($E11=\"Y\",INDEX(OIQraw,ROW(),Setup!$C$5+COLUMN()-26),\"x\")","v":"x"},{"$f":"IF($E11=\"Y\",INDEX(OIQraw,ROW(),Setup!$C$5+COLUMN()-26),\"x\")","v":"x"},{"$f":"IF($E11=\"Y\",INDEX(OIQraw,ROW(),Setup!$C$5+COLUMN()-26),\"x\")","v":"x"},{"$f":"IF($E11=\"Y\",INDEX(OIQraw,ROW(),Setup!$C$5+COLUMN()-26),\"x\")","v":"x"},{"$f":"IF($E11=\"Y\",INDEX(OIQraw,ROW(),Setup!$C$5+COLUMN()-26),\"x\")","v":"x"},{"$f":"IF($E11=\"Y\",INDEX(OIQraw,ROW(),Setup!$C$5+COLUMN()-26),\"x\")","v":"x"},{"$f":"IF($E11=\"Y\",INDEX(OIQraw,ROW(),Setup!$C$5+COLUMN()-26),\"x\")","v":"x"},{"$f":"IF($E11=\"Y\",INDEX(OIQraw,ROW(),Setup!$C$5+COLUMN()-26),\"x\")","v":"x"},{"$f":"IF($E11=\"Y\",INDEX(OIQraw,ROW(),Setup!$C$5+COLUMN()-26),\"x\")","v":"x"},{"$f":"IF($E11=\"Y\",INDEX(OIQraw,ROW(),Setup!$C$5+COLUMN()-26),\"x\")","v":"x"},{"$f":"IF($E11=\"Y\",INDEX(OIQraw,ROW(),Setup!$C$5+COLUMN()-26),\"x\")","v":"x"},{"$f":"IF($E11=\"Y\",INDEX(OIQraw,ROW(),Setup!$C$5+COLUMN()-26),\"x\")","v":"x"},{"$f":"IF($E11=\"Y\",INDEX(OIQraw,ROW(),Setup!$C$5+COLUMN()-26),\"x\")","v":"x"},{"$f":"IF($E11=\"Y\",INDEX(OIQraw,ROW(),Setup!$C$5+COLUMN()-26),\"x\")","v":"x"},{"$f":"IF($E11=\"Y\",INDEX(OIQraw,ROW(),Setup!$C$5+COLUMN()-26),\"x\")","v":"x"},{"$f":"IF($E11=\"Y\",INDEX(OIQraw,ROW(),Setup!$C$5+COLUMN()-26),\"x\")","v":"x"},{"$f":"IF($E11=\"Y\",INDEX(OIQraw,ROW(),Setup!$C$5+COLUMN()-26),\"x\")","v":"x"},{"$f":"IF($E11=\"Y\",INDEX(OIQraw,ROW(),Setup!$C$5+COLUMN()-26),\"x\")","v":"x"},{"$f":"IF($E11=\"Y\",INDEX(OIQraw,ROW(),Setup!$C$5+COLUMN()-26),\"x\")","v":"x"},{"$f":"IF($E11=\"Y\",INDEX(OIQraw,ROW(),Setup!$C$5+COLUMN()-26),\"x\")","v":"x"},{"$f":"IF($E11=\"Y\",INDEX(OIQraw,ROW(),Setup!$C$5+COLUMN()-26),\"x\")","v":"x"},{"$f":"IF($E11=\"Y\",INDEX(OIQraw,ROW(),Setup!$C$5+COLUMN()-26),\"x\")","v":"x"},{"$f":"IF($E11=\"Y\",INDEX(OIQraw,ROW(),Setup!$C$5+COLUMN()-26),\"x\")","v":"x"},{"$f":"IF($E11=\"Y\",INDEX(OIQraw,ROW(),Setup!$C$5+COLUMN()-26),\"x\")","v":"x"},{"$f":"IF($E11=\"Y\",INDEX(OIQraw,ROW(),Setup!$C$5+COLUMN()-26),\"x\")","v":"x"},{"$f":"IF($E11=\"Y\",INDEX(OIQraw,ROW(),Setup!$C$5+COLUMN()-26),\"x\")","v":"x"},{"$f":"IF($E11=\"Y\",INDEX(OIQraw,ROW(),Setup!$C$5+COLUMN()-26),\"x\")","v":"x"},{"$f":"IF($E11=\"Y\",INDEX(OIQraw,ROW(),Setup!$C$5+COLUMN()-26),\"x\")","v":"x"},{"$f":"IF($E11=\"Y\",INDEX(OIQraw,ROW(),Setup!$C$5+COLUMN()-26),\"x\")","v":"x"},{"$f":"IF($E11=\"Y\",INDEX(OIQraw,ROW(),Setup!$C$5+COLUMN()-26),\"x\")","v":"x"},{"$f":"IF($E11=\"Y\",INDEX(OIQraw,ROW(),Setup!$C$5+COLUMN()-26),\"x\")","v":"x"},{"$f":"IF($E11=\"Y\",INDEX(OIQraw,ROW(),Setup!$C$5+COLUMN()-26),\"x\")","v":"x"},{"$f":"IF($E11=\"Y\",INDEX(OIQraw,ROW(),Setup!$C$5+COLUMN()-26),\"x\")","v":"x"},{"$f":"IF($E11=\"Y\",INDEX(OIQraw,ROW(),Setup!$C$5+COLUMN()-26),\"x\")","v":"x"},{"$f":"IF($E11=\"Y\",INDEX(OIQraw,ROW(),Setup!$C$5+COLUMN()-26),\"x\")","v":"x"},{"$f":"IF($E11=\"Y\",INDEX(OIQraw,ROW(),Setup!$C$5+COLUMN()-26),\"x\")","v":"x"},{"$f":"IF($E11=\"Y\",INDEX(OIQraw,ROW(),Setup!$C$5+COLUMN()-26),\"x\")","v":"x"},{"$f":"IF($E11=\"Y\",INDEX(OIQraw,ROW(),Setup!$C$5+COLUMN()-26),\"x\")","v":"x"},{"$f":"IF($E11=\"Y\",INDEX(OIQraw,ROW(),Setup!$C$5+COLUMN()-26),\"x\")","v":"x"},{"$f":"IF($E11=\"Y\",INDEX(OIQraw,ROW(),Setup!$C$5+COLUMN()-26),\"x\")","v":"x"},{"$f":"IF($E11=\"Y\",INDEX(OIQraw,ROW(),Setup!$C$5+COLUMN()-26),\"x\")","v":"x"},{"$f":"IF($E11=\"Y\",INDEX(OIQraw,ROW(),Setup!$C$5+COLUMN()-26),\"x\")","v":"x"},{"$f":"IF($E11=\"Y\",INDEX(OIQraw,ROW(),Setup!$C$5+COLUMN()-26),\"x\")","v":"x"},{"$f":"IF($E11=\"Y\",INDEX(OIQraw,ROW(),Setup!$C$5+COLUMN()-26),\"x\")","v":"x"},{"$f":"IF($E11=\"Y\",INDEX(OIQraw,ROW(),Setup!$C$5+COLUMN()-26),\"x\")","v":"x"},{"$f":"IF($E11=\"Y\",INDEX(OIQraw,ROW(),Setup!$C$5+COLUMN()-26),\"x\")","v":"x"},{"$f":"IF($E11=\"Y\",INDEX(OIQraw,ROW(),Setup!$C$5+COLUMN()-26),\"x\")","v":"x"},{"$f":"IF($E11=\"Y\",INDEX(OIQraw,ROW(),Setup!$C$5+COLUMN()-26),\"x\")","v":"x"},{"$f":"IF($E11=\"Y\",INDEX(OIQraw,ROW(),Setup!$C$5+COLUMN()-26),\"x\")","v":"x"},{"$f":"IF($E11=\"Y\",INDEX(OIQraw,ROW(),Setup!$C$5+COLUMN()-26),\"x\")","v":"x"},{"$f":"IF($E11=\"Y\",INDEX(OIQraw,ROW(),Setup!$C$5+COLUMN()-26),\"x\")","v":"x"},{"$f":"IF($E11=\"Y\",INDEX(OIQraw,ROW(),Setup!$C$5+COLUMN()-26),\"x\")","v":"x"},{"$f":"IF($E11=\"Y\",INDEX(OIQraw,ROW(),Setup!$C$5+COLUMN()-26),\"x\")","v":"x"},{"$f":"IF($E11=\"Y\",INDEX(OIQraw,ROW(),Setup!$C$5+COLUMN()-26),\"x\")","v":"x"},{"$f":"IF($E11=\"Y\",INDEX(OIQraw,ROW(),Setup!$C$5+COLUMN()-26),\"x\")","v":"x"},{"$f":"IF($E11=\"Y\",INDEX(OIQraw,ROW(),Setup!$C$5+COLUMN()-26),\"x\")","v":"x"},{"$f":"IF($E11=\"Y\",INDEX(OIQraw,ROW(),Setup!$C$5+COLUMN()-26),\"x\")","v":"x"},{"$f":"IF($E11=\"Y\",INDEX(OIQraw,ROW(),Setup!$C$5+COLUMN()-26),\"x\")","v":"x"},{"$f":"IF($E11=\"Y\",INDEX(OIQraw,ROW(),Setup!$C$5+COLUMN()-26),\"x\")","v":"x"},{"$f":"IF($E11=\"Y\",INDEX(OIQraw,ROW(),Setup!$C$5+COLUMN()-26),\"x\")","v":"x"},{"$f":"IF($E11=\"Y\",INDEX(OIQraw,ROW(),Setup!$C$5+COLUMN()-26),\"x\")","v":"x"},{"$f":"IF($E11=\"Y\",INDEX(OIQraw,ROW(),Setup!$C$5+COLUMN()-26),\"x\")","v":"x"},{"$f":"IF($E11=\"Y\",INDEX(OIQraw,ROW(),Setup!$C$5+COLUMN()-26),\"x\")","v":"x"},{"$f":"IF($E11=\"Y\",INDEX(OIQraw,ROW(),Setup!$C$5+COLUMN()-26),\"x\")","v":"x"},{"$f":"IF($E11=\"Y\",INDEX(OIQraw,ROW(),Setup!$C$5+COLUMN()-26),\"x\")","v":"x"},{"$f":"IF($E11=\"Y\",INDEX(OIQraw,ROW(),Setup!$C$5+COLUMN()-26),\"x\")","v":"x"},{"$f":"IF($E11=\"Y\",INDEX(OIQraw,ROW(),Setup!$C$5+COLUMN()-26),\"x\")","v":"x"},{"$f":"IF($E11=\"Y\",INDEX(OIQraw,ROW(),Setup!$C$5+COLUMN()-26),\"x\")","v":"x"},{"$f":"IF($E11=\"Y\",INDEX(OIQraw,ROW(),Setup!$C$5+COLUMN()-26),\"x\")","v":"x"},{"$f":"IF($E11=\"Y\",INDEX(OIQraw,ROW(),Setup!$C$5+COLUMN()-26),\"x\")","v":"x"},{"$f":"IF($E11=\"Y\",INDEX(OIQraw,ROW(),Setup!$C$5+COLUMN()-26),\"x\")","v":"x"},{"$f":"IF($E11=\"Y\",INDEX(OIQraw,ROW(),Setup!$C$5+COLUMN()-26),\"x\")","v":"x"},{"$f":"IF($E11=\"Y\",INDEX(OIQraw,ROW(),Setup!$C$5+COLUMN()-26),\"x\")","v":"x"},{"$f":"IF($E11=\"Y\",INDEX(OIQraw,ROW(),Setup!$C$5+COLUMN()-26),\"x\")","v":"x"},{"$f":"IF($E11=\"Y\",INDEX(OIQraw,ROW(),Setup!$C$5+COLUMN()-26),\"x\")","v":"x"},{"$f":"IF($E11=\"Y\",INDEX(OIQraw,ROW(),Setup!$C$5+COLUMN()-26),\"x\")","v":"x"},{"$f":"IF($E11=\"Y\",INDEX(OIQraw,ROW(),Setup!$C$5+COLUMN()-26),\"x\")","v":"x"},{"$f":"IF($E11=\"Y\",INDEX(OIQraw,ROW(),Setup!$C$5+COLUMN()-26),\"x\")","v":"x"},{"$f":"IF($E11=\"Y\",INDEX(OIQraw,ROW(),Setup!$C$5+COLUMN()-26),\"x\")","v":"x"},{"$f":"IF($E11=\"Y\",INDEX(OIQraw,ROW(),Setup!$C$5+COLUMN()-26),\"x\")","v":"x"},{"$f":"IF($E11=\"Y\",INDEX(OIQraw,ROW(),Setup!$C$5+COLUMN()-26),\"x\")","v":"x"},{"$f":"IF($E11=\"Y\",INDEX(OIQraw,ROW(),Setup!$C$5+COLUMN()-26),\"x\")","v":"x"},{"$f":"IF($E11=\"Y\",INDEX(OIQraw,ROW(),Setup!$C$5+COLUMN()-26),\"x\")","v":"x"},{"$f":"IF($E11=\"Y\",INDEX(OIQraw,ROW(),Setup!$C$5+COLUMN()-26),\"x\")","v":"x"},{"$f":"IF($E11=\"Y\",INDEX(OIQraw,ROW(),Setup!$C$5+COLUMN()-26),\"x\")","v":"x"},{"$f":"IF($E11=\"Y\",INDEX(OIQraw,ROW(),Setup!$C$5+COLUMN()-26),\"x\")","v":"x"},{"$f":"IF($E11=\"Y\",INDEX(OIQraw,ROW(),Setup!$C$5+COLUMN()-26),\"x\")","v":"x"},{"$f":"IF($E11=\"Y\",INDEX(OIQraw,ROW(),Setup!$C$5+COLUMN()-26),\"x\")","v":"x"},{"$f":"IF($E11=\"Y\",INDEX(OIQraw,ROW(),Setup!$C$5+COLUMN()-26),\"x\")","v":"x"},{"$f":"IF($E11=\"Y\",INDEX(OIQraw,ROW(),Setup!$C$5+COLUMN()-26),\"x\")","v":"x"},{"$f":"IF($E11=\"Y\",INDEX(OIQraw,ROW(),Setup!$C$5+COLUMN()-26),\"x\")","v":"x"},{"$f":"IF($E11=\"Y\",INDEX(OIQraw,ROW(),Setup!$C$5+COLUMN()-26),\"x\")","v":"x"},{"$f":"IF($E11=\"Y\",INDEX(OIQraw,ROW(),Setup!$C$5+COLUMN()-26),\"x\")","v":"x"},{"$f":"IF($E11=\"Y\",INDEX(OIQraw,ROW(),Setup!$C$5+COLUMN()-26),\"x\")","v":"x"},{"$f":"IF($E11=\"Y\",INDEX(OIQraw,ROW(),Setup!$C$5+COLUMN()-26),\"x\")","v":"x"},{"$f":"IF($E11=\"Y\",INDEX(OIQraw,ROW(),Setup!$C$5+COLUMN()-26),\"x\")","v":"x"},{"$f":"IF($E11=\"Y\",INDEX(OIQraw,ROW(),Setup!$C$5+COLUMN()-26),\"x\")","v":"x"},{"$f":"IF($E11=\"Y\",INDEX(OIQraw,ROW(),Setup!$C$5+COLUMN()-26),\"x\")","v":"x"},{"$f":"IF($E11=\"Y\",INDEX(OIQraw,ROW(),Setup!$C$5+COLUMN()-26),\"x\")","v":"x"},{"$f":"IF($E11=\"Y\",INDEX(OIQraw,ROW(),Setup!$C$5+COLUMN()-26),\"x\")","v":"x"},{"$f":"IF($E11=\"Y\",INDEX(OIQraw,ROW(),Setup!$C$5+COLUMN()-26),\"x\")","v":"x"},{"$f":"IF($E11=\"Y\",INDEX(OIQraw,ROW(),Setup!$C$5+COLUMN()-26),\"x\")","v":"x"},{"$f":"IF($E11=\"Y\",INDEX(OIQraw,ROW(),Setup!$C$5+COLUMN()-26),\"x\")","v":"x"},{"$f":"IF($E11=\"Y\",INDEX(OIQraw,ROW(),Setup!$C$5+COLUMN()-26),\"x\")","v":"x"},{"$f":"IF($E11=\"Y\",INDEX(OIQraw,ROW(),Setup!$C$5+COLUMN()-26),\"x\")","v":"x"},{"$f":"IF($E11=\"Y\",INDEX(OIQraw,ROW(),Setup!$C$5+COLUMN()-26),\"x\")","v":"x"},{"$f":"IF($E11=\"Y\",INDEX(OIQraw,ROW(),Setup!$C$5+COLUMN()-26),\"x\")","v":"x"},{"$f":"IF($E11=\"Y\",INDEX(OIQraw,ROW(),Setup!$C$5+COLUMN()-26),\"x\")","v":"x"},{"$f":"IF($E11=\"Y\",INDEX(OIQraw,ROW(),Setup!$C$5+COLUMN()-26),\"x\")","v":"x"},{"$f":"IF($E11=\"Y\",INDEX(OIQraw,ROW(),Setup!$C$5+COLUMN()-26),\"x\")","v":"x"},{"$f":"IF($E11=\"Y\",INDEX(OIQraw,ROW(),Setup!$C$5+COLUMN()-26),\"x\")","v":"x"}]
[1,"","",{"$f":"IF(ISERROR(FIND(\"Withdrew\",RawScores!B16)),RawScores!B16,RIGHT(RawScores!B16,LEN(RawScores!B16)-17))&\", \"&RawScores!C16","v":", "},{"$f":"IF(OR(ISERROR(FIND(\"Withdrew\",RawScores!B16))=FALSE,INDEX(OIQraw,ROW(),LastInputCol-3)=0),\"N\",IF(AND(Setup!$B$22=\"Yes\",INDEX(OIQraw,ROW(),LastInputCol)=1),\"N\",\"Y\"))","v":"N"},"X","X","X",{"$f":"IF(AND(ISNUMBER(F12),F12>Setup!$B$14-1),1,0)","v":0},{"$f":"IF(AND(F12>Setup!$B$14-1,Conv!H12<5),1,0)","v":0},{"$f":"IF(AND(F12>Setup!$B$14-1,Conv!G12=\"F\"),1,0)","v":0},"","","","","","","","","","","","","X","X",{"$f":"IF($E12=\"Y\",INDEX(OIQraw,ROW(),Setup!$C$5+COLUMN()-26),\"x\")","v":"x"},{"$f":"IF($E12=\"Y\",INDEX(OIQraw,ROW(),Setup!$C$5+COLUMN()-26),\"x\")","v":"x"},{"$f":"IF($E12=\"Y\",INDEX(OIQraw,ROW(),Setup!$C$5+COLUMN()-26),\"x\")","v":"x"},{"$f":"IF($E12=\"Y\",INDEX(OIQraw,ROW(),Setup!$C$5+COLUMN()-26),\"x\")","v":"x"},{"$f":"IF($E12=\"Y\",INDEX(OIQraw,ROW(),Setup!$C$5+COLUMN()-26),\"x\")","v":"x"},{"$f":"IF($E12=\"Y\",INDEX(OIQraw,ROW(),Setup!$C$5+COLUMN()-26),\"x\")","v":"x"},{"$f":"IF($E12=\"Y\",INDEX(OIQraw,ROW(),Setup!$C$5+COLUMN()-26),\"x\")","v":"x"},{"$f":"IF($E12=\"Y\",INDEX(OIQraw,ROW(),Setup!$C$5+COLUMN()-26),\"x\")","v":"x"},{"$f":"IF($E12=\"Y\",INDEX(OIQraw,ROW(),Setup!$C$5+COLUMN()-26),\"x\")","v":"x"},{"$f":"IF($E12=\"Y\",INDEX(OIQraw,ROW(),Setup!$C$5+COLUMN()-26),\"x\")","v":"x"},{"$f":"IF($E12=\"Y\",INDEX(OIQraw,ROW(),Setup!$C$5+COLUMN()-26),\"x\")","v":"x"},{"$f":"IF($E12=\"Y\",INDEX(OIQraw,ROW(),Setup!$C$5+COLUMN()-26),\"x\")","v":"x"},{"$f":"IF($E12=\"Y\",INDEX(OIQraw,ROW(),Setup!$C$5+COLUMN()-26),\"x\")","v":"x"},{"$f":"IF($E12=\"Y\",INDEX(OIQraw,ROW(),Setup!$C$5+COLUMN()-26),\"x\")","v":"x"},{"$f":"IF($E12=\"Y\",INDEX(OIQraw,ROW(),Setup!$C$5+COLUMN()-26),\"x\")","v":"x"},{"$f":"IF($E12=\"Y\",INDEX(OIQraw,ROW(),Setup!$C$5+COLUMN()-26),\"x\")","v":"x"},{"$f":"IF($E12=\"Y\",INDEX(OIQraw,ROW(),Setup!$C$5+COLUMN()-26),\"x\")","v":"x"},{"$f":"IF($E12=\"Y\",INDEX(OIQraw,ROW(),Setup!$C$5+COLUMN()-26),\"x\")","v":"x"},{"$f":"IF($E12=\"Y\",INDEX(OIQraw,ROW(),Setup!$C$5+COLUMN()-26),\"x\")","v":"x"},{"$f":"IF($E12=\"Y\",INDEX(OIQraw,ROW(),Setup!$C$5+COLUMN()-26),\"x\")","v":"x"},{"$f":"IF($E12=\"Y\",INDEX(OIQraw,ROW(),Setup!$C$5+COLUMN()-26),\"x\")","v":"x"},{"$f":"IF($E12=\"Y\",INDEX(OIQraw,ROW(),Setup!$C$5+COLUMN()-26),\"x\")","v":"x"},{"$f":"IF($E12=\"Y\",INDEX(OIQraw,ROW(),Setup!$C$5+COLUMN()-26),\"x\")","v":"x"},{"$f":"IF($E12=\"Y\",INDEX(OIQraw,ROW(),Setup!$C$5+COLUMN()-26),\"x\")","v":"x"},{"$f":"IF($E12=\"Y\",INDEX(OIQraw,ROW(),Setup!$C$5+COLUMN()-26),\"x\")","v":"x"},{"$f":"IF($E12=\"Y\",INDEX(OIQraw,ROW(),Setup!$C$5+COLUMN()-26),\"x\")","v":"x"},{"$f":"IF($E12=\"Y\",INDEX(OIQraw,ROW(),Setup!$C$5+COLUMN()-26),\"x\")","v":"x"},{"$f":"IF($E12=\"Y\",INDEX(OIQraw,ROW(),Setup!$C$5+COLUMN()-26),\"x\")","v":"x"},{"$f":"IF($E12=\"Y\",INDEX(OIQraw,ROW(),Setup!$C$5+COLUMN()-26),\"x\")","v":"x"},{"$f":"IF($E12=\"Y\",INDEX(OIQraw,ROW(),Setup!$C$5+COLUMN()-26),\"x\")","v":"x"},{"$f":"IF($E12=\"Y\",INDEX(OIQraw,ROW(),Setup!$C$5+COLUMN()-26),\"x\")","v":"x"},{"$f":"IF($E12=\"Y\",INDEX(OIQraw,ROW(),Setup!$C$5+COLUMN()-26),\"x\")","v":"x"},{"$f":"IF($E12=\"Y\",INDEX(OIQraw,ROW(),Setup!$C$5+COLUMN()-26),\"x\")","v":"x"},{"$f":"IF($E12=\"Y\",INDEX(OIQraw,ROW(),Setup!$C$5+COLUMN()-26),\"x\")","v":"x"},{"$f":"IF($E12=\"Y\",INDEX(OIQraw,ROW(),Setup!$C$5+COLUMN()-26),\"x\")","v":"x"},{"$f":"IF($E12=\"Y\",INDEX(OIQraw,ROW(),Setup!$C$5+COLUMN()-26),\"x\")","v":"x"},{"$f":"IF($E12=\"Y\",INDEX(OIQraw,ROW(),Setup!$C$5+COLUMN()-26),\"x\")","v":"x"},{"$f":"IF($E12=\"Y\",INDEX(OIQraw,ROW(),Setup!$C$5+COLUMN()-26),\"x\")","v":"x"},{"$f":"IF($E12=\"Y\",INDEX(OIQraw,ROW(),Setup!$C$5+COLUMN()-26),\"x\")","v":"x"},{"$f":"IF($E12=\"Y\",INDEX(OIQraw,ROW(),Setup!$C$5+COLUMN()-26),\"x\")","v":"x"},{"$f":"IF($E12=\"Y\",INDEX(OIQraw,ROW(),Setup!$C$5+COLUMN()-26),\"x\")","v":"x"},{"$f":"IF($E12=\"Y\",INDEX(OIQraw,ROW(),Setup!$C$5+COLUMN()-26),\"x\")","v":"x"},{"$f":"IF($E12=\"Y\",INDEX(OIQraw,ROW(),Setup!$C$5+COLUMN()-26),\"x\")","v":"x"},{"$f":"IF($E12=\"Y\",INDEX(OIQraw,ROW(),Setup!$C$5+COLUMN()-26),\"x\")","v":"x"},{"$f":"IF($E12=\"Y\",INDEX(OIQraw,ROW(),Setup!$C$5+COLUMN()-26),\"x\")","v":"x"},{"$f":"IF($E12=\"Y\",INDEX(OIQraw,ROW(),Setup!$C$5+COLUMN()-26),\"x\")","v":"x"},{"$f":"IF($E12=\"Y\",INDEX(OIQraw,ROW(),Setup!$C$5+COLUMN()-26),\"x\")","v":"x"},{"$f":"IF($E12=\"Y\",INDEX(OIQraw,ROW(),Setup!$C$5+COLUMN()-26),\"x\")","v":"x"},{"$f":"IF($E12=\"Y\",INDEX(OIQraw,ROW(),Setup!$C$5+COLUMN()-26),\"x\")","v":"x"},{"$f":"IF($E12=\"Y\",INDEX(OIQraw,ROW(),Setup!$C$5+COLUMN()-26),\"x\")","v":"x"},{"$f":"IF($E12=\"Y\",INDEX(OIQraw,ROW(),Setup!$C$5+COLUMN()-26),\"x\")","v":"x"},{"$f":"IF($E12=\"Y\",INDEX(OIQraw,ROW(),Setup!$C$5+COLUMN()-26),\"x\")","v":"x"},{"$f":"IF($E12=\"Y\",INDEX(OIQraw,ROW(),Setup!$C$5+COLUMN()-26),\"x\")","v":"x"},{"$f":"IF($E12=\"Y\",INDEX(OIQraw,ROW(),Setup!$C$5+COLUMN()-26),\"x\")","v":"x"},{"$f":"IF($E12=\"Y\",INDEX(OIQraw,ROW(),Setup!$C$5+COLUMN()-26),\"x\")","v":"x"},{"$f":"IF($E12=\"Y\",INDEX(OIQraw,ROW(),Setup!$C$5+COLUMN()-26),\"x\")","v":"x"},{"$f":"IF($E12=\"Y\",INDEX(OIQraw,ROW(),Setup!$C$5+COLUMN()-26),\"x\")","v":"x"},{"$f":"IF($E12=\"Y\",INDEX(OIQraw,ROW(),Setup!$C$5+COLUMN()-26),\"x\")","v":"x"},{"$f":"IF($E12=\"Y\",INDEX(OIQraw,ROW(),Setup!$C$5+COLUMN()-26),\"x\")","v":"x"},{"$f":"IF($E12=\"Y\",INDEX(OIQraw,ROW(),Setup!$C$5+COLUMN()-26),\"x\")","v":"x"},{"$f":"IF($E12=\"Y\",INDEX(OIQraw,ROW(),Setup!$C$5+COLUMN()-26),\"x\")","v":"x"},{"$f":"IF($E12=\"Y\",INDEX(OIQraw,ROW(),Setup!$C$5+COLUMN()-26),\"x\")","v":"x"},{"$f":"IF($E12=\"Y\",INDEX(OIQraw,ROW(),Setup!$C$5+COLUMN()-26),\"x\")","v":"x"},{"$f":"IF($E12=\"Y\",INDEX(OIQraw,ROW(),Setup!$C$5+COLUMN()-26),\"x\")","v":"x"},{"$f":"IF($E12=\"Y\",INDEX(OIQraw,ROW(),Setup!$C$5+COLUMN()-26),\"x\")","v":"x"},{"$f":"IF($E12=\"Y\",INDEX(OIQraw,ROW(),Setup!$C$5+COLUMN()-26),\"x\")","v":"x"},{"$f":"IF($E12=\"Y\",INDEX(OIQraw,ROW(),Setup!$C$5+COLUMN()-26),\"x\")","v":"x"},{"$f":"IF($E12=\"Y\",INDEX(OIQraw,ROW(),Setup!$C$5+COLUMN()-26),\"x\")","v":"x"},{"$f":"IF($E12=\"Y\",INDEX(OIQraw,ROW(),Setup!$C$5+COLUMN()-26),\"x\")","v":"x"},{"$f":"IF($E12=\"Y\",INDEX(OIQraw,ROW(),Setup!$C$5+COLUMN()-26),\"x\")","v":"x"},{"$f":"IF($E12=\"Y\",INDEX(OIQraw,ROW(),Setup!$C$5+COLUMN()-26),\"x\")","v":"x"},{"$f":"IF($E12=\"Y\",INDEX(OIQraw,ROW(),Setup!$C$5+COLUMN()-26),\"x\")","v":"x"},{"$f":"IF($E12=\"Y\",INDEX(OIQraw,ROW(),Setup!$C$5+COLUMN()-26),\"x\")","v":"x"},{"$f":"IF($E12=\"Y\",INDEX(OIQraw,ROW(),Setup!$C$5+COLUMN()-26),\"x\")","v":"x"},{"$f":"IF($E12=\"Y\",INDEX(OIQraw,ROW(),Setup!$C$5+COLUMN()-26),\"x\")","v":"x"},{"$f":"IF($E12=\"Y\",INDEX(OIQraw,ROW(),Setup!$C$5+COLUMN()-26),\"x\")","v":"x"},{"$f":"IF($E12=\"Y\",INDEX(OIQraw,ROW(),Setup!$C$5+COLUMN()-26),\"x\")","v":"x"},{"$f":"IF($E12=\"Y\",INDEX(OIQraw,ROW(),Setup!$C$5+COLUMN()-26),\"x\")","v":"x"},{"$f":"IF($E12=\"Y\",INDEX(OIQraw,ROW(),Setup!$C$5+COLUMN()-26),\"x\")","v":"x"},{"$f":"IF($E12=\"Y\",INDEX(OIQraw,ROW(),Setup!$C$5+COLUMN()-26),\"x\")","v":"x"},{"$f":"IF($E12=\"Y\",INDEX(OIQraw,ROW(),Setup!$C$5+COLUMN()-26),\"x\")","v":"x"},{"$f":"IF($E12=\"Y\",INDEX(OIQraw,ROW(),Setup!$C$5+COLUMN()-26),\"x\")","v":"x"},{"$f":"IF($E12=\"Y\",INDEX(OIQraw,ROW(),Setup!$C$5+COLUMN()-26),\"x\")","v":"x"},{"$f":"IF($E12=\"Y\",INDEX(OIQraw,ROW(),Setup!$C$5+COLUMN()-26),\"x\")","v":"x"},{"$f":"IF($E12=\"Y\",INDEX(OIQraw,ROW(),Setup!$C$5+COLUMN()-26),\"x\")","v":"x"},{"$f":"IF($E12=\"Y\",INDEX(OIQraw,ROW(),Setup!$C$5+COLUMN()-26),\"x\")","v":"x"},{"$f":"IF($E12=\"Y\",INDEX(OIQraw,ROW(),Setup!$C$5+COLUMN()-26),\"x\")","v":"x"},{"$f":"IF($E12=\"Y\",INDEX(OIQraw,ROW(),Setup!$C$5+COLUMN()-26),\"x\")","v":"x"},{"$f":"IF($E12=\"Y\",INDEX(OIQraw,ROW(),Setup!$C$5+COLUMN()-26),\"x\")","v":"x"},{"$f":"IF($E12=\"Y\",INDEX(OIQraw,ROW(),Setup!$C$5+COLUMN()-26),\"x\")","v":"x"},{"$f":"IF($E12=\"Y\",INDEX(OIQraw,ROW(),Setup!$C$5+COLUMN()-26),\"x\")","v":"x"},{"$f":"IF($E12=\"Y\",INDEX(OIQraw,ROW(),Setup!$C$5+COLUMN()-26),\"x\")","v":"x"},{"$f":"IF($E12=\"Y\",INDEX(OIQraw,ROW(),Setup!$C$5+COLUMN()-26),\"x\")","v":"x"},{"$f":"IF($E12=\"Y\",INDEX(OIQraw,ROW(),Setup!$C$5+COLUMN()-26),\"x\")","v":"x"},{"$f":"IF($E12=\"Y\",INDEX(OIQraw,ROW(),Setup!$C$5+COLUMN()-26),\"x\")","v":"x"},{"$f":"IF($E12=\"Y\",INDEX(OIQraw,ROW(),Setup!$C$5+COLUMN()-26),\"x\")","v":"x"},{"$f":"IF($E12=\"Y\",INDEX(OIQraw,ROW(),Setup!$C$5+COLUMN()-26),\"x\")","v":"x"},{"$f":"IF($E12=\"Y\",INDEX(OIQraw,ROW(),Setup!$C$5+COLUMN()-26),\"x\")","v":"x"},{"$f":"IF($E12=\"Y\",INDEX(OIQraw,ROW(),Setup!$C$5+COLUMN()-26),\"x\")","v":"x"},{"$f":"IF($E12=\"Y\",INDEX(OIQraw,ROW(),Setup!$C$5+COLUMN()-26),\"x\")","v":"x"},{"$f":"IF($E12=\"Y\",INDEX(OIQraw,ROW(),Setup!$C$5+COLUMN()-26),\"x\")","v":"x"},{"$f":"IF($E12=\"Y\",INDEX(OIQraw,ROW(),Setup!$C$5+COLUMN()-26),\"x\")","v":"x"},{"$f":"IF($E12=\"Y\",INDEX(OIQraw,ROW(),Setup!$C$5+COLUMN()-26),\"x\")","v":"x"},{"$f":"IF($E12=\"Y\",INDEX(OIQraw,ROW(),Setup!$C$5+COLUMN()-26),\"x\")","v":"x"},{"$f":"IF($E12=\"Y\",INDEX(OIQraw,ROW(),Setup!$C$5+COLUMN()-26),\"x\")","v":"x"},{"$f":"IF($E12=\"Y\",INDEX(OIQraw,ROW(),Setup!$C$5+COLUMN()-26),\"x\")","v":"x"},{"$f":"IF($E12=\"Y\",INDEX(OIQraw,ROW(),Setup!$C$5+COLUMN()-26),\"x\")","v":"x"},{"$f":"IF($E12=\"Y\",INDEX(OIQraw,ROW(),Setup!$C$5+COLUMN()-26),\"x\")","v":"x"},{"$f":"IF($E12=\"Y\",INDEX(OIQraw,ROW(),Setup!$C$5+COLUMN()-26),\"x\")","v":"x"},{"$f":"IF($E12=\"Y\",INDEX(OIQraw,ROW(),Setup!$C$5+COLUMN()-26),\"x\")","v":"x"},{"$f":"IF($E12=\"Y\",INDEX(OIQraw,ROW(),Setup!$C$5+COLUMN()-26),\"x\")","v":"x"},{"$f":"IF($E12=\"Y\",INDEX(OIQraw,ROW(),Setup!$C$5+COLUMN()-26),\"x\")","v":"x"},{"$f":"IF($E12=\"Y\",INDEX(OIQraw,ROW(),Setup!$C$5+COLUMN()-26),\"x\")","v":"x"},{"$f":"IF($E12=\"Y\",INDEX(OIQraw,ROW(),Setup!$C$5+COLUMN()-26),\"x\")","v":"x"},{"$f":"IF($E12=\"Y\",INDEX(OIQraw,ROW(),Setup!$C$5+COLUMN()-26),\"x\")","v":"x"},{"$f":"IF($E12=\"Y\",INDEX(OIQraw,ROW(),Setup!$C$5+COLUMN()-26),\"x\")","v":"x"},{"$f":"IF($E12=\"Y\",INDEX(OIQraw,ROW(),Setup!$C$5+COLUMN()-26),\"x\")","v":"x"},{"$f":"IF($E12=\"Y\",INDEX(OIQraw,ROW(),Setup!$C$5+COLUMN()-26),\"x\")","v":"x"},{"$f":"IF($E12=\"Y\",INDEX(OIQraw,ROW(),Setup!$C$5+COLUMN()-26),\"x\")","v":"x"},{"$f":"IF($E12=\"Y\",INDEX(OIQraw,ROW(),Setup!$C$5+COLUMN()-26),\"x\")","v":"x"},{"$f":"IF($E12=\"Y\",INDEX(OIQraw,ROW(),Setup!$C$5+COLUMN()-26),\"x\")","v":"x"},{"$f":"IF($E12=\"Y\",INDEX(OIQraw,ROW(),Setup!$C$5+COLUMN()-26),\"x\")","v":"x"},{"$f":"IF($E12=\"Y\",INDEX(OIQraw,ROW(),Setup!$C$5+COLUMN()-26),\"x\")","v":"x"},{"$f":"IF($E12=\"Y\",INDEX(OIQraw,ROW(),Setup!$C$5+COLUMN()-26),\"x\")","v":"x"},{"$f":"IF($E12=\"Y\",INDEX(OIQraw,ROW(),Setup!$C$5+COLUMN()-26),\"x\")","v":"x"},{"$f":"IF($E12=\"Y\",INDEX(OIQraw,ROW(),Setup!$C$5+COLUMN()-26),\"x\")","v":"x"},{"$f":"IF($E12=\"Y\",INDEX(OIQraw,ROW(),Setup!$C$5+COLUMN()-26),\"x\")","v":"x"},{"$f":"IF($E12=\"Y\",INDEX(OIQraw,ROW(),Setup!$C$5+COLUMN()-26),\"x\")","v":"x"},{"$f":"IF($E12=\"Y\",INDEX(OIQraw,ROW(),Setup!$C$5+COLUMN()-26),\"x\")","v":"x"},{"$f":"IF($E12=\"Y\",INDEX(OIQraw,ROW(),Setup!$C$5+COLUMN()-26),\"x\")","v":"x"},{"$f":"IF($E12=\"Y\",INDEX(OIQraw,ROW(),Setup!$C$5+COLUMN()-26),\"x\")","v":"x"},{"$f":"IF($E12=\"Y\",INDEX(OIQraw,ROW(),Setup!$C$5+COLUMN()-26),\"x\")","v":"x"},{"$f":"IF($E12=\"Y\",INDEX(OIQraw,ROW(),Setup!$C$5+COLUMN()-26),\"x\")","v":"x"},{"$f":"IF($E12=\"Y\",INDEX(OIQraw,ROW(),Setup!$C$5+COLUMN()-26),\"x\")","v":"x"},{"$f":"IF($E12=\"Y\",INDEX(OIQraw,ROW(),Setup!$C$5+COLUMN()-26),\"x\")","v":"x"},{"$f":"IF($E12=\"Y\",INDEX(OIQraw,ROW(),Setup!$C$5+COLUMN()-26),\"x\")","v":"x"},{"$f":"IF($E12=\"Y\",INDEX(OIQraw,ROW(),Setup!$C$5+COLUMN()-26),\"x\")","v":"x"},{"$f":"IF($E12=\"Y\",INDEX(OIQraw,ROW(),Setup!$C$5+COLUMN()-26),\"x\")","v":"x"},{"$f":"IF($E12=\"Y\",INDEX(OIQraw,ROW(),Setup!$C$5+COLUMN()-26),\"x\")","v":"x"},{"$f":"IF($E12=\"Y\",INDEX(OIQraw,ROW(),Setup!$C$5+COLUMN()-26),\"x\")","v":"x"},{"$f":"IF($E12=\"Y\",INDEX(OIQraw,ROW(),Setup!$C$5+COLUMN()-26),\"x\")","v":"x"},{"$f":"IF($E12=\"Y\",INDEX(OIQraw,ROW(),Setup!$C$5+COLUMN()-26),\"x\")","v":"x"},{"$f":"IF($E12=\"Y\",INDEX(OIQraw,ROW(),Setup!$C$5+COLUMN()-26),\"x\")","v":"x"},{"$f":"IF($E12=\"Y\",INDEX(OIQraw,ROW(),Setup!$C$5+COLUMN()-26),\"x\")","v":"x"},{"$f":"IF($E12=\"Y\",INDEX(OIQraw,ROW(),Setup!$C$5+COLUMN()-26),\"x\")","v":"x"},{"$f":"IF($E12=\"Y\",INDEX(OIQraw,ROW(),Setup!$C$5+COLUMN()-26),\"x\")","v":"x"},{"$f":"IF($E12=\"Y\",INDEX(OIQraw,ROW(),Setup!$C$5+COLUMN()-26),\"x\")","v":"x"},{"$f":"IF($E12=\"Y\",INDEX(OIQraw,ROW(),Setup!$C$5+COLUMN()-26),\"x\")","v":"x"},{"$f":"IF($E12=\"Y\",INDEX(OIQraw,ROW(),Setup!$C$5+COLUMN()-26),\"x\")","v":"x"},{"$f":"IF($E12=\"Y\",INDEX(OIQraw,ROW(),Setup!$C$5+COLUMN()-26),\"x\")","v":"x"},{"$f":"IF($E12=\"Y\",INDEX(OIQraw,ROW(),Setup!$C$5+COLUMN()-26),\"x\")","v":"x"},{"$f":"IF($E12=\"Y\",INDEX(OIQraw,ROW(),Setup!$C$5+COLUMN()-26),\"x\")","v":"x"},{"$f":"IF($E12=\"Y\",INDEX(OIQraw,ROW(),Setup!$C$5+COLUMN()-26),\"x\")","v":"x"},{"$f":"IF($E12=\"Y\",INDEX(OIQraw,ROW(),Setup!$C$5+COLUMN()-26),\"x\")","v":"x"},{"$f":"IF($E12=\"Y\",INDEX(OIQraw,ROW(),Setup!$C$5+COLUMN()-26),\"x\")","v":"x"},{"$f":"IF($E12=\"Y\",INDEX(OIQraw,ROW(),Setup!$C$5+COLUMN()-26),\"x\")","v":"x"},{"$f":"IF($E12=\"Y\",INDEX(OIQraw,ROW(),Setup!$C$5+COLUMN()-26),\"x\")","v":"x"},{"$f":"IF($E12=\"Y\",INDEX(OIQraw,ROW(),Setup!$C$5+COLUMN()-26),\"x\")","v":"x"},{"$f":"IF($E12=\"Y\",INDEX(OIQraw,ROW(),Setup!$C$5+COLUMN()-26),\"x\")","v":"x"},{"$f":"IF($E12=\"Y\",INDEX(OIQraw,ROW(),Setup!$C$5+COLUMN()-26),\"x\")","v":"x"},{"$f":"IF($E12=\"Y\",INDEX(OIQraw,ROW(),Setup!$C$5+COLUMN()-26),\"x\")","v":"x"},{"$f":"IF($E12=\"Y\",INDEX(OIQraw,ROW(),Setup!$C$5+COLUMN()-26),\"x\")","v":"x"},{"$f":"IF($E12=\"Y\",INDEX(OIQraw,ROW(),Setup!$C$5+COLUMN()-26),\"x\")","v":"x"},{"$f":"IF($E12=\"Y\",INDEX(OIQraw,ROW(),Setup!$C$5+COLUMN()-26),\"x\")","v":"x"},{"$f":"IF($E12=\"Y\",INDEX(OIQraw,ROW(),Setup!$C$5+COLUMN()-26),\"x\")","v":"x"},{"$f":"IF($E12=\"Y\",INDEX(OIQraw,ROW(),Setup!$C$5+COLUMN()-26),\"x\")","v":"x"},{"$f":"IF($E12=\"Y\",INDEX(OIQraw,ROW(),Setup!$C$5+COLUMN()-26),\"x\")","v":"x"},{"$f":"IF($E12=\"Y\",INDEX(OIQraw,ROW(),Setup!$C$5+COLUMN()-26),\"x\")","v":"x"},{"$f":"IF($E12=\"Y\",INDEX(OIQraw,ROW(),Setup!$C$5+COLUMN()-26),\"x\")","v":"x"},{"$f":"IF($E12=\"Y\",INDEX(OIQraw,ROW(),Setup!$C$5+COLUMN()-26),\"x\")","v":"x"},{"$f":"IF($E12=\"Y\",INDEX(OIQraw,ROW(),Setup!$C$5+COLUMN()-26),\"x\")","v":"x"},{"$f":"IF($E12=\"Y\",INDEX(OIQraw,ROW(),Setup!$C$5+COLUMN()-26),\"x\")","v":"x"},{"$f":"IF($E12=\"Y\",INDEX(OIQraw,ROW(),Setup!$C$5+COLUMN()-26),\"x\")","v":"x"},{"$f":"IF($E12=\"Y\",INDEX(OIQraw,ROW(),Setup!$C$5+COLUMN()-26),\"x\")","v":"x"},{"$f":"IF($E12=\"Y\",INDEX(OIQraw,ROW(),Setup!$C$5+COLUMN()-26),\"x\")","v":"x"},{"$f":"IF($E12=\"Y\",INDEX(OIQraw,ROW(),Setup!$C$5+COLUMN()-26),\"x\")","v":"x"},{"$f":"IF($E12=\"Y\",INDEX(OIQraw,ROW(),Setup!$C$5+COLUMN()-26),\"x\")","v":"x"},{"$f":"IF($E12=\"Y\",INDEX(OIQraw,ROW(),Setup!$C$5+COLUMN()-26),\"x\")","v":"x"},{"$f":"IF($E12=\"Y\",INDEX(OIQraw,ROW(),Setup!$C$5+COLUMN()-26),\"x\")","v":"x"},{"$f":"IF($E12=\"Y\",INDEX(OIQraw,ROW(),Setup!$C$5+COLUMN()-26),\"x\")","v":"x"},{"$f":"IF($E12=\"Y\",INDEX(OIQraw,ROW(),Setup!$C$5+COLUMN()-26),\"x\")","v":"x"},{"$f":"IF($E12=\"Y\",INDEX(OIQraw,ROW(),Setup!$C$5+COLUMN()-26),\"x\")","v":"x"},{"$f":"IF($E12=\"Y\",INDEX(OIQraw,ROW(),Setup!$C$5+COLUMN()-26),\"x\")","v":"x"},{"$f":"IF($E12=\"Y\",INDEX(OIQraw,ROW(),Setup!$C$5+COLUMN()-26),\"x\")","v":"x"},{"$f":"IF($E12=\"Y\",INDEX(OIQraw,ROW(),Setup!$C$5+COLUMN()-26),\"x\")","v":"x"},{"$f":"IF($E12=\"Y\",INDEX(OIQraw,ROW(),Setup!$C$5+COLUMN()-26),\"x\")","v":"x"},{"$f":"IF($E12=\"Y\",INDEX(OIQraw,ROW(),Setup!$C$5+COLUMN()-26),\"x\")","v":"x"},{"$f":"IF($E12=\"Y\",INDEX(OIQraw,ROW(),Setup!$C$5+COLUMN()-26),\"x\")","v":"x"},{"$f":"IF($E12=\"Y\",INDEX(OIQraw,ROW(),Setup!$C$5+COLUMN()-26),\"x\")","v":"x"},{"$f":"IF($E12=\"Y\",INDEX(OIQraw,ROW(),Setup!$C$5+COLUMN()-26),\"x\")","v":"x"},{"$f":"IF($E12=\"Y\",INDEX(OIQraw,ROW(),Setup!$C$5+COLUMN()-26),\"x\")","v":"x"},{"$f":"IF($E12=\"Y\",INDEX(OIQraw,ROW(),Setup!$C$5+COLUMN()-26),\"x\")","v":"x"},{"$f":"IF($E12=\"Y\",INDEX(OIQraw,ROW(),Setup!$C$5+COLUMN()-26),\"x\")","v":"x"},{"$f":"IF($E12=\"Y\",INDEX(OIQraw,ROW(),Setup!$C$5+COLUMN()-26),\"x\")","v":"x"},{"$f":"IF($E12=\"Y\",INDEX(OIQraw,ROW(),Setup!$C$5+COLUMN()-26),\"x\")","v":"x"},{"$f":"IF($E12=\"Y\",INDEX(OIQraw,ROW(),Setup!$C$5+COLUMN()-26),\"x\")","v":"x"},{"$f":"IF($E12=\"Y\",INDEX(OIQraw,ROW(),Setup!$C$5+COLUMN()-26),\"x\")","v":"x"},{"$f":"IF($E12=\"Y\",INDEX(OIQraw,ROW(),Setup!$C$5+COLUMN()-26),\"x\")","v":"x"},{"$f":"IF($E12=\"Y\",INDEX(OIQraw,ROW(),Setup!$C$5+COLUMN()-26),\"x\")","v":"x"},{"$f":"IF($E12=\"Y\",INDEX(OIQraw,ROW(),Setup!$C$5+COLUMN()-26),\"x\")","v":"x"},{"$f":"IF($E12=\"Y\",INDEX(OIQraw,ROW(),Setup!$C$5+COLUMN()-26),\"x\")","v":"x"},{"$f":"IF($E12=\"Y\",INDEX(OIQraw,ROW(),Setup!$C$5+COLUMN()-26),\"x\")","v":"x"},{"$f":"IF($E12=\"Y\",INDEX(OIQraw,ROW(),Setup!$C$5+COLUMN()-26),\"x\")","v":"x"},{"$f":"IF($E12=\"Y\",INDEX(OIQraw,ROW(),Setup!$C$5+COLUMN()-26),\"x\")","v":"x"},{"$f":"IF($E12=\"Y\",INDEX(OIQraw,ROW(),Setup!$C$5+COLUMN()-26),\"x\")","v":"x"},{"$f":"IF($E12=\"Y\",INDEX(OIQraw,ROW(),Setup!$C$5+COLUMN()-26),\"x\")","v":"x"},{"$f":"IF($E12=\"Y\",INDEX(OIQraw,ROW(),Setup!$C$5+COLUMN()-26),\"x\")","v":"x"},{"$f":"IF($E12=\"Y\",INDEX(OIQraw,ROW(),Setup!$C$5+COLUMN()-26),\"x\")","v":"x"},{"$f":"IF($E12=\"Y\",INDEX(OIQraw,ROW(),Setup!$C$5+COLUMN()-26),\"x\")","v":"x"},{"$f":"IF($E12=\"Y\",INDEX(OIQraw,ROW(),Setup!$C$5+COLUMN()-26),\"x\")","v":"x"},{"$f":"IF($E12=\"Y\",INDEX(OIQraw,ROW(),Setup!$C$5+COLUMN()-26),\"x\")","v":"x"},{"$f":"IF($E12=\"Y\",INDEX(OIQraw,ROW(),Setup!$C$5+COLUMN()-26),\"x\")","v":"x"},{"$f":"IF($E12=\"Y\",INDEX(OIQraw,ROW(),Setup!$C$5+COLUMN()-26),\"x\")","v":"x"},{"$f":"IF($E12=\"Y\",INDEX(OIQraw,ROW(),Setup!$C$5+COLUMN()-26),\"x\")","v":"x"},{"$f":"IF($E12=\"Y\",INDEX(OIQraw,ROW(),Setup!$C$5+COLUMN()-26),\"x\")","v":"x"},{"$f":"IF($E12=\"Y\",INDEX(OIQraw,ROW(),Setup!$C$5+COLUMN()-26),\"x\")","v":"x"},{"$f":"IF($E12=\"Y\",INDEX(OIQraw,ROW(),Setup!$C$5+COLUMN()-26),\"x\")","v":"x"},{"$f":"IF($E12=\"Y\",INDEX(OIQraw,ROW(),Setup!$C$5+COLUMN()-26),\"x\")","v":"x"},{"$f":"IF($E12=\"Y\",INDEX(OIQraw,ROW(),Setup!$C$5+COLUMN()-26),\"x\")","v":"x"},{"$f":"IF($E12=\"Y\",INDEX(OIQraw,ROW(),Setup!$C$5+COLUMN()-26),\"x\")","v":"x"},{"$f":"IF($E12=\"Y\",INDEX(OIQraw,ROW(),Setup!$C$5+COLUMN()-26),\"x\")","v":"x"},{"$f":"IF($E12=\"Y\",INDEX(OIQraw,ROW(),Setup!$C$5+COLUMN()-26),\"x\")","v":"x"},{"$f":"IF($E12=\"Y\",INDEX(OIQraw,ROW(),Setup!$C$5+COLUMN()-26),\"x\")","v":"x"},{"$f":"IF($E12=\"Y\",INDEX(OIQraw,ROW(),Setup!$C$5+COLUMN()-26),\"x\")","v":"x"},{"$f":"IF($E12=\"Y\",INDEX(OIQraw,ROW(),Setup!$C$5+COLUMN()-26),\"x\")","v":"x"},{"$f":"IF($E12=\"Y\",INDEX(OIQraw,ROW(),Setup!$C$5+COLUMN()-26),\"x\")","v":"x"},{"$f":"IF($E12=\"Y\",INDEX(OIQraw,ROW(),Setup!$C$5+COLUMN()-26),\"x\")","v":"x"},{"$f":"IF($E12=\"Y\",INDEX(OIQraw,ROW(),Setup!$C$5+COLUMN()-26),\"x\")","v":"x"},{"$f":"IF($E12=\"Y\",INDEX(OIQraw,ROW(),Setup!$C$5+COLUMN()-26),\"x\")","v":"x"},{"$f":"IF($E12=\"Y\",INDEX(OIQraw,ROW(),Setup!$C$5+COLUMN()-26),\"x\")","v":"x"},{"$f":"IF($E12=\"Y\",INDEX(OIQraw,ROW(),Setup!$C$5+COLUMN()-26),\"x\")","v":"x"},{"$f":"IF($E12=\"Y\",INDEX(OIQraw,ROW(),Setup!$C$5+COLUMN()-26),\"x\")","v":"x"},{"$f":"IF($E12=\"Y\",INDEX(OIQraw,ROW(),Setup!$C$5+COLUMN()-26),\"x\")","v":"x"},{"$f":"IF($E12=\"Y\",INDEX(OIQraw,ROW(),Setup!$C$5+COLUMN()-26),\"x\")","v":"x"},{"$f":"IF($E12=\"Y\",INDEX(OIQraw,ROW(),Setup!$C$5+COLUMN()-26),\"x\")","v":"x"},{"$f":"IF($E12=\"Y\",INDEX(OIQraw,ROW(),Setup!$C$5+COLUMN()-26),\"x\")","v":"x"},{"$f":"IF($E12=\"Y\",INDEX(OIQraw,ROW(),Setup!$C$5+COLUMN()-26),\"x\")","v":"x"},{"$f":"IF($E12=\"Y\",INDEX(OIQraw,ROW(),Setup!$C$5+COLUMN()-26),\"x\")","v":"x"},{"$f":"IF($E12=\"Y\",INDEX(OIQraw,ROW(),Setup!$C$5+COLUMN()-26),\"x\")","v":"x"},{"$f":"IF($E12=\"Y\",INDEX(OIQraw,ROW(),Setup!$C$5+COLUMN()-26),\"x\")","v":"x"},{"$f":"IF($E12=\"Y\",INDEX(OIQraw,ROW(),Setup!$C$5+COLUMN()-26),\"x\")","v":"x"},{"$f":"IF($E12=\"Y\",INDEX(OIQraw,ROW(),Setup!$C$5+COLUMN()-26),\"x\")","v":"x"},{"$f":"IF($E12=\"Y\",INDEX(OIQraw,ROW(),Setup!$C$5+COLUMN()-26),\"x\")","v":"x"},{"$f":"IF($E12=\"Y\",INDEX(OIQraw,ROW(),Setup!$C$5+COLUMN()-26),\"x\")","v":"x"},{"$f":"IF($E12=\"Y\",INDEX(OIQraw,ROW(),Setup!$C$5+COLUMN()-26),\"x\")","v":"x"},{"$f":"IF($E12=\"Y\",INDEX(OIQraw,ROW(),Setup!$C$5+COLUMN()-26),\"x\")","v":"x"},{"$f":"IF($E12=\"Y\",INDEX(OIQraw,ROW(),Setup!$C$5+COLUMN()-26),\"x\")","v":"x"},{"$f":"IF($E12=\"Y\",INDEX(OIQraw,ROW(),Setup!$C$5+COLUMN()-26),\"x\")","v":"x"},{"$f":"IF($E12=\"Y\",INDEX(OIQraw,ROW(),Setup!$C$5+COLUMN()-26),\"x\")","v":"x"},{"$f":"IF($E12=\"Y\",INDEX(OIQraw,ROW(),Setup!$C$5+COLUMN()-26),\"x\")","v":"x"},{"$f":"IF($E12=\"Y\",INDEX(OIQraw,ROW(),Setup!$C$5+COLUMN()-26),\"x\")","v":"x"},{"$f":"IF($E12=\"Y\",INDEX(OIQraw,ROW(),Setup!$C$5+COLUMN()-26),\"x\")","v":"x"},{"$f":"IF($E12=\"Y\",INDEX(OIQraw,ROW(),Setup!$C$5+COLUMN()-26),\"x\")","v":"x"}]
[1,"","",{"$f":"IF(ISERROR(FIND(\"Withdrew\",RawScores!B17)),RawScores!B17,RIGHT(RawScores!B17,LEN(RawScores!B17)-17))&\", \"&RawScores!C17","v":", "},{"$f":"IF(OR(ISERROR(FIND(\"Withdrew\",RawScores!B17))=FALSE,INDEX(OIQraw,ROW(),LastInputCol-3)=0),\"N\",IF(AND(Setup!$B$22=\"Yes\",INDEX(OIQraw,ROW(),LastInputCol)=1),\"N\",\"Y\"))","v":"N"},"X","X","X",{"$f":"IF(AND(ISNUMBER(F13),F13>Setup!$B$14-1),1,0)","v":0},{"$f":"IF(AND(F13>Setup!$B$14-1,Conv!H13<5),1,0)","v":0},{"$f":"IF(AND(F13>Setup!$B$14-1,Conv!G13=\"F\"),1,0)","v":0},"","","","","","","","","","","","","X","X",{"$f":"IF($E13=\"Y\",INDEX(OIQraw,ROW(),Setup!$C$5+COLUMN()-26),\"x\")","v":"x"},{"$f":"IF($E13=\"Y\",INDEX(OIQraw,ROW(),Setup!$C$5+COLUMN()-26),\"x\")","v":"x"},{"$f":"IF($E13=\"Y\",INDEX(OIQraw,ROW(),Setup!$C$5+COLUMN()-26),\"x\")","v":"x"},{"$f":"IF($E13=\"Y\",INDEX(OIQraw,ROW(),Setup!$C$5+COLUMN()-26),\"x\")","v":"x"},{"$f":"IF($E13=\"Y\",INDEX(OIQraw,ROW(),Setup!$C$5+COLUMN()-26),\"x\")","v":"x"},{"$f":"IF($E13=\"Y\",INDEX(OIQraw,ROW(),Setup!$C$5+COLUMN()-26),\"x\")","v":"x"},{"$f":"IF($E13=\"Y\",INDEX(OIQraw,ROW(),Setup!$C$5+COLUMN()-26),\"x\")","v":"x"},{"$f":"IF($E13=\"Y\",INDEX(OIQraw,ROW(),Setup!$C$5+COLUMN()-26),\"x\")","v":"x"},{"$f":"IF($E13=\"Y\",INDEX(OIQraw,ROW(),Setup!$C$5+COLUMN()-26),\"x\")","v":"x"},{"$f":"IF($E13=\"Y\",INDEX(OIQraw,ROW(),Setup!$C$5+COLUMN()-26),\"x\")","v":"x"},{"$f":"IF($E13=\"Y\",INDEX(OIQraw,ROW(),Setup!$C$5+COLUMN()-26),\"x\")","v":"x"},{"$f":"IF($E13=\"Y\",INDEX(OIQraw,ROW(),Setup!$C$5+COLUMN()-26),\"x\")","v":"x"},{"$f":"IF($E13=\"Y\",INDEX(OIQraw,ROW(),Setup!$C$5+COLUMN()-26),\"x\")","v":"x"},{"$f":"IF($E13=\"Y\",INDEX(OIQraw,ROW(),Setup!$C$5+COLUMN()-26),\"x\")","v":"x"},{"$f":"IF($E13=\"Y\",INDEX(OIQraw,ROW(),Setup!$C$5+COLUMN()-26),\"x\")","v":"x"},{"$f":"IF($E13=\"Y\",INDEX(OIQraw,ROW(),Setup!$C$5+COLUMN()-26),\"x\")","v":"x"},{"$f":"IF($E13=\"Y\",INDEX(OIQraw,ROW(),Setup!$C$5+COLUMN()-26),\"x\")","v":"x"},{"$f":"IF($E13=\"Y\",INDEX(OIQraw,ROW(),Setup!$C$5+COLUMN()-26),\"x\")","v":"x"},{"$f":"IF($E13=\"Y\",INDEX(OIQraw,ROW(),Setup!$C$5+COLUMN()-26),\"x\")","v":"x"},{"$f":"IF($E13=\"Y\",INDEX(OIQraw,ROW(),Setup!$C$5+COLUMN()-26),\"x\")","v":"x"},{"$f":"IF($E13=\"Y\",INDEX(OIQraw,ROW(),Setup!$C$5+COLUMN()-26),\"x\")","v":"x"},{"$f":"IF($E13=\"Y\",INDEX(OIQraw,ROW(),Setup!$C$5+COLUMN()-26),\"x\")","v":"x"},{"$f":"IF($E13=\"Y\",INDEX(OIQraw,ROW(),Setup!$C$5+COLUMN()-26),\"x\")","v":"x"},{"$f":"IF($E13=\"Y\",INDEX(OIQraw,ROW(),Setup!$C$5+COLUMN()-26),\"x\")","v":"x"},{"$f":"IF($E13=\"Y\",INDEX(OIQraw,ROW(),Setup!$C$5+COLUMN()-26),\"x\")","v":"x"},{"$f":"IF($E13=\"Y\",INDEX(OIQraw,ROW(),Setup!$C$5+COLUMN()-26),\"x\")","v":"x"},{"$f":"IF($E13=\"Y\",INDEX(OIQraw,ROW(),Setup!$C$5+COLUMN()-26),\"x\")","v":"x"},{"$f":"IF($E13=\"Y\",INDEX(OIQraw,ROW(),Setup!$C$5+COLUMN()-26),\"x\")","v":"x"},{"$f":"IF($E13=\"Y\",INDEX(OIQraw,ROW(),Setup!$C$5+COLUMN()-26),\"x\")","v":"x"},{"$f":"IF($E13=\"Y\",INDEX(OIQraw,ROW(),Setup!$C$5+COLUMN()-26),\"x\")","v":"x"},{"$f":"IF($E13=\"Y\",INDEX(OIQraw,ROW(),Setup!$C$5+COLUMN()-26),\"x\")","v":"x"},{"$f":"IF($E13=\"Y\",INDEX(OIQraw,ROW(),Setup!$C$5+COLUMN()-26),\"x\")","v":"x"},{"$f":"IF($E13=\"Y\",INDEX(OIQraw,ROW(),Setup!$C$5+COLUMN()-26),\"x\")","v":"x"},{"$f":"IF($E13=\"Y\",INDEX(OIQraw,ROW(),Setup!$C$5+COLUMN()-26),\"x\")","v":"x"},{"$f":"IF($E13=\"Y\",INDEX(OIQraw,ROW(),Setup!$C$5+COLUMN()-26),\"x\")","v":"x"},{"$f":"IF($E13=\"Y\",INDEX(OIQraw,ROW(),Setup!$C$5+COLUMN()-26),\"x\")","v":"x"},{"$f":"IF($E13=\"Y\",INDEX(OIQraw,ROW(),Setup!$C$5+COLUMN()-26),\"x\")","v":"x"},{"$f":"IF($E13=\"Y\",INDEX(OIQraw,ROW(),Setup!$C$5+COLUMN()-26),\"x\")","v":"x"},{"$f":"IF($E13=\"Y\",INDEX(OIQraw,ROW(),Setup!$C$5+COLUMN()-26),\"x\")","v":"x"},{"$f":"IF($E13=\"Y\",INDEX(OIQraw,ROW(),Setup!$C$5+COLUMN()-26),\"x\")","v":"x"},{"$f":"IF($E13=\"Y\",INDEX(OIQraw,ROW(),Setup!$C$5+COLUMN()-26),\"x\")","v":"x"},{"$f":"IF($E13=\"Y\",INDEX(OIQraw,ROW(),Setup!$C$5+COLUMN()-26),\"x\")","v":"x"},{"$f":"IF($E13=\"Y\",INDEX(OIQraw,ROW(),Setup!$C$5+COLUMN()-26),\"x\")","v":"x"},{"$f":"IF($E13=\"Y\",INDEX(OIQraw,ROW(),Setup!$C$5+COLUMN()-26),\"x\")","v":"x"},{"$f":"IF($E13=\"Y\",INDEX(OIQraw,ROW(),Setup!$C$5+COLUMN()-26),\"x\")","v":"x"},{"$f":"IF($E13=\"Y\",INDEX(OIQraw,ROW(),Setup!$C$5+COLUMN()-26),\"x\")","v":"x"},{"$f":"IF($E13=\"Y\",INDEX(OIQraw,ROW(),Setup!$C$5+COLUMN()-26),\"x\")","v":"x"},{"$f":"IF($E13=\"Y\",INDEX(OIQraw,ROW(),Setup!$C$5+COLUMN()-26),\"x\")","v":"x"},{"$f":"IF($E13=\"Y\",INDEX(OIQraw,ROW(),Setup!$C$5+COLUMN()-26),\"x\")","v":"x"},{"$f":"IF($E13=\"Y\",INDEX(OIQraw,ROW(),Setup!$C$5+COLUMN()-26),\"x\")","v":"x"},{"$f":"IF($E13=\"Y\",INDEX(OIQraw,ROW(),Setup!$C$5+COLUMN()-26),\"x\")","v":"x"},{"$f":"IF($E13=\"Y\",INDEX(OIQraw,ROW(),Setup!$C$5+COLUMN()-26),\"x\")","v":"x"},{"$f":"IF($E13=\"Y\",INDEX(OIQraw,ROW(),Setup!$C$5+COLUMN()-26),\"x\")","v":"x"},{"$f":"IF($E13=\"Y\",INDEX(OIQraw,ROW(),Setup!$C$5+COLUMN()-26),\"x\")","v":"x"},{"$f":"IF($E13=\"Y\",INDEX(OIQraw,ROW(),Setup!$C$5+COLUMN()-26),\"x\")","v":"x"},{"$f":"IF($E13=\"Y\",INDEX(OIQraw,ROW(),Setup!$C$5+COLUMN()-26),\"x\")","v":"x"},{"$f":"IF($E13=\"Y\",INDEX(OIQraw,ROW(),Setup!$C$5+COLUMN()-26),\"x\")","v":"x"},{"$f":"IF($E13=\"Y\",INDEX(OIQraw,ROW(),Setup!$C$5+COLUMN()-26),\"x\")","v":"x"},{"$f":"IF($E13=\"Y\",INDEX(OIQraw,ROW(),Setup!$C$5+COLUMN()-26),\"x\")","v":"x"},{"$f":"IF($E13=\"Y\",INDEX(OIQraw,ROW(),Setup!$C$5+COLUMN()-26),\"x\")","v":"x"},{"$f":"IF($E13=\"Y\",INDEX(OIQraw,ROW(),Setup!$C$5+COLUMN()-26),\"x\")","v":"x"},{"$f":"IF($E13=\"Y\",INDEX(OIQraw,ROW(),Setup!$C$5+COLUMN()-26),\"x\")","v":"x"},{"$f":"IF($E13=\"Y\",INDEX(OIQraw,ROW(),Setup!$C$5+COLUMN()-26),\"x\")","v":"x"},{"$f":"IF($E13=\"Y\",INDEX(OIQraw,ROW(),Setup!$C$5+COLUMN()-26),\"x\")","v":"x"},{"$f":"IF($E13=\"Y\",INDEX(OIQraw,ROW(),Setup!$C$5+COLUMN()-26),\"x\")","v":"x"},{"$f":"IF($E13=\"Y\",INDEX(OIQraw,ROW(),Setup!$C$5+COLUMN()-26),\"x\")","v":"x"},{"$f":"IF($E13=\"Y\",INDEX(OIQraw,ROW(),Setup!$C$5+COLUMN()-26),\"x\")","v":"x"},{"$f":"IF($E13=\"Y\",INDEX(OIQraw,ROW(),Setup!$C$5+COLUMN()-26),\"x\")","v":"x"},{"$f":"IF($E13=\"Y\",INDEX(OIQraw,ROW(),Setup!$C$5+COLUMN()-26),\"x\")","v":"x"},{"$f":"IF($E13=\"Y\",INDEX(OIQraw,ROW(),Setup!$C$5+COLUMN()-26),\"x\")","v":"x"},{"$f":"IF($E13=\"Y\",INDEX(OIQraw,ROW(),Setup!$C$5+COLUMN()-26),\"x\")","v":"x"},{"$f":"IF($E13=\"Y\",INDEX(OIQraw,ROW(),Setup!$C$5+COLUMN()-26),\"x\")","v":"x"},{"$f":"IF($E13=\"Y\",INDEX(OIQraw,ROW(),Setup!$C$5+COLUMN()-26),\"x\")","v":"x"},{"$f":"IF($E13=\"Y\",INDEX(OIQraw,ROW(),Setup!$C$5+COLUMN()-26),\"x\")","v":"x"},{"$f":"IF($E13=\"Y\",INDEX(OIQraw,ROW(),Setup!$C$5+COLUMN()-26),\"x\")","v":"x"},{"$f":"IF($E13=\"Y\",INDEX(OIQraw,ROW(),Setup!$C$5+COLUMN()-26),\"x\")","v":"x"},{"$f":"IF($E13=\"Y\",INDEX(OIQraw,ROW(),Setup!$C$5+COLUMN()-26),\"x\")","v":"x"},{"$f":"IF($E13=\"Y\",INDEX(OIQraw,ROW(),Setup!$C$5+COLUMN()-26),\"x\")","v":"x"},{"$f":"IF($E13=\"Y\",INDEX(OIQraw,ROW(),Setup!$C$5+COLUMN()-26),\"x\")","v":"x"},{"$f":"IF($E13=\"Y\",INDEX(OIQraw,ROW(),Setup!$C$5+COLUMN()-26),\"x\")","v":"x"},{"$f":"IF($E13=\"Y\",INDEX(OIQraw,ROW(),Setup!$C$5+COLUMN()-26),\"x\")","v":"x"},{"$f":"IF($E13=\"Y\",INDEX(OIQraw,ROW(),Setup!$C$5+COLUMN()-26),\"x\")","v":"x"},{"$f":"IF($E13=\"Y\",INDEX(OIQraw,ROW(),Setup!$C$5+COLUMN()-26),\"x\")","v":"x"},{"$f":"IF($E13=\"Y\",INDEX(OIQraw,ROW(),Setup!$C$5+COLUMN()-26),\"x\")","v":"x"},{"$f":"IF($E13=\"Y\",INDEX(OIQraw,ROW(),Setup!$C$5+COLUMN()-26),\"x\")","v":"x"},{"$f":"IF($E13=\"Y\",INDEX(OIQraw,ROW(),Setup!$C$5+COLUMN()-26),\"x\")","v":"x"},{"$f":"IF($E13=\"Y\",INDEX(OIQraw,ROW(),Setup!$C$5+COLUMN()-26),\"x\")","v":"x"},{"$f":"IF($E13=\"Y\",INDEX(OIQraw,ROW(),Setup!$C$5+COLUMN()-26),\"x\")","v":"x"},{"$f":"IF($E13=\"Y\",INDEX(OIQraw,ROW(),Setup!$C$5+COLUMN()-26),\"x\")","v":"x"},{"$f":"IF($E13=\"Y\",INDEX(OIQraw,ROW(),Setup!$C$5+COLUMN()-26),\"x\")","v":"x"},{"$f":"IF($E13=\"Y\",INDEX(OIQraw,ROW(),Setup!$C$5+COLUMN()-26),\"x\")","v":"x"},{"$f":"IF($E13=\"Y\",INDEX(OIQraw,ROW(),Setup!$C$5+COLUMN()-26),\"x\")","v":"x"},{"$f":"IF($E13=\"Y\",INDEX(OIQraw,ROW(),Setup!$C$5+COLUMN()-26),\"x\")","v":"x"},{"$f":"IF($E13=\"Y\",INDEX(OIQraw,ROW(),Setup!$C$5+COLUMN()-26),\"x\")","v":"x"},{"$f":"IF($E13=\"Y\",INDEX(OIQraw,ROW(),Setup!$C$5+COLUMN()-26),\"x\")","v":"x"},{"$f":"IF($E13=\"Y\",INDEX(OIQraw,ROW(),Setup!$C$5+COLUMN()-26),\"x\")","v":"x"},{"$f":"IF($E13=\"Y\",INDEX(OIQraw,ROW(),Setup!$C$5+COLUMN()-26),\"x\")","v":"x"},{"$f":"IF($E13=\"Y\",INDEX(OIQraw,ROW(),Setup!$C$5+COLUMN()-26),\"x\")","v":"x"},{"$f":"IF($E13=\"Y\",INDEX(OIQraw,ROW(),Setup!$C$5+COLUMN()-26),\"x\")","v":"x"},{"$f":"IF($E13=\"Y\",INDEX(OIQraw,ROW(),Setup!$C$5+COLUMN()-26),\"x\")","v":"x"},{"$f":"IF($E13=\"Y\",INDEX(OIQraw,ROW(),Setup!$C$5+COLUMN()-26),\"x\")","v":"x"},{"$f":"IF($E13=\"Y\",INDEX(OIQraw,ROW(),Setup!$C$5+COLUMN()-26),\"x\")","v":"x"},{"$f":"IF($E13=\"Y\",INDEX(OIQraw,ROW(),Setup!$C$5+COLUMN()-26),\"x\")","v":"x"},{"$f":"IF($E13=\"Y\",INDEX(OIQraw,ROW(),Setup!$C$5+COLUMN()-26),\"x\")","v":"x"},{"$f":"IF($E13=\"Y\",INDEX(OIQraw,ROW(),Setup!$C$5+COLUMN()-26),\"x\")","v":"x"},{"$f":"IF($E13=\"Y\",INDEX(OIQraw,ROW(),Setup!$C$5+COLUMN()-26),\"x\")","v":"x"},{"$f":"IF($E13=\"Y\",INDEX(OIQraw,ROW(),Setup!$C$5+COLUMN()-26),\"x\")","v":"x"},{"$f":"IF($E13=\"Y\",INDEX(OIQraw,ROW(),Setup!$C$5+COLUMN()-26),\"x\")","v":"x"},{"$f":"IF($E13=\"Y\",INDEX(OIQraw,ROW(),Setup!$C$5+COLUMN()-26),\"x\")","v":"x"},{"$f":"IF($E13=\"Y\",INDEX(OIQraw,ROW(),Setup!$C$5+COLUMN()-26),\"x\")","v":"x"},{"$f":"IF($E13=\"Y\",INDEX(OIQraw,ROW(),Setup!$C$5+COLUMN()-26),\"x\")","v":"x"},{"$f":"IF($E13=\"Y\",INDEX(OIQraw,ROW(),Setup!$C$5+COLUMN()-26),\"x\")","v":"x"},{"$f":"IF($E13=\"Y\",INDEX(OIQraw,ROW(),Setup!$C$5+COLUMN()-26),\"x\")","v":"x"},{"$f":"IF($E13=\"Y\",INDEX(OIQraw,ROW(),Setup!$C$5+COLUMN()-26),\"x\")","v":"x"},{"$f":"IF($E13=\"Y\",INDEX(OIQraw,ROW(),Setup!$C$5+COLUMN()-26),\"x\")","v":"x"},{"$f":"IF($E13=\"Y\",INDEX(OIQraw,ROW(),Setup!$C$5+COLUMN()-26),\"x\")","v":"x"},{"$f":"IF($E13=\"Y\",INDEX(OIQraw,ROW(),Setup!$C$5+COLUMN()-26),\"x\")","v":"x"},{"$f":"IF($E13=\"Y\",INDEX(OIQraw,ROW(),Setup!$C$5+COLUMN()-26),\"x\")","v":"x"},{"$f":"IF($E13=\"Y\",INDEX(OIQraw,ROW(),Setup!$C$5+COLUMN()-26),\"x\")","v":"x"},{"$f":"IF($E13=\"Y\",INDEX(OIQraw,ROW(),Setup!$C$5+COLUMN()-26),\"x\")","v":"x"},{"$f":"IF($E13=\"Y\",INDEX(OIQraw,ROW(),Setup!$C$5+COLUMN()-26),\"x\")","v":"x"},{"$f":"IF($E13=\"Y\",INDEX(OIQraw,ROW(),Setup!$C$5+COLUMN()-26),\"x\")","v":"x"},{"$f":"IF($E13=\"Y\",INDEX(OIQraw,ROW(),Setup!$C$5+COLUMN()-26),\"x\")","v":"x"},{"$f":"IF($E13=\"Y\",INDEX(OIQraw,ROW(),Setup!$C$5+COLUMN()-26),\"x\")","v":"x"},{"$f":"IF($E13=\"Y\",INDEX(OIQraw,ROW(),Setup!$C$5+COLUMN()-26),\"x\")","v":"x"},{"$f":"IF($E13=\"Y\",INDEX(OIQraw,ROW(),Setup!$C$5+COLUMN()-26),\"x\")","v":"x"},{"$f":"IF($E13=\"Y\",INDEX(OIQraw,ROW(),Setup!$C$5+COLUMN()-26),\"x\")","v":"x"},{"$f":"IF($E13=\"Y\",INDEX(OIQraw,ROW(),Setup!$C$5+COLUMN()-26),\"x\")","v":"x"},{"$f":"IF($E13=\"Y\",INDEX(OIQraw,ROW(),Setup!$C$5+COLUMN()-26),\"x\")","v":"x"},{"$f":"IF($E13=\"Y\",INDEX(OIQraw,ROW(),Setup!$C$5+COLUMN()-26),\"x\")","v":"x"},{"$f":"IF($E13=\"Y\",INDEX(OIQraw,ROW(),Setup!$C$5+COLUMN()-26),\"x\")","v":"x"},{"$f":"IF($E13=\"Y\",INDEX(OIQraw,ROW(),Setup!$C$5+COLUMN()-26),\"x\")","v":"x"},{"$f":"IF($E13=\"Y\",INDEX(OIQraw,ROW(),Setup!$C$5+COLUMN()-26),\"x\")","v":"x"},{"$f":"IF($E13=\"Y\",INDEX(OIQraw,ROW(),Setup!$C$5+COLUMN()-26),\"x\")","v":"x"},{"$f":"IF($E13=\"Y\",INDEX(OIQraw,ROW(),Setup!$C$5+COLUMN()-26),\"x\")","v":"x"},{"$f":"IF($E13=\"Y\",INDEX(OIQraw,ROW(),Setup!$C$5+COLUMN()-26),\"x\")","v":"x"},{"$f":"IF($E13=\"Y\",INDEX(OIQraw,ROW(),Setup!$C$5+COLUMN()-26),\"x\")","v":"x"},{"$f":"IF($E13=\"Y\",INDEX(OIQraw,ROW(),Setup!$C$5+COLUMN()-26),\"x\")","v":"x"},{"$f":"IF($E13=\"Y\",INDEX(OIQraw,ROW(),Setup!$C$5+COLUMN()-26),\"x\")","v":"x"},{"$f":"IF($E13=\"Y\",INDEX(OIQraw,ROW(),Setup!$C$5+COLUMN()-26),\"x\")","v":"x"},{"$f":"IF($E13=\"Y\",INDEX(OIQraw,ROW(),Setup!$C$5+COLUMN()-26),\"x\")","v":"x"},{"$f":"IF($E13=\"Y\",INDEX(OIQraw,ROW(),Setup!$C$5+COLUMN()-26),\"x\")","v":"x"},{"$f":"IF($E13=\"Y\",INDEX(OIQraw,ROW(),Setup!$C$5+COLUMN()-26),\"x\")","v":"x"},{"$f":"IF($E13=\"Y\",INDEX(OIQraw,ROW(),Setup!$C$5+COLUMN()-26),\"x\")","v":"x"},{"$f":"IF($E13=\"Y\",INDEX(OIQraw,ROW(),Setup!$C$5+COLUMN()-26),\"x\")","v":"x"},{"$f":"IF($E13=\"Y\",INDEX(OIQraw,ROW(),Setup!$C$5+COLUMN()-26),\"x\")","v":"x"},{"$f":"IF($E13=\"Y\",INDEX(OIQraw,ROW(),Setup!$C$5+COLUMN()-26),\"x\")","v":"x"},{"$f":"IF($E13=\"Y\",INDEX(OIQraw,ROW(),Setup!$C$5+COLUMN()-26),\"x\")","v":"x"},{"$f":"IF($E13=\"Y\",INDEX(OIQraw,ROW(),Setup!$C$5+COLUMN()-26),\"x\")","v":"x"},{"$f":"IF($E13=\"Y\",INDEX(OIQraw,ROW(),Setup!$C$5+COLUMN()-26),\"x\")","v":"x"},{"$f":"IF($E13=\"Y\",INDEX(OIQraw,ROW(),Setup!$C$5+COLUMN()-26),\"x\")","v":"x"},{"$f":"IF($E13=\"Y\",INDEX(OIQraw,ROW(),Setup!$C$5+COLUMN()-26),\"x\")","v":"x"},{"$f":"IF($E13=\"Y\",INDEX(OIQraw,ROW(),Setup!$C$5+COLUMN()-26),\"x\")","v":"x"},{"$f":"IF($E13=\"Y\",INDEX(OIQraw,ROW(),Setup!$C$5+COLUMN()-26),\"x\")","v":"x"},{"$f":"IF($E13=\"Y\",INDEX(OIQraw,ROW(),Setup!$C$5+COLUMN()-26),\"x\")","v":"x"},{"$f":"IF($E13=\"Y\",INDEX(OIQraw,ROW(),Setup!$C$5+COLUMN()-26),\"x\")","v":"x"},{"$f":"IF($E13=\"Y\",INDEX(OIQraw,ROW(),Setup!$C$5+COLUMN()-26),\"x\")","v":"x"},{"$f":"IF($E13=\"Y\",INDEX(OIQraw,ROW(),Setup!$C$5+COLUMN()-26),\"x\")","v":"x"},{"$f":"IF($E13=\"Y\",INDEX(OIQraw,ROW(),Setup!$C$5+COLUMN()-26),\"x\")","v":"x"},{"$f":"IF($E13=\"Y\",INDEX(OIQraw,ROW(),Setup!$C$5+COLUMN()-26),\"x\")","v":"x"},{"$f":"IF($E13=\"Y\",INDEX(OIQraw,ROW(),Setup!$C$5+COLUMN()-26),\"x\")","v":"x"},{"$f":"IF($E13=\"Y\",INDEX(OIQraw,ROW(),Setup!$C$5+COLUMN()-26),\"x\")","v":"x"},{"$f":"IF($E13=\"Y\",INDEX(OIQraw,ROW(),Setup!$C$5+COLUMN()-26),\"x\")","v":"x"},{"$f":"IF($E13=\"Y\",INDEX(OIQraw,ROW(),Setup!$C$5+COLUMN()-26),\"x\")","v":"x"},{"$f":"IF($E13=\"Y\",INDEX(OIQraw,ROW(),Setup!$C$5+COLUMN()-26),\"x\")","v":"x"},{"$f":"IF($E13=\"Y\",INDEX(OIQraw,ROW(),Setup!$C$5+COLUMN()-26),\"x\")","v":"x"},{"$f":"IF($E13=\"Y\",INDEX(OIQraw,ROW(),Setup!$C$5+COLUMN()-26),\"x\")","v":"x"},{"$f":"IF($E13=\"Y\",INDEX(OIQraw,ROW(),Setup!$C$5+COLUMN()-26),\"x\")","v":"x"},{"$f":"IF($E13=\"Y\",INDEX(OIQraw,ROW(),Setup!$C$5+COLUMN()-26),\"x\")","v":"x"},{"$f":"IF($E13=\"Y\",INDEX(OIQraw,ROW(),Setup!$C$5+COLUMN()-26),\"x\")","v":"x"},{"$f":"IF($E13=\"Y\",INDEX(OIQraw,ROW(),Setup!$C$5+COLUMN()-26),\"x\")","v":"x"},{"$f":"IF($E13=\"Y\",INDEX(OIQraw,ROW(),Setup!$C$5+COLUMN()-26),\"x\")","v":"x"},{"$f":"IF($E13=\"Y\",INDEX(OIQraw,ROW(),Setup!$C$5+COLUMN()-26),\"x\")","v":"x"},{"$f":"IF($E13=\"Y\",INDEX(OIQraw,ROW(),Setup!$C$5+COLUMN()-26),\"x\")","v":"x"},{"$f":"IF($E13=\"Y\",INDEX(OIQraw,ROW(),Setup!$C$5+COLUMN()-26),\"x\")","v":"x"},{"$f":"IF($E13=\"Y\",INDEX(OIQraw,ROW(),Setup!$C$5+COLUMN()-26),\"x\")","v":"x"},{"$f":"IF($E13=\"Y\",INDEX(OIQraw,ROW(),Setup!$C$5+COLUMN()-26),\"x\")","v":"x"},{"$f":"IF($E13=\"Y\",INDEX(OIQraw,ROW(),Setup!$C$5+COLUMN()-26),\"x\")","v":"x"},{"$f":"IF($E13=\"Y\",INDEX(OIQraw,ROW(),Setup!$C$5+COLUMN()-26),\"x\")","v":"x"},{"$f":"IF($E13=\"Y\",INDEX(OIQraw,ROW(),Setup!$C$5+COLUMN()-26),\"x\")","v":"x"},{"$f":"IF($E13=\"Y\",INDEX(OIQraw,ROW(),Setup!$C$5+COLUMN()-26),\"x\")","v":"x"},{"$f":"IF($E13=\"Y\",INDEX(OIQraw,ROW(),Setup!$C$5+COLUMN()-26),\"x\")","v":"x"},{"$f":"IF($E13=\"Y\",INDEX(OIQraw,ROW(),Setup!$C$5+COLUMN()-26),\"x\")","v":"x"},{"$f":"IF($E13=\"Y\",INDEX(OIQraw,ROW(),Setup!$C$5+COLUMN()-26),\"x\")","v":"x"},{"$f":"IF($E13=\"Y\",INDEX(OIQraw,ROW(),Setup!$C$5+COLUMN()-26),\"x\")","v":"x"},{"$f":"IF($E13=\"Y\",INDEX(OIQraw,ROW(),Setup!$C$5+COLUMN()-26),\"x\")","v":"x"},{"$f":"IF($E13=\"Y\",INDEX(OIQraw,ROW(),Setup!$C$5+COLUMN()-26),\"x\")","v":"x"},{"$f":"IF($E13=\"Y\",INDEX(OIQraw,ROW(),Setup!$C$5+COLUMN()-26),\"x\")","v":"x"},{"$f":"IF($E13=\"Y\",INDEX(OIQraw,ROW(),Setup!$C$5+COLUMN()-26),\"x\")","v":"x"},{"$f":"IF($E13=\"Y\",INDEX(OIQraw,ROW(),Setup!$C$5+COLUMN()-26),\"x\")","v":"x"},{"$f":"IF($E13=\"Y\",INDEX(OIQraw,ROW(),Setup!$C$5+COLUMN()-26),\"x\")","v":"x"},{"$f":"IF($E13=\"Y\",INDEX(OIQraw,ROW(),Setup!$C$5+COLUMN()-26),\"x\")","v":"x"},{"$f":"IF($E13=\"Y\",INDEX(OIQraw,ROW(),Setup!$C$5+COLUMN()-26),\"x\")","v":"x"},{"$f":"IF($E13=\"Y\",INDEX(OIQraw,ROW(),Setup!$C$5+COLUMN()-26),\"x\")","v":"x"},{"$f":"IF($E13=\"Y\",INDEX(OIQraw,ROW(),Setup!$C$5+COLUMN()-26),\"x\")","v":"x"},{"$f":"IF($E13=\"Y\",INDEX(OIQraw,ROW(),Setup!$C$5+COLUMN()-26),\"x\")","v":"x"},{"$f":"IF($E13=\"Y\",INDEX(OIQraw,ROW(),Setup!$C$5+COLUMN()-26),\"x\")","v":"x"},{"$f":"IF($E13=\"Y\",INDEX(OIQraw,ROW(),Setup!$C$5+COLUMN()-26),\"x\")","v":"x"},{"$f":"IF($E13=\"Y\",INDEX(OIQraw,ROW(),Setup!$C$5+COLUMN()-26),\"x\")","v":"x"},{"$f":"IF($E13=\"Y\",INDEX(OIQraw,ROW(),Setup!$C$5+COLUMN()-26),\"x\")","v":"x"},{"$f":"IF($E13=\"Y\",INDEX(OIQraw,ROW(),Setup!$C$5+COLUMN()-26),\"x\")","v":"x"},{"$f":"IF($E13=\"Y\",INDEX(OIQraw,ROW(),Setup!$C$5+COLUMN()-26),\"x\")","v":"x"},{"$f":"IF($E13=\"Y\",INDEX(OIQraw,ROW(),Setup!$C$5+COLUMN()-26),\"x\")","v":"x"},{"$f":"IF($E13=\"Y\",INDEX(OIQraw,ROW(),Setup!$C$5+COLUMN()-26),\"x\")","v":"x"},{"$f":"IF($E13=\"Y\",INDEX(OIQraw,ROW(),Setup!$C$5+COLUMN()-26),\"x\")","v":"x"},{"$f":"IF($E13=\"Y\",INDEX(OIQraw,ROW(),Setup!$C$5+COLUMN()-26),\"x\")","v":"x"},{"$f":"IF($E13=\"Y\",INDEX(OIQraw,ROW(),Setup!$C$5+COLUMN()-26),\"x\")","v":"x"},{"$f":"IF($E13=\"Y\",INDEX(OIQraw,ROW(),Setup!$C$5+COLUMN()-26),\"x\")","v":"x"},{"$f":"IF($E13=\"Y\",INDEX(OIQraw,ROW(),Setup!$C$5+COLUMN()-26),\"x\")","v":"x"},{"$f":"IF($E13=\"Y\",INDEX(OIQraw,ROW(),Setup!$C$5+COLUMN()-26),\"x\")","v":"x"},{"$f":"IF($E13=\"Y\",INDEX(OIQraw,ROW(),Setup!$C$5+COLUMN()-26),\"x\")","v":"x"},{"$f":"IF($E13=\"Y\",INDEX(OIQraw,ROW(),Setup!$C$5+COLUMN()-26),\"x\")","v":"x"},{"$f":"IF($E13=\"Y\",INDEX(OIQraw,ROW(),Setup!$C$5+COLUMN()-26),\"x\")","v":"x"},{"$f":"IF($E13=\"Y\",INDEX(OIQraw,ROW(),Setup!$C$5+COLUMN()-26),\"x\")","v":"x"},{"$f":"IF($E13=\"Y\",INDEX(OIQraw,ROW(),Setup!$C$5+COLUMN()-26),\"x\")","v":"x"},{"$f":"IF($E13=\"Y\",INDEX(OIQraw,ROW(),Setup!$C$5+COLUMN()-26),\"x\")","v":"x"},{"$f":"IF($E13=\"Y\",INDEX(OIQraw,ROW(),Setup!$C$5+COLUMN()-26),\"x\")","v":"x"},{"$f":"IF($E13=\"Y\",INDEX(OIQraw,ROW(),Setup!$C$5+COLUMN()-26),\"x\")","v":"x"},{"$f":"IF($E13=\"Y\",INDEX(OIQraw,ROW(),Setup!$C$5+COLUMN()-26),\"x\")","v":"x"},{"$f":"IF($E13=\"Y\",INDEX(OIQraw,ROW(),Setup!$C$5+COLUMN()-26),\"x\")","v":"x"},{"$f":"IF($E13=\"Y\",INDEX(OIQraw,ROW(),Setup!$C$5+COLUMN()-26),\"x\")","v":"x"},{"$f":"IF($E13=\"Y\",INDEX(OIQraw,ROW(),Setup!$C$5+COLUMN()-26),\"x\")","v":"x"},{"$f":"IF($E13=\"Y\",INDEX(OIQraw,ROW(),Setup!$C$5+COLUMN()-26),\"x\")","v":"x"},{"$f":"IF($E13=\"Y\",INDEX(OIQraw,ROW(),Setup!$C$5+COLUMN()-26),\"x\")","v":"x"},{"$f":"IF($E13=\"Y\",INDEX(OIQraw,ROW(),Setup!$C$5+COLUMN()-26),\"x\")","v":"x"},{"$f":"IF($E13=\"Y\",INDEX(OIQraw,ROW(),Setup!$C$5+COLUMN()-26),\"x\")","v":"x"},{"$f":"IF($E13=\"Y\",INDEX(OIQraw,ROW(),Setup!$C$5+COLUMN()-26),\"x\")","v":"x"},{"$f":"IF($E13=\"Y\",INDEX(OIQraw,ROW(),Setup!$C$5+COLUMN()-26),\"x\")","v":"x"},{"$f":"IF($E13=\"Y\",INDEX(OIQraw,ROW(),Setup!$C$5+COLUMN()-26),\"x\")","v":"x"},{"$f":"IF($E13=\"Y\",INDEX(OIQraw,ROW(),Setup!$C$5+COLUMN()-26),\"x\")","v":"x"},{"$f":"IF($E13=\"Y\",INDEX(OIQraw,ROW(),Setup!$C$5+COLUMN()-26),\"x\")","v":"x"},{"$f":"IF($E13=\"Y\",INDEX(OIQraw,ROW(),Setup!$C$5+COLUMN()-26),\"x\")","v":"x"},{"$f":"IF($E13=\"Y\",INDEX(OIQraw,ROW(),Setup!$C$5+COLUMN()-26),\"x\")","v":"x"},{"$f":"IF($E13=\"Y\",INDEX(OIQraw,ROW(),Setup!$C$5+COLUMN()-26),\"x\")","v":"x"},{"$f":"IF($E13=\"Y\",INDEX(OIQraw,ROW(),Setup!$C$5+COLUMN()-26),\"x\")","v":"x"},{"$f":"IF($E13=\"Y\",INDEX(OIQraw,ROW(),Setup!$C$5+COLUMN()-26),\"x\")","v":"x"},{"$f":"IF($E13=\"Y\",INDEX(OIQraw,ROW(),Setup!$C$5+COLUMN()-26),\"x\")","v":"x"},{"$f":"IF($E13=\"Y\",INDEX(OIQraw,ROW(),Setup!$C$5+COLUMN()-26),\"x\")","v":"x"},{"$f":"IF($E13=\"Y\",INDEX(OIQraw,ROW(),Setup!$C$5+COLUMN()-26),\"x\")","v":"x"},{"$f":"IF($E13=\"Y\",INDEX(OIQraw,ROW(),Setup!$C$5+COLUMN()-26),\"x\")","v":"x"},{"$f":"IF($E13=\"Y\",INDEX(OIQraw,ROW(),Setup!$C$5+COLUMN()-26),\"x\")","v":"x"},{"$f":"IF($E13=\"Y\",INDEX(OIQraw,ROW(),Setup!$C$5+COLUMN()-26),\"x\")","v":"x"},{"$f":"IF($E13=\"Y\",INDEX(OIQraw,ROW(),Setup!$C$5+COLUMN()-26),\"x\")","v":"x"},{"$f":"IF($E13=\"Y\",INDEX(OIQraw,ROW(),Setup!$C$5+COLUMN()-26),\"x\")","v":"x"},{"$f":"IF($E13=\"Y\",INDEX(OIQraw,ROW(),Setup!$C$5+COLUMN()-26),\"x\")","v":"x"},{"$f":"IF($E13=\"Y\",INDEX(OIQraw,ROW(),Setup!$C$5+COLUMN()-26),\"x\")","v":"x"},{"$f":"IF($E13=\"Y\",INDEX(OIQraw,ROW(),Setup!$C$5+COLUMN()-26),\"x\")","v":"x"},{"$f":"IF($E13=\"Y\",INDEX(OIQraw,ROW(),Setup!$C$5+COLUMN()-26),\"x\")","v":"x"},{"$f":"IF($E13=\"Y\",INDEX(OIQraw,ROW(),Setup!$C$5+COLUMN()-26),\"x\")","v":"x"},{"$f":"IF($E13=\"Y\",INDEX(OIQraw,ROW(),Setup!$C$5+COLUMN()-26),\"x\")","v":"x"},{"$f":"IF($E13=\"Y\",INDEX(OIQraw,ROW(),Setup!$C$5+COLUMN()-26),\"x\")","v":"x"},{"$f":"IF($E13=\"Y\",INDEX(OIQraw,ROW(),Setup!$C$5+COLUMN()-26),\"x\")","v":"x"},{"$f":"IF($E13=\"Y\",INDEX(OIQraw,ROW(),Setup!$C$5+COLUMN()-26),\"x\")","v":"x"}]
[1,"","",{"$f":"IF(ISERROR(FIND(\"Withdrew\",RawScores!B18)),RawScores!B18,RIGHT(RawScores!B18,LEN(RawScores!B18)-17))&\", \"&RawScores!C18","v":", "},{"$f":"IF(OR(ISERROR(FIND(\"Withdrew\",RawScores!B18))=FALSE,INDEX(OIQraw,ROW(),LastInputCol-3)=0),\"N\",IF(AND(Setup!$B$22=\"Yes\",INDEX(OIQraw,ROW(),LastInputCol)=1),\"N\",\"Y\"))","v":"N"},"X","X","X",{"$f":"IF(AND(ISNUMBER(F14),F14>Setup!$B$14-1),1,0)","v":0},{"$f":"IF(AND(F14>Setup!$B$14-1,Conv!H14<5),1,0)","v":0},{"$f":"IF(AND(F14>Setup!$B$14-1,Conv!G14=\"F\"),1,0)","v":0},"","","","","","","","","","","","","X","X",{"$f":"IF($E14=\"Y\",INDEX(OIQraw,ROW(),Setup!$C$5+COLUMN()-26),\"x\")","v":"x"},{"$f":"IF($E14=\"Y\",INDEX(OIQraw,ROW(),Setup!$C$5+COLUMN()-26),\"x\")","v":"x"},{"$f":"IF($E14=\"Y\",INDEX(OIQraw,ROW(),Setup!$C$5+COLUMN()-26),\"x\")","v":"x"},{"$f":"IF($E14=\"Y\",INDEX(OIQraw,ROW(),Setup!$C$5+COLUMN()-26),\"x\")","v":"x"},{"$f":"IF($E14=\"Y\",INDEX(OIQraw,ROW(),Setup!$C$5+COLUMN()-26),\"x\")","v":"x"},{"$f":"IF($E14=\"Y\",INDEX(OIQraw,ROW(),Setup!$C$5+COLUMN()-26),\"x\")","v":"x"},{"$f":"IF($E14=\"Y\",INDEX(OIQraw,ROW(),Setup!$C$5+COLUMN()-26),\"x\")","v":"x"},{"$f":"IF($E14=\"Y\",INDEX(OIQraw,ROW(),Setup!$C$5+COLUMN()-26),\"x\")","v":"x"},{"$f":"IF($E14=\"Y\",INDEX(OIQraw,ROW(),Setup!$C$5+COLUMN()-26),\"x\")","v":"x"},{"$f":"IF($E14=\"Y\",INDEX(OIQraw,ROW(),Setup!$C$5+COLUMN()-26),\"x\")","v":"x"},{"$f":"IF($E14=\"Y\",INDEX(OIQraw,ROW(),Setup!$C$5+COLUMN()-26),\"x\")","v":"x"},{"$f":"IF($E14=\"Y\",INDEX(OIQraw,ROW(),Setup!$C$5+COLUMN()-26),\"x\")","v":"x"},{"$f":"IF($E14=\"Y\",INDEX(OIQraw,ROW(),Setup!$C$5+COLUMN()-26),\"x\")","v":"x"},{"$f":"IF($E14=\"Y\",INDEX(OIQraw,ROW(),Setup!$C$5+COLUMN()-26),\"x\")","v":"x"},{"$f":"IF($E14=\"Y\",INDEX(OIQraw,ROW(),Setup!$C$5+COLUMN()-26),\"x\")","v":"x"},{"$f":"IF($E14=\"Y\",INDEX(OIQraw,ROW(),Setup!$C$5+COLUMN()-26),\"x\")","v":"x"},{"$f":"IF($E14=\"Y\",INDEX(OIQraw,ROW(),Setup!$C$5+COLUMN()-26),\"x\")","v":"x"},{"$f":"IF($E14=\"Y\",INDEX(OIQraw,ROW(),Setup!$C$5+COLUMN()-26),\"x\")","v":"x"},{"$f":"IF($E14=\"Y\",INDEX(OIQraw,ROW(),Setup!$C$5+COLUMN()-26),\"x\")","v":"x"},{"$f":"IF($E14=\"Y\",INDEX(OIQraw,ROW(),Setup!$C$5+COLUMN()-26),\"x\")","v":"x"},{"$f":"IF($E14=\"Y\",INDEX(OIQraw,ROW(),Setup!$C$5+COLUMN()-26),\"x\")","v":"x"},{"$f":"IF($E14=\"Y\",INDEX(OIQraw,ROW(),Setup!$C$5+COLUMN()-26),\"x\")","v":"x"},{"$f":"IF($E14=\"Y\",INDEX(OIQraw,ROW(),Setup!$C$5+COLUMN()-26),\"x\")","v":"x"},{"$f":"IF($E14=\"Y\",INDEX(OIQraw,ROW(),Setup!$C$5+COLUMN()-26),\"x\")","v":"x"},{"$f":"IF($E14=\"Y\",INDEX(OIQraw,ROW(),Setup!$C$5+COLUMN()-26),\"x\")","v":"x"},{"$f":"IF($E14=\"Y\",INDEX(OIQraw,ROW(),Setup!$C$5+COLUMN()-26),\"x\")","v":"x"},{"$f":"IF($E14=\"Y\",INDEX(OIQraw,ROW(),Setup!$C$5+COLUMN()-26),\"x\")","v":"x"},{"$f":"IF($E14=\"Y\",INDEX(OIQraw,ROW(),Setup!$C$5+COLUMN()-26),\"x\")","v":"x"},{"$f":"IF($E14=\"Y\",INDEX(OIQraw,ROW(),Setup!$C$5+COLUMN()-26),\"x\")","v":"x"},{"$f":"IF($E14=\"Y\",INDEX(OIQraw,ROW(),Setup!$C$5+COLUMN()-26),\"x\")","v":"x"},{"$f":"IF($E14=\"Y\",INDEX(OIQraw,ROW(),Setup!$C$5+COLUMN()-26),\"x\")","v":"x"},{"$f":"IF($E14=\"Y\",INDEX(OIQraw,ROW(),Setup!$C$5+COLUMN()-26),\"x\")","v":"x"},{"$f":"IF($E14=\"Y\",INDEX(OIQraw,ROW(),Setup!$C$5+COLUMN()-26),\"x\")","v":"x"},{"$f":"IF($E14=\"Y\",INDEX(OIQraw,ROW(),Setup!$C$5+COLUMN()-26),\"x\")","v":"x"},{"$f":"IF($E14=\"Y\",INDEX(OIQraw,ROW(),Setup!$C$5+COLUMN()-26),\"x\")","v":"x"},{"$f":"IF($E14=\"Y\",INDEX(OIQraw,ROW(),Setup!$C$5+COLUMN()-26),\"x\")","v":"x"},{"$f":"IF($E14=\"Y\",INDEX(OIQraw,ROW(),Setup!$C$5+COLUMN()-26),\"x\")","v":"x"},{"$f":"IF($E14=\"Y\",INDEX(OIQraw,ROW(),Setup!$C$5+COLUMN()-26),\"x\")","v":"x"},{"$f":"IF($E14=\"Y\",INDEX(OIQraw,ROW(),Setup!$C$5+COLUMN()-26),\"x\")","v":"x"},{"$f":"IF($E14=\"Y\",INDEX(OIQraw,ROW(),Setup!$C$5+COLUMN()-26),\"x\")","v":"x"},{"$f":"IF($E14=\"Y\",INDEX(OIQraw,ROW(),Setup!$C$5+COLUMN()-26),\"x\")","v":"x"},{"$f":"IF($E14=\"Y\",INDEX(OIQraw,ROW(),Setup!$C$5+COLUMN()-26),\"x\")","v":"x"},{"$f":"IF($E14=\"Y\",INDEX(OIQraw,ROW(),Setup!$C$5+COLUMN()-26),\"x\")","v":"x"},{"$f":"IF($E14=\"Y\",INDEX(OIQraw,ROW(),Setup!$C$5+COLUMN()-26),\"x\")","v":"x"},{"$f":"IF($E14=\"Y\",INDEX(OIQraw,ROW(),Setup!$C$5+COLUMN()-26),\"x\")","v":"x"},{"$f":"IF($E14=\"Y\",INDEX(OIQraw,ROW(),Setup!$C$5+COLUMN()-26),\"x\")","v":"x"},{"$f":"IF($E14=\"Y\",INDEX(OIQraw,ROW(),Setup!$C$5+COLUMN()-26),\"x\")","v":"x"},{"$f":"IF($E14=\"Y\",INDEX(OIQraw,ROW(),Setup!$C$5+COLUMN()-26),\"x\")","v":"x"},{"$f":"IF($E14=\"Y\",INDEX(OIQraw,ROW(),Setup!$C$5+COLUMN()-26),\"x\")","v":"x"},{"$f":"IF($E14=\"Y\",INDEX(OIQraw,ROW(),Setup!$C$5+COLUMN()-26),\"x\")","v":"x"},{"$f":"IF($E14=\"Y\",INDEX(OIQraw,ROW(),Setup!$C$5+COLUMN()-26),\"x\")","v":"x"},{"$f":"IF($E14=\"Y\",INDEX(OIQraw,ROW(),Setup!$C$5+COLUMN()-26),\"x\")","v":"x"},{"$f":"IF($E14=\"Y\",INDEX(OIQraw,ROW(),Setup!$C$5+COLUMN()-26),\"x\")","v":"x"},{"$f":"IF($E14=\"Y\",INDEX(OIQraw,ROW(),Setup!$C$5+COLUMN()-26),\"x\")","v":"x"},{"$f":"IF($E14=\"Y\",INDEX(OIQraw,ROW(),Setup!$C$5+COLUMN()-26),\"x\")","v":"x"},{"$f":"IF($E14=\"Y\",INDEX(OIQraw,ROW(),Setup!$C$5+COLUMN()-26),\"x\")","v":"x"},{"$f":"IF($E14=\"Y\",INDEX(OIQraw,ROW(),Setup!$C$5+COLUMN()-26),\"x\")","v":"x"},{"$f":"IF($E14=\"Y\",INDEX(OIQraw,ROW(),Setup!$C$5+COLUMN()-26),\"x\")","v":"x"},{"$f":"IF($E14=\"Y\",INDEX(OIQraw,ROW(),Setup!$C$5+COLUMN()-26),\"x\")","v":"x"},{"$f":"IF($E14=\"Y\",INDEX(OIQraw,ROW(),Setup!$C$5+COLUMN()-26),\"x\")","v":"x"},{"$f":"IF($E14=\"Y\",INDEX(OIQraw,ROW(),Setup!$C$5+COLUMN()-26),\"x\")","v":"x"},{"$f":"IF($E14=\"Y\",INDEX(OIQraw,ROW(),Setup!$C$5+COLUMN()-26),\"x\")","v":"x"},{"$f":"IF($E14=\"Y\",INDEX(OIQraw,ROW(),Setup!$C$5+COLUMN()-26),\"x\")","v":"x"},{"$f":"IF($E14=\"Y\",INDEX(OIQraw,ROW(),Setup!$C$5+COLUMN()-26),\"x\")","v":"x"},{"$f":"IF($E14=\"Y\",INDEX(OIQraw,ROW(),Setup!$C$5+COLUMN()-26),\"x\")","v":"x"},{"$f":"IF($E14=\"Y\",INDEX(OIQraw,ROW(),Setup!$C$5+COLUMN()-26),\"x\")","v":"x"},{"$f":"IF($E14=\"Y\",INDEX(OIQraw,ROW(),Setup!$C$5+COLUMN()-26),\"x\")","v":"x"},{"$f":"IF($E14=\"Y\",INDEX(OIQraw,ROW(),Setup!$C$5+COLUMN()-26),\"x\")","v":"x"},{"$f":"IF($E14=\"Y\",INDEX(OIQraw,ROW(),Setup!$C$5+COLUMN()-26),\"x\")","v":"x"},{"$f":"IF($E14=\"Y\",INDEX(OIQraw,ROW(),Setup!$C$5+COLUMN()-26),\"x\")","v":"x"},{"$f":"IF($E14=\"Y\",INDEX(OIQraw,ROW(),Setup!$C$5+COLUMN()-26),\"x\")","v":"x"},{"$f":"IF($E14=\"Y\",INDEX(OIQraw,ROW(),Setup!$C$5+COLUMN()-26),\"x\")","v":"x"},{"$f":"IF($E14=\"Y\",INDEX(OIQraw,ROW(),Setup!$C$5+COLUMN()-26),\"x\")","v":"x"},{"$f":"IF($E14=\"Y\",INDEX(OIQraw,ROW(),Setup!$C$5+COLUMN()-26),\"x\")","v":"x"},{"$f":"IF($E14=\"Y\",INDEX(OIQraw,ROW(),Setup!$C$5+COLUMN()-26),\"x\")","v":"x"},{"$f":"IF($E14=\"Y\",INDEX(OIQraw,ROW(),Setup!$C$5+COLUMN()-26),\"x\")","v":"x"},{"$f":"IF($E14=\"Y\",INDEX(OIQraw,ROW(),Setup!$C$5+COLUMN()-26),\"x\")","v":"x"},{"$f":"IF($E14=\"Y\",INDEX(OIQraw,ROW(),Setup!$C$5+COLUMN()-26),\"x\")","v":"x"},{"$f":"IF($E14=\"Y\",INDEX(OIQraw,ROW(),Setup!$C$5+COLUMN()-26),\"x\")","v":"x"},{"$f":"IF($E14=\"Y\",INDEX(OIQraw,ROW(),Setup!$C$5+COLUMN()-26),\"x\")","v":"x"},{"$f":"IF($E14=\"Y\",INDEX(OIQraw,ROW(),Setup!$C$5+COLUMN()-26),\"x\")","v":"x"},{"$f":"IF($E14=\"Y\",INDEX(OIQraw,ROW(),Setup!$C$5+COLUMN()-26),\"x\")","v":"x"},{"$f":"IF($E14=\"Y\",INDEX(OIQraw,ROW(),Setup!$C$5+COLUMN()-26),\"x\")","v":"x"},{"$f":"IF($E14=\"Y\",INDEX(OIQraw,ROW(),Setup!$C$5+COLUMN()-26),\"x\")","v":"x"},{"$f":"IF($E14=\"Y\",INDEX(OIQraw,ROW(),Setup!$C$5+COLUMN()-26),\"x\")","v":"x"},{"$f":"IF($E14=\"Y\",INDEX(OIQraw,ROW(),Setup!$C$5+COLUMN()-26),\"x\")","v":"x"},{"$f":"IF($E14=\"Y\",INDEX(OIQraw,ROW(),Setup!$C$5+COLUMN()-26),\"x\")","v":"x"},{"$f":"IF($E14=\"Y\",INDEX(OIQraw,ROW(),Setup!$C$5+COLUMN()-26),\"x\")","v":"x"},{"$f":"IF($E14=\"Y\",INDEX(OIQraw,ROW(),Setup!$C$5+COLUMN()-26),\"x\")","v":"x"},{"$f":"IF($E14=\"Y\",INDEX(OIQraw,ROW(),Setup!$C$5+COLUMN()-26),\"x\")","v":"x"},{"$f":"IF($E14=\"Y\",INDEX(OIQraw,ROW(),Setup!$C$5+COLUMN()-26),\"x\")","v":"x"},{"$f":"IF($E14=\"Y\",INDEX(OIQraw,ROW(),Setup!$C$5+COLUMN()-26),\"x\")","v":"x"},{"$f":"IF($E14=\"Y\",INDEX(OIQraw,ROW(),Setup!$C$5+COLUMN()-26),\"x\")","v":"x"},{"$f":"IF($E14=\"Y\",INDEX(OIQraw,ROW(),Setup!$C$5+COLUMN()-26),\"x\")","v":"x"},{"$f":"IF($E14=\"Y\",INDEX(OIQraw,ROW(),Setup!$C$5+COLUMN()-26),\"x\")","v":"x"},{"$f":"IF($E14=\"Y\",INDEX(OIQraw,ROW(),Setup!$C$5+COLUMN()-26),\"x\")","v":"x"},{"$f":"IF($E14=\"Y\",INDEX(OIQraw,ROW(),Setup!$C$5+COLUMN()-26),\"x\")","v":"x"},{"$f":"IF($E14=\"Y\",INDEX(OIQraw,ROW(),Setup!$C$5+COLUMN()-26),\"x\")","v":"x"},{"$f":"IF($E14=\"Y\",INDEX(OIQraw,ROW(),Setup!$C$5+COLUMN()-26),\"x\")","v":"x"},{"$f":"IF($E14=\"Y\",INDEX(OIQraw,ROW(),Setup!$C$5+COLUMN()-26),\"x\")","v":"x"},{"$f":"IF($E14=\"Y\",INDEX(OIQraw,ROW(),Setup!$C$5+COLUMN()-26),\"x\")","v":"x"},{"$f":"IF($E14=\"Y\",INDEX(OIQraw,ROW(),Setup!$C$5+COLUMN()-26),\"x\")","v":"x"},{"$f":"IF($E14=\"Y\",INDEX(OIQraw,ROW(),Setup!$C$5+COLUMN()-26),\"x\")","v":"x"},{"$f":"IF($E14=\"Y\",INDEX(OIQraw,ROW(),Setup!$C$5+COLUMN()-26),\"x\")","v":"x"},{"$f":"IF($E14=\"Y\",INDEX(OIQraw,ROW(),Setup!$C$5+COLUMN()-26),\"x\")","v":"x"},{"$f":"IF($E14=\"Y\",INDEX(OIQraw,ROW(),Setup!$C$5+COLUMN()-26),\"x\")","v":"x"},{"$f":"IF($E14=\"Y\",INDEX(OIQraw,ROW(),Setup!$C$5+COLUMN()-26),\"x\")","v":"x"},{"$f":"IF($E14=\"Y\",INDEX(OIQraw,ROW(),Setup!$C$5+COLUMN()-26),\"x\")","v":"x"},{"$f":"IF($E14=\"Y\",INDEX(OIQraw,ROW(),Setup!$C$5+COLUMN()-26),\"x\")","v":"x"},{"$f":"IF($E14=\"Y\",INDEX(OIQraw,ROW(),Setup!$C$5+COLUMN()-26),\"x\")","v":"x"},{"$f":"IF($E14=\"Y\",INDEX(OIQraw,ROW(),Setup!$C$5+COLUMN()-26),\"x\")","v":"x"},{"$f":"IF($E14=\"Y\",INDEX(OIQraw,ROW(),Setup!$C$5+COLUMN()-26),\"x\")","v":"x"},{"$f":"IF($E14=\"Y\",INDEX(OIQraw,ROW(),Setup!$C$5+COLUMN()-26),\"x\")","v":"x"},{"$f":"IF($E14=\"Y\",INDEX(OIQraw,ROW(),Setup!$C$5+COLUMN()-26),\"x\")","v":"x"},{"$f":"IF($E14=\"Y\",INDEX(OIQraw,ROW(),Setup!$C$5+COLUMN()-26),\"x\")","v":"x"},{"$f":"IF($E14=\"Y\",INDEX(OIQraw,ROW(),Setup!$C$5+COLUMN()-26),\"x\")","v":"x"},{"$f":"IF($E14=\"Y\",INDEX(OIQraw,ROW(),Setup!$C$5+COLUMN()-26),\"x\")","v":"x"},{"$f":"IF($E14=\"Y\",INDEX(OIQraw,ROW(),Setup!$C$5+COLUMN()-26),\"x\")","v":"x"},{"$f":"IF($E14=\"Y\",INDEX(OIQraw,ROW(),Setup!$C$5+COLUMN()-26),\"x\")","v":"x"},{"$f":"IF($E14=\"Y\",INDEX(OIQraw,ROW(),Setup!$C$5+COLUMN()-26),\"x\")","v":"x"},{"$f":"IF($E14=\"Y\",INDEX(OIQraw,ROW(),Setup!$C$5+COLUMN()-26),\"x\")","v":"x"},{"$f":"IF($E14=\"Y\",INDEX(OIQraw,ROW(),Setup!$C$5+COLUMN()-26),\"x\")","v":"x"},{"$f":"IF($E14=\"Y\",INDEX(OIQraw,ROW(),Setup!$C$5+COLUMN()-26),\"x\")","v":"x"},{"$f":"IF($E14=\"Y\",INDEX(OIQraw,ROW(),Setup!$C$5+COLUMN()-26),\"x\")","v":"x"},{"$f":"IF($E14=\"Y\",INDEX(OIQraw,ROW(),Setup!$C$5+COLUMN()-26),\"x\")","v":"x"},{"$f":"IF($E14=\"Y\",INDEX(OIQraw,ROW(),Setup!$C$5+COLUMN()-26),\"x\")","v":"x"},{"$f":"IF($E14=\"Y\",INDEX(OIQraw,ROW(),Setup!$C$5+COLUMN()-26),\"x\")","v":"x"},{"$f":"IF($E14=\"Y\",INDEX(OIQraw,ROW(),Setup!$C$5+COLUMN()-26),\"x\")","v":"x"},{"$f":"IF($E14=\"Y\",INDEX(OIQraw,ROW(),Setup!$C$5+COLUMN()-26),\"x\")","v":"x"},{"$f":"IF($E14=\"Y\",INDEX(OIQraw,ROW(),Setup!$C$5+COLUMN()-26),\"x\")","v":"x"},{"$f":"IF($E14=\"Y\",INDEX(OIQraw,ROW(),Setup!$C$5+COLUMN()-26),\"x\")","v":"x"},{"$f":"IF($E14=\"Y\",INDEX(OIQraw,ROW(),Setup!$C$5+COLUMN()-26),\"x\")","v":"x"},{"$f":"IF($E14=\"Y\",INDEX(OIQraw,ROW(),Setup!$C$5+COLUMN()-26),\"x\")","v":"x"},{"$f":"IF($E14=\"Y\",INDEX(OIQraw,ROW(),Setup!$C$5+COLUMN()-26),\"x\")","v":"x"},{"$f":"IF($E14=\"Y\",INDEX(OIQraw,ROW(),Setup!$C$5+COLUMN()-26),\"x\")","v":"x"},{"$f":"IF($E14=\"Y\",INDEX(OIQraw,ROW(),Setup!$C$5+COLUMN()-26),\"x\")","v":"x"},{"$f":"IF($E14=\"Y\",INDEX(OIQraw,ROW(),Setup!$C$5+COLUMN()-26),\"x\")","v":"x"},{"$f":"IF($E14=\"Y\",INDEX(OIQraw,ROW(),Setup!$C$5+COLUMN()-26),\"x\")","v":"x"},{"$f":"IF($E14=\"Y\",INDEX(OIQraw,ROW(),Setup!$C$5+COLUMN()-26),\"x\")","v":"x"},{"$f":"IF($E14=\"Y\",INDEX(OIQraw,ROW(),Setup!$C$5+COLUMN()-26),\"x\")","v":"x"},{"$f":"IF($E14=\"Y\",INDEX(OIQraw,ROW(),Setup!$C$5+COLUMN()-26),\"x\")","v":"x"},{"$f":"IF($E14=\"Y\",INDEX(OIQraw,ROW(),Setup!$C$5+COLUMN()-26),\"x\")","v":"x"},{"$f":"IF($E14=\"Y\",INDEX(OIQraw,ROW(),Setup!$C$5+COLUMN()-26),\"x\")","v":"x"},{"$f":"IF($E14=\"Y\",INDEX(OIQraw,ROW(),Setup!$C$5+COLUMN()-26),\"x\")","v":"x"},{"$f":"IF($E14=\"Y\",INDEX(OIQraw,ROW(),Setup!$C$5+COLUMN()-26),\"x\")","v":"x"},{"$f":"IF($E14=\"Y\",INDEX(OIQraw,ROW(),Setup!$C$5+COLUMN()-26),\"x\")","v":"x"},{"$f":"IF($E14=\"Y\",INDEX(OIQraw,ROW(),Setup!$C$5+COLUMN()-26),\"x\")","v":"x"},{"$f":"IF($E14=\"Y\",INDEX(OIQraw,ROW(),Setup!$C$5+COLUMN()-26),\"x\")","v":"x"},{"$f":"IF($E14=\"Y\",INDEX(OIQraw,ROW(),Setup!$C$5+COLUMN()-26),\"x\")","v":"x"},{"$f":"IF($E14=\"Y\",INDEX(OIQraw,ROW(),Setup!$C$5+COLUMN()-26),\"x\")","v":"x"},{"$f":"IF($E14=\"Y\",INDEX(OIQraw,ROW(),Setup!$C$5+COLUMN()-26),\"x\")","v":"x"},{"$f":"IF($E14=\"Y\",INDEX(OIQraw,ROW(),Setup!$C$5+COLUMN()-26),\"x\")","v":"x"},{"$f":"IF($E14=\"Y\",INDEX(OIQraw,ROW(),Setup!$C$5+COLUMN()-26),\"x\")","v":"x"},{"$f":"IF($E14=\"Y\",INDEX(OIQraw,ROW(),Setup!$C$5+COLUMN()-26),\"x\")","v":"x"},{"$f":"IF($E14=\"Y\",INDEX(OIQraw,ROW(),Setup!$C$5+COLUMN()-26),\"x\")","v":"x"},{"$f":"IF($E14=\"Y\",INDEX(OIQraw,ROW(),Setup!$C$5+COLUMN()-26),\"x\")","v":"x"},{"$f":"IF($E14=\"Y\",INDEX(OIQraw,ROW(),Setup!$C$5+COLUMN()-26),\"x\")","v":"x"},{"$f":"IF($E14=\"Y\",INDEX(OIQraw,ROW(),Setup!$C$5+COLUMN()-26),\"x\")","v":"x"},{"$f":"IF($E14=\"Y\",INDEX(OIQraw,ROW(),Setup!$C$5+COLUMN()-26),\"x\")","v":"x"},{"$f":"IF($E14=\"Y\",INDEX(OIQraw,ROW(),Setup!$C$5+COLUMN()-26),\"x\")","v":"x"},{"$f":"IF($E14=\"Y\",INDEX(OIQraw,ROW(),Setup!$C$5+COLUMN()-26),\"x\")","v":"x"},{"$f":"IF($E14=\"Y\",INDEX(OIQraw,ROW(),Setup!$C$5+COLUMN()-26),\"x\")","v":"x"},{"$f":"IF($E14=\"Y\",INDEX(OIQraw,ROW(),Setup!$C$5+COLUMN()-26),\"x\")","v":"x"},{"$f":"IF($E14=\"Y\",INDEX(OIQraw,ROW(),Setup!$C$5+COLUMN()-26),\"x\")","v":"x"},{"$f":"IF($E14=\"Y\",INDEX(OIQraw,ROW(),Setup!$C$5+COLUMN()-26),\"x\")","v":"x"},{"$f":"IF($E14=\"Y\",INDEX(OIQraw,ROW(),Setup!$C$5+COLUMN()-26),\"x\")","v":"x"},{"$f":"IF($E14=\"Y\",INDEX(OIQraw,ROW(),Setup!$C$5+COLUMN()-26),\"x\")","v":"x"},{"$f":"IF($E14=\"Y\",INDEX(OIQraw,ROW(),Setup!$C$5+COLUMN()-26),\"x\")","v":"x"},{"$f":"IF($E14=\"Y\",INDEX(OIQraw,ROW(),Setup!$C$5+COLUMN()-26),\"x\")","v":"x"},{"$f":"IF($E14=\"Y\",INDEX(OIQraw,ROW(),Setup!$C$5+COLUMN()-26),\"x\")","v":"x"},{"$f":"IF($E14=\"Y\",INDEX(OIQraw,ROW(),Setup!$C$5+COLUMN()-26),\"x\")","v":"x"},{"$f":"IF($E14=\"Y\",INDEX(OIQraw,ROW(),Setup!$C$5+COLUMN()-26),\"x\")","v":"x"},{"$f":"IF($E14=\"Y\",INDEX(OIQraw,ROW(),Setup!$C$5+COLUMN()-26),\"x\")","v":"x"},{"$f":"IF($E14=\"Y\",INDEX(OIQraw,ROW(),Setup!$C$5+COLUMN()-26),\"x\")","v":"x"},{"$f":"IF($E14=\"Y\",INDEX(OIQraw,ROW(),Setup!$C$5+COLUMN()-26),\"x\")","v":"x"},{"$f":"IF($E14=\"Y\",INDEX(OIQraw,ROW(),Setup!$C$5+COLUMN()-26),\"x\")","v":"x"},{"$f":"IF($E14=\"Y\",INDEX(OIQraw,ROW(),Setup!$C$5+COLUMN()-26),\"x\")","v":"x"},{"$f":"IF($E14=\"Y\",INDEX(OIQraw,ROW(),Setup!$C$5+COLUMN()-26),\"x\")","v":"x"},{"$f":"IF($E14=\"Y\",INDEX(OIQraw,ROW(),Setup!$C$5+COLUMN()-26),\"x\")","v":"x"},{"$f":"IF($E14=\"Y\",INDEX(OIQraw,ROW(),Setup!$C$5+COLUMN()-26),\"x\")","v":"x"},{"$f":"IF($E14=\"Y\",INDEX(OIQraw,ROW(),Setup!$C$5+COLUMN()-26),\"x\")","v":"x"},{"$f":"IF($E14=\"Y\",INDEX(OIQraw,ROW(),Setup!$C$5+COLUMN()-26),\"x\")","v":"x"},{"$f":"IF($E14=\"Y\",INDEX(OIQraw,ROW(),Setup!$C$5+COLUMN()-26),\"x\")","v":"x"},{"$f":"IF($E14=\"Y\",INDEX(OIQraw,ROW(),Setup!$C$5+COLUMN()-26),\"x\")","v":"x"},{"$f":"IF($E14=\"Y\",INDEX(OIQraw,ROW(),Setup!$C$5+COLUMN()-26),\"x\")","v":"x"},{"$f":"IF($E14=\"Y\",INDEX(OIQraw,ROW(),Setup!$C$5+COLUMN()-26),\"x\")","v":"x"},{"$f":"IF($E14=\"Y\",INDEX(OIQraw,ROW(),Setup!$C$5+COLUMN()-26),\"x\")","v":"x"},{"$f":"IF($E14=\"Y\",INDEX(OIQraw,ROW(),Setup!$C$5+COLUMN()-26),\"x\")","v":"x"},{"$f":"IF($E14=\"Y\",INDEX(OIQraw,ROW(),Setup!$C$5+COLUMN()-26),\"x\")","v":"x"},{"$f":"IF($E14=\"Y\",INDEX(OIQraw,ROW(),Setup!$C$5+COLUMN()-26),\"x\")","v":"x"},{"$f":"IF($E14=\"Y\",INDEX(OIQraw,ROW(),Setup!$C$5+COLUMN()-26),\"x\")","v":"x"},{"$f":"IF($E14=\"Y\",INDEX(OIQraw,ROW(),Setup!$C$5+COLUMN()-26),\"x\")","v":"x"},{"$f":"IF($E14=\"Y\",INDEX(OIQraw,ROW(),Setup!$C$5+COLUMN()-26),\"x\")","v":"x"},{"$f":"IF($E14=\"Y\",INDEX(OIQraw,ROW(),Setup!$C$5+COLUMN()-26),\"x\")","v":"x"},{"$f":"IF($E14=\"Y\",INDEX(OIQraw,ROW(),Setup!$C$5+COLUMN()-26),\"x\")","v":"x"},{"$f":"IF($E14=\"Y\",INDEX(OIQraw,ROW(),Setup!$C$5+COLUMN()-26),\"x\")","v":"x"},{"$f":"IF($E14=\"Y\",INDEX(OIQraw,ROW(),Setup!$C$5+COLUMN()-26),\"x\")","v":"x"},{"$f":"IF($E14=\"Y\",INDEX(OIQraw,ROW(),Setup!$C$5+COLUMN()-26),\"x\")","v":"x"},{"$f":"IF($E14=\"Y\",INDEX(OIQraw,ROW(),Setup!$C$5+COLUMN()-26),\"x\")","v":"x"},{"$f":"IF($E14=\"Y\",INDEX(OIQraw,ROW(),Setup!$C$5+COLUMN()-26),\"x\")","v":"x"},{"$f":"IF($E14=\"Y\",INDEX(OIQraw,ROW(),Setup!$C$5+COLUMN()-26),\"x\")","v":"x"},{"$f":"IF($E14=\"Y\",INDEX(OIQraw,ROW(),Setup!$C$5+COLUMN()-26),\"x\")","v":"x"},{"$f":"IF($E14=\"Y\",INDEX(OIQraw,ROW(),Setup!$C$5+COLUMN()-26),\"x\")","v":"x"},{"$f":"IF($E14=\"Y\",INDEX(OIQraw,ROW(),Setup!$C$5+COLUMN()-26),\"x\")","v":"x"},{"$f":"IF($E14=\"Y\",INDEX(OIQraw,ROW(),Setup!$C$5+COLUMN()-26),\"x\")","v":"x"},{"$f":"IF($E14=\"Y\",INDEX(OIQraw,ROW(),Setup!$C$5+COLUMN()-26),\"x\")","v":"x"},{"$f":"IF($E14=\"Y\",INDEX(OIQraw,ROW(),Setup!$C$5+COLUMN()-26),\"x\")","v":"x"},{"$f":"IF($E14=\"Y\",INDEX(OIQraw,ROW(),Setup!$C$5+COLUMN()-26),\"x\")","v":"x"},{"$f":"IF($E14=\"Y\",INDEX(OIQraw,ROW(),Setup!$C$5+COLUMN()-26),\"x\")","v":"x"},{"$f":"IF($E14=\"Y\",INDEX(OIQraw,ROW(),Setup!$C$5+COLUMN()-26),\"x\")","v":"x"},{"$f":"IF($E14=\"Y\",INDEX(OIQraw,ROW(),Setup!$C$5+COLUMN()-26),\"x\")","v":"x"},{"$f":"IF($E14=\"Y\",INDEX(OIQraw,ROW(),Setup!$C$5+COLUMN()-26),\"x\")","v":"x"},{"$f":"IF($E14=\"Y\",INDEX(OIQraw,ROW(),Setup!$C$5+COLUMN()-26),\"x\")","v":"x"},{"$f":"IF($E14=\"Y\",INDEX(OIQraw,ROW(),Setup!$C$5+COLUMN()-26),\"x\")","v":"x"},{"$f":"IF($E14=\"Y\",INDEX(OIQraw,ROW(),Setup!$C$5+COLUMN()-26),\"x\")","v":"x"},{"$f":"IF($E14=\"Y\",INDEX(OIQraw,ROW(),Setup!$C$5+COLUMN()-26),\"x\")","v":"x"},{"$f":"IF($E14=\"Y\",INDEX(OIQraw,ROW(),Setup!$C$5+COLUMN()-26),\"x\")","v":"x"},{"$f":"IF($E14=\"Y\",INDEX(OIQraw,ROW(),Setup!$C$5+COLUMN()-26),\"x\")","v":"x"},{"$f":"IF($E14=\"Y\",INDEX(OIQraw,ROW(),Setup!$C$5+COLUMN()-26),\"x\")","v":"x"},{"$f":"IF($E14=\"Y\",INDEX(OIQraw,ROW(),Setup!$C$5+COLUMN()-26),\"x\")","v":"x"},{"$f":"IF($E14=\"Y\",INDEX(OIQraw,ROW(),Setup!$C$5+COLUMN()-26),\"x\")","v":"x"},{"$f":"IF($E14=\"Y\",INDEX(OIQraw,ROW(),Setup!$C$5+COLUMN()-26),\"x\")","v":"x"},{"$f":"IF($E14=\"Y\",INDEX(OIQraw,ROW(),Setup!$C$5+COLUMN()-26),\"x\")","v":"x"},{"$f":"IF($E14=\"Y\",INDEX(OIQraw,ROW(),Setup!$C$5+COLUMN()-26),\"x\")","v":"x"},{"$f":"IF($E14=\"Y\",INDEX(OIQraw,ROW(),Setup!$C$5+COLUMN()-26),\"x\")","v":"x"},{"$f":"IF($E14=\"Y\",INDEX(OIQraw,ROW(),Setup!$C$5+COLUMN()-26),\"x\")","v":"x"},{"$f":"IF($E14=\"Y\",INDEX(OIQraw,ROW(),Setup!$C$5+COLUMN()-26),\"x\")","v":"x"},{"$f":"IF($E14=\"Y\",INDEX(OIQraw,ROW(),Setup!$C$5+COLUMN()-26),\"x\")","v":"x"},{"$f":"IF($E14=\"Y\",INDEX(OIQraw,ROW(),Setup!$C$5+COLUMN()-26),\"x\")","v":"x"},{"$f":"IF($E14=\"Y\",INDEX(OIQraw,ROW(),Setup!$C$5+COLUMN()-26),\"x\")","v":"x"},{"$f":"IF($E14=\"Y\",INDEX(OIQraw,ROW(),Setup!$C$5+COLUMN()-26),\"x\")","v":"x"},{"$f":"IF($E14=\"Y\",INDEX(OIQraw,ROW(),Setup!$C$5+COLUMN()-26),\"x\")","v":"x"},{"$f":"IF($E14=\"Y\",INDEX(OIQraw,ROW(),Setup!$C$5+COLUMN()-26),\"x\")","v":"x"},{"$f":"IF($E14=\"Y\",INDEX(OIQraw,ROW(),Setup!$C$5+COLUMN()-26),\"x\")","v":"x"},{"$f":"IF($E14=\"Y\",INDEX(OIQraw,ROW(),Setup!$C$5+COLUMN()-26),\"x\")","v":"x"},{"$f":"IF($E14=\"Y\",INDEX(OIQraw,ROW(),Setup!$C$5+COLUMN()-26),\"x\")","v":"x"},{"$f":"IF($E14=\"Y\",INDEX(OIQraw,ROW(),Setup!$C$5+COLUMN()-26),\"x\")","v":"x"},{"$f":"IF($E14=\"Y\",INDEX(OIQraw,ROW(),Setup!$C$5+COLUMN()-26),\"x\")","v":"x"},{"$f":"IF($E14=\"Y\",INDEX(OIQraw,ROW(),Setup!$C$5+COLUMN()-26),\"x\")","v":"x"},{"$f":"IF($E14=\"Y\",INDEX(OIQraw,ROW(),Setup!$C$5+COLUMN()-26),\"x\")","v":"x"},{"$f":"IF($E14=\"Y\",INDEX(OIQraw,ROW(),Setup!$C$5+COLUMN()-26),\"x\")","v":"x"},{"$f":"IF($E14=\"Y\",INDEX(OIQraw,ROW(),Setup!$C$5+COLUMN()-26),\"x\")","v":"x"},{"$f":"IF($E14=\"Y\",INDEX(OIQraw,ROW(),Setup!$C$5+COLUMN()-26),\"x\")","v":"x"},{"$f":"IF($E14=\"Y\",INDEX(OIQraw,ROW(),Setup!$C$5+COLUMN()-26),\"x\")","v":"x"},{"$f":"IF($E14=\"Y\",INDEX(OIQraw,ROW(),Setup!$C$5+COLUMN()-26),\"x\")","v":"x"},{"$f":"IF($E14=\"Y\",INDEX(OIQraw,ROW(),Setup!$C$5+COLUMN()-26),\"x\")","v":"x"},{"$f":"IF($E14=\"Y\",INDEX(OIQraw,ROW(),Setup!$C$5+COLUMN()-26),\"x\")","v":"x"},{"$f":"IF($E14=\"Y\",INDEX(OIQraw,ROW(),Setup!$C$5+COLUMN()-26),\"x\")","v":"x"},{"$f":"IF($E14=\"Y\",INDEX(OIQraw,ROW(),Setup!$C$5+COLUMN()-26),\"x\")","v":"x"},{"$f":"IF($E14=\"Y\",INDEX(OIQraw,ROW(),Setup!$C$5+COLUMN()-26),\"x\")","v":"x"},{"$f":"IF($E14=\"Y\",INDEX(OIQraw,ROW(),Setup!$C$5+COLUMN()-26),\"x\")","v":"x"},{"$f":"IF($E14=\"Y\",INDEX(OIQraw,ROW(),Setup!$C$5+COLUMN()-26),\"x\")","v":"x"},{"$f":"IF($E14=\"Y\",INDEX(OIQraw,ROW(),Setup!$C$5+COLUMN()-26),\"x\")","v":"x"}]
[1,"","",{"$f":"IF(ISERROR(FIND(\"Withdrew\",RawScores!B19)),RawScores!B19,RIGHT(RawScores!B19,LEN(RawScores!B19)-17))&\", \"&RawScores!C19","v":", "},{"$f":"IF(OR(ISERROR(FIND(\"Withdrew\",RawScores!B19))=FALSE,INDEX(OIQraw,ROW(),LastInputCol-3)=0),\"N\",IF(AND(Setup!$B$22=\"Yes\",INDEX(OIQraw,ROW(),LastInputCol)=1),\"N\",\"Y\"))","v":"N"},"X","X","X",{"$f":"IF(AND(ISNUMBER(F15),F15>Setup!$B$14-1),1,0)","v":0},{"$f":"IF(AND(F15>Setup!$B$14-1,Conv!H15<5),1,0)","v":0},{"$f":"IF(AND(F15>Setup!$B$14-1,Conv!G15=\"F\"),1,0)","v":0},"","","","","","","","","","","","","X","X",{"$f":"IF($E15=\"Y\",INDEX(OIQraw,ROW(),Setup!$C$5+COLUMN()-26),\"x\")","v":"x"},{"$f":"IF($E15=\"Y\",INDEX(OIQraw,ROW(),Setup!$C$5+COLUMN()-26),\"x\")","v":"x"},{"$f":"IF($E15=\"Y\",INDEX(OIQraw,ROW(),Setup!$C$5+COLUMN()-26),\"x\")","v":"x"},{"$f":"IF($E15=\"Y\",INDEX(OIQraw,ROW(),Setup!$C$5+COLUMN()-26),\"x\")","v":"x"},{"$f":"IF($E15=\"Y\",INDEX(OIQraw,ROW(),Setup!$C$5+COLUMN()-26),\"x\")","v":"x"},{"$f":"IF($E15=\"Y\",INDEX(OIQraw,ROW(),Setup!$C$5+COLUMN()-26),\"x\")","v":"x"},{"$f":"IF($E15=\"Y\",INDEX(OIQraw,ROW(),Setup!$C$5+COLUMN()-26),\"x\")","v":"x"},{"$f":"IF($E15=\"Y\",INDEX(OIQraw,ROW(),Setup!$C$5+COLUMN()-26),\"x\")","v":"x"},{"$f":"IF($E15=\"Y\",INDEX(OIQraw,ROW(),Setup!$C$5+COLUMN()-26),\"x\")","v":"x"},{"$f":"IF($E15=\"Y\",INDEX(OIQraw,ROW(),Setup!$C$5+COLUMN()-26),\"x\")","v":"x"},{"$f":"IF($E15=\"Y\",INDEX(OIQraw,ROW(),Setup!$C$5+COLUMN()-26),\"x\")","v":"x"},{"$f":"IF($E15=\"Y\",INDEX(OIQraw,ROW(),Setup!$C$5+COLUMN()-26),\"x\")","v":"x"},{"$f":"IF($E15=\"Y\",INDEX(OIQraw,ROW(),Setup!$C$5+COLUMN()-26),\"x\")","v":"x"},{"$f":"IF($E15=\"Y\",INDEX(OIQraw,ROW(),Setup!$C$5+COLUMN()-26),\"x\")","v":"x"},{"$f":"IF($E15=\"Y\",INDEX(OIQraw,ROW(),Setup!$C$5+COLUMN()-26),\"x\")","v":"x"},{"$f":"IF($E15=\"Y\",INDEX(OIQraw,ROW(),Setup!$C$5+COLUMN()-26),\"x\")","v":"x"},{"$f":"IF($E15=\"Y\",INDEX(OIQraw,ROW(),Setup!$C$5+COLUMN()-26),\"x\")","v":"x"},{"$f":"IF($E15=\"Y\",INDEX(OIQraw,ROW(),Setup!$C$5+COLUMN()-26),\"x\")","v":"x"},{"$f":"IF($E15=\"Y\",INDEX(OIQraw,ROW(),Setup!$C$5+COLUMN()-26),\"x\")","v":"x"},{"$f":"IF($E15=\"Y\",INDEX(OIQraw,ROW(),Setup!$C$5+COLUMN()-26),\"x\")","v":"x"},{"$f":"IF($E15=\"Y\",INDEX(OIQraw,ROW(),Setup!$C$5+COLUMN()-26),\"x\")","v":"x"},{"$f":"IF($E15=\"Y\",INDEX(OIQraw,ROW(),Setup!$C$5+COLUMN()-26),\"x\")","v":"x"},{"$f":"IF($E15=\"Y\",INDEX(OIQraw,ROW(),Setup!$C$5+COLUMN()-26),\"x\")","v":"x"},{"$f":"IF($E15=\"Y\",INDEX(OIQraw,ROW(),Setup!$C$5+COLUMN()-26),\"x\")","v":"x"},{"$f":"IF($E15=\"Y\",INDEX(OIQraw,ROW(),Setup!$C$5+COLUMN()-26),\"x\")","v":"x"},{"$f":"IF($E15=\"Y\",INDEX(OIQraw,ROW(),Setup!$C$5+COLUMN()-26),\"x\")","v":"x"},{"$f":"IF($E15=\"Y\",INDEX(OIQraw,ROW(),Setup!$C$5+COLUMN()-26),\"x\")","v":"x"},{"$f":"IF($E15=\"Y\",INDEX(OIQraw,ROW(),Setup!$C$5+COLUMN()-26),\"x\")","v":"x"},{"$f":"IF($E15=\"Y\",INDEX(OIQraw,ROW(),Setup!$C$5+COLUMN()-26),\"x\")","v":"x"},{"$f":"IF($E15=\"Y\",INDEX(OIQraw,ROW(),Setup!$C$5+COLUMN()-26),\"x\")","v":"x"},{"$f":"IF($E15=\"Y\",INDEX(OIQraw,ROW(),Setup!$C$5+COLUMN()-26),\"x\")","v":"x"},{"$f":"IF($E15=\"Y\",INDEX(OIQraw,ROW(),Setup!$C$5+COLUMN()-26),\"x\")","v":"x"},{"$f":"IF($E15=\"Y\",INDEX(OIQraw,ROW(),Setup!$C$5+COLUMN()-26),\"x\")","v":"x"},{"$f":"IF($E15=\"Y\",INDEX(OIQraw,ROW(),Setup!$C$5+COLUMN()-26),\"x\")","v":"x"},{"$f":"IF($E15=\"Y\",INDEX(OIQraw,ROW(),Setup!$C$5+COLUMN()-26),\"x\")","v":"x"},{"$f":"IF($E15=\"Y\",INDEX(OIQraw,ROW(),Setup!$C$5+COLUMN()-26),\"x\")","v":"x"},{"$f":"IF($E15=\"Y\",INDEX(OIQraw,ROW(),Setup!$C$5+COLUMN()-26),\"x\")","v":"x"},{"$f":"IF($E15=\"Y\",INDEX(OIQraw,ROW(),Setup!$C$5+COLUMN()-26),\"x\")","v":"x"},{"$f":"IF($E15=\"Y\",INDEX(OIQraw,ROW(),Setup!$C$5+COLUMN()-26),\"x\")","v":"x"},{"$f":"IF($E15=\"Y\",INDEX(OIQraw,ROW(),Setup!$C$5+COLUMN()-26),\"x\")","v":"x"},{"$f":"IF($E15=\"Y\",INDEX(OIQraw,ROW(),Setup!$C$5+COLUMN()-26),\"x\")","v":"x"},{"$f":"IF($E15=\"Y\",INDEX(OIQraw,ROW(),Setup!$C$5+COLUMN()-26),\"x\")","v":"x"},{"$f":"IF($E15=\"Y\",INDEX(OIQraw,ROW(),Setup!$C$5+COLUMN()-26),\"x\")","v":"x"},{"$f":"IF($E15=\"Y\",INDEX(OIQraw,ROW(),Setup!$C$5+COLUMN()-26),\"x\")","v":"x"},{"$f":"IF($E15=\"Y\",INDEX(OIQraw,ROW(),Setup!$C$5+COLUMN()-26),\"x\")","v":"x"},{"$f":"IF($E15=\"Y\",INDEX(OIQraw,ROW(),Setup!$C$5+COLUMN()-26),\"x\")","v":"x"},{"$f":"IF($E15=\"Y\",INDEX(OIQraw,ROW(),Setup!$C$5+COLUMN()-26),\"x\")","v":"x"},{"$f":"IF($E15=\"Y\",INDEX(OIQraw,ROW(),Setup!$C$5+COLUMN()-26),\"x\")","v":"x"},{"$f":"IF($E15=\"Y\",INDEX(OIQraw,ROW(),Setup!$C$5+COLUMN()-26),\"x\")","v":"x"},{"$f":"IF($E15=\"Y\",INDEX(OIQraw,ROW(),Setup!$C$5+COLUMN()-26),\"x\")","v":"x"},{"$f":"IF($E15=\"Y\",INDEX(OIQraw,ROW(),Setup!$C$5+COLUMN()-26),\"x\")","v":"x"},{"$f":"IF($E15=\"Y\",INDEX(OIQraw,ROW(),Setup!$C$5+COLUMN()-26),\"x\")","v":"x"},{"$f":"IF($E15=\"Y\",INDEX(OIQraw,ROW(),Setup!$C$5+COLUMN()-26),\"x\")","v":"x"},{"$f":"IF($E15=\"Y\",INDEX(OIQraw,ROW(),Setup!$C$5+COLUMN()-26),\"x\")","v":"x"},{"$f":"IF($E15=\"Y\",INDEX(OIQraw,ROW(),Setup!$C$5+COLUMN()-26),\"x\")","v":"x"},{"$f":"IF($E15=\"Y\",INDEX(OIQraw,ROW(),Setup!$C$5+COLUMN()-26),\"x\")","v":"x"},{"$f":"IF($E15=\"Y\",INDEX(OIQraw,ROW(),Setup!$C$5+COLUMN()-26),\"x\")","v":"x"},{"$f":"IF($E15=\"Y\",INDEX(OIQraw,ROW(),Setup!$C$5+COLUMN()-26),\"x\")","v":"x"},{"$f":"IF($E15=\"Y\",INDEX(OIQraw,ROW(),Setup!$C$5+COLUMN()-26),\"x\")","v":"x"},{"$f":"IF($E15=\"Y\",INDEX(OIQraw,ROW(),Setup!$C$5+COLUMN()-26),\"x\")","v":"x"},{"$f":"IF($E15=\"Y\",INDEX(OIQraw,ROW(),Setup!$C$5+COLUMN()-26),\"x\")","v":"x"},{"$f":"IF($E15=\"Y\",INDEX(OIQraw,ROW(),Setup!$C$5+COLUMN()-26),\"x\")","v":"x"},{"$f":"IF($E15=\"Y\",INDEX(OIQraw,ROW(),Setup!$C$5+COLUMN()-26),\"x\")","v":"x"},{"$f":"IF($E15=\"Y\",INDEX(OIQraw,ROW(),Setup!$C$5+COLUMN()-26),\"x\")","v":"x"},{"$f":"IF($E15=\"Y\",INDEX(OIQraw,ROW(),Setup!$C$5+COLUMN()-26),\"x\")","v":"x"},{"$f":"IF($E15=\"Y\",INDEX(OIQraw,ROW(),Setup!$C$5+COLUMN()-26),\"x\")","v":"x"},{"$f":"IF($E15=\"Y\",INDEX(OIQraw,ROW(),Setup!$C$5+COLUMN()-26),\"x\")","v":"x"},{"$f":"IF($E15=\"Y\",INDEX(OIQraw,ROW(),Setup!$C$5+COLUMN()-26),\"x\")","v":"x"},{"$f":"IF($E15=\"Y\",INDEX(OIQraw,ROW(),Setup!$C$5+COLUMN()-26),\"x\")","v":"x"},{"$f":"IF($E15=\"Y\",INDEX(OIQraw,ROW(),Setup!$C$5+COLUMN()-26),\"x\")","v":"x"},{"$f":"IF($E15=\"Y\",INDEX(OIQraw,ROW(),Setup!$C$5+COLUMN()-26),\"x\")","v":"x"},{"$f":"IF($E15=\"Y\",INDEX(OIQraw,ROW(),Setup!$C$5+COLUMN()-26),\"x\")","v":"x"},{"$f":"IF($E15=\"Y\",INDEX(OIQraw,ROW(),Setup!$C$5+COLUMN()-26),\"x\")","v":"x"},{"$f":"IF($E15=\"Y\",INDEX(OIQraw,ROW(),Setup!$C$5+COLUMN()-26),\"x\")","v":"x"},{"$f":"IF($E15=\"Y\",INDEX(OIQraw,ROW(),Setup!$C$5+COLUMN()-26),\"x\")","v":"x"},{"$f":"IF($E15=\"Y\",INDEX(OIQraw,ROW(),Setup!$C$5+COLUMN()-26),\"x\")","v":"x"},{"$f":"IF($E15=\"Y\",INDEX(OIQraw,ROW(),Setup!$C$5+COLUMN()-26),\"x\")","v":"x"},{"$f":"IF($E15=\"Y\",INDEX(OIQraw,ROW(),Setup!$C$5+COLUMN()-26),\"x\")","v":"x"},{"$f":"IF($E15=\"Y\",INDEX(OIQraw,ROW(),Setup!$C$5+COLUMN()-26),\"x\")","v":"x"},{"$f":"IF($E15=\"Y\",INDEX(OIQraw,ROW(),Setup!$C$5+COLUMN()-26),\"x\")","v":"x"},{"$f":"IF($E15=\"Y\",INDEX(OIQraw,ROW(),Setup!$C$5+COLUMN()-26),\"x\")","v":"x"},{"$f":"IF($E15=\"Y\",INDEX(OIQraw,ROW(),Setup!$C$5+COLUMN()-26),\"x\")","v":"x"},{"$f":"IF($E15=\"Y\",INDEX(OIQraw,ROW(),Setup!$C$5+COLUMN()-26),\"x\")","v":"x"},{"$f":"IF($E15=\"Y\",INDEX(OIQraw,ROW(),Setup!$C$5+COLUMN()-26),\"x\")","v":"x"},{"$f":"IF($E15=\"Y\",INDEX(OIQraw,ROW(),Setup!$C$5+COLUMN()-26),\"x\")","v":"x"},{"$f":"IF($E15=\"Y\",INDEX(OIQraw,ROW(),Setup!$C$5+COLUMN()-26),\"x\")","v":"x"},{"$f":"IF($E15=\"Y\",INDEX(OIQraw,ROW(),Setup!$C$5+COLUMN()-26),\"x\")","v":"x"},{"$f":"IF($E15=\"Y\",INDEX(OIQraw,ROW(),Setup!$C$5+COLUMN()-26),\"x\")","v":"x"},{"$f":"IF($E15=\"Y\",INDEX(OIQraw,ROW(),Setup!$C$5+COLUMN()-26),\"x\")","v":"x"},{"$f":"IF($E15=\"Y\",INDEX(OIQraw,ROW(),Setup!$C$5+COLUMN()-26),\"x\")","v":"x"},{"$f":"IF($E15=\"Y\",INDEX(OIQraw,ROW(),Setup!$C$5+COLUMN()-26),\"x\")","v":"x"},{"$f":"IF($E15=\"Y\",INDEX(OIQraw,ROW(),Setup!$C$5+COLUMN()-26),\"x\")","v":"x"},{"$f":"IF($E15=\"Y\",INDEX(OIQraw,ROW(),Setup!$C$5+COLUMN()-26),\"x\")","v":"x"},{"$f":"IF($E15=\"Y\",INDEX(OIQraw,ROW(),Setup!$C$5+COLUMN()-26),\"x\")","v":"x"},{"$f":"IF($E15=\"Y\",INDEX(OIQraw,ROW(),Setup!$C$5+COLUMN()-26),\"x\")","v":"x"},{"$f":"IF($E15=\"Y\",INDEX(OIQraw,ROW(),Setup!$C$5+COLUMN()-26),\"x\")","v":"x"},{"$f":"IF($E15=\"Y\",INDEX(OIQraw,ROW(),Setup!$C$5+COLUMN()-26),\"x\")","v":"x"},{"$f":"IF($E15=\"Y\",INDEX(OIQraw,ROW(),Setup!$C$5+COLUMN()-26),\"x\")","v":"x"},{"$f":"IF($E15=\"Y\",INDEX(OIQraw,ROW(),Setup!$C$5+COLUMN()-26),\"x\")","v":"x"},{"$f":"IF($E15=\"Y\",INDEX(OIQraw,ROW(),Setup!$C$5+COLUMN()-26),\"x\")","v":"x"},{"$f":"IF($E15=\"Y\",INDEX(OIQraw,ROW(),Setup!$C$5+COLUMN()-26),\"x\")","v":"x"},{"$f":"IF($E15=\"Y\",INDEX(OIQraw,ROW(),Setup!$C$5+COLUMN()-26),\"x\")","v":"x"},{"$f":"IF($E15=\"Y\",INDEX(OIQraw,ROW(),Setup!$C$5+COLUMN()-26),\"x\")","v":"x"},{"$f":"IF($E15=\"Y\",INDEX(OIQraw,ROW(),Setup!$C$5+COLUMN()-26),\"x\")","v":"x"},{"$f":"IF($E15=\"Y\",INDEX(OIQraw,ROW(),Setup!$C$5+COLUMN()-26),\"x\")","v":"x"},{"$f":"IF($E15=\"Y\",INDEX(OIQraw,ROW(),Setup!$C$5+COLUMN()-26),\"x\")","v":"x"},{"$f":"IF($E15=\"Y\",INDEX(OIQraw,ROW(),Setup!$C$5+COLUMN()-26),\"x\")","v":"x"},{"$f":"IF($E15=\"Y\",INDEX(OIQraw,ROW(),Setup!$C$5+COLUMN()-26),\"x\")","v":"x"},{"$f":"IF($E15=\"Y\",INDEX(OIQraw,ROW(),Setup!$C$5+COLUMN()-26),\"x\")","v":"x"},{"$f":"IF($E15=\"Y\",INDEX(OIQraw,ROW(),Setup!$C$5+COLUMN()-26),\"x\")","v":"x"},{"$f":"IF($E15=\"Y\",INDEX(OIQraw,ROW(),Setup!$C$5+COLUMN()-26),\"x\")","v":"x"},{"$f":"IF($E15=\"Y\",INDEX(OIQraw,ROW(),Setup!$C$5+COLUMN()-26),\"x\")","v":"x"},{"$f":"IF($E15=\"Y\",INDEX(OIQraw,ROW(),Setup!$C$5+COLUMN()-26),\"x\")","v":"x"},{"$f":"IF($E15=\"Y\",INDEX(OIQraw,ROW(),Setup!$C$5+COLUMN()-26),\"x\")","v":"x"},{"$f":"IF($E15=\"Y\",INDEX(OIQraw,ROW(),Setup!$C$5+COLUMN()-26),\"x\")","v":"x"},{"$f":"IF($E15=\"Y\",INDEX(OIQraw,ROW(),Setup!$C$5+COLUMN()-26),\"x\")","v":"x"},{"$f":"IF($E15=\"Y\",INDEX(OIQraw,ROW(),Setup!$C$5+COLUMN()-26),\"x\")","v":"x"},{"$f":"IF($E15=\"Y\",INDEX(OIQraw,ROW(),Setup!$C$5+COLUMN()-26),\"x\")","v":"x"},{"$f":"IF($E15=\"Y\",INDEX(OIQraw,ROW(),Setup!$C$5+COLUMN()-26),\"x\")","v":"x"},{"$f":"IF($E15=\"Y\",INDEX(OIQraw,ROW(),Setup!$C$5+COLUMN()-26),\"x\")","v":"x"},{"$f":"IF($E15=\"Y\",INDEX(OIQraw,ROW(),Setup!$C$5+COLUMN()-26),\"x\")","v":"x"},{"$f":"IF($E15=\"Y\",INDEX(OIQraw,ROW(),Setup!$C$5+COLUMN()-26),\"x\")","v":"x"},{"$f":"IF($E15=\"Y\",INDEX(OIQraw,ROW(),Setup!$C$5+COLUMN()-26),\"x\")","v":"x"},{"$f":"IF($E15=\"Y\",INDEX(OIQraw,ROW(),Setup!$C$5+COLUMN()-26),\"x\")","v":"x"},{"$f":"IF($E15=\"Y\",INDEX(OIQraw,ROW(),Setup!$C$5+COLUMN()-26),\"x\")","v":"x"},{"$f":"IF($E15=\"Y\",INDEX(OIQraw,ROW(),Setup!$C$5+COLUMN()-26),\"x\")","v":"x"},{"$f":"IF($E15=\"Y\",INDEX(OIQraw,ROW(),Setup!$C$5+COLUMN()-26),\"x\")","v":"x"},{"$f":"IF($E15=\"Y\",INDEX(OIQraw,ROW(),Setup!$C$5+COLUMN()-26),\"x\")","v":"x"},{"$f":"IF($E15=\"Y\",INDEX(OIQraw,ROW(),Setup!$C$5+COLUMN()-26),\"x\")","v":"x"},{"$f":"IF($E15=\"Y\",INDEX(OIQraw,ROW(),Setup!$C$5+COLUMN()-26),\"x\")","v":"x"},{"$f":"IF($E15=\"Y\",INDEX(OIQraw,ROW(),Setup!$C$5+COLUMN()-26),\"x\")","v":"x"},{"$f":"IF($E15=\"Y\",INDEX(OIQraw,ROW(),Setup!$C$5+COLUMN()-26),\"x\")","v":"x"},{"$f":"IF($E15=\"Y\",INDEX(OIQraw,ROW(),Setup!$C$5+COLUMN()-26),\"x\")","v":"x"},{"$f":"IF($E15=\"Y\",INDEX(OIQraw,ROW(),Setup!$C$5+COLUMN()-26),\"x\")","v":"x"},{"$f":"IF($E15=\"Y\",INDEX(OIQraw,ROW(),Setup!$C$5+COLUMN()-26),\"x\")","v":"x"},{"$f":"IF($E15=\"Y\",INDEX(OIQraw,ROW(),Setup!$C$5+COLUMN()-26),\"x\")","v":"x"},{"$f":"IF($E15=\"Y\",INDEX(OIQraw,ROW(),Setup!$C$5+COLUMN()-26),\"x\")","v":"x"},{"$f":"IF($E15=\"Y\",INDEX(OIQraw,ROW(),Setup!$C$5+COLUMN()-26),\"x\")","v":"x"},{"$f":"IF($E15=\"Y\",INDEX(OIQraw,ROW(),Setup!$C$5+COLUMN()-26),\"x\")","v":"x"},{"$f":"IF($E15=\"Y\",INDEX(OIQraw,ROW(),Setup!$C$5+COLUMN()-26),\"x\")","v":"x"},{"$f":"IF($E15=\"Y\",INDEX(OIQraw,ROW(),Setup!$C$5+COLUMN()-26),\"x\")","v":"x"},{"$f":"IF($E15=\"Y\",INDEX(OIQraw,ROW(),Setup!$C$5+COLUMN()-26),\"x\")","v":"x"},{"$f":"IF($E15=\"Y\",INDEX(OIQraw,ROW(),Setup!$C$5+COLUMN()-26),\"x\")","v":"x"},{"$f":"IF($E15=\"Y\",INDEX(OIQraw,ROW(),Setup!$C$5+COLUMN()-26),\"x\")","v":"x"},{"$f":"IF($E15=\"Y\",INDEX(OIQraw,ROW(),Setup!$C$5+COLUMN()-26),\"x\")","v":"x"},{"$f":"IF($E15=\"Y\",INDEX(OIQraw,ROW(),Setup!$C$5+COLUMN()-26),\"x\")","v":"x"},{"$f":"IF($E15=\"Y\",INDEX(OIQraw,ROW(),Setup!$C$5+COLUMN()-26),\"x\")","v":"x"},{"$f":"IF($E15=\"Y\",INDEX(OIQraw,ROW(),Setup!$C$5+COLUMN()-26),\"x\")","v":"x"},{"$f":"IF($E15=\"Y\",INDEX(OIQraw,ROW(),Setup!$C$5+COLUMN()-26),\"x\")","v":"x"},{"$f":"IF($E15=\"Y\",INDEX(OIQraw,ROW(),Setup!$C$5+COLUMN()-26),\"x\")","v":"x"},{"$f":"IF($E15=\"Y\",INDEX(OIQraw,ROW(),Setup!$C$5+COLUMN()-26),\"x\")","v":"x"},{"$f":"IF($E15=\"Y\",INDEX(OIQraw,ROW(),Setup!$C$5+COLUMN()-26),\"x\")","v":"x"},{"$f":"IF($E15=\"Y\",INDEX(OIQraw,ROW(),Setup!$C$5+COLUMN()-26),\"x\")","v":"x"},{"$f":"IF($E15=\"Y\",INDEX(OIQraw,ROW(),Setup!$C$5+COLUMN()-26),\"x\")","v":"x"},{"$f":"IF($E15=\"Y\",INDEX(OIQraw,ROW(),Setup!$C$5+COLUMN()-26),\"x\")","v":"x"},{"$f":"IF($E15=\"Y\",INDEX(OIQraw,ROW(),Setup!$C$5+COLUMN()-26),\"x\")","v":"x"},{"$f":"IF($E15=\"Y\",INDEX(OIQraw,ROW(),Setup!$C$5+COLUMN()-26),\"x\")","v":"x"},{"$f":"IF($E15=\"Y\",INDEX(OIQraw,ROW(),Setup!$C$5+COLUMN()-26),\"x\")","v":"x"},{"$f":"IF($E15=\"Y\",INDEX(OIQraw,ROW(),Setup!$C$5+COLUMN()-26),\"x\")","v":"x"},{"$f":"IF($E15=\"Y\",INDEX(OIQraw,ROW(),Setup!$C$5+COLUMN()-26),\"x\")","v":"x"},{"$f":"IF($E15=\"Y\",INDEX(OIQraw,ROW(),Setup!$C$5+COLUMN()-26),\"x\")","v":"x"},{"$f":"IF($E15=\"Y\",INDEX(OIQraw,ROW(),Setup!$C$5+COLUMN()-26),\"x\")","v":"x"},{"$f":"IF($E15=\"Y\",INDEX(OIQraw,ROW(),Setup!$C$5+COLUMN()-26),\"x\")","v":"x"},{"$f":"IF($E15=\"Y\",INDEX(OIQraw,ROW(),Setup!$C$5+COLUMN()-26),\"x\")","v":"x"},{"$f":"IF($E15=\"Y\",INDEX(OIQraw,ROW(),Setup!$C$5+COLUMN()-26),\"x\")","v":"x"},{"$f":"IF($E15=\"Y\",INDEX(OIQraw,ROW(),Setup!$C$5+COLUMN()-26),\"x\")","v":"x"},{"$f":"IF($E15=\"Y\",INDEX(OIQraw,ROW(),Setup!$C$5+COLUMN()-26),\"x\")","v":"x"},{"$f":"IF($E15=\"Y\",INDEX(OIQraw,ROW(),Setup!$C$5+COLUMN()-26),\"x\")","v":"x"},{"$f":"IF($E15=\"Y\",INDEX(OIQraw,ROW(),Setup!$C$5+COLUMN()-26),\"x\")","v":"x"},{"$f":"IF($E15=\"Y\",INDEX(OIQraw,ROW(),Setup!$C$5+COLUMN()-26),\"x\")","v":"x"},{"$f":"IF($E15=\"Y\",INDEX(OIQraw,ROW(),Setup!$C$5+COLUMN()-26),\"x\")","v":"x"},{"$f":"IF($E15=\"Y\",INDEX(OIQraw,ROW(),Setup!$C$5+COLUMN()-26),\"x\")","v":"x"},{"$f":"IF($E15=\"Y\",INDEX(OIQraw,ROW(),Setup!$C$5+COLUMN()-26),\"x\")","v":"x"},{"$f":"IF($E15=\"Y\",INDEX(OIQraw,ROW(),Setup!$C$5+COLUMN()-26),\"x\")","v":"x"},{"$f":"IF($E15=\"Y\",INDEX(OIQraw,ROW(),Setup!$C$5+COLUMN()-26),\"x\")","v":"x"},{"$f":"IF($E15=\"Y\",INDEX(OIQraw,ROW(),Setup!$C$5+COLUMN()-26),\"x\")","v":"x"},{"$f":"IF($E15=\"Y\",INDEX(OIQraw,ROW(),Setup!$C$5+COLUMN()-26),\"x\")","v":"x"},{"$f":"IF($E15=\"Y\",INDEX(OIQraw,ROW(),Setup!$C$5+COLUMN()-26),\"x\")","v":"x"},{"$f":"IF($E15=\"Y\",INDEX(OIQraw,ROW(),Setup!$C$5+COLUMN()-26),\"x\")","v":"x"},{"$f":"IF($E15=\"Y\",INDEX(OIQraw,ROW(),Setup!$C$5+COLUMN()-26),\"x\")","v":"x"},{"$f":"IF($E15=\"Y\",INDEX(OIQraw,ROW(),Setup!$C$5+COLUMN()-26),\"x\")","v":"x"},{"$f":"IF($E15=\"Y\",INDEX(OIQraw,ROW(),Setup!$C$5+COLUMN()-26),\"x\")","v":"x"},{"$f":"IF($E15=\"Y\",INDEX(OIQraw,ROW(),Setup!$C$5+COLUMN()-26),\"x\")","v":"x"},{"$f":"IF($E15=\"Y\",INDEX(OIQraw,ROW(),Setup!$C$5+COLUMN()-26),\"x\")","v":"x"},{"$f":"IF($E15=\"Y\",INDEX(OIQraw,ROW(),Setup!$C$5+COLUMN()-26),\"x\")","v":"x"},{"$f":"IF($E15=\"Y\",INDEX(OIQraw,ROW(),Setup!$C$5+COLUMN()-26),\"x\")","v":"x"},{"$f":"IF($E15=\"Y\",INDEX(OIQraw,ROW(),Setup!$C$5+COLUMN()-26),\"x\")","v":"x"},{"$f":"IF($E15=\"Y\",INDEX(OIQraw,ROW(),Setup!$C$5+COLUMN()-26),\"x\")","v":"x"},{"$f":"IF($E15=\"Y\",INDEX(OIQraw,ROW(),Setup!$C$5+COLUMN()-26),\"x\")","v":"x"},{"$f":"IF($E15=\"Y\",INDEX(OIQraw,ROW(),Setup!$C$5+COLUMN()-26),\"x\")","v":"x"},{"$f":"IF($E15=\"Y\",INDEX(OIQraw,ROW(),Setup!$C$5+COLUMN()-26),\"x\")","v":"x"},{"$f":"IF($E15=\"Y\",INDEX(OIQraw,ROW(),Setup!$C$5+COLUMN()-26),\"x\")","v":"x"},{"$f":"IF($E15=\"Y\",INDEX(OIQraw,ROW(),Setup!$C$5+COLUMN()-26),\"x\")","v":"x"},{"$f":"IF($E15=\"Y\",INDEX(OIQraw,ROW(),Setup!$C$5+COLUMN()-26),\"x\")","v":"x"},{"$f":"IF($E15=\"Y\",INDEX(OIQraw,ROW(),Setup!$C$5+COLUMN()-26),\"x\")","v":"x"},{"$f":"IF($E15=\"Y\",INDEX(OIQraw,ROW(),Setup!$C$5+COLUMN()-26),\"x\")","v":"x"},{"$f":"IF($E15=\"Y\",INDEX(OIQraw,ROW(),Setup!$C$5+COLUMN()-26),\"x\")","v":"x"},{"$f":"IF($E15=\"Y\",INDEX(OIQraw,ROW(),Setup!$C$5+COLUMN()-26),\"x\")","v":"x"},{"$f":"IF($E15=\"Y\",INDEX(OIQraw,ROW(),Setup!$C$5+COLUMN()-26),\"x\")","v":"x"},{"$f":"IF($E15=\"Y\",INDEX(OIQraw,ROW(),Setup!$C$5+COLUMN()-26),\"x\")","v":"x"},{"$f":"IF($E15=\"Y\",INDEX(OIQraw,ROW(),Setup!$C$5+COLUMN()-26),\"x\")","v":"x"},{"$f":"IF($E15=\"Y\",INDEX(OIQraw,ROW(),Setup!$C$5+COLUMN()-26),\"x\")","v":"x"},{"$f":"IF($E15=\"Y\",INDEX(OIQraw,ROW(),Setup!$C$5+COLUMN()-26),\"x\")","v":"x"},{"$f":"IF($E15=\"Y\",INDEX(OIQraw,ROW(),Setup!$C$5+COLUMN()-26),\"x\")","v":"x"},{"$f":"IF($E15=\"Y\",INDEX(OIQraw,ROW(),Setup!$C$5+COLUMN()-26),\"x\")","v":"x"},{"$f":"IF($E15=\"Y\",INDEX(OIQraw,ROW(),Setup!$C$5+COLUMN()-26),\"x\")","v":"x"},{"$f":"IF($E15=\"Y\",INDEX(OIQraw,ROW(),Setup!$C$5+COLUMN()-26),\"x\")","v":"x"},{"$f":"IF($E15=\"Y\",INDEX(OIQraw,ROW(),Setup!$C$5+COLUMN()-26),\"x\")","v":"x"},{"$f":"IF($E15=\"Y\",INDEX(OIQraw,ROW(),Setup!$C$5+COLUMN()-26),\"x\")","v":"x"},{"$f":"IF($E15=\"Y\",INDEX(OIQraw,ROW(),Setup!$C$5+COLUMN()-26),\"x\")","v":"x"},{"$f":"IF($E15=\"Y\",INDEX(OIQraw,ROW(),Setup!$C$5+COLUMN()-26),\"x\")","v":"x"},{"$f":"IF($E15=\"Y\",INDEX(OIQraw,ROW(),Setup!$C$5+COLUMN()-26),\"x\")","v":"x"},{"$f":"IF($E15=\"Y\",INDEX(OIQraw,ROW(),Setup!$C$5+COLUMN()-26),\"x\")","v":"x"},{"$f":"IF($E15=\"Y\",INDEX(OIQraw,ROW(),Setup!$C$5+COLUMN()-26),\"x\")","v":"x"},{"$f":"IF($E15=\"Y\",INDEX(OIQraw,ROW(),Setup!$C$5+COLUMN()-26),\"x\")","v":"x"},{"$f":"IF($E15=\"Y\",INDEX(OIQraw,ROW(),Setup!$C$5+COLUMN()-26),\"x\")","v":"x"},{"$f":"IF($E15=\"Y\",INDEX(OIQraw,ROW(),Setup!$C$5+COLUMN()-26),\"x\")","v":"x"},{"$f":"IF($E15=\"Y\",INDEX(OIQraw,ROW(),Setup!$C$5+COLUMN()-26),\"x\")","v":"x"},{"$f":"IF($E15=\"Y\",INDEX(OIQraw,ROW(),Setup!$C$5+COLUMN()-26),\"x\")","v":"x"},{"$f":"IF($E15=\"Y\",INDEX(OIQraw,ROW(),Setup!$C$5+COLUMN()-26),\"x\")","v":"x"},{"$f":"IF($E15=\"Y\",INDEX(OIQraw,ROW(),Setup!$C$5+COLUMN()-26),\"x\")","v":"x"},{"$f":"IF($E15=\"Y\",INDEX(OIQraw,ROW(),Setup!$C$5+COLUMN()-26),\"x\")","v":"x"},{"$f":"IF($E15=\"Y\",INDEX(OIQraw,ROW(),Setup!$C$5+COLUMN()-26),\"x\")","v":"x"},{"$f":"IF($E15=\"Y\",INDEX(OIQraw,ROW(),Setup!$C$5+COLUMN()-26),\"x\")","v":"x"},{"$f":"IF($E15=\"Y\",INDEX(OIQraw,ROW(),Setup!$C$5+COLUMN()-26),\"x\")","v":"x"},{"$f":"IF($E15=\"Y\",INDEX(OIQraw,ROW(),Setup!$C$5+COLUMN()-26),\"x\")","v":"x"},{"$f":"IF($E15=\"Y\",INDEX(OIQraw,ROW(),Setup!$C$5+COLUMN()-26),\"x\")","v":"x"},{"$f":"IF($E15=\"Y\",INDEX(OIQraw,ROW(),Setup!$C$5+COLUMN()-26),\"x\")","v":"x"},{"$f":"IF($E15=\"Y\",INDEX(OIQraw,ROW(),Setup!$C$5+COLUMN()-26),\"x\")","v":"x"},{"$f":"IF($E15=\"Y\",INDEX(OIQraw,ROW(),Setup!$C$5+COLUMN()-26),\"x\")","v":"x"},{"$f":"IF($E15=\"Y\",INDEX(OIQraw,ROW(),Setup!$C$5+COLUMN()-26),\"x\")","v":"x"},{"$f":"IF($E15=\"Y\",INDEX(OIQraw,ROW(),Setup!$C$5+COLUMN()-26),\"x\")","v":"x"},{"$f":"IF($E15=\"Y\",INDEX(OIQraw,ROW(),Setup!$C$5+COLUMN()-26),\"x\")","v":"x"},{"$f":"IF($E15=\"Y\",INDEX(OIQraw,ROW(),Setup!$C$5+COLUMN()-26),\"x\")","v":"x"},{"$f":"IF($E15=\"Y\",INDEX(OIQraw,ROW(),Setup!$C$5+COLUMN()-26),\"x\")","v":"x"},{"$f":"IF($E15=\"Y\",INDEX(OIQraw,ROW(),Setup!$C$5+COLUMN()-26),\"x\")","v":"x"},{"$f":"IF($E15=\"Y\",INDEX(OIQraw,ROW(),Setup!$C$5+COLUMN()-26),\"x\")","v":"x"},{"$f":"IF($E15=\"Y\",INDEX(OIQraw,ROW(),Setup!$C$5+COLUMN()-26),\"x\")","v":"x"},{"$f":"IF($E15=\"Y\",INDEX(OIQraw,ROW(),Setup!$C$5+COLUMN()-26),\"x\")","v":"x"},{"$f":"IF($E15=\"Y\",INDEX(OIQraw,ROW(),Setup!$C$5+COLUMN()-26),\"x\")","v":"x"},{"$f":"IF($E15=\"Y\",INDEX(OIQraw,ROW(),Setup!$C$5+COLUMN()-26),\"x\")","v":"x"},{"$f":"IF($E15=\"Y\",INDEX(OIQraw,ROW(),Setup!$C$5+COLUMN()-26),\"x\")","v":"x"},{"$f":"IF($E15=\"Y\",INDEX(OIQraw,ROW(),Setup!$C$5+COLUMN()-26),\"x\")","v":"x"},{"$f":"IF($E15=\"Y\",INDEX(OIQraw,ROW(),Setup!$C$5+COLUMN()-26),\"x\")","v":"x"},{"$f":"IF($E15=\"Y\",INDEX(OIQraw,ROW(),Setup!$C$5+COLUMN()-26),\"x\")","v":"x"},{"$f":"IF($E15=\"Y\",INDEX(OIQraw,ROW(),Setup!$C$5+COLUMN()-26),\"x\")","v":"x"},{"$f":"IF($E15=\"Y\",INDEX(OIQraw,ROW(),Setup!$C$5+COLUMN()-26),\"x\")","v":"x"},{"$f":"IF($E15=\"Y\",INDEX(OIQraw,ROW(),Setup!$C$5+COLUMN()-26),\"x\")","v":"x"},{"$f":"IF($E15=\"Y\",INDEX(OIQraw,ROW(),Setup!$C$5+COLUMN()-26),\"x\")","v":"x"},{"$f":"IF($E15=\"Y\",INDEX(OIQraw,ROW(),Setup!$C$5+COLUMN()-26),\"x\")","v":"x"},{"$f":"IF($E15=\"Y\",INDEX(OIQraw,ROW(),Setup!$C$5+COLUMN()-26),\"x\")","v":"x"},{"$f":"IF($E15=\"Y\",INDEX(OIQraw,ROW(),Setup!$C$5+COLUMN()-26),\"x\")","v":"x"},{"$f":"IF($E15=\"Y\",INDEX(OIQraw,ROW(),Setup!$C$5+COLUMN()-26),\"x\")","v":"x"}]
[1,"","",{"$f":"IF(ISERROR(FIND(\"Withdrew\",RawScores!B20)),RawScores!B20,RIGHT(RawScores!B20,LEN(RawScores!B20)-17))&\", \"&RawScores!C20","v":", "},{"$f":"IF(OR(ISERROR(FIND(\"Withdrew\",RawScores!B20))=FALSE,INDEX(OIQraw,ROW(),LastInputCol-3)=0),\"N\",IF(AND(Setup!$B$22=\"Yes\",INDEX(OIQraw,ROW(),LastInputCol)=1),\"N\",\"Y\"))","v":"N"},"X","X","X",{"$f":"IF(AND(ISNUMBER(F16),F16>Setup!$B$14-1),1,0)","v":0},{"$f":"IF(AND(F16>Setup!$B$14-1,Conv!H16<5),1,0)","v":0},{"$f":"IF(AND(F16>Setup!$B$14-1,Conv!G16=\"F\"),1,0)","v":0},"","","","","","","","","","","","","X","X",{"$f":"IF($E16=\"Y\",INDEX(OIQraw,ROW(),Setup!$C$5+COLUMN()-26),\"x\")","v":"x"},{"$f":"IF($E16=\"Y\",INDEX(OIQraw,ROW(),Setup!$C$5+COLUMN()-26),\"x\")","v":"x"},{"$f":"IF($E16=\"Y\",INDEX(OIQraw,ROW(),Setup!$C$5+COLUMN()-26),\"x\")","v":"x"},{"$f":"IF($E16=\"Y\",INDEX(OIQraw,ROW(),Setup!$C$5+COLUMN()-26),\"x\")","v":"x"},{"$f":"IF($E16=\"Y\",INDEX(OIQraw,ROW(),Setup!$C$5+COLUMN()-26),\"x\")","v":"x"},{"$f":"IF($E16=\"Y\",INDEX(OIQraw,ROW(),Setup!$C$5+COLUMN()-26),\"x\")","v":"x"},{"$f":"IF($E16=\"Y\",INDEX(OIQraw,ROW(),Setup!$C$5+COLUMN()-26),\"x\")","v":"x"},{"$f":"IF($E16=\"Y\",INDEX(OIQraw,ROW(),Setup!$C$5+COLUMN()-26),\"x\")","v":"x"},{"$f":"IF($E16=\"Y\",INDEX(OIQraw,ROW(),Setup!$C$5+COLUMN()-26),\"x\")","v":"x"},{"$f":"IF($E16=\"Y\",INDEX(OIQraw,ROW(),Setup!$C$5+COLUMN()-26),\"x\")","v":"x"},{"$f":"IF($E16=\"Y\",INDEX(OIQraw,ROW(),Setup!$C$5+COLUMN()-26),\"x\")","v":"x"},{"$f":"IF($E16=\"Y\",INDEX(OIQraw,ROW(),Setup!$C$5+COLUMN()-26),\"x\")","v":"x"},{"$f":"IF($E16=\"Y\",INDEX(OIQraw,ROW(),Setup!$C$5+COLUMN()-26),\"x\")","v":"x"},{"$f":"IF($E16=\"Y\",INDEX(OIQraw,ROW(),Setup!$C$5+COLUMN()-26),\"x\")","v":"x"},{"$f":"IF($E16=\"Y\",INDEX(OIQraw,ROW(),Setup!$C$5+COLUMN()-26),\"x\")","v":"x"},{"$f":"IF($E16=\"Y\",INDEX(OIQraw,ROW(),Setup!$C$5+COLUMN()-26),\"x\")","v":"x"},{"$f":"IF($E16=\"Y\",INDEX(OIQraw,ROW(),Setup!$C$5+COLUMN()-26),\"x\")","v":"x"},{"$f":"IF($E16=\"Y\",INDEX(OIQraw,ROW(),Setup!$C$5+COLUMN()-26),\"x\")","v":"x"},{"$f":"IF($E16=\"Y\",INDEX(OIQraw,ROW(),Setup!$C$5+COLUMN()-26),\"x\")","v":"x"},{"$f":"IF($E16=\"Y\",INDEX(OIQraw,ROW(),Setup!$C$5+COLUMN()-26),\"x\")","v":"x"},{"$f":"IF($E16=\"Y\",INDEX(OIQraw,ROW(),Setup!$C$5+COLUMN()-26),\"x\")","v":"x"},{"$f":"IF($E16=\"Y\",INDEX(OIQraw,ROW(),Setup!$C$5+COLUMN()-26),\"x\")","v":"x"},{"$f":"IF($E16=\"Y\",INDEX(OIQraw,ROW(),Setup!$C$5+COLUMN()-26),\"x\")","v":"x"},{"$f":"IF($E16=\"Y\",INDEX(OIQraw,ROW(),Setup!$C$5+COLUMN()-26),\"x\")","v":"x"},{"$f":"IF($E16=\"Y\",INDEX(OIQraw,ROW(),Setup!$C$5+COLUMN()-26),\"x\")","v":"x"},{"$f":"IF($E16=\"Y\",INDEX(OIQraw,ROW(),Setup!$C$5+COLUMN()-26),\"x\")","v":"x"},{"$f":"IF($E16=\"Y\",INDEX(OIQraw,ROW(),Setup!$C$5+COLUMN()-26),\"x\")","v":"x"},{"$f":"IF($E16=\"Y\",INDEX(OIQraw,ROW(),Setup!$C$5+COLUMN()-26),\"x\")","v":"x"},{"$f":"IF($E16=\"Y\",INDEX(OIQraw,ROW(),Setup!$C$5+COLUMN()-26),\"x\")","v":"x"},{"$f":"IF($E16=\"Y\",INDEX(OIQraw,ROW(),Setup!$C$5+COLUMN()-26),\"x\")","v":"x"},{"$f":"IF($E16=\"Y\",INDEX(OIQraw,ROW(),Setup!$C$5+COLUMN()-26),\"x\")","v":"x"},{"$f":"IF($E16=\"Y\",INDEX(OIQraw,ROW(),Setup!$C$5+COLUMN()-26),\"x\")","v":"x"},{"$f":"IF($E16=\"Y\",INDEX(OIQraw,ROW(),Setup!$C$5+COLUMN()-26),\"x\")","v":"x"},{"$f":"IF($E16=\"Y\",INDEX(OIQraw,ROW(),Setup!$C$5+COLUMN()-26),\"x\")","v":"x"},{"$f":"IF($E16=\"Y\",INDEX(OIQraw,ROW(),Setup!$C$5+COLUMN()-26),\"x\")","v":"x"},{"$f":"IF($E16=\"Y\",INDEX(OIQraw,ROW(),Setup!$C$5+COLUMN()-26),\"x\")","v":"x"},{"$f":"IF($E16=\"Y\",INDEX(OIQraw,ROW(),Setup!$C$5+COLUMN()-26),\"x\")","v":"x"},{"$f":"IF($E16=\"Y\",INDEX(OIQraw,ROW(),Setup!$C$5+COLUMN()-26),\"x\")","v":"x"},{"$f":"IF($E16=\"Y\",INDEX(OIQraw,ROW(),Setup!$C$5+COLUMN()-26),\"x\")","v":"x"},{"$f":"IF($E16=\"Y\",INDEX(OIQraw,ROW(),Setup!$C$5+COLUMN()-26),\"x\")","v":"x"},{"$f":"IF($E16=\"Y\",INDEX(OIQraw,ROW(),Setup!$C$5+COLUMN()-26),\"x\")","v":"x"},{"$f":"IF($E16=\"Y\",INDEX(OIQraw,ROW(),Setup!$C$5+COLUMN()-26),\"x\")","v":"x"},{"$f":"IF($E16=\"Y\",INDEX(OIQraw,ROW(),Setup!$C$5+COLUMN()-26),\"x\")","v":"x"},{"$f":"IF($E16=\"Y\",INDEX(OIQraw,ROW(),Setup!$C$5+COLUMN()-26),\"x\")","v":"x"},{"$f":"IF($E16=\"Y\",INDEX(OIQraw,ROW(),Setup!$C$5+COLUMN()-26),\"x\")","v":"x"},{"$f":"IF($E16=\"Y\",INDEX(OIQraw,ROW(),Setup!$C$5+COLUMN()-26),\"x\")","v":"x"},{"$f":"IF($E16=\"Y\",INDEX(OIQraw,ROW(),Setup!$C$5+COLUMN()-26),\"x\")","v":"x"},{"$f":"IF($E16=\"Y\",INDEX(OIQraw,ROW(),Setup!$C$5+COLUMN()-26),\"x\")","v":"x"},{"$f":"IF($E16=\"Y\",INDEX(OIQraw,ROW(),Setup!$C$5+COLUMN()-26),\"x\")","v":"x"},{"$f":"IF($E16=\"Y\",INDEX(OIQraw,ROW(),Setup!$C$5+COLUMN()-26),\"x\")","v":"x"},{"$f":"IF($E16=\"Y\",INDEX(OIQraw,ROW(),Setup!$C$5+COLUMN()-26),\"x\")","v":"x"},{"$f":"IF($E16=\"Y\",INDEX(OIQraw,ROW(),Setup!$C$5+COLUMN()-26),\"x\")","v":"x"},{"$f":"IF($E16=\"Y\",INDEX(OIQraw,ROW(),Setup!$C$5+COLUMN()-26),\"x\")","v":"x"},{"$f":"IF($E16=\"Y\",INDEX(OIQraw,ROW(),Setup!$C$5+COLUMN()-26),\"x\")","v":"x"},{"$f":"IF($E16=\"Y\",INDEX(OIQraw,ROW(),Setup!$C$5+COLUMN()-26),\"x\")","v":"x"},{"$f":"IF($E16=\"Y\",INDEX(OIQraw,ROW(),Setup!$C$5+COLUMN()-26),\"x\")","v":"x"},{"$f":"IF($E16=\"Y\",INDEX(OIQraw,ROW(),Setup!$C$5+COLUMN()-26),\"x\")","v":"x"},{"$f":"IF($E16=\"Y\",INDEX(OIQraw,ROW(),Setup!$C$5+COLUMN()-26),\"x\")","v":"x"},{"$f":"IF($E16=\"Y\",INDEX(OIQraw,ROW(),Setup!$C$5+COLUMN()-26),\"x\")","v":"x"},{"$f":"IF($E16=\"Y\",INDEX(OIQraw,ROW(),Setup!$C$5+COLUMN()-26),\"x\")","v":"x"},{"$f":"IF($E16=\"Y\",INDEX(OIQraw,ROW(),Setup!$C$5+COLUMN()-26),\"x\")","v":"x"},{"$f":"IF($E16=\"Y\",INDEX(OIQraw,ROW(),Setup!$C$5+COLUMN()-26),\"x\")","v":"x"},{"$f":"IF($E16=\"Y\",INDEX(OIQraw,ROW(),Setup!$C$5+COLUMN()-26),\"x\")","v":"x"},{"$f":"IF($E16=\"Y\",INDEX(OIQraw,ROW(),Setup!$C$5+COLUMN()-26),\"x\")","v":"x"},{"$f":"IF($E16=\"Y\",INDEX(OIQraw,ROW(),Setup!$C$5+COLUMN()-26),\"x\")","v":"x"},{"$f":"IF($E16=\"Y\",INDEX(OIQraw,ROW(),Setup!$C$5+COLUMN()-26),\"x\")","v":"x"},{"$f":"IF($E16=\"Y\",INDEX(OIQraw,ROW(),Setup!$C$5+COLUMN()-26),\"x\")","v":"x"},{"$f":"IF($E16=\"Y\",INDEX(OIQraw,ROW(),Setup!$C$5+COLUMN()-26),\"x\")","v":"x"},{"$f":"IF($E16=\"Y\",INDEX(OIQraw,ROW(),Setup!$C$5+COLUMN()-26),\"x\")","v":"x"},{"$f":"IF($E16=\"Y\",INDEX(OIQraw,ROW(),Setup!$C$5+COLUMN()-26),\"x\")","v":"x"},{"$f":"IF($E16=\"Y\",INDEX(OIQraw,ROW(),Setup!$C$5+COLUMN()-26),\"x\")","v":"x"},{"$f":"IF($E16=\"Y\",INDEX(OIQraw,ROW(),Setup!$C$5+COLUMN()-26),\"x\")","v":"x"},{"$f":"IF($E16=\"Y\",INDEX(OIQraw,ROW(),Setup!$C$5+COLUMN()-26),\"x\")","v":"x"},{"$f":"IF($E16=\"Y\",INDEX(OIQraw,ROW(),Setup!$C$5+COLUMN()-26),\"x\")","v":"x"},{"$f":"IF($E16=\"Y\",INDEX(OIQraw,ROW(),Setup!$C$5+COLUMN()-26),\"x\")","v":"x"},{"$f":"IF($E16=\"Y\",INDEX(OIQraw,ROW(),Setup!$C$5+COLUMN()-26),\"x\")","v":"x"},{"$f":"IF($E16=\"Y\",INDEX(OIQraw,ROW(),Setup!$C$5+COLUMN()-26),\"x\")","v":"x"},{"$f":"IF($E16=\"Y\",INDEX(OIQraw,ROW(),Setup!$C$5+COLUMN()-26),\"x\")","v":"x"},{"$f":"IF($E16=\"Y\",INDEX(OIQraw,ROW(),Setup!$C$5+COLUMN()-26),\"x\")","v":"x"},{"$f":"IF($E16=\"Y\",INDEX(OIQraw,ROW(),Setup!$C$5+COLUMN()-26),\"x\")","v":"x"},{"$f":"IF($E16=\"Y\",INDEX(OIQraw,ROW(),Setup!$C$5+COLUMN()-26),\"x\")","v":"x"},{"$f":"IF($E16=\"Y\",INDEX(OIQraw,ROW(),Setup!$C$5+COLUMN()-26),\"x\")","v":"x"},{"$f":"IF($E16=\"Y\",INDEX(OIQraw,ROW(),Setup!$C$5+COLUMN()-26),\"x\")","v":"x"},{"$f":"IF($E16=\"Y\",INDEX(OIQraw,ROW(),Setup!$C$5+COLUMN()-26),\"x\")","v":"x"},{"$f":"IF($E16=\"Y\",INDEX(OIQraw,ROW(),Setup!$C$5+COLUMN()-26),\"x\")","v":"x"},{"$f":"IF($E16=\"Y\",INDEX(OIQraw,ROW(),Setup!$C$5+COLUMN()-26),\"x\")","v":"x"},{"$f":"IF($E16=\"Y\",INDEX(OIQraw,ROW(),Setup!$C$5+COLUMN()-26),\"x\")","v":"x"},{"$f":"IF($E16=\"Y\",INDEX(OIQraw,ROW(),Setup!$C$5+COLUMN()-26),\"x\")","v":"x"},{"$f":"IF($E16=\"Y\",INDEX(OIQraw,ROW(),Setup!$C$5+COLUMN()-26),\"x\")","v":"x"},{"$f":"IF($E16=\"Y\",INDEX(OIQraw,ROW(),Setup!$C$5+COLUMN()-26),\"x\")","v":"x"},{"$f":"IF($E16=\"Y\",INDEX(OIQraw,ROW(),Setup!$C$5+COLUMN()-26),\"x\")","v":"x"},{"$f":"IF($E16=\"Y\",INDEX(OIQraw,ROW(),Setup!$C$5+COLUMN()-26),\"x\")","v":"x"},{"$f":"IF($E16=\"Y\",INDEX(OIQraw,ROW(),Setup!$C$5+COLUMN()-26),\"x\")","v":"x"},{"$f":"IF($E16=\"Y\",INDEX(OIQraw,ROW(),Setup!$C$5+COLUMN()-26),\"x\")","v":"x"},{"$f":"IF($E16=\"Y\",INDEX(OIQraw,ROW(),Setup!$C$5+COLUMN()-26),\"x\")","v":"x"},{"$f":"IF($E16=\"Y\",INDEX(OIQraw,ROW(),Setup!$C$5+COLUMN()-26),\"x\")","v":"x"},{"$f":"IF($E16=\"Y\",INDEX(OIQraw,ROW(),Setup!$C$5+COLUMN()-26),\"x\")","v":"x"},{"$f":"IF($E16=\"Y\",INDEX(OIQraw,ROW(),Setup!$C$5+COLUMN()-26),\"x\")","v":"x"},{"$f":"IF($E16=\"Y\",INDEX(OIQraw,ROW(),Setup!$C$5+COLUMN()-26),\"x\")","v":"x"},{"$f":"IF($E16=\"Y\",INDEX(OIQraw,ROW(),Setup!$C$5+COLUMN()-26),\"x\")","v":"x"},{"$f":"IF($E16=\"Y\",INDEX(OIQraw,ROW(),Setup!$C$5+COLUMN()-26),\"x\")","v":"x"},{"$f":"IF($E16=\"Y\",INDEX(OIQraw,ROW(),Setup!$C$5+COLUMN()-26),\"x\")","v":"x"},{"$f":"IF($E16=\"Y\",INDEX(OIQraw,ROW(),Setup!$C$5+COLUMN()-26),\"x\")","v":"x"},{"$f":"IF($E16=\"Y\",INDEX(OIQraw,ROW(),Setup!$C$5+COLUMN()-26),\"x\")","v":"x"},{"$f":"IF($E16=\"Y\",INDEX(OIQraw,ROW(),Setup!$C$5+COLUMN()-26),\"x\")","v":"x"},{"$f":"IF($E16=\"Y\",INDEX(OIQraw,ROW(),Setup!$C$5+COLUMN()-26),\"x\")","v":"x"},{"$f":"IF($E16=\"Y\",INDEX(OIQraw,ROW(),Setup!$C$5+COLUMN()-26),\"x\")","v":"x"},{"$f":"IF($E16=\"Y\",INDEX(OIQraw,ROW(),Setup!$C$5+COLUMN()-26),\"x\")","v":"x"},{"$f":"IF($E16=\"Y\",INDEX(OIQraw,ROW(),Setup!$C$5+COLUMN()-26),\"x\")","v":"x"},{"$f":"IF($E16=\"Y\",INDEX(OIQraw,ROW(),Setup!$C$5+COLUMN()-26),\"x\")","v":"x"},{"$f":"IF($E16=\"Y\",INDEX(OIQraw,ROW(),Setup!$C$5+COLUMN()-26),\"x\")","v":"x"},{"$f":"IF($E16=\"Y\",INDEX(OIQraw,ROW(),Setup!$C$5+COLUMN()-26),\"x\")","v":"x"},{"$f":"IF($E16=\"Y\",INDEX(OIQraw,ROW(),Setup!$C$5+COLUMN()-26),\"x\")","v":"x"},{"$f":"IF($E16=\"Y\",INDEX(OIQraw,ROW(),Setup!$C$5+COLUMN()-26),\"x\")","v":"x"},{"$f":"IF($E16=\"Y\",INDEX(OIQraw,ROW(),Setup!$C$5+COLUMN()-26),\"x\")","v":"x"},{"$f":"IF($E16=\"Y\",INDEX(OIQraw,ROW(),Setup!$C$5+COLUMN()-26),\"x\")","v":"x"},{"$f":"IF($E16=\"Y\",INDEX(OIQraw,ROW(),Setup!$C$5+COLUMN()-26),\"x\")","v":"x"},{"$f":"IF($E16=\"Y\",INDEX(OIQraw,ROW(),Setup!$C$5+COLUMN()-26),\"x\")","v":"x"},{"$f":"IF($E16=\"Y\",INDEX(OIQraw,ROW(),Setup!$C$5+COLUMN()-26),\"x\")","v":"x"},{"$f":"IF($E16=\"Y\",INDEX(OIQraw,ROW(),Setup!$C$5+COLUMN()-26),\"x\")","v":"x"},{"$f":"IF($E16=\"Y\",INDEX(OIQraw,ROW(),Setup!$C$5+COLUMN()-26),\"x\")","v":"x"},{"$f":"IF($E16=\"Y\",INDEX(OIQraw,ROW(),Setup!$C$5+COLUMN()-26),\"x\")","v":"x"},{"$f":"IF($E16=\"Y\",INDEX(OIQraw,ROW(),Setup!$C$5+COLUMN()-26),\"x\")","v":"x"},{"$f":"IF($E16=\"Y\",INDEX(OIQraw,ROW(),Setup!$C$5+COLUMN()-26),\"x\")","v":"x"},{"$f":"IF($E16=\"Y\",INDEX(OIQraw,ROW(),Setup!$C$5+COLUMN()-26),\"x\")","v":"x"},{"$f":"IF($E16=\"Y\",INDEX(OIQraw,ROW(),Setup!$C$5+COLUMN()-26),\"x\")","v":"x"},{"$f":"IF($E16=\"Y\",INDEX(OIQraw,ROW(),Setup!$C$5+COLUMN()-26),\"x\")","v":"x"},{"$f":"IF($E16=\"Y\",INDEX(OIQraw,ROW(),Setup!$C$5+COLUMN()-26),\"x\")","v":"x"},{"$f":"IF($E16=\"Y\",INDEX(OIQraw,ROW(),Setup!$C$5+COLUMN()-26),\"x\")","v":"x"},{"$f":"IF($E16=\"Y\",INDEX(OIQraw,ROW(),Setup!$C$5+COLUMN()-26),\"x\")","v":"x"},{"$f":"IF($E16=\"Y\",INDEX(OIQraw,ROW(),Setup!$C$5+COLUMN()-26),\"x\")","v":"x"},{"$f":"IF($E16=\"Y\",INDEX(OIQraw,ROW(),Setup!$C$5+COLUMN()-26),\"x\")","v":"x"},{"$f":"IF($E16=\"Y\",INDEX(OIQraw,ROW(),Setup!$C$5+COLUMN()-26),\"x\")","v":"x"},{"$f":"IF($E16=\"Y\",INDEX(OIQraw,ROW(),Setup!$C$5+COLUMN()-26),\"x\")","v":"x"},{"$f":"IF($E16=\"Y\",INDEX(OIQraw,ROW(),Setup!$C$5+COLUMN()-26),\"x\")","v":"x"},{"$f":"IF($E16=\"Y\",INDEX(OIQraw,ROW(),Setup!$C$5+COLUMN()-26),\"x\")","v":"x"},{"$f":"IF($E16=\"Y\",INDEX(OIQraw,ROW(),Setup!$C$5+COLUMN()-26),\"x\")","v":"x"},{"$f":"IF($E16=\"Y\",INDEX(OIQraw,ROW(),Setup!$C$5+COLUMN()-26),\"x\")","v":"x"},{"$f":"IF($E16=\"Y\",INDEX(OIQraw,ROW(),Setup!$C$5+COLUMN()-26),\"x\")","v":"x"},{"$f":"IF($E16=\"Y\",INDEX(OIQraw,ROW(),Setup!$C$5+COLUMN()-26),\"x\")","v":"x"},{"$f":"IF($E16=\"Y\",INDEX(OIQraw,ROW(),Setup!$C$5+COLUMN()-26),\"x\")","v":"x"},{"$f":"IF($E16=\"Y\",INDEX(OIQraw,ROW(),Setup!$C$5+COLUMN()-26),\"x\")","v":"x"},{"$f":"IF($E16=\"Y\",INDEX(OIQraw,ROW(),Setup!$C$5+COLUMN()-26),\"x\")","v":"x"},{"$f":"IF($E16=\"Y\",INDEX(OIQraw,ROW(),Setup!$C$5+COLUMN()-26),\"x\")","v":"x"},{"$f":"IF($E16=\"Y\",INDEX(OIQraw,ROW(),Setup!$C$5+COLUMN()-26),\"x\")","v":"x"},{"$f":"IF($E16=\"Y\",INDEX(OIQraw,ROW(),Setup!$C$5+COLUMN()-26),\"x\")","v":"x"},{"$f":"IF($E16=\"Y\",INDEX(OIQraw,ROW(),Setup!$C$5+COLUMN()-26),\"x\")","v":"x"},{"$f":"IF($E16=\"Y\",INDEX(OIQraw,ROW(),Setup!$C$5+COLUMN()-26),\"x\")","v":"x"},{"$f":"IF($E16=\"Y\",INDEX(OIQraw,ROW(),Setup!$C$5+COLUMN()-26),\"x\")","v":"x"},{"$f":"IF($E16=\"Y\",INDEX(OIQraw,ROW(),Setup!$C$5+COLUMN()-26),\"x\")","v":"x"},{"$f":"IF($E16=\"Y\",INDEX(OIQraw,ROW(),Setup!$C$5+COLUMN()-26),\"x\")","v":"x"},{"$f":"IF($E16=\"Y\",INDEX(OIQraw,ROW(),Setup!$C$5+COLUMN()-26),\"x\")","v":"x"},{"$f":"IF($E16=\"Y\",INDEX(OIQraw,ROW(),Setup!$C$5+COLUMN()-26),\"x\")","v":"x"},{"$f":"IF($E16=\"Y\",INDEX(OIQraw,ROW(),Setup!$C$5+COLUMN()-26),\"x\")","v":"x"},{"$f":"IF($E16=\"Y\",INDEX(OIQraw,ROW(),Setup!$C$5+COLUMN()-26),\"x\")","v":"x"},{"$f":"IF($E16=\"Y\",INDEX(OIQraw,ROW(),Setup!$C$5+COLUMN()-26),\"x\")","v":"x"},{"$f":"IF($E16=\"Y\",INDEX(OIQraw,ROW(),Setup!$C$5+COLUMN()-26),\"x\")","v":"x"},{"$f":"IF($E16=\"Y\",INDEX(OIQraw,ROW(),Setup!$C$5+COLUMN()-26),\"x\")","v":"x"},{"$f":"IF($E16=\"Y\",INDEX(OIQraw,ROW(),Setup!$C$5+COLUMN()-26),\"x\")","v":"x"},{"$f":"IF($E16=\"Y\",INDEX(OIQraw,ROW(),Setup!$C$5+COLUMN()-26),\"x\")","v":"x"},{"$f":"IF($E16=\"Y\",INDEX(OIQraw,ROW(),Setup!$C$5+COLUMN()-26),\"x\")","v":"x"},{"$f":"IF($E16=\"Y\",INDEX(OIQraw,ROW(),Setup!$C$5+COLUMN()-26),\"x\")","v":"x"},{"$f":"IF($E16=\"Y\",INDEX(OIQraw,ROW(),Setup!$C$5+COLUMN()-26),\"x\")","v":"x"},{"$f":"IF($E16=\"Y\",INDEX(OIQraw,ROW(),Setup!$C$5+COLUMN()-26),\"x\")","v":"x"},{"$f":"IF($E16=\"Y\",INDEX(OIQraw,ROW(),Setup!$C$5+COLUMN()-26),\"x\")","v":"x"},{"$f":"IF($E16=\"Y\",INDEX(OIQraw,ROW(),Setup!$C$5+COLUMN()-26),\"x\")","v":"x"},{"$f":"IF($E16=\"Y\",INDEX(OIQraw,ROW(),Setup!$C$5+COLUMN()-26),\"x\")","v":"x"},{"$f":"IF($E16=\"Y\",INDEX(OIQraw,ROW(),Setup!$C$5+COLUMN()-26),\"x\")","v":"x"},{"$f":"IF($E16=\"Y\",INDEX(OIQraw,ROW(),Setup!$C$5+COLUMN()-26),\"x\")","v":"x"},{"$f":"IF($E16=\"Y\",INDEX(OIQraw,ROW(),Setup!$C$5+COLUMN()-26),\"x\")","v":"x"},{"$f":"IF($E16=\"Y\",INDEX(OIQraw,ROW(),Setup!$C$5+COLUMN()-26),\"x\")","v":"x"},{"$f":"IF($E16=\"Y\",INDEX(OIQraw,ROW(),Setup!$C$5+COLUMN()-26),\"x\")","v":"x"},{"$f":"IF($E16=\"Y\",INDEX(OIQraw,ROW(),Setup!$C$5+COLUMN()-26),\"x\")","v":"x"},{"$f":"IF($E16=\"Y\",INDEX(OIQraw,ROW(),Setup!$C$5+COLUMN()-26),\"x\")","v":"x"},{"$f":"IF($E16=\"Y\",INDEX(OIQraw,ROW(),Setup!$C$5+COLUMN()-26),\"x\")","v":"x"},{"$f":"IF($E16=\"Y\",INDEX(OIQraw,ROW(),Setup!$C$5+COLUMN()-26),\"x\")","v":"x"},{"$f":"IF($E16=\"Y\",INDEX(OIQraw,ROW(),Setup!$C$5+COLUMN()-26),\"x\")","v":"x"},{"$f":"IF($E16=\"Y\",INDEX(OIQraw,ROW(),Setup!$C$5+COLUMN()-26),\"x\")","v":"x"},{"$f":"IF($E16=\"Y\",INDEX(OIQraw,ROW(),Setup!$C$5+COLUMN()-26),\"x\")","v":"x"},{"$f":"IF($E16=\"Y\",INDEX(OIQraw,ROW(),Setup!$C$5+COLUMN()-26),\"x\")","v":"x"},{"$f":"IF($E16=\"Y\",INDEX(OIQraw,ROW(),Setup!$C$5+COLUMN()-26),\"x\")","v":"x"},{"$f":"IF($E16=\"Y\",INDEX(OIQraw,ROW(),Setup!$C$5+COLUMN()-26),\"x\")","v":"x"},{"$f":"IF($E16=\"Y\",INDEX(OIQraw,ROW(),Setup!$C$5+COLUMN()-26),\"x\")","v":"x"},{"$f":"IF($E16=\"Y\",INDEX(OIQraw,ROW(),Setup!$C$5+COLUMN()-26),\"x\")","v":"x"},{"$f":"IF($E16=\"Y\",INDEX(OIQraw,ROW(),Setup!$C$5+COLUMN()-26),\"x\")","v":"x"},{"$f":"IF($E16=\"Y\",INDEX(OIQraw,ROW(),Setup!$C$5+COLUMN()-26),\"x\")","v":"x"},{"$f":"IF($E16=\"Y\",INDEX(OIQraw,ROW(),Setup!$C$5+COLUMN()-26),\"x\")","v":"x"},{"$f":"IF($E16=\"Y\",INDEX(OIQraw,ROW(),Setup!$C$5+COLUMN()-26),\"x\")","v":"x"},{"$f":"IF($E16=\"Y\",INDEX(OIQraw,ROW(),Setup!$C$5+COLUMN()-26),\"x\")","v":"x"},{"$f":"IF($E16=\"Y\",INDEX(OIQraw,ROW(),Setup!$C$5+COLUMN()-26),\"x\")","v":"x"},{"$f":"IF($E16=\"Y\",INDEX(OIQraw,ROW(),Setup!$C$5+COLUMN()-26),\"x\")","v":"x"},{"$f":"IF($E16=\"Y\",INDEX(OIQraw,ROW(),Setup!$C$5+COLUMN()-26),\"x\")","v":"x"},{"$f":"IF($E16=\"Y\",INDEX(OIQraw,ROW(),Setup!$C$5+COLUMN()-26),\"x\")","v":"x"},{"$f":"IF($E16=\"Y\",INDEX(OIQraw,ROW(),Setup!$C$5+COLUMN()-26),\"x\")","v":"x"},{"$f":"IF($E16=\"Y\",INDEX(OIQraw,ROW(),Setup!$C$5+COLUMN()-26),\"x\")","v":"x"},{"$f":"IF($E16=\"Y\",INDEX(OIQraw,ROW(),Setup!$C$5+COLUMN()-26),\"x\")","v":"x"},{"$f":"IF($E16=\"Y\",INDEX(OIQraw,ROW(),Setup!$C$5+COLUMN()-26),\"x\")","v":"x"},{"$f":"IF($E16=\"Y\",INDEX(OIQraw,ROW(),Setup!$C$5+COLUMN()-26),\"x\")","v":"x"},{"$f":"IF($E16=\"Y\",INDEX(OIQraw,ROW(),Setup!$C$5+COLUMN()-26),\"x\")","v":"x"},{"$f":"IF($E16=\"Y\",INDEX(OIQraw,ROW(),Setup!$C$5+COLUMN()-26),\"x\")","v":"x"},{"$f":"IF($E16=\"Y\",INDEX(OIQraw,ROW(),Setup!$C$5+COLUMN()-26),\"x\")","v":"x"},{"$f":"IF($E16=\"Y\",INDEX(OIQraw,ROW(),Setup!$C$5+COLUMN()-26),\"x\")","v":"x"},{"$f":"IF($E16=\"Y\",INDEX(OIQraw,ROW(),Setup!$C$5+COLUMN()-26),\"x\")","v":"x"},{"$f":"IF($E16=\"Y\",INDEX(OIQraw,ROW(),Setup!$C$5+COLUMN()-26),\"x\")","v":"x"},{"$f":"IF($E16=\"Y\",INDEX(OIQraw,ROW(),Setup!$C$5+COLUMN()-26),\"x\")","v":"x"},{"$f":"IF($E16=\"Y\",INDEX(OIQraw,ROW(),Setup!$C$5+COLUMN()-26),\"x\")","v":"x"},{"$f":"IF($E16=\"Y\",INDEX(OIQraw,ROW(),Setup!$C$5+COLUMN()-26),\"x\")","v":"x"},{"$f":"IF($E16=\"Y\",INDEX(OIQraw,ROW(),Setup!$C$5+COLUMN()-26),\"x\")","v":"x"},{"$f":"IF($E16=\"Y\",INDEX(OIQraw,ROW(),Setup!$C$5+COLUMN()-26),\"x\")","v":"x"},{"$f":"IF($E16=\"Y\",INDEX(OIQraw,ROW(),Setup!$C$5+COLUMN()-26),\"x\")","v":"x"},{"$f":"IF($E16=\"Y\",INDEX(OIQraw,ROW(),Setup!$C$5+COLUMN()-26),\"x\")","v":"x"},{"$f":"IF($E16=\"Y\",INDEX(OIQraw,ROW(),Setup!$C$5+COLUMN()-26),\"x\")","v":"x"},{"$f":"IF($E16=\"Y\",INDEX(OIQraw,ROW(),Setup!$C$5+COLUMN()-26),\"x\")","v":"x"},{"$f":"IF($E16=\"Y\",INDEX(OIQraw,ROW(),Setup!$C$5+COLUMN()-26),\"x\")","v":"x"},{"$f":"IF($E16=\"Y\",INDEX(OIQraw,ROW(),Setup!$C$5+COLUMN()-26),\"x\")","v":"x"},{"$f":"IF($E16=\"Y\",INDEX(OIQraw,ROW(),Setup!$C$5+COLUMN()-26),\"x\")","v":"x"},{"$f":"IF($E16=\"Y\",INDEX(OIQraw,ROW(),Setup!$C$5+COLUMN()-26),\"x\")","v":"x"},{"$f":"IF($E16=\"Y\",INDEX(OIQraw,ROW(),Setup!$C$5+COLUMN()-26),\"x\")","v":"x"},{"$f":"IF($E16=\"Y\",INDEX(OIQraw,ROW(),Setup!$C$5+COLUMN()-26),\"x\")","v":"x"},{"$f":"IF($E16=\"Y\",INDEX(OIQraw,ROW(),Setup!$C$5+COLUMN()-26),\"x\")","v":"x"},{"$f":"IF($E16=\"Y\",INDEX(OIQraw,ROW(),Setup!$C$5+COLUMN()-26),\"x\")","v":"x"},{"$f":"IF($E16=\"Y\",INDEX(OIQraw,ROW(),Setup!$C$5+COLUMN()-26),\"x\")","v":"x"},{"$f":"IF($E16=\"Y\",INDEX(OIQraw,ROW(),Setup!$C$5+COLUMN()-26),\"x\")","v":"x"},{"$f":"IF($E16=\"Y\",INDEX(OIQraw,ROW(),Setup!$C$5+COLUMN()-26),\"x\")","v":"x"},{"$f":"IF($E16=\"Y\",INDEX(OIQraw,ROW(),Setup!$C$5+COLUMN()-26),\"x\")","v":"x"},{"$f":"IF($E16=\"Y\",INDEX(OIQraw,ROW(),Setup!$C$5+COLUMN()-26),\"x\")","v":"x"},{"$f":"IF($E16=\"Y\",INDEX(OIQraw,ROW(),Setup!$C$5+COLUMN()-26),\"x\")","v":"x"},{"$f":"IF($E16=\"Y\",INDEX(OIQraw,ROW(),Setup!$C$5+COLUMN()-26),\"x\")","v":"x"},{"$f":"IF($E16=\"Y\",INDEX(OIQraw,ROW(),Setup!$C$5+COLUMN()-26),\"x\")","v":"x"},{"$f":"IF($E16=\"Y\",INDEX(OIQraw,ROW(),Setup!$C$5+COLUMN()-26),\"x\")","v":"x"},{"$f":"IF($E16=\"Y\",INDEX(OIQraw,ROW(),Setup!$C$5+COLUMN()-26),\"x\")","v":"x"},{"$f":"IF($E16=\"Y\",INDEX(OIQraw,ROW(),Setup!$C$5+COLUMN()-26),\"x\")","v":"x"},{"$f":"IF($E16=\"Y\",INDEX(OIQraw,ROW(),Setup!$C$5+COLUMN()-26),\"x\")","v":"x"},{"$f":"IF($E16=\"Y\",INDEX(OIQraw,ROW(),Setup!$C$5+COLUMN()-26),\"x\")","v":"x"},{"$f":"IF($E16=\"Y\",INDEX(OIQraw,ROW(),Setup!$C$5+COLUMN()-26),\"x\")","v":"x"},{"$f":"IF($E16=\"Y\",INDEX(OIQraw,ROW(),Setup!$C$5+COLUMN()-26),\"x\")","v":"x"},{"$f":"IF($E16=\"Y\",INDEX(OIQraw,ROW(),Setup!$C$5+COLUMN()-26),\"x\")","v":"x"},{"$f":"IF($E16=\"Y\",INDEX(OIQraw,ROW(),Setup!$C$5+COLUMN()-26),\"x\")","v":"x"},{"$f":"IF($E16=\"Y\",INDEX(OIQraw,ROW(),Setup!$C$5+COLUMN()-26),\"x\")","v":"x"},{"$f":"IF($E16=\"Y\",INDEX(OIQraw,ROW(),Setup!$C$5+COLUMN()-26),\"x\")","v":"x"},{"$f":"IF($E16=\"Y\",INDEX(OIQraw,ROW(),Setup!$C$5+COLUMN()-26),\"x\")","v":"x"},{"$f":"IF($E16=\"Y\",INDEX(OIQraw,ROW(),Setup!$C$5+COLUMN()-26),\"x\")","v":"x"},{"$f":"IF($E16=\"Y\",INDEX(OIQraw,ROW(),Setup!$C$5+COLUMN()-26),\"x\")","v":"x"},{"$f":"IF($E16=\"Y\",INDEX(OIQraw,ROW(),Setup!$C$5+COLUMN()-26),\"x\")","v":"x"},{"$f":"IF($E16=\"Y\",INDEX(OIQraw,ROW(),Setup!$C$5+COLUMN()-26),\"x\")","v":"x"},{"$f":"IF($E16=\"Y\",INDEX(OIQraw,ROW(),Setup!$C$5+COLUMN()-26),\"x\")","v":"x"},{"$f":"IF($E16=\"Y\",INDEX(OIQraw,ROW(),Setup!$C$5+COLUMN()-26),\"x\")","v":"x"},{"$f":"IF($E16=\"Y\",INDEX(OIQraw,ROW(),Setup!$C$5+COLUMN()-26),\"x\")","v":"x"},{"$f":"IF($E16=\"Y\",INDEX(OIQraw,ROW(),Setup!$C$5+COLUMN()-26),\"x\")","v":"x"},{"$f":"IF($E16=\"Y\",INDEX(OIQraw,ROW(),Setup!$C$5+COLUMN()-26),\"x\")","v":"x"},{"$f":"IF($E16=\"Y\",INDEX(OIQraw,ROW(),Setup!$C$5+COLUMN()-26),\"x\")","v":"x"},{"$f":"IF($E16=\"Y\",INDEX(OIQraw,ROW(),Setup!$C$5+COLUMN()-26),\"x\")","v":"x"},{"$f":"IF($E16=\"Y\",INDEX(OIQraw,ROW(),Setup!$C$5+COLUMN()-26),\"x\")","v":"x"}]
[1,"","",{"$f":"IF(ISERROR(FIND(\"Withdrew\",RawScores!B21)),RawScores!B21,RIGHT(RawScores!B21,LEN(RawScores!B21)-17))&\", \"&RawScores!C21","v":", "},{"$f":"IF(OR(ISERROR(FIND(\"Withdrew\",RawScores!B21))=FALSE,INDEX(OIQraw,ROW(),LastInputCol-3)=0),\"N\",IF(AND(Setup!$B$22=\"Yes\",INDEX(OIQraw,ROW(),LastInputCol)=1),\"N\",\"Y\"))","v":"N"},"X","X","X",{"$f":"IF(AND(ISNUMBER(F17),F17>Setup!$B$14-1),1,0)","v":0},{"$f":"IF(AND(F17>Setup!$B$14-1,Conv!H17<5),1,0)","v":0},{"$f":"IF(AND(F17>Setup!$B$14-1,Conv!G17=\"F\"),1,0)","v":0},"","","","","","","","","","","","","X","X",{"$f":"IF($E17=\"Y\",INDEX(OIQraw,ROW(),Setup!$C$5+COLUMN()-26),\"x\")","v":"x"},{"$f":"IF($E17=\"Y\",INDEX(OIQraw,ROW(),Setup!$C$5+COLUMN()-26),\"x\")","v":"x"},{"$f":"IF($E17=\"Y\",INDEX(OIQraw,ROW(),Setup!$C$5+COLUMN()-26),\"x\")","v":"x"},{"$f":"IF($E17=\"Y\",INDEX(OIQraw,ROW(),Setup!$C$5+COLUMN()-26),\"x\")","v":"x"},{"$f":"IF($E17=\"Y\",INDEX(OIQraw,ROW(),Setup!$C$5+COLUMN()-26),\"x\")","v":"x"},{"$f":"IF($E17=\"Y\",INDEX(OIQraw,ROW(),Setup!$C$5+COLUMN()-26),\"x\")","v":"x"},{"$f":"IF($E17=\"Y\",INDEX(OIQraw,ROW(),Setup!$C$5+COLUMN()-26),\"x\")","v":"x"},{"$f":"IF($E17=\"Y\",INDEX(OIQraw,ROW(),Setup!$C$5+COLUMN()-26),\"x\")","v":"x"},{"$f":"IF($E17=\"Y\",INDEX(OIQraw,ROW(),Setup!$C$5+COLUMN()-26),\"x\")","v":"x"},{"$f":"IF($E17=\"Y\",INDEX(OIQraw,ROW(),Setup!$C$5+COLUMN()-26),\"x\")","v":"x"},{"$f":"IF($E17=\"Y\",INDEX(OIQraw,ROW(),Setup!$C$5+COLUMN()-26),\"x\")","v":"x"},{"$f":"IF($E17=\"Y\",INDEX(OIQraw,ROW(),Setup!$C$5+COLUMN()-26),\"x\")","v":"x"},{"$f":"IF($E17=\"Y\",INDEX(OIQraw,ROW(),Setup!$C$5+COLUMN()-26),\"x\")","v":"x"},{"$f":"IF($E17=\"Y\",INDEX(OIQraw,ROW(),Setup!$C$5+COLUMN()-26),\"x\")","v":"x"},{"$f":"IF($E17=\"Y\",INDEX(OIQraw,ROW(),Setup!$C$5+COLUMN()-26),\"x\")","v":"x"},{"$f":"IF($E17=\"Y\",INDEX(OIQraw,ROW(),Setup!$C$5+COLUMN()-26),\"x\")","v":"x"},{"$f":"IF($E17=\"Y\",INDEX(OIQraw,ROW(),Setup!$C$5+COLUMN()-26),\"x\")","v":"x"},{"$f":"IF($E17=\"Y\",INDEX(OIQraw,ROW(),Setup!$C$5+COLUMN()-26),\"x\")","v":"x"},{"$f":"IF($E17=\"Y\",INDEX(OIQraw,ROW(),Setup!$C$5+COLUMN()-26),\"x\")","v":"x"},{"$f":"IF($E17=\"Y\",INDEX(OIQraw,ROW(),Setup!$C$5+COLUMN()-26),\"x\")","v":"x"},{"$f":"IF($E17=\"Y\",INDEX(OIQraw,ROW(),Setup!$C$5+COLUMN()-26),\"x\")","v":"x"},{"$f":"IF($E17=\"Y\",INDEX(OIQraw,ROW(),Setup!$C$5+COLUMN()-26),\"x\")","v":"x"},{"$f":"IF($E17=\"Y\",INDEX(OIQraw,ROW(),Setup!$C$5+COLUMN()-26),\"x\")","v":"x"},{"$f":"IF($E17=\"Y\",INDEX(OIQraw,ROW(),Setup!$C$5+COLUMN()-26),\"x\")","v":"x"},{"$f":"IF($E17=\"Y\",INDEX(OIQraw,ROW(),Setup!$C$5+COLUMN()-26),\"x\")","v":"x"},{"$f":"IF($E17=\"Y\",INDEX(OIQraw,ROW(),Setup!$C$5+COLUMN()-26),\"x\")","v":"x"},{"$f":"IF($E17=\"Y\",INDEX(OIQraw,ROW(),Setup!$C$5+COLUMN()-26),\"x\")","v":"x"},{"$f":"IF($E17=\"Y\",INDEX(OIQraw,ROW(),Setup!$C$5+COLUMN()-26),\"x\")","v":"x"},{"$f":"IF($E17=\"Y\",INDEX(OIQraw,ROW(),Setup!$C$5+COLUMN()-26),\"x\")","v":"x"},{"$f":"IF($E17=\"Y\",INDEX(OIQraw,ROW(),Setup!$C$5+COLUMN()-26),\"x\")","v":"x"},{"$f":"IF($E17=\"Y\",INDEX(OIQraw,ROW(),Setup!$C$5+COLUMN()-26),\"x\")","v":"x"},{"$f":"IF($E17=\"Y\",INDEX(OIQraw,ROW(),Setup!$C$5+COLUMN()-26),\"x\")","v":"x"},{"$f":"IF($E17=\"Y\",INDEX(OIQraw,ROW(),Setup!$C$5+COLUMN()-26),\"x\")","v":"x"},{"$f":"IF($E17=\"Y\",INDEX(OIQraw,ROW(),Setup!$C$5+COLUMN()-26),\"x\")","v":"x"},{"$f":"IF($E17=\"Y\",INDEX(OIQraw,ROW(),Setup!$C$5+COLUMN()-26),\"x\")","v":"x"},{"$f":"IF($E17=\"Y\",INDEX(OIQraw,ROW(),Setup!$C$5+COLUMN()-26),\"x\")","v":"x"},{"$f":"IF($E17=\"Y\",INDEX(OIQraw,ROW(),Setup!$C$5+COLUMN()-26),\"x\")","v":"x"},{"$f":"IF($E17=\"Y\",INDEX(OIQraw,ROW(),Setup!$C$5+COLUMN()-26),\"x\")","v":"x"},{"$f":"IF($E17=\"Y\",INDEX(OIQraw,ROW(),Setup!$C$5+COLUMN()-26),\"x\")","v":"x"},{"$f":"IF($E17=\"Y\",INDEX(OIQraw,ROW(),Setup!$C$5+COLUMN()-26),\"x\")","v":"x"},{"$f":"IF($E17=\"Y\",INDEX(OIQraw,ROW(),Setup!$C$5+COLUMN()-26),\"x\")","v":"x"},{"$f":"IF($E17=\"Y\",INDEX(OIQraw,ROW(),Setup!$C$5+COLUMN()-26),\"x\")","v":"x"},{"$f":"IF($E17=\"Y\",INDEX(OIQraw,ROW(),Setup!$C$5+COLUMN()-26),\"x\")","v":"x"},{"$f":"IF($E17=\"Y\",INDEX(OIQraw,ROW(),Setup!$C$5+COLUMN()-26),\"x\")","v":"x"},{"$f":"IF($E17=\"Y\",INDEX(OIQraw,ROW(),Setup!$C$5+COLUMN()-26),\"x\")","v":"x"},{"$f":"IF($E17=\"Y\",INDEX(OIQraw,ROW(),Setup!$C$5+COLUMN()-26),\"x\")","v":"x"},{"$f":"IF($E17=\"Y\",INDEX(OIQraw,ROW(),Setup!$C$5+COLUMN()-26),\"x\")","v":"x"},{"$f":"IF($E17=\"Y\",INDEX(OIQraw,ROW(),Setup!$C$5+COLUMN()-26),\"x\")","v":"x"},{"$f":"IF($E17=\"Y\",INDEX(OIQraw,ROW(),Setup!$C$5+COLUMN()-26),\"x\")","v":"x"},{"$f":"IF($E17=\"Y\",INDEX(OIQraw,ROW(),Setup!$C$5+COLUMN()-26),\"x\")","v":"x"},{"$f":"IF($E17=\"Y\",INDEX(OIQraw,ROW(),Setup!$C$5+COLUMN()-26),\"x\")","v":"x"},{"$f":"IF($E17=\"Y\",INDEX(OIQraw,ROW(),Setup!$C$5+COLUMN()-26),\"x\")","v":"x"},{"$f":"IF($E17=\"Y\",INDEX(OIQraw,ROW(),Setup!$C$5+COLUMN()-26),\"x\")","v":"x"},{"$f":"IF($E17=\"Y\",INDEX(OIQraw,ROW(),Setup!$C$5+COLUMN()-26),\"x\")","v":"x"},{"$f":"IF($E17=\"Y\",INDEX(OIQraw,ROW(),Setup!$C$5+COLUMN()-26),\"x\")","v":"x"},{"$f":"IF($E17=\"Y\",INDEX(OIQraw,ROW(),Setup!$C$5+COLUMN()-26),\"x\")","v":"x"},{"$f":"IF($E17=\"Y\",INDEX(OIQraw,ROW(),Setup!$C$5+COLUMN()-26),\"x\")","v":"x"},{"$f":"IF($E17=\"Y\",INDEX(OIQraw,ROW(),Setup!$C$5+COLUMN()-26),\"x\")","v":"x"},{"$f":"IF($E17=\"Y\",INDEX(OIQraw,ROW(),Setup!$C$5+COLUMN()-26),\"x\")","v":"x"},{"$f":"IF($E17=\"Y\",INDEX(OIQraw,ROW(),Setup!$C$5+COLUMN()-26),\"x\")","v":"x"},{"$f":"IF($E17=\"Y\",INDEX(OIQraw,ROW(),Setup!$C$5+COLUMN()-26),\"x\")","v":"x"},{"$f":"IF($E17=\"Y\",INDEX(OIQraw,ROW(),Setup!$C$5+COLUMN()-26),\"x\")","v":"x"},{"$f":"IF($E17=\"Y\",INDEX(OIQraw,ROW(),Setup!$C$5+COLUMN()-26),\"x\")","v":"x"},{"$f":"IF($E17=\"Y\",INDEX(OIQraw,ROW(),Setup!$C$5+COLUMN()-26),\"x\")","v":"x"},{"$f":"IF($E17=\"Y\",INDEX(OIQraw,ROW(),Setup!$C$5+COLUMN()-26),\"x\")","v":"x"},{"$f":"IF($E17=\"Y\",INDEX(OIQraw,ROW(),Setup!$C$5+COLUMN()-26),\"x\")","v":"x"},{"$f":"IF($E17=\"Y\",INDEX(OIQraw,ROW(),Setup!$C$5+COLUMN()-26),\"x\")","v":"x"},{"$f":"IF($E17=\"Y\",INDEX(OIQraw,ROW(),Setup!$C$5+COLUMN()-26),\"x\")","v":"x"},{"$f":"IF($E17=\"Y\",INDEX(OIQraw,ROW(),Setup!$C$5+COLUMN()-26),\"x\")","v":"x"},{"$f":"IF($E17=\"Y\",INDEX(OIQraw,ROW(),Setup!$C$5+COLUMN()-26),\"x\")","v":"x"},{"$f":"IF($E17=\"Y\",INDEX(OIQraw,ROW(),Setup!$C$5+COLUMN()-26),\"x\")","v":"x"},{"$f":"IF($E17=\"Y\",INDEX(OIQraw,ROW(),Setup!$C$5+COLUMN()-26),\"x\")","v":"x"},{"$f":"IF($E17=\"Y\",INDEX(OIQraw,ROW(),Setup!$C$5+COLUMN()-26),\"x\")","v":"x"},{"$f":"IF($E17=\"Y\",INDEX(OIQraw,ROW(),Setup!$C$5+COLUMN()-26),\"x\")","v":"x"},{"$f":"IF($E17=\"Y\",INDEX(OIQraw,ROW(),Setup!$C$5+COLUMN()-26),\"x\")","v":"x"},{"$f":"IF($E17=\"Y\",INDEX(OIQraw,ROW(),Setup!$C$5+COLUMN()-26),\"x\")","v":"x"},{"$f":"IF($E17=\"Y\",INDEX(OIQraw,ROW(),Setup!$C$5+COLUMN()-26),\"x\")","v":"x"},{"$f":"IF($E17=\"Y\",INDEX(OIQraw,ROW(),Setup!$C$5+COLUMN()-26),\"x\")","v":"x"},{"$f":"IF($E17=\"Y\",INDEX(OIQraw,ROW(),Setup!$C$5+COLUMN()-26),\"x\")","v":"x"},{"$f":"IF($E17=\"Y\",INDEX(OIQraw,ROW(),Setup!$C$5+COLUMN()-26),\"x\")","v":"x"},{"$f":"IF($E17=\"Y\",INDEX(OIQraw,ROW(),Setup!$C$5+COLUMN()-26),\"x\")","v":"x"},{"$f":"IF($E17=\"Y\",INDEX(OIQraw,ROW(),Setup!$C$5+COLUMN()-26),\"x\")","v":"x"},{"$f":"IF($E17=\"Y\",INDEX(OIQraw,ROW(),Setup!$C$5+COLUMN()-26),\"x\")","v":"x"},{"$f":"IF($E17=\"Y\",INDEX(OIQraw,ROW(),Setup!$C$5+COLUMN()-26),\"x\")","v":"x"},{"$f":"IF($E17=\"Y\",INDEX(OIQraw,ROW(),Setup!$C$5+COLUMN()-26),\"x\")","v":"x"},{"$f":"IF($E17=\"Y\",INDEX(OIQraw,ROW(),Setup!$C$5+COLUMN()-26),\"x\")","v":"x"},{"$f":"IF($E17=\"Y\",INDEX(OIQraw,ROW(),Setup!$C$5+COLUMN()-26),\"x\")","v":"x"},{"$f":"IF($E17=\"Y\",INDEX(OIQraw,ROW(),Setup!$C$5+COLUMN()-26),\"x\")","v":"x"},{"$f":"IF($E17=\"Y\",INDEX(OIQraw,ROW(),Setup!$C$5+COLUMN()-26),\"x\")","v":"x"},{"$f":"IF($E17=\"Y\",INDEX(OIQraw,ROW(),Setup!$C$5+COLUMN()-26),\"x\")","v":"x"},{"$f":"IF($E17=\"Y\",INDEX(OIQraw,ROW(),Setup!$C$5+COLUMN()-26),\"x\")","v":"x"},{"$f":"IF($E17=\"Y\",INDEX(OIQraw,ROW(),Setup!$C$5+COLUMN()-26),\"x\")","v":"x"},{"$f":"IF($E17=\"Y\",INDEX(OIQraw,ROW(),Setup!$C$5+COLUMN()-26),\"x\")","v":"x"},{"$f":"IF($E17=\"Y\",INDEX(OIQraw,ROW(),Setup!$C$5+COLUMN()-26),\"x\")","v":"x"},{"$f":"IF($E17=\"Y\",INDEX(OIQraw,ROW(),Setup!$C$5+COLUMN()-26),\"x\")","v":"x"},{"$f":"IF($E17=\"Y\",INDEX(OIQraw,ROW(),Setup!$C$5+COLUMN()-26),\"x\")","v":"x"},{"$f":"IF($E17=\"Y\",INDEX(OIQraw,ROW(),Setup!$C$5+COLUMN()-26),\"x\")","v":"x"},{"$f":"IF($E17=\"Y\",INDEX(OIQraw,ROW(),Setup!$C$5+COLUMN()-26),\"x\")","v":"x"},{"$f":"IF($E17=\"Y\",INDEX(OIQraw,ROW(),Setup!$C$5+COLUMN()-26),\"x\")","v":"x"},{"$f":"IF($E17=\"Y\",INDEX(OIQraw,ROW(),Setup!$C$5+COLUMN()-26),\"x\")","v":"x"},{"$f":"IF($E17=\"Y\",INDEX(OIQraw,ROW(),Setup!$C$5+COLUMN()-26),\"x\")","v":"x"},{"$f":"IF($E17=\"Y\",INDEX(OIQraw,ROW(),Setup!$C$5+COLUMN()-26),\"x\")","v":"x"},{"$f":"IF($E17=\"Y\",INDEX(OIQraw,ROW(),Setup!$C$5+COLUMN()-26),\"x\")","v":"x"},{"$f":"IF($E17=\"Y\",INDEX(OIQraw,ROW(),Setup!$C$5+COLUMN()-26),\"x\")","v":"x"},{"$f":"IF($E17=\"Y\",INDEX(OIQraw,ROW(),Setup!$C$5+COLUMN()-26),\"x\")","v":"x"},{"$f":"IF($E17=\"Y\",INDEX(OIQraw,ROW(),Setup!$C$5+COLUMN()-26),\"x\")","v":"x"},{"$f":"IF($E17=\"Y\",INDEX(OIQraw,ROW(),Setup!$C$5+COLUMN()-26),\"x\")","v":"x"},{"$f":"IF($E17=\"Y\",INDEX(OIQraw,ROW(),Setup!$C$5+COLUMN()-26),\"x\")","v":"x"},{"$f":"IF($E17=\"Y\",INDEX(OIQraw,ROW(),Setup!$C$5+COLUMN()-26),\"x\")","v":"x"},{"$f":"IF($E17=\"Y\",INDEX(OIQraw,ROW(),Setup!$C$5+COLUMN()-26),\"x\")","v":"x"},{"$f":"IF($E17=\"Y\",INDEX(OIQraw,ROW(),Setup!$C$5+COLUMN()-26),\"x\")","v":"x"},{"$f":"IF($E17=\"Y\",INDEX(OIQraw,ROW(),Setup!$C$5+COLUMN()-26),\"x\")","v":"x"},{"$f":"IF($E17=\"Y\",INDEX(OIQraw,ROW(),Setup!$C$5+COLUMN()-26),\"x\")","v":"x"},{"$f":"IF($E17=\"Y\",INDEX(OIQraw,ROW(),Setup!$C$5+COLUMN()-26),\"x\")","v":"x"},{"$f":"IF($E17=\"Y\",INDEX(OIQraw,ROW(),Setup!$C$5+COLUMN()-26),\"x\")","v":"x"},{"$f":"IF($E17=\"Y\",INDEX(OIQraw,ROW(),Setup!$C$5+COLUMN()-26),\"x\")","v":"x"},{"$f":"IF($E17=\"Y\",INDEX(OIQraw,ROW(),Setup!$C$5+COLUMN()-26),\"x\")","v":"x"},{"$f":"IF($E17=\"Y\",INDEX(OIQraw,ROW(),Setup!$C$5+COLUMN()-26),\"x\")","v":"x"},{"$f":"IF($E17=\"Y\",INDEX(OIQraw,ROW(),Setup!$C$5+COLUMN()-26),\"x\")","v":"x"},{"$f":"IF($E17=\"Y\",INDEX(OIQraw,ROW(),Setup!$C$5+COLUMN()-26),\"x\")","v":"x"},{"$f":"IF($E17=\"Y\",INDEX(OIQraw,ROW(),Setup!$C$5+COLUMN()-26),\"x\")","v":"x"},{"$f":"IF($E17=\"Y\",INDEX(OIQraw,ROW(),Setup!$C$5+COLUMN()-26),\"x\")","v":"x"},{"$f":"IF($E17=\"Y\",INDEX(OIQraw,ROW(),Setup!$C$5+COLUMN()-26),\"x\")","v":"x"},{"$f":"IF($E17=\"Y\",INDEX(OIQraw,ROW(),Setup!$C$5+COLUMN()-26),\"x\")","v":"x"},{"$f":"IF($E17=\"Y\",INDEX(OIQraw,ROW(),Setup!$C$5+COLUMN()-26),\"x\")","v":"x"},{"$f":"IF($E17=\"Y\",INDEX(OIQraw,ROW(),Setup!$C$5+COLUMN()-26),\"x\")","v":"x"},{"$f":"IF($E17=\"Y\",INDEX(OIQraw,ROW(),Setup!$C$5+COLUMN()-26),\"x\")","v":"x"},{"$f":"IF($E17=\"Y\",INDEX(OIQraw,ROW(),Setup!$C$5+COLUMN()-26),\"x\")","v":"x"},{"$f":"IF($E17=\"Y\",INDEX(OIQraw,ROW(),Setup!$C$5+COLUMN()-26),\"x\")","v":"x"},{"$f":"IF($E17=\"Y\",INDEX(OIQraw,ROW(),Setup!$C$5+COLUMN()-26),\"x\")","v":"x"},{"$f":"IF($E17=\"Y\",INDEX(OIQraw,ROW(),Setup!$C$5+COLUMN()-26),\"x\")","v":"x"},{"$f":"IF($E17=\"Y\",INDEX(OIQraw,ROW(),Setup!$C$5+COLUMN()-26),\"x\")","v":"x"},{"$f":"IF($E17=\"Y\",INDEX(OIQraw,ROW(),Setup!$C$5+COLUMN()-26),\"x\")","v":"x"},{"$f":"IF($E17=\"Y\",INDEX(OIQraw,ROW(),Setup!$C$5+COLUMN()-26),\"x\")","v":"x"},{"$f":"IF($E17=\"Y\",INDEX(OIQraw,ROW(),Setup!$C$5+COLUMN()-26),\"x\")","v":"x"},{"$f":"IF($E17=\"Y\",INDEX(OIQraw,ROW(),Setup!$C$5+COLUMN()-26),\"x\")","v":"x"},{"$f":"IF($E17=\"Y\",INDEX(OIQraw,ROW(),Setup!$C$5+COLUMN()-26),\"x\")","v":"x"},{"$f":"IF($E17=\"Y\",INDEX(OIQraw,ROW(),Setup!$C$5+COLUMN()-26),\"x\")","v":"x"},{"$f":"IF($E17=\"Y\",INDEX(OIQraw,ROW(),Setup!$C$5+COLUMN()-26),\"x\")","v":"x"},{"$f":"IF($E17=\"Y\",INDEX(OIQraw,ROW(),Setup!$C$5+COLUMN()-26),\"x\")","v":"x"},{"$f":"IF($E17=\"Y\",INDEX(OIQraw,ROW(),Setup!$C$5+COLUMN()-26),\"x\")","v":"x"},{"$f":"IF($E17=\"Y\",INDEX(OIQraw,ROW(),Setup!$C$5+COLUMN()-26),\"x\")","v":"x"},{"$f":"IF($E17=\"Y\",INDEX(OIQraw,ROW(),Setup!$C$5+COLUMN()-26),\"x\")","v":"x"},{"$f":"IF($E17=\"Y\",INDEX(OIQraw,ROW(),Setup!$C$5+COLUMN()-26),\"x\")","v":"x"},{"$f":"IF($E17=\"Y\",INDEX(OIQraw,ROW(),Setup!$C$5+COLUMN()-26),\"x\")","v":"x"},{"$f":"IF($E17=\"Y\",INDEX(OIQraw,ROW(),Setup!$C$5+COLUMN()-26),\"x\")","v":"x"},{"$f":"IF($E17=\"Y\",INDEX(OIQraw,ROW(),Setup!$C$5+COLUMN()-26),\"x\")","v":"x"},{"$f":"IF($E17=\"Y\",INDEX(OIQraw,ROW(),Setup!$C$5+COLUMN()-26),\"x\")","v":"x"},{"$f":"IF($E17=\"Y\",INDEX(OIQraw,ROW(),Setup!$C$5+COLUMN()-26),\"x\")","v":"x"},{"$f":"IF($E17=\"Y\",INDEX(OIQraw,ROW(),Setup!$C$5+COLUMN()-26),\"x\")","v":"x"},{"$f":"IF($E17=\"Y\",INDEX(OIQraw,ROW(),Setup!$C$5+COLUMN()-26),\"x\")","v":"x"},{"$f":"IF($E17=\"Y\",INDEX(OIQraw,ROW(),Setup!$C$5+COLUMN()-26),\"x\")","v":"x"},{"$f":"IF($E17=\"Y\",INDEX(OIQraw,ROW(),Setup!$C$5+COLUMN()-26),\"x\")","v":"x"},{"$f":"IF($E17=\"Y\",INDEX(OIQraw,ROW(),Setup!$C$5+COLUMN()-26),\"x\")","v":"x"},{"$f":"IF($E17=\"Y\",INDEX(OIQraw,ROW(),Setup!$C$5+COLUMN()-26),\"x\")","v":"x"},{"$f":"IF($E17=\"Y\",INDEX(OIQraw,ROW(),Setup!$C$5+COLUMN()-26),\"x\")","v":"x"},{"$f":"IF($E17=\"Y\",INDEX(OIQraw,ROW(),Setup!$C$5+COLUMN()-26),\"x\")","v":"x"},{"$f":"IF($E17=\"Y\",INDEX(OIQraw,ROW(),Setup!$C$5+COLUMN()-26),\"x\")","v":"x"},{"$f":"IF($E17=\"Y\",INDEX(OIQraw,ROW(),Setup!$C$5+COLUMN()-26),\"x\")","v":"x"},{"$f":"IF($E17=\"Y\",INDEX(OIQraw,ROW(),Setup!$C$5+COLUMN()-26),\"x\")","v":"x"},{"$f":"IF($E17=\"Y\",INDEX(OIQraw,ROW(),Setup!$C$5+COLUMN()-26),\"x\")","v":"x"},{"$f":"IF($E17=\"Y\",INDEX(OIQraw,ROW(),Setup!$C$5+COLUMN()-26),\"x\")","v":"x"},{"$f":"IF($E17=\"Y\",INDEX(OIQraw,ROW(),Setup!$C$5+COLUMN()-26),\"x\")","v":"x"},{"$f":"IF($E17=\"Y\",INDEX(OIQraw,ROW(),Setup!$C$5+COLUMN()-26),\"x\")","v":"x"},{"$f":"IF($E17=\"Y\",INDEX(OIQraw,ROW(),Setup!$C$5+COLUMN()-26),\"x\")","v":"x"},{"$f":"IF($E17=\"Y\",INDEX(OIQraw,ROW(),Setup!$C$5+COLUMN()-26),\"x\")","v":"x"},{"$f":"IF($E17=\"Y\",INDEX(OIQraw,ROW(),Setup!$C$5+COLUMN()-26),\"x\")","v":"x"},{"$f":"IF($E17=\"Y\",INDEX(OIQraw,ROW(),Setup!$C$5+COLUMN()-26),\"x\")","v":"x"},{"$f":"IF($E17=\"Y\",INDEX(OIQraw,ROW(),Setup!$C$5+COLUMN()-26),\"x\")","v":"x"},{"$f":"IF($E17=\"Y\",INDEX(OIQraw,ROW(),Setup!$C$5+COLUMN()-26),\"x\")","v":"x"},{"$f":"IF($E17=\"Y\",INDEX(OIQraw,ROW(),Setup!$C$5+COLUMN()-26),\"x\")","v":"x"},{"$f":"IF($E17=\"Y\",INDEX(OIQraw,ROW(),Setup!$C$5+COLUMN()-26),\"x\")","v":"x"},{"$f":"IF($E17=\"Y\",INDEX(OIQraw,ROW(),Setup!$C$5+COLUMN()-26),\"x\")","v":"x"},{"$f":"IF($E17=\"Y\",INDEX(OIQraw,ROW(),Setup!$C$5+COLUMN()-26),\"x\")","v":"x"},{"$f":"IF($E17=\"Y\",INDEX(OIQraw,ROW(),Setup!$C$5+COLUMN()-26),\"x\")","v":"x"},{"$f":"IF($E17=\"Y\",INDEX(OIQraw,ROW(),Setup!$C$5+COLUMN()-26),\"x\")","v":"x"},{"$f":"IF($E17=\"Y\",INDEX(OIQraw,ROW(),Setup!$C$5+COLUMN()-26),\"x\")","v":"x"},{"$f":"IF($E17=\"Y\",INDEX(OIQraw,ROW(),Setup!$C$5+COLUMN()-26),\"x\")","v":"x"},{"$f":"IF($E17=\"Y\",INDEX(OIQraw,ROW(),Setup!$C$5+COLUMN()-26),\"x\")","v":"x"},{"$f":"IF($E17=\"Y\",INDEX(OIQraw,ROW(),Setup!$C$5+COLUMN()-26),\"x\")","v":"x"},{"$f":"IF($E17=\"Y\",INDEX(OIQraw,ROW(),Setup!$C$5+COLUMN()-26),\"x\")","v":"x"},{"$f":"IF($E17=\"Y\",INDEX(OIQraw,ROW(),Setup!$C$5+COLUMN()-26),\"x\")","v":"x"},{"$f":"IF($E17=\"Y\",INDEX(OIQraw,ROW(),Setup!$C$5+COLUMN()-26),\"x\")","v":"x"},{"$f":"IF($E17=\"Y\",INDEX(OIQraw,ROW(),Setup!$C$5+COLUMN()-26),\"x\")","v":"x"},{"$f":"IF($E17=\"Y\",INDEX(OIQraw,ROW(),Setup!$C$5+COLUMN()-26),\"x\")","v":"x"},{"$f":"IF($E17=\"Y\",INDEX(OIQraw,ROW(),Setup!$C$5+COLUMN()-26),\"x\")","v":"x"},{"$f":"IF($E17=\"Y\",INDEX(OIQraw,ROW(),Setup!$C$5+COLUMN()-26),\"x\")","v":"x"},{"$f":"IF($E17=\"Y\",INDEX(OIQraw,ROW(),Setup!$C$5+COLUMN()-26),\"x\")","v":"x"},{"$f":"IF($E17=\"Y\",INDEX(OIQraw,ROW(),Setup!$C$5+COLUMN()-26),\"x\")","v":"x"},{"$f":"IF($E17=\"Y\",INDEX(OIQraw,ROW(),Setup!$C$5+COLUMN()-26),\"x\")","v":"x"},{"$f":"IF($E17=\"Y\",INDEX(OIQraw,ROW(),Setup!$C$5+COLUMN()-26),\"x\")","v":"x"},{"$f":"IF($E17=\"Y\",INDEX(OIQraw,ROW(),Setup!$C$5+COLUMN()-26),\"x\")","v":"x"},{"$f":"IF($E17=\"Y\",INDEX(OIQraw,ROW(),Setup!$C$5+COLUMN()-26),\"x\")","v":"x"},{"$f":"IF($E17=\"Y\",INDEX(OIQraw,ROW(),Setup!$C$5+COLUMN()-26),\"x\")","v":"x"},{"$f":"IF($E17=\"Y\",INDEX(OIQraw,ROW(),Setup!$C$5+COLUMN()-26),\"x\")","v":"x"},{"$f":"IF($E17=\"Y\",INDEX(OIQraw,ROW(),Setup!$C$5+COLUMN()-26),\"x\")","v":"x"},{"$f":"IF($E17=\"Y\",INDEX(OIQraw,ROW(),Setup!$C$5+COLUMN()-26),\"x\")","v":"x"},{"$f":"IF($E17=\"Y\",INDEX(OIQraw,ROW(),Setup!$C$5+COLUMN()-26),\"x\")","v":"x"},{"$f":"IF($E17=\"Y\",INDEX(OIQraw,ROW(),Setup!$C$5+COLUMN()-26),\"x\")","v":"x"},{"$f":"IF($E17=\"Y\",INDEX(OIQraw,ROW(),Setup!$C$5+COLUMN()-26),\"x\")","v":"x"},{"$f":"IF($E17=\"Y\",INDEX(OIQraw,ROW(),Setup!$C$5+COLUMN()-26),\"x\")","v":"x"},{"$f":"IF($E17=\"Y\",INDEX(OIQraw,ROW(),Setup!$C$5+COLUMN()-26),\"x\")","v":"x"},{"$f":"IF($E17=\"Y\",INDEX(OIQraw,ROW(),Setup!$C$5+COLUMN()-26),\"x\")","v":"x"},{"$f":"IF($E17=\"Y\",INDEX(OIQraw,ROW(),Setup!$C$5+COLUMN()-26),\"x\")","v":"x"},{"$f":"IF($E17=\"Y\",INDEX(OIQraw,ROW(),Setup!$C$5+COLUMN()-26),\"x\")","v":"x"},{"$f":"IF($E17=\"Y\",INDEX(OIQraw,ROW(),Setup!$C$5+COLUMN()-26),\"x\")","v":"x"},{"$f":"IF($E17=\"Y\",INDEX(OIQraw,ROW(),Setup!$C$5+COLUMN()-26),\"x\")","v":"x"},{"$f":"IF($E17=\"Y\",INDEX(OIQraw,ROW(),Setup!$C$5+COLUMN()-26),\"x\")","v":"x"},{"$f":"IF($E17=\"Y\",INDEX(OIQraw,ROW(),Setup!$C$5+COLUMN()-26),\"x\")","v":"x"},{"$f":"IF($E17=\"Y\",INDEX(OIQraw,ROW(),Setup!$C$5+COLUMN()-26),\"x\")","v":"x"},{"$f":"IF($E17=\"Y\",INDEX(OIQraw,ROW(),Setup!$C$5+COLUMN()-26),\"x\")","v":"x"},{"$f":"IF($E17=\"Y\",INDEX(OIQraw,ROW(),Setup!$C$5+COLUMN()-26),\"x\")","v":"x"},{"$f":"IF($E17=\"Y\",INDEX(OIQraw,ROW(),Setup!$C$5+COLUMN()-26),\"x\")","v":"x"},{"$f":"IF($E17=\"Y\",INDEX(OIQraw,ROW(),Setup!$C$5+COLUMN()-26),\"x\")","v":"x"},{"$f":"IF($E17=\"Y\",INDEX(OIQraw,ROW(),Setup!$C$5+COLUMN()-26),\"x\")","v":"x"},{"$f":"IF($E17=\"Y\",INDEX(OIQraw,ROW(),Setup!$C$5+COLUMN()-26),\"x\")","v":"x"},{"$f":"IF($E17=\"Y\",INDEX(OIQraw,ROW(),Setup!$C$5+COLUMN()-26),\"x\")","v":"x"},{"$f":"IF($E17=\"Y\",INDEX(OIQraw,ROW(),Setup!$C$5+COLUMN()-26),\"x\")","v":"x"},{"$f":"IF($E17=\"Y\",INDEX(OIQraw,ROW(),Setup!$C$5+COLUMN()-26),\"x\")","v":"x"},{"$f":"IF($E17=\"Y\",INDEX(OIQraw,ROW(),Setup!$C$5+COLUMN()-26),\"x\")","v":"x"},{"$f":"IF($E17=\"Y\",INDEX(OIQraw,ROW(),Setup!$C$5+COLUMN()-26),\"x\")","v":"x"},{"$f":"IF($E17=\"Y\",INDEX(OIQraw,ROW(),Setup!$C$5+COLUMN()-26),\"x\")","v":"x"},{"$f":"IF($E17=\"Y\",INDEX(OIQraw,ROW(),Setup!$C$5+COLUMN()-26),\"x\")","v":"x"},{"$f":"IF($E17=\"Y\",INDEX(OIQraw,ROW(),Setup!$C$5+COLUMN()-26),\"x\")","v":"x"},{"$f":"IF($E17=\"Y\",INDEX(OIQraw,ROW(),Setup!$C$5+COLUMN()-26),\"x\")","v":"x"},{"$f":"IF($E17=\"Y\",INDEX(OIQraw,ROW(),Setup!$C$5+COLUMN()-26),\"x\")","v":"x"},{"$f":"IF($E17=\"Y\",INDEX(OIQraw,ROW(),Setup!$C$5+COLUMN()-26),\"x\")","v":"x"},{"$f":"IF($E17=\"Y\",INDEX(OIQraw,ROW(),Setup!$C$5+COLUMN()-26),\"x\")","v":"x"},{"$f":"IF($E17=\"Y\",INDEX(OIQraw,ROW(),Setup!$C$5+COLUMN()-26),\"x\")","v":"x"},{"$f":"IF($E17=\"Y\",INDEX(OIQraw,ROW(),Setup!$C$5+COLUMN()-26),\"x\")","v":"x"},{"$f":"IF($E17=\"Y\",INDEX(OIQraw,ROW(),Setup!$C$5+COLUMN()-26),\"x\")","v":"x"},{"$f":"IF($E17=\"Y\",INDEX(OIQraw,ROW(),Setup!$C$5+COLUMN()-26),\"x\")","v":"x"},{"$f":"IF($E17=\"Y\",INDEX(OIQraw,ROW(),Setup!$C$5+COLUMN()-26),\"x\")","v":"x"},{"$f":"IF($E17=\"Y\",INDEX(OIQraw,ROW(),Setup!$C$5+COLUMN()-26),\"x\")","v":"x"},{"$f":"IF($E17=\"Y\",INDEX(OIQraw,ROW(),Setup!$C$5+COLUMN()-26),\"x\")","v":"x"},{"$f":"IF($E17=\"Y\",INDEX(OIQraw,ROW(),Setup!$C$5+COLUMN()-26),\"x\")","v":"x"},{"$f":"IF($E17=\"Y\",INDEX(OIQraw,ROW(),Setup!$C$5+COLUMN()-26),\"x\")","v":"x"},{"$f":"IF($E17=\"Y\",INDEX(OIQraw,ROW(),Setup!$C$5+COLUMN()-26),\"x\")","v":"x"},{"$f":"IF($E17=\"Y\",INDEX(OIQraw,ROW(),Setup!$C$5+COLUMN()-26),\"x\")","v":"x"},{"$f":"IF($E17=\"Y\",INDEX(OIQraw,ROW(),Setup!$C$5+COLUMN()-26),\"x\")","v":"x"},{"$f":"IF($E17=\"Y\",INDEX(OIQraw,ROW(),Setup!$C$5+COLUMN()-26),\"x\")","v":"x"},{"$f":"IF($E17=\"Y\",INDEX(OIQraw,ROW(),Setup!$C$5+COLUMN()-26),\"x\")","v":"x"},{"$f":"IF($E17=\"Y\",INDEX(OIQraw,ROW(),Setup!$C$5+COLUMN()-26),\"x\")","v":"x"},{"$f":"IF($E17=\"Y\",INDEX(OIQraw,ROW(),Setup!$C$5+COLUMN()-26),\"x\")","v":"x"},{"$f":"IF($E17=\"Y\",INDEX(OIQraw,ROW(),Setup!$C$5+COLUMN()-26),\"x\")","v":"x"},{"$f":"IF($E17=\"Y\",INDEX(OIQraw,ROW(),Setup!$C$5+COLUMN()-26),\"x\")","v":"x"},{"$f":"IF($E17=\"Y\",INDEX(OIQraw,ROW(),Setup!$C$5+COLUMN()-26),\"x\")","v":"x"},{"$f":"IF($E17=\"Y\",INDEX(OIQraw,ROW(),Setup!$C$5+COLUMN()-26),\"x\")","v":"x"},{"$f":"IF($E17=\"Y\",INDEX(OIQraw,ROW(),Setup!$C$5+COLUMN()-26),\"x\")","v":"x"},{"$f":"IF($E17=\"Y\",INDEX(OIQraw,ROW(),Setup!$C$5+COLUMN()-26),\"x\")","v":"x"},{"$f":"IF($E17=\"Y\",INDEX(OIQraw,ROW(),Setup!$C$5+COLUMN()-26),\"x\")","v":"x"},{"$f":"IF($E17=\"Y\",INDEX(OIQraw,ROW(),Setup!$C$5+COLUMN()-26),\"x\")","v":"x"},{"$f":"IF($E17=\"Y\",INDEX(OIQraw,ROW(),Setup!$C$5+COLUMN()-26),\"x\")","v":"x"}]
[1,"","",{"$f":"IF(ISERROR(FIND(\"Withdrew\",RawScores!B22)),RawScores!B22,RIGHT(RawScores!B22,LEN(RawScores!B22)-17))&\", \"&RawScores!C22","v":", "},{"$f":"IF(OR(ISERROR(FIND(\"Withdrew\",RawScores!B22))=FALSE,INDEX(OIQraw,ROW(),LastInputCol-3)=0),\"N\",IF(AND(Setup!$B$22=\"Yes\",INDEX(OIQraw,ROW(),LastInputCol)=1),\"N\",\"Y\"))","v":"N"},"X","X","X",{"$f":"IF(AND(ISNUMBER(F18),F18>Setup!$B$14-1),1,0)","v":0},{"$f":"IF(AND(F18>Setup!$B$14-1,Conv!H18<5),1,0)","v":0},{"$f":"IF(AND(F18>Setup!$B$14-1,Conv!G18=\"F\"),1,0)","v":0},"","","","","","","","","","","","","X","X",{"$f":"IF($E18=\"Y\",INDEX(OIQraw,ROW(),Setup!$C$5+COLUMN()-26),\"x\")","v":"x"},{"$f":"IF($E18=\"Y\",INDEX(OIQraw,ROW(),Setup!$C$5+COLUMN()-26),\"x\")","v":"x"},{"$f":"IF($E18=\"Y\",INDEX(OIQraw,ROW(),Setup!$C$5+COLUMN()-26),\"x\")","v":"x"},{"$f":"IF($E18=\"Y\",INDEX(OIQraw,ROW(),Setup!$C$5+COLUMN()-26),\"x\")","v":"x"},{"$f":"IF($E18=\"Y\",INDEX(OIQraw,ROW(),Setup!$C$5+COLUMN()-26),\"x\")","v":"x"},{"$f":"IF($E18=\"Y\",INDEX(OIQraw,ROW(),Setup!$C$5+COLUMN()-26),\"x\")","v":"x"},{"$f":"IF($E18=\"Y\",INDEX(OIQraw,ROW(),Setup!$C$5+COLUMN()-26),\"x\")","v":"x"},{"$f":"IF($E18=\"Y\",INDEX(OIQraw,ROW(),Setup!$C$5+COLUMN()-26),\"x\")","v":"x"},{"$f":"IF($E18=\"Y\",INDEX(OIQraw,ROW(),Setup!$C$5+COLUMN()-26),\"x\")","v":"x"},{"$f":"IF($E18=\"Y\",INDEX(OIQraw,ROW(),Setup!$C$5+COLUMN()-26),\"x\")","v":"x"},{"$f":"IF($E18=\"Y\",INDEX(OIQraw,ROW(),Setup!$C$5+COLUMN()-26),\"x\")","v":"x"},{"$f":"IF($E18=\"Y\",INDEX(OIQraw,ROW(),Setup!$C$5+COLUMN()-26),\"x\")","v":"x"},{"$f":"IF($E18=\"Y\",INDEX(OIQraw,ROW(),Setup!$C$5+COLUMN()-26),\"x\")","v":"x"},{"$f":"IF($E18=\"Y\",INDEX(OIQraw,ROW(),Setup!$C$5+COLUMN()-26),\"x\")","v":"x"},{"$f":"IF($E18=\"Y\",INDEX(OIQraw,ROW(),Setup!$C$5+COLUMN()-26),\"x\")","v":"x"},{"$f":"IF($E18=\"Y\",INDEX(OIQraw,ROW(),Setup!$C$5+COLUMN()-26),\"x\")","v":"x"},{"$f":"IF($E18=\"Y\",INDEX(OIQraw,ROW(),Setup!$C$5+COLUMN()-26),\"x\")","v":"x"},{"$f":"IF($E18=\"Y\",INDEX(OIQraw,ROW(),Setup!$C$5+COLUMN()-26),\"x\")","v":"x"},{"$f":"IF($E18=\"Y\",INDEX(OIQraw,ROW(),Setup!$C$5+COLUMN()-26),\"x\")","v":"x"},{"$f":"IF($E18=\"Y\",INDEX(OIQraw,ROW(),Setup!$C$5+COLUMN()-26),\"x\")","v":"x"},{"$f":"IF($E18=\"Y\",INDEX(OIQraw,ROW(),Setup!$C$5+COLUMN()-26),\"x\")","v":"x"},{"$f":"IF($E18=\"Y\",INDEX(OIQraw,ROW(),Setup!$C$5+COLUMN()-26),\"x\")","v":"x"},{"$f":"IF($E18=\"Y\",INDEX(OIQraw,ROW(),Setup!$C$5+COLUMN()-26),\"x\")","v":"x"},{"$f":"IF($E18=\"Y\",INDEX(OIQraw,ROW(),Setup!$C$5+COLUMN()-26),\"x\")","v":"x"},{"$f":"IF($E18=\"Y\",INDEX(OIQraw,ROW(),Setup!$C$5+COLUMN()-26),\"x\")","v":"x"},{"$f":"IF($E18=\"Y\",INDEX(OIQraw,ROW(),Setup!$C$5+COLUMN()-26),\"x\")","v":"x"},{"$f":"IF($E18=\"Y\",INDEX(OIQraw,ROW(),Setup!$C$5+COLUMN()-26),\"x\")","v":"x"},{"$f":"IF($E18=\"Y\",INDEX(OIQraw,ROW(),Setup!$C$5+COLUMN()-26),\"x\")","v":"x"},{"$f":"IF($E18=\"Y\",INDEX(OIQraw,ROW(),Setup!$C$5+COLUMN()-26),\"x\")","v":"x"},{"$f":"IF($E18=\"Y\",INDEX(OIQraw,ROW(),Setup!$C$5+COLUMN()-26),\"x\")","v":"x"},{"$f":"IF($E18=\"Y\",INDEX(OIQraw,ROW(),Setup!$C$5+COLUMN()-26),\"x\")","v":"x"},{"$f":"IF($E18=\"Y\",INDEX(OIQraw,ROW(),Setup!$C$5+COLUMN()-26),\"x\")","v":"x"},{"$f":"IF($E18=\"Y\",INDEX(OIQraw,ROW(),Setup!$C$5+COLUMN()-26),\"x\")","v":"x"},{"$f":"IF($E18=\"Y\",INDEX(OIQraw,ROW(),Setup!$C$5+COLUMN()-26),\"x\")","v":"x"},{"$f":"IF($E18=\"Y\",INDEX(OIQraw,ROW(),Setup!$C$5+COLUMN()-26),\"x\")","v":"x"},{"$f":"IF($E18=\"Y\",INDEX(OIQraw,ROW(),Setup!$C$5+COLUMN()-26),\"x\")","v":"x"},{"$f":"IF($E18=\"Y\",INDEX(OIQraw,ROW(),Setup!$C$5+COLUMN()-26),\"x\")","v":"x"},{"$f":"IF($E18=\"Y\",INDEX(OIQraw,ROW(),Setup!$C$5+COLUMN()-26),\"x\")","v":"x"},{"$f":"IF($E18=\"Y\",INDEX(OIQraw,ROW(),Setup!$C$5+COLUMN()-26),\"x\")","v":"x"},{"$f":"IF($E18=\"Y\",INDEX(OIQraw,ROW(),Setup!$C$5+COLUMN()-26),\"x\")","v":"x"},{"$f":"IF($E18=\"Y\",INDEX(OIQraw,ROW(),Setup!$C$5+COLUMN()-26),\"x\")","v":"x"},{"$f":"IF($E18=\"Y\",INDEX(OIQraw,ROW(),Setup!$C$5+COLUMN()-26),\"x\")","v":"x"},{"$f":"IF($E18=\"Y\",INDEX(OIQraw,ROW(),Setup!$C$5+COLUMN()-26),\"x\")","v":"x"},{"$f":"IF($E18=\"Y\",INDEX(OIQraw,ROW(),Setup!$C$5+COLUMN()-26),\"x\")","v":"x"},{"$f":"IF($E18=\"Y\",INDEX(OIQraw,ROW(),Setup!$C$5+COLUMN()-26),\"x\")","v":"x"},{"$f":"IF($E18=\"Y\",INDEX(OIQraw,ROW(),Setup!$C$5+COLUMN()-26),\"x\")","v":"x"},{"$f":"IF($E18=\"Y\",INDEX(OIQraw,ROW(),Setup!$C$5+COLUMN()-26),\"x\")","v":"x"},{"$f":"IF($E18=\"Y\",INDEX(OIQraw,ROW(),Setup!$C$5+COLUMN()-26),\"x\")","v":"x"},{"$f":"IF($E18=\"Y\",INDEX(OIQraw,ROW(),Setup!$C$5+COLUMN()-26),\"x\")","v":"x"},{"$f":"IF($E18=\"Y\",INDEX(OIQraw,ROW(),Setup!$C$5+COLUMN()-26),\"x\")","v":"x"},{"$f":"IF($E18=\"Y\",INDEX(OIQraw,ROW(),Setup!$C$5+COLUMN()-26),\"x\")","v":"x"},{"$f":"IF($E18=\"Y\",INDEX(OIQraw,ROW(),Setup!$C$5+COLUMN()-26),\"x\")","v":"x"},{"$f":"IF($E18=\"Y\",INDEX(OIQraw,ROW(),Setup!$C$5+COLUMN()-26),\"x\")","v":"x"},{"$f":"IF($E18=\"Y\",INDEX(OIQraw,ROW(),Setup!$C$5+COLUMN()-26),\"x\")","v":"x"},{"$f":"IF($E18=\"Y\",INDEX(OIQraw,ROW(),Setup!$C$5+COLUMN()-26),\"x\")","v":"x"},{"$f":"IF($E18=\"Y\",INDEX(OIQraw,ROW(),Setup!$C$5+COLUMN()-26),\"x\")","v":"x"},{"$f":"IF($E18=\"Y\",INDEX(OIQraw,ROW(),Setup!$C$5+COLUMN()-26),\"x\")","v":"x"},{"$f":"IF($E18=\"Y\",INDEX(OIQraw,ROW(),Setup!$C$5+COLUMN()-26),\"x\")","v":"x"},{"$f":"IF($E18=\"Y\",INDEX(OIQraw,ROW(),Setup!$C$5+COLUMN()-26),\"x\")","v":"x"},{"$f":"IF($E18=\"Y\",INDEX(OIQraw,ROW(),Setup!$C$5+COLUMN()-26),\"x\")","v":"x"},{"$f":"IF($E18=\"Y\",INDEX(OIQraw,ROW(),Setup!$C$5+COLUMN()-26),\"x\")","v":"x"},{"$f":"IF($E18=\"Y\",INDEX(OIQraw,ROW(),Setup!$C$5+COLUMN()-26),\"x\")","v":"x"},{"$f":"IF($E18=\"Y\",INDEX(OIQraw,ROW(),Setup!$C$5+COLUMN()-26),\"x\")","v":"x"},{"$f":"IF($E18=\"Y\",INDEX(OIQraw,ROW(),Setup!$C$5+COLUMN()-26),\"x\")","v":"x"},{"$f":"IF($E18=\"Y\",INDEX(OIQraw,ROW(),Setup!$C$5+COLUMN()-26),\"x\")","v":"x"},{"$f":"IF($E18=\"Y\",INDEX(OIQraw,ROW(),Setup!$C$5+COLUMN()-26),\"x\")","v":"x"},{"$f":"IF($E18=\"Y\",INDEX(OIQraw,ROW(),Setup!$C$5+COLUMN()-26),\"x\")","v":"x"},{"$f":"IF($E18=\"Y\",INDEX(OIQraw,ROW(),Setup!$C$5+COLUMN()-26),\"x\")","v":"x"},{"$f":"IF($E18=\"Y\",INDEX(OIQraw,ROW(),Setup!$C$5+COLUMN()-26),\"x\")","v":"x"},{"$f":"IF($E18=\"Y\",INDEX(OIQraw,ROW(),Setup!$C$5+COLUMN()-26),\"x\")","v":"x"},{"$f":"IF($E18=\"Y\",INDEX(OIQraw,ROW(),Setup!$C$5+COLUMN()-26),\"x\")","v":"x"},{"$f":"IF($E18=\"Y\",INDEX(OIQraw,ROW(),Setup!$C$5+COLUMN()-26),\"x\")","v":"x"},{"$f":"IF($E18=\"Y\",INDEX(OIQraw,ROW(),Setup!$C$5+COLUMN()-26),\"x\")","v":"x"},{"$f":"IF($E18=\"Y\",INDEX(OIQraw,ROW(),Setup!$C$5+COLUMN()-26),\"x\")","v":"x"},{"$f":"IF($E18=\"Y\",INDEX(OIQraw,ROW(),Setup!$C$5+COLUMN()-26),\"x\")","v":"x"},{"$f":"IF($E18=\"Y\",INDEX(OIQraw,ROW(),Setup!$C$5+COLUMN()-26),\"x\")","v":"x"},{"$f":"IF($E18=\"Y\",INDEX(OIQraw,ROW(),Setup!$C$5+COLUMN()-26),\"x\")","v":"x"},{"$f":"IF($E18=\"Y\",INDEX(OIQraw,ROW(),Setup!$C$5+COLUMN()-26),\"x\")","v":"x"},{"$f":"IF($E18=\"Y\",INDEX(OIQraw,ROW(),Setup!$C$5+COLUMN()-26),\"x\")","v":"x"},{"$f":"IF($E18=\"Y\",INDEX(OIQraw,ROW(),Setup!$C$5+COLUMN()-26),\"x\")","v":"x"},{"$f":"IF($E18=\"Y\",INDEX(OIQraw,ROW(),Setup!$C$5+COLUMN()-26),\"x\")","v":"x"},{"$f":"IF($E18=\"Y\",INDEX(OIQraw,ROW(),Setup!$C$5+COLUMN()-26),\"x\")","v":"x"},{"$f":"IF($E18=\"Y\",INDEX(OIQraw,ROW(),Setup!$C$5+COLUMN()-26),\"x\")","v":"x"},{"$f":"IF($E18=\"Y\",INDEX(OIQraw,ROW(),Setup!$C$5+COLUMN()-26),\"x\")","v":"x"},{"$f":"IF($E18=\"Y\",INDEX(OIQraw,ROW(),Setup!$C$5+COLUMN()-26),\"x\")","v":"x"},{"$f":"IF($E18=\"Y\",INDEX(OIQraw,ROW(),Setup!$C$5+COLUMN()-26),\"x\")","v":"x"},{"$f":"IF($E18=\"Y\",INDEX(OIQraw,ROW(),Setup!$C$5+COLUMN()-26),\"x\")","v":"x"},{"$f":"IF($E18=\"Y\",INDEX(OIQraw,ROW(),Setup!$C$5+COLUMN()-26),\"x\")","v":"x"},{"$f":"IF($E18=\"Y\",INDEX(OIQraw,ROW(),Setup!$C$5+COLUMN()-26),\"x\")","v":"x"},{"$f":"IF($E18=\"Y\",INDEX(OIQraw,ROW(),Setup!$C$5+COLUMN()-26),\"x\")","v":"x"},{"$f":"IF($E18=\"Y\",INDEX(OIQraw,ROW(),Setup!$C$5+COLUMN()-26),\"x\")","v":"x"},{"$f":"IF($E18=\"Y\",INDEX(OIQraw,ROW(),Setup!$C$5+COLUMN()-26),\"x\")","v":"x"},{"$f":"IF($E18=\"Y\",INDEX(OIQraw,ROW(),Setup!$C$5+COLUMN()-26),\"x\")","v":"x"},{"$f":"IF($E18=\"Y\",INDEX(OIQraw,ROW(),Setup!$C$5+COLUMN()-26),\"x\")","v":"x"},{"$f":"IF($E18=\"Y\",INDEX(OIQraw,ROW(),Setup!$C$5+COLUMN()-26),\"x\")","v":"x"},{"$f":"IF($E18=\"Y\",INDEX(OIQraw,ROW(),Setup!$C$5+COLUMN()-26),\"x\")","v":"x"},{"$f":"IF($E18=\"Y\",INDEX(OIQraw,ROW(),Setup!$C$5+COLUMN()-26),\"x\")","v":"x"},{"$f":"IF($E18=\"Y\",INDEX(OIQraw,ROW(),Setup!$C$5+COLUMN()-26),\"x\")","v":"x"},{"$f":"IF($E18=\"Y\",INDEX(OIQraw,ROW(),Setup!$C$5+COLUMN()-26),\"x\")","v":"x"},{"$f":"IF($E18=\"Y\",INDEX(OIQraw,ROW(),Setup!$C$5+COLUMN()-26),\"x\")","v":"x"},{"$f":"IF($E18=\"Y\",INDEX(OIQraw,ROW(),Setup!$C$5+COLUMN()-26),\"x\")","v":"x"},{"$f":"IF($E18=\"Y\",INDEX(OIQraw,ROW(),Setup!$C$5+COLUMN()-26),\"x\")","v":"x"},{"$f":"IF($E18=\"Y\",INDEX(OIQraw,ROW(),Setup!$C$5+COLUMN()-26),\"x\")","v":"x"},{"$f":"IF($E18=\"Y\",INDEX(OIQraw,ROW(),Setup!$C$5+COLUMN()-26),\"x\")","v":"x"},{"$f":"IF($E18=\"Y\",INDEX(OIQraw,ROW(),Setup!$C$5+COLUMN()-26),\"x\")","v":"x"},{"$f":"IF($E18=\"Y\",INDEX(OIQraw,ROW(),Setup!$C$5+COLUMN()-26),\"x\")","v":"x"},{"$f":"IF($E18=\"Y\",INDEX(OIQraw,ROW(),Setup!$C$5+COLUMN()-26),\"x\")","v":"x"},{"$f":"IF($E18=\"Y\",INDEX(OIQraw,ROW(),Setup!$C$5+COLUMN()-26),\"x\")","v":"x"},{"$f":"IF($E18=\"Y\",INDEX(OIQraw,ROW(),Setup!$C$5+COLUMN()-26),\"x\")","v":"x"},{"$f":"IF($E18=\"Y\",INDEX(OIQraw,ROW(),Setup!$C$5+COLUMN()-26),\"x\")","v":"x"},{"$f":"IF($E18=\"Y\",INDEX(OIQraw,ROW(),Setup!$C$5+COLUMN()-26),\"x\")","v":"x"},{"$f":"IF($E18=\"Y\",INDEX(OIQraw,ROW(),Setup!$C$5+COLUMN()-26),\"x\")","v":"x"},{"$f":"IF($E18=\"Y\",INDEX(OIQraw,ROW(),Setup!$C$5+COLUMN()-26),\"x\")","v":"x"},{"$f":"IF($E18=\"Y\",INDEX(OIQraw,ROW(),Setup!$C$5+COLUMN()-26),\"x\")","v":"x"},{"$f":"IF($E18=\"Y\",INDEX(OIQraw,ROW(),Setup!$C$5+COLUMN()-26),\"x\")","v":"x"},{"$f":"IF($E18=\"Y\",INDEX(OIQraw,ROW(),Setup!$C$5+COLUMN()-26),\"x\")","v":"x"},{"$f":"IF($E18=\"Y\",INDEX(OIQraw,ROW(),Setup!$C$5+COLUMN()-26),\"x\")","v":"x"},{"$f":"IF($E18=\"Y\",INDEX(OIQraw,ROW(),Setup!$C$5+COLUMN()-26),\"x\")","v":"x"},{"$f":"IF($E18=\"Y\",INDEX(OIQraw,ROW(),Setup!$C$5+COLUMN()-26),\"x\")","v":"x"},{"$f":"IF($E18=\"Y\",INDEX(OIQraw,ROW(),Setup!$C$5+COLUMN()-26),\"x\")","v":"x"},{"$f":"IF($E18=\"Y\",INDEX(OIQraw,ROW(),Setup!$C$5+COLUMN()-26),\"x\")","v":"x"},{"$f":"IF($E18=\"Y\",INDEX(OIQraw,ROW(),Setup!$C$5+COLUMN()-26),\"x\")","v":"x"},{"$f":"IF($E18=\"Y\",INDEX(OIQraw,ROW(),Setup!$C$5+COLUMN()-26),\"x\")","v":"x"},{"$f":"IF($E18=\"Y\",INDEX(OIQraw,ROW(),Setup!$C$5+COLUMN()-26),\"x\")","v":"x"},{"$f":"IF($E18=\"Y\",INDEX(OIQraw,ROW(),Setup!$C$5+COLUMN()-26),\"x\")","v":"x"},{"$f":"IF($E18=\"Y\",INDEX(OIQraw,ROW(),Setup!$C$5+COLUMN()-26),\"x\")","v":"x"},{"$f":"IF($E18=\"Y\",INDEX(OIQraw,ROW(),Setup!$C$5+COLUMN()-26),\"x\")","v":"x"},{"$f":"IF($E18=\"Y\",INDEX(OIQraw,ROW(),Setup!$C$5+COLUMN()-26),\"x\")","v":"x"},{"$f":"IF($E18=\"Y\",INDEX(OIQraw,ROW(),Setup!$C$5+COLUMN()-26),\"x\")","v":"x"},{"$f":"IF($E18=\"Y\",INDEX(OIQraw,ROW(),Setup!$C$5+COLUMN()-26),\"x\")","v":"x"},{"$f":"IF($E18=\"Y\",INDEX(OIQraw,ROW(),Setup!$C$5+COLUMN()-26),\"x\")","v":"x"},{"$f":"IF($E18=\"Y\",INDEX(OIQraw,ROW(),Setup!$C$5+COLUMN()-26),\"x\")","v":"x"},{"$f":"IF($E18=\"Y\",INDEX(OIQraw,ROW(),Setup!$C$5+COLUMN()-26),\"x\")","v":"x"},{"$f":"IF($E18=\"Y\",INDEX(OIQraw,ROW(),Setup!$C$5+COLUMN()-26),\"x\")","v":"x"},{"$f":"IF($E18=\"Y\",INDEX(OIQraw,ROW(),Setup!$C$5+COLUMN()-26),\"x\")","v":"x"},{"$f":"IF($E18=\"Y\",INDEX(OIQraw,ROW(),Setup!$C$5+COLUMN()-26),\"x\")","v":"x"},{"$f":"IF($E18=\"Y\",INDEX(OIQraw,ROW(),Setup!$C$5+COLUMN()-26),\"x\")","v":"x"},{"$f":"IF($E18=\"Y\",INDEX(OIQraw,ROW(),Setup!$C$5+COLUMN()-26),\"x\")","v":"x"},{"$f":"IF($E18=\"Y\",INDEX(OIQraw,ROW(),Setup!$C$5+COLUMN()-26),\"x\")","v":"x"},{"$f":"IF($E18=\"Y\",INDEX(OIQraw,ROW(),Setup!$C$5+COLUMN()-26),\"x\")","v":"x"},{"$f":"IF($E18=\"Y\",INDEX(OIQraw,ROW(),Setup!$C$5+COLUMN()-26),\"x\")","v":"x"},{"$f":"IF($E18=\"Y\",INDEX(OIQraw,ROW(),Setup!$C$5+COLUMN()-26),\"x\")","v":"x"},{"$f":"IF($E18=\"Y\",INDEX(OIQraw,ROW(),Setup!$C$5+COLUMN()-26),\"x\")","v":"x"},{"$f":"IF($E18=\"Y\",INDEX(OIQraw,ROW(),Setup!$C$5+COLUMN()-26),\"x\")","v":"x"},{"$f":"IF($E18=\"Y\",INDEX(OIQraw,ROW(),Setup!$C$5+COLUMN()-26),\"x\")","v":"x"},{"$f":"IF($E18=\"Y\",INDEX(OIQraw,ROW(),Setup!$C$5+COLUMN()-26),\"x\")","v":"x"},{"$f":"IF($E18=\"Y\",INDEX(OIQraw,ROW(),Setup!$C$5+COLUMN()-26),\"x\")","v":"x"},{"$f":"IF($E18=\"Y\",INDEX(OIQraw,ROW(),Setup!$C$5+COLUMN()-26),\"x\")","v":"x"},{"$f":"IF($E18=\"Y\",INDEX(OIQraw,ROW(),Setup!$C$5+COLUMN()-26),\"x\")","v":"x"},{"$f":"IF($E18=\"Y\",INDEX(OIQraw,ROW(),Setup!$C$5+COLUMN()-26),\"x\")","v":"x"},{"$f":"IF($E18=\"Y\",INDEX(OIQraw,ROW(),Setup!$C$5+COLUMN()-26),\"x\")","v":"x"},{"$f":"IF($E18=\"Y\",INDEX(OIQraw,ROW(),Setup!$C$5+COLUMN()-26),\"x\")","v":"x"},{"$f":"IF($E18=\"Y\",INDEX(OIQraw,ROW(),Setup!$C$5+COLUMN()-26),\"x\")","v":"x"},{"$f":"IF($E18=\"Y\",INDEX(OIQraw,ROW(),Setup!$C$5+COLUMN()-26),\"x\")","v":"x"},{"$f":"IF($E18=\"Y\",INDEX(OIQraw,ROW(),Setup!$C$5+COLUMN()-26),\"x\")","v":"x"},{"$f":"IF($E18=\"Y\",INDEX(OIQraw,ROW(),Setup!$C$5+COLUMN()-26),\"x\")","v":"x"},{"$f":"IF($E18=\"Y\",INDEX(OIQraw,ROW(),Setup!$C$5+COLUMN()-26),\"x\")","v":"x"},{"$f":"IF($E18=\"Y\",INDEX(OIQraw,ROW(),Setup!$C$5+COLUMN()-26),\"x\")","v":"x"},{"$f":"IF($E18=\"Y\",INDEX(OIQraw,ROW(),Setup!$C$5+COLUMN()-26),\"x\")","v":"x"},{"$f":"IF($E18=\"Y\",INDEX(OIQraw,ROW(),Setup!$C$5+COLUMN()-26),\"x\")","v":"x"},{"$f":"IF($E18=\"Y\",INDEX(OIQraw,ROW(),Setup!$C$5+COLUMN()-26),\"x\")","v":"x"},{"$f":"IF($E18=\"Y\",INDEX(OIQraw,ROW(),Setup!$C$5+COLUMN()-26),\"x\")","v":"x"},{"$f":"IF($E18=\"Y\",INDEX(OIQraw,ROW(),Setup!$C$5+COLUMN()-26),\"x\")","v":"x"},{"$f":"IF($E18=\"Y\",INDEX(OIQraw,ROW(),Setup!$C$5+COLUMN()-26),\"x\")","v":"x"},{"$f":"IF($E18=\"Y\",INDEX(OIQraw,ROW(),Setup!$C$5+COLUMN()-26),\"x\")","v":"x"},{"$f":"IF($E18=\"Y\",INDEX(OIQraw,ROW(),Setup!$C$5+COLUMN()-26),\"x\")","v":"x"},{"$f":"IF($E18=\"Y\",INDEX(OIQraw,ROW(),Setup!$C$5+COLUMN()-26),\"x\")","v":"x"},{"$f":"IF($E18=\"Y\",INDEX(OIQraw,ROW(),Setup!$C$5+COLUMN()-26),\"x\")","v":"x"},{"$f":"IF($E18=\"Y\",INDEX(OIQraw,ROW(),Setup!$C$5+COLUMN()-26),\"x\")","v":"x"},{"$f":"IF($E18=\"Y\",INDEX(OIQraw,ROW(),Setup!$C$5+COLUMN()-26),\"x\")","v":"x"},{"$f":"IF($E18=\"Y\",INDEX(OIQraw,ROW(),Setup!$C$5+COLUMN()-26),\"x\")","v":"x"},{"$f":"IF($E18=\"Y\",INDEX(OIQraw,ROW(),Setup!$C$5+COLUMN()-26),\"x\")","v":"x"},{"$f":"IF($E18=\"Y\",INDEX(OIQraw,ROW(),Setup!$C$5+COLUMN()-26),\"x\")","v":"x"},{"$f":"IF($E18=\"Y\",INDEX(OIQraw,ROW(),Setup!$C$5+COLUMN()-26),\"x\")","v":"x"},{"$f":"IF($E18=\"Y\",INDEX(OIQraw,ROW(),Setup!$C$5+COLUMN()-26),\"x\")","v":"x"},{"$f":"IF($E18=\"Y\",INDEX(OIQraw,ROW(),Setup!$C$5+COLUMN()-26),\"x\")","v":"x"},{"$f":"IF($E18=\"Y\",INDEX(OIQraw,ROW(),Setup!$C$5+COLUMN()-26),\"x\")","v":"x"},{"$f":"IF($E18=\"Y\",INDEX(OIQraw,ROW(),Setup!$C$5+COLUMN()-26),\"x\")","v":"x"},{"$f":"IF($E18=\"Y\",INDEX(OIQraw,ROW(),Setup!$C$5+COLUMN()-26),\"x\")","v":"x"},{"$f":"IF($E18=\"Y\",INDEX(OIQraw,ROW(),Setup!$C$5+COLUMN()-26),\"x\")","v":"x"},{"$f":"IF($E18=\"Y\",INDEX(OIQraw,ROW(),Setup!$C$5+COLUMN()-26),\"x\")","v":"x"},{"$f":"IF($E18=\"Y\",INDEX(OIQraw,ROW(),Setup!$C$5+COLUMN()-26),\"x\")","v":"x"},{"$f":"IF($E18=\"Y\",INDEX(OIQraw,ROW(),Setup!$C$5+COLUMN()-26),\"x\")","v":"x"},{"$f":"IF($E18=\"Y\",INDEX(OIQraw,ROW(),Setup!$C$5+COLUMN()-26),\"x\")","v":"x"},{"$f":"IF($E18=\"Y\",INDEX(OIQraw,ROW(),Setup!$C$5+COLUMN()-26),\"x\")","v":"x"},{"$f":"IF($E18=\"Y\",INDEX(OIQraw,ROW(),Setup!$C$5+COLUMN()-26),\"x\")","v":"x"},{"$f":"IF($E18=\"Y\",INDEX(OIQraw,ROW(),Setup!$C$5+COLUMN()-26),\"x\")","v":"x"},{"$f":"IF($E18=\"Y\",INDEX(OIQraw,ROW(),Setup!$C$5+COLUMN()-26),\"x\")","v":"x"},{"$f":"IF($E18=\"Y\",INDEX(OIQraw,ROW(),Setup!$C$5+COLUMN()-26),\"x\")","v":"x"},{"$f":"IF($E18=\"Y\",INDEX(OIQraw,ROW(),Setup!$C$5+COLUMN()-26),\"x\")","v":"x"},{"$f":"IF($E18=\"Y\",INDEX(OIQraw,ROW(),Setup!$C$5+COLUMN()-26),\"x\")","v":"x"},{"$f":"IF($E18=\"Y\",INDEX(OIQraw,ROW(),Setup!$C$5+COLUMN()-26),\"x\")","v":"x"},{"$f":"IF($E18=\"Y\",INDEX(OIQraw,ROW(),Setup!$C$5+COLUMN()-26),\"x\")","v":"x"},{"$f":"IF($E18=\"Y\",INDEX(OIQraw,ROW(),Setup!$C$5+COLUMN()-26),\"x\")","v":"x"},{"$f":"IF($E18=\"Y\",INDEX(OIQraw,ROW(),Setup!$C$5+COLUMN()-26),\"x\")","v":"x"},{"$f":"IF($E18=\"Y\",INDEX(OIQraw,ROW(),Setup!$C$5+COLUMN()-26),\"x\")","v":"x"},{"$f":"IF($E18=\"Y\",INDEX(OIQraw,ROW(),Setup!$C$5+COLUMN()-26),\"x\")","v":"x"},{"$f":"IF($E18=\"Y\",INDEX(OIQraw,ROW(),Setup!$C$5+COLUMN()-26),\"x\")","v":"x"},{"$f":"IF($E18=\"Y\",INDEX(OIQraw,ROW(),Setup!$C$5+COLUMN()-26),\"x\")","v":"x"},{"$f":"IF($E18=\"Y\",INDEX(OIQraw,ROW(),Setup!$C$5+COLUMN()-26),\"x\")","v":"x"},{"$f":"IF($E18=\"Y\",INDEX(OIQraw,ROW(),Setup!$C$5+COLUMN()-26),\"x\")","v":"x"},{"$f":"IF($E18=\"Y\",INDEX(OIQraw,ROW(),Setup!$C$5+COLUMN()-26),\"x\")","v":"x"},{"$f":"IF($E18=\"Y\",INDEX(OIQraw,ROW(),Setup!$C$5+COLUMN()-26),\"x\")","v":"x"},{"$f":"IF($E18=\"Y\",INDEX(OIQraw,ROW(),Setup!$C$5+COLUMN()-26),\"x\")","v":"x"},{"$f":"IF($E18=\"Y\",INDEX(OIQraw,ROW(),Setup!$C$5+COLUMN()-26),\"x\")","v":"x"},{"$f":"IF($E18=\"Y\",INDEX(OIQraw,ROW(),Setup!$C$5+COLUMN()-26),\"x\")","v":"x"},{"$f":"IF($E18=\"Y\",INDEX(OIQraw,ROW(),Setup!$C$5+COLUMN()-26),\"x\")","v":"x"},{"$f":"IF($E18=\"Y\",INDEX(OIQraw,ROW(),Setup!$C$5+COLUMN()-26),\"x\")","v":"x"},{"$f":"IF($E18=\"Y\",INDEX(OIQraw,ROW(),Setup!$C$5+COLUMN()-26),\"x\")","v":"x"},{"$f":"IF($E18=\"Y\",INDEX(OIQraw,ROW(),Setup!$C$5+COLUMN()-26),\"x\")","v":"x"},{"$f":"IF($E18=\"Y\",INDEX(OIQraw,ROW(),Setup!$C$5+COLUMN()-26),\"x\")","v":"x"},{"$f":"IF($E18=\"Y\",INDEX(OIQraw,ROW(),Setup!$C$5+COLUMN()-26),\"x\")","v":"x"},{"$f":"IF($E18=\"Y\",INDEX(OIQraw,ROW(),Setup!$C$5+COLUMN()-26),\"x\")","v":"x"},{"$f":"IF($E18=\"Y\",INDEX(OIQraw,ROW(),Setup!$C$5+COLUMN()-26),\"x\")","v":"x"},{"$f":"IF($E18=\"Y\",INDEX(OIQraw,ROW(),Setup!$C$5+COLUMN()-26),\"x\")","v":"x"},{"$f":"IF($E18=\"Y\",INDEX(OIQraw,ROW(),Setup!$C$5+COLUMN()-26),\"x\")","v":"x"},{"$f":"IF($E18=\"Y\",INDEX(OIQraw,ROW(),Setup!$C$5+COLUMN()-26),\"x\")","v":"x"},{"$f":"IF($E18=\"Y\",INDEX(OIQraw,ROW(),Setup!$C$5+COLUMN()-26),\"x\")","v":"x"},{"$f":"IF($E18=\"Y\",INDEX(OIQraw,ROW(),Setup!$C$5+COLUMN()-26),\"x\")","v":"x"},{"$f":"IF($E18=\"Y\",INDEX(OIQraw,ROW(),Setup!$C$5+COLUMN()-26),\"x\")","v":"x"},{"$f":"IF($E18=\"Y\",INDEX(OIQraw,ROW(),Setup!$C$5+COLUMN()-26),\"x\")","v":"x"},{"$f":"IF($E18=\"Y\",INDEX(OIQraw,ROW(),Setup!$C$5+COLUMN()-26),\"x\")","v":"x"},{"$f":"IF($E18=\"Y\",INDEX(OIQraw,ROW(),Setup!$C$5+COLUMN()-26),\"x\")","v":"x"},{"$f":"IF($E18=\"Y\",INDEX(OIQraw,ROW(),Setup!$C$5+COLUMN()-26),\"x\")","v":"x"},{"$f":"IF($E18=\"Y\",INDEX(OIQraw,ROW(),Setup!$C$5+COLUMN()-26),\"x\")","v":"x"},{"$f":"IF($E18=\"Y\",INDEX(OIQraw,ROW(),Setup!$C$5+COLUMN()-26),\"x\")","v":"x"},{"$f":"IF($E18=\"Y\",INDEX(OIQraw,ROW(),Setup!$C$5+COLUMN()-26),\"x\")","v":"x"},{"$f":"IF($E18=\"Y\",INDEX(OIQraw,ROW(),Setup!$C$5+COLUMN()-26),\"x\")","v":"x"},{"$f":"IF($E18=\"Y\",INDEX(OIQraw,ROW(),Setup!$C$5+COLUMN()-26),\"x\")","v":"x"},{"$f":"IF($E18=\"Y\",INDEX(OIQraw,ROW(),Setup!$C$5+COLUMN()-26),\"x\")","v":"x"},{"$f":"IF($E18=\"Y\",INDEX(OIQraw,ROW(),Setup!$C$5+COLUMN()-26),\"x\")","v":"x"},{"$f":"IF($E18=\"Y\",INDEX(OIQraw,ROW(),Setup!$C$5+COLUMN()-26),\"x\")","v":"x"},{"$f":"IF($E18=\"Y\",INDEX(OIQraw,ROW(),Setup!$C$5+COLUMN()-26),\"x\")","v":"x"},{"$f":"IF($E18=\"Y\",INDEX(OIQraw,ROW(),Setup!$C$5+COLUMN()-26),\"x\")","v":"x"},{"$f":"IF($E18=\"Y\",INDEX(OIQraw,ROW(),Setup!$C$5+COLUMN()-26),\"x\")","v":"x"},{"$f":"IF($E18=\"Y\",INDEX(OIQraw,ROW(),Setup!$C$5+COLUMN()-26),\"x\")","v":"x"},{"$f":"IF($E18=\"Y\",INDEX(OIQraw,ROW(),Setup!$C$5+COLUMN()-26),\"x\")","v":"x"},{"$f":"IF($E18=\"Y\",INDEX(OIQraw,ROW(),Setup!$C$5+COLUMN()-26),\"x\")","v":"x"},{"$f":"IF($E18=\"Y\",INDEX(OIQraw,ROW(),Setup!$C$5+COLUMN()-26),\"x\")","v":"x"},{"$f":"IF($E18=\"Y\",INDEX(OIQraw,ROW(),Setup!$C$5+COLUMN()-26),\"x\")","v":"x"},{"$f":"IF($E18=\"Y\",INDEX(OIQraw,ROW(),Setup!$C$5+COLUMN()-26),\"x\")","v":"x"},{"$f":"IF($E18=\"Y\",INDEX(OIQraw,ROW(),Setup!$C$5+COLUMN()-26),\"x\")","v":"x"},{"$f":"IF($E18=\"Y\",INDEX(OIQraw,ROW(),Setup!$C$5+COLUMN()-26),\"x\")","v":"x"},{"$f":"IF($E18=\"Y\",INDEX(OIQraw,ROW(),Setup!$C$5+COLUMN()-26),\"x\")","v":"x"},{"$f":"IF($E18=\"Y\",INDEX(OIQraw,ROW(),Setup!$C$5+COLUMN()-26),\"x\")","v":"x"},{"$f":"IF($E18=\"Y\",INDEX(OIQraw,ROW(),Setup!$C$5+COLUMN()-26),\"x\")","v":"x"},{"$f":"IF($E18=\"Y\",INDEX(OIQraw,ROW(),Setup!$C$5+COLUMN()-26),\"x\")","v":"x"},{"$f":"IF($E18=\"Y\",INDEX(OIQraw,ROW(),Setup!$C$5+COLUMN()-26),\"x\")","v":"x"},{"$f":"IF($E18=\"Y\",INDEX(OIQraw,ROW(),Setup!$C$5+COLUMN()-26),\"x\")","v":"x"},{"$f":"IF($E18=\"Y\",INDEX(OIQraw,ROW(),Setup!$C$5+COLUMN()-26),\"x\")","v":"x"},{"$f":"IF($E18=\"Y\",INDEX(OIQraw,ROW(),Setup!$C$5+COLUMN()-26),\"x\")","v":"x"},{"$f":"IF($E18=\"Y\",INDEX(OIQraw,ROW(),Setup!$C$5+COLUMN()-26),\"x\")","v":"x"},{"$f":"IF($E18=\"Y\",INDEX(OIQraw,ROW(),Setup!$C$5+COLUMN()-26),\"x\")","v":"x"}]
[1,"","",{"$f":"IF(ISERROR(FIND(\"Withdrew\",RawScores!B23)),RawScores!B23,RIGHT(RawScores!B23,LEN(RawScores!B23)-17))&\", \"&RawScores!C23","v":", "},{"$f":"IF(OR(ISERROR(FIND(\"Withdrew\",RawScores!B23))=FALSE,INDEX(OIQraw,ROW(),LastInputCol-3)=0),\"N\",IF(AND(Setup!$B$22=\"Yes\",INDEX(OIQraw,ROW(),LastInputCol)=1),\"N\",\"Y\"))","v":"N"},"X","X","X",{"$f":"IF(AND(ISNUMBER(F19),F19>Setup!$B$14-1),1,0)","v":0},{"$f":"IF(AND(F19>Setup!$B$14-1,Conv!H19<5),1,0)","v":0},{"$f":"IF(AND(F19>Setup!$B$14-1,Conv!G19=\"F\"),1,0)","v":0},{"$f":"IF($H19=L$1,$F19,\"\")","v":""},"","","","","","","","",{"$f":"IF($G19=U$1,$F19,\"\")","v":""},"","","X","X",{"$f":"IF($E19=\"Y\",INDEX(OIQraw,ROW(),Setup!$C$5+COLUMN()-26),\"x\")","v":"x"},{"$f":"IF($E19=\"Y\",INDEX(OIQraw,ROW(),Setup!$C$5+COLUMN()-26),\"x\")","v":"x"},{"$f":"IF($E19=\"Y\",INDEX(OIQraw,ROW(),Setup!$C$5+COLUMN()-26),\"x\")","v":"x"},{"$f":"IF($E19=\"Y\",INDEX(OIQraw,ROW(),Setup!$C$5+COLUMN()-26),\"x\")","v":"x"},{"$f":"IF($E19=\"Y\",INDEX(OIQraw,ROW(),Setup!$C$5+COLUMN()-26),\"x\")","v":"x"},{"$f":"IF($E19=\"Y\",INDEX(OIQraw,ROW(),Setup!$C$5+COLUMN()-26),\"x\")","v":"x"},{"$f":"IF($E19=\"Y\",INDEX(OIQraw,ROW(),Setup!$C$5+COLUMN()-26),\"x\")","v":"x"},{"$f":"IF($E19=\"Y\",INDEX(OIQraw,ROW(),Setup!$C$5+COLUMN()-26),\"x\")","v":"x"},{"$f":"IF($E19=\"Y\",INDEX(OIQraw,ROW(),Setup!$C$5+COLUMN()-26),\"x\")","v":"x"},{"$f":"IF($E19=\"Y\",INDEX(OIQraw,ROW(),Setup!$C$5+COLUMN()-26),\"x\")","v":"x"},{"$f":"IF($E19=\"Y\",INDEX(OIQraw,ROW(),Setup!$C$5+COLUMN()-26),\"x\")","v":"x"},{"$f":"IF($E19=\"Y\",INDEX(OIQraw,ROW(),Setup!$C$5+COLUMN()-26),\"x\")","v":"x"},{"$f":"IF($E19=\"Y\",INDEX(OIQraw,ROW(),Setup!$C$5+COLUMN()-26),\"x\")","v":"x"},{"$f":"IF($E19=\"Y\",INDEX(OIQraw,ROW(),Setup!$C$5+COLUMN()-26),\"x\")","v":"x"},{"$f":"IF($E19=\"Y\",INDEX(OIQraw,ROW(),Setup!$C$5+COLUMN()-26),\"x\")","v":"x"},{"$f":"IF($E19=\"Y\",INDEX(OIQraw,ROW(),Setup!$C$5+COLUMN()-26),\"x\")","v":"x"},{"$f":"IF($E19=\"Y\",INDEX(OIQraw,ROW(),Setup!$C$5+COLUMN()-26),\"x\")","v":"x"},{"$f":"IF($E19=\"Y\",INDEX(OIQraw,ROW(),Setup!$C$5+COLUMN()-26),\"x\")","v":"x"},{"$f":"IF($E19=\"Y\",INDEX(OIQraw,ROW(),Setup!$C$5+COLUMN()-26),\"x\")","v":"x"},{"$f":"IF($E19=\"Y\",INDEX(OIQraw,ROW(),Setup!$C$5+COLUMN()-26),\"x\")","v":"x"},{"$f":"IF($E19=\"Y\",INDEX(OIQraw,ROW(),Setup!$C$5+COLUMN()-26),\"x\")","v":"x"},{"$f":"IF($E19=\"Y\",INDEX(OIQraw,ROW(),Setup!$C$5+COLUMN()-26),\"x\")","v":"x"},{"$f":"IF($E19=\"Y\",INDEX(OIQraw,ROW(),Setup!$C$5+COLUMN()-26),\"x\")","v":"x"},{"$f":"IF($E19=\"Y\",INDEX(OIQraw,ROW(),Setup!$C$5+COLUMN()-26),\"x\")","v":"x"},{"$f":"IF($E19=\"Y\",INDEX(OIQraw,ROW(),Setup!$C$5+COLUMN()-26),\"x\")","v":"x"},{"$f":"IF($E19=\"Y\",INDEX(OIQraw,ROW(),Setup!$C$5+COLUMN()-26),\"x\")","v":"x"},{"$f":"IF($E19=\"Y\",INDEX(OIQraw,ROW(),Setup!$C$5+COLUMN()-26),\"x\")","v":"x"},{"$f":"IF($E19=\"Y\",INDEX(OIQraw,ROW(),Setup!$C$5+COLUMN()-26),\"x\")","v":"x"},{"$f":"IF($E19=\"Y\",INDEX(OIQraw,ROW(),Setup!$C$5+COLUMN()-26),\"x\")","v":"x"},{"$f":"IF($E19=\"Y\",INDEX(OIQraw,ROW(),Setup!$C$5+COLUMN()-26),\"x\")","v":"x"},{"$f":"IF($E19=\"Y\",INDEX(OIQraw,ROW(),Setup!$C$5+COLUMN()-26),\"x\")","v":"x"},{"$f":"IF($E19=\"Y\",INDEX(OIQraw,ROW(),Setup!$C$5+COLUMN()-26),\"x\")","v":"x"},{"$f":"IF($E19=\"Y\",INDEX(OIQraw,ROW(),Setup!$C$5+COLUMN()-26),\"x\")","v":"x"},{"$f":"IF($E19=\"Y\",INDEX(OIQraw,ROW(),Setup!$C$5+COLUMN()-26),\"x\")","v":"x"},{"$f":"IF($E19=\"Y\",INDEX(OIQraw,ROW(),Setup!$C$5+COLUMN()-26),\"x\")","v":"x"},{"$f":"IF($E19=\"Y\",INDEX(OIQraw,ROW(),Setup!$C$5+COLUMN()-26),\"x\")","v":"x"},{"$f":"IF($E19=\"Y\",INDEX(OIQraw,ROW(),Setup!$C$5+COLUMN()-26),\"x\")","v":"x"},{"$f":"IF($E19=\"Y\",INDEX(OIQraw,ROW(),Setup!$C$5+COLUMN()-26),\"x\")","v":"x"},{"$f":"IF($E19=\"Y\",INDEX(OIQraw,ROW(),Setup!$C$5+COLUMN()-26),\"x\")","v":"x"},{"$f":"IF($E19=\"Y\",INDEX(OIQraw,ROW(),Setup!$C$5+COLUMN()-26),\"x\")","v":"x"},{"$f":"IF($E19=\"Y\",INDEX(OIQraw,ROW(),Setup!$C$5+COLUMN()-26),\"x\")","v":"x"},{"$f":"IF($E19=\"Y\",INDEX(OIQraw,ROW(),Setup!$C$5+COLUMN()-26),\"x\")","v":"x"},{"$f":"IF($E19=\"Y\",INDEX(OIQraw,ROW(),Setup!$C$5+COLUMN()-26),\"x\")","v":"x"},{"$f":"IF($E19=\"Y\",INDEX(OIQraw,ROW(),Setup!$C$5+COLUMN()-26),\"x\")","v":"x"},{"$f":"IF($E19=\"Y\",INDEX(OIQraw,ROW(),Setup!$C$5+COLUMN()-26),\"x\")","v":"x"},{"$f":"IF($E19=\"Y\",INDEX(OIQraw,ROW(),Setup!$C$5+COLUMN()-26),\"x\")","v":"x"},{"$f":"IF($E19=\"Y\",INDEX(OIQraw,ROW(),Setup!$C$5+COLUMN()-26),\"x\")","v":"x"},{"$f":"IF($E19=\"Y\",INDEX(OIQraw,ROW(),Setup!$C$5+COLUMN()-26),\"x\")","v":"x"},{"$f":"IF($E19=\"Y\",INDEX(OIQraw,ROW(),Setup!$C$5+COLUMN()-26),\"x\")","v":"x"},{"$f":"IF($E19=\"Y\",INDEX(OIQraw,ROW(),Setup!$C$5+COLUMN()-26),\"x\")","v":"x"},{"$f":"IF($E19=\"Y\",INDEX(OIQraw,ROW(),Setup!$C$5+COLUMN()-26),\"x\")","v":"x"},{"$f":"IF($E19=\"Y\",INDEX(OIQraw,ROW(),Setup!$C$5+COLUMN()-26),\"x\")","v":"x"},{"$f":"IF($E19=\"Y\",INDEX(OIQraw,ROW(),Setup!$C$5+COLUMN()-26),\"x\")","v":"x"},{"$f":"IF($E19=\"Y\",INDEX(OIQraw,ROW(),Setup!$C$5+COLUMN()-26),\"x\")","v":"x"},{"$f":"IF($E19=\"Y\",INDEX(OIQraw,ROW(),Setup!$C$5+COLUMN()-26),\"x\")","v":"x"},{"$f":"IF($E19=\"Y\",INDEX(OIQraw,ROW(),Setup!$C$5+COLUMN()-26),\"x\")","v":"x"},{"$f":"IF($E19=\"Y\",INDEX(OIQraw,ROW(),Setup!$C$5+COLUMN()-26),\"x\")","v":"x"},{"$f":"IF($E19=\"Y\",INDEX(OIQraw,ROW(),Setup!$C$5+COLUMN()-26),\"x\")","v":"x"},{"$f":"IF($E19=\"Y\",INDEX(OIQraw,ROW(),Setup!$C$5+COLUMN()-26),\"x\")","v":"x"},{"$f":"IF($E19=\"Y\",INDEX(OIQraw,ROW(),Setup!$C$5+COLUMN()-26),\"x\")","v":"x"},{"$f":"IF($E19=\"Y\",INDEX(OIQraw,ROW(),Setup!$C$5+COLUMN()-26),\"x\")","v":"x"},{"$f":"IF($E19=\"Y\",INDEX(OIQraw,ROW(),Setup!$C$5+COLUMN()-26),\"x\")","v":"x"},{"$f":"IF($E19=\"Y\",INDEX(OIQraw,ROW(),Setup!$C$5+COLUMN()-26),\"x\")","v":"x"},{"$f":"IF($E19=\"Y\",INDEX(OIQraw,ROW(),Setup!$C$5+COLUMN()-26),\"x\")","v":"x"},{"$f":"IF($E19=\"Y\",INDEX(OIQraw,ROW(),Setup!$C$5+COLUMN()-26),\"x\")","v":"x"},{"$f":"IF($E19=\"Y\",INDEX(OIQraw,ROW(),Setup!$C$5+COLUMN()-26),\"x\")","v":"x"},{"$f":"IF($E19=\"Y\",INDEX(OIQraw,ROW(),Setup!$C$5+COLUMN()-26),\"x\")","v":"x"},{"$f":"IF($E19=\"Y\",INDEX(OIQraw,ROW(),Setup!$C$5+COLUMN()-26),\"x\")","v":"x"},{"$f":"IF($E19=\"Y\",INDEX(OIQraw,ROW(),Setup!$C$5+COLUMN()-26),\"x\")","v":"x"},{"$f":"IF($E19=\"Y\",INDEX(OIQraw,ROW(),Setup!$C$5+COLUMN()-26),\"x\")","v":"x"},{"$f":"IF($E19=\"Y\",INDEX(OIQraw,ROW(),Setup!$C$5+COLUMN()-26),\"x\")","v":"x"},{"$f":"IF($E19=\"Y\",INDEX(OIQraw,ROW(),Setup!$C$5+COLUMN()-26),\"x\")","v":"x"},{"$f":"IF($E19=\"Y\",INDEX(OIQraw,ROW(),Setup!$C$5+COLUMN()-26),\"x\")","v":"x"},{"$f":"IF($E19=\"Y\",INDEX(OIQraw,ROW(),Setup!$C$5+COLUMN()-26),\"x\")","v":"x"},{"$f":"IF($E19=\"Y\",INDEX(OIQraw,ROW(),Setup!$C$5+COLUMN()-26),\"x\")","v":"x"},{"$f":"IF($E19=\"Y\",INDEX(OIQraw,ROW(),Setup!$C$5+COLUMN()-26),\"x\")","v":"x"},{"$f":"IF($E19=\"Y\",INDEX(OIQraw,ROW(),Setup!$C$5+COLUMN()-26),\"x\")","v":"x"},{"$f":"IF($E19=\"Y\",INDEX(OIQraw,ROW(),Setup!$C$5+COLUMN()-26),\"x\")","v":"x"},{"$f":"IF($E19=\"Y\",INDEX(OIQraw,ROW(),Setup!$C$5+COLUMN()-26),\"x\")","v":"x"},{"$f":"IF($E19=\"Y\",INDEX(OIQraw,ROW(),Setup!$C$5+COLUMN()-26),\"x\")","v":"x"},{"$f":"IF($E19=\"Y\",INDEX(OIQraw,ROW(),Setup!$C$5+COLUMN()-26),\"x\")","v":"x"},{"$f":"IF($E19=\"Y\",INDEX(OIQraw,ROW(),Setup!$C$5+COLUMN()-26),\"x\")","v":"x"},{"$f":"IF($E19=\"Y\",INDEX(OIQraw,ROW(),Setup!$C$5+COLUMN()-26),\"x\")","v":"x"},{"$f":"IF($E19=\"Y\",INDEX(OIQraw,ROW(),Setup!$C$5+COLUMN()-26),\"x\")","v":"x"},{"$f":"IF($E19=\"Y\",INDEX(OIQraw,ROW(),Setup!$C$5+COLUMN()-26),\"x\")","v":"x"},{"$f":"IF($E19=\"Y\",INDEX(OIQraw,ROW(),Setup!$C$5+COLUMN()-26),\"x\")","v":"x"},{"$f":"IF($E19=\"Y\",INDEX(OIQraw,ROW(),Setup!$C$5+COLUMN()-26),\"x\")","v":"x"},{"$f":"IF($E19=\"Y\",INDEX(OIQraw,ROW(),Setup!$C$5+COLUMN()-26),\"x\")","v":"x"},{"$f":"IF($E19=\"Y\",INDEX(OIQraw,ROW(),Setup!$C$5+COLUMN()-26),\"x\")","v":"x"},{"$f":"IF($E19=\"Y\",INDEX(OIQraw,ROW(),Setup!$C$5+COLUMN()-26),\"x\")","v":"x"},{"$f":"IF($E19=\"Y\",INDEX(OIQraw,ROW(),Setup!$C$5+COLUMN()-26),\"x\")","v":"x"},{"$f":"IF($E19=\"Y\",INDEX(OIQraw,ROW(),Setup!$C$5+COLUMN()-26),\"x\")","v":"x"},{"$f":"IF($E19=\"Y\",INDEX(OIQraw,ROW(),Setup!$C$5+COLUMN()-26),\"x\")","v":"x"},{"$f":"IF($E19=\"Y\",INDEX(OIQraw,ROW(),Setup!$C$5+COLUMN()-26),\"x\")","v":"x"},{"$f":"IF($E19=\"Y\",INDEX(OIQraw,ROW(),Setup!$C$5+COLUMN()-26),\"x\")","v":"x"},{"$f":"IF($E19=\"Y\",INDEX(OIQraw,ROW(),Setup!$C$5+COLUMN()-26),\"x\")","v":"x"},{"$f":"IF($E19=\"Y\",INDEX(OIQraw,ROW(),Setup!$C$5+COLUMN()-26),\"x\")","v":"x"},{"$f":"IF($E19=\"Y\",INDEX(OIQraw,ROW(),Setup!$C$5+COLUMN()-26),\"x\")","v":"x"},{"$f":"IF($E19=\"Y\",INDEX(OIQraw,ROW(),Setup!$C$5+COLUMN()-26),\"x\")","v":"x"},{"$f":"IF($E19=\"Y\",INDEX(OIQraw,ROW(),Setup!$C$5+COLUMN()-26),\"x\")","v":"x"},{"$f":"IF($E19=\"Y\",INDEX(OIQraw,ROW(),Setup!$C$5+COLUMN()-26),\"x\")","v":"x"},{"$f":"IF($E19=\"Y\",INDEX(OIQraw,ROW(),Setup!$C$5+COLUMN()-26),\"x\")","v":"x"},{"$f":"IF($E19=\"Y\",INDEX(OIQraw,ROW(),Setup!$C$5+COLUMN()-26),\"x\")","v":"x"},{"$f":"IF($E19=\"Y\",INDEX(OIQraw,ROW(),Setup!$C$5+COLUMN()-26),\"x\")","v":"x"},{"$f":"IF($E19=\"Y\",INDEX(OIQraw,ROW(),Setup!$C$5+COLUMN()-26),\"x\")","v":"x"},{"$f":"IF($E19=\"Y\",INDEX(OIQraw,ROW(),Setup!$C$5+COLUMN()-26),\"x\")","v":"x"},{"$f":"IF($E19=\"Y\",INDEX(OIQraw,ROW(),Setup!$C$5+COLUMN()-26),\"x\")","v":"x"},{"$f":"IF($E19=\"Y\",INDEX(OIQraw,ROW(),Setup!$C$5+COLUMN()-26),\"x\")","v":"x"},{"$f":"IF($E19=\"Y\",INDEX(OIQraw,ROW(),Setup!$C$5+COLUMN()-26),\"x\")","v":"x"},{"$f":"IF($E19=\"Y\",INDEX(OIQraw,ROW(),Setup!$C$5+COLUMN()-26),\"x\")","v":"x"},{"$f":"IF($E19=\"Y\",INDEX(OIQraw,ROW(),Setup!$C$5+COLUMN()-26),\"x\")","v":"x"},{"$f":"IF($E19=\"Y\",INDEX(OIQraw,ROW(),Setup!$C$5+COLUMN()-26),\"x\")","v":"x"},{"$f":"IF($E19=\"Y\",INDEX(OIQraw,ROW(),Setup!$C$5+COLUMN()-26),\"x\")","v":"x"},{"$f":"IF($E19=\"Y\",INDEX(OIQraw,ROW(),Setup!$C$5+COLUMN()-26),\"x\")","v":"x"},{"$f":"IF($E19=\"Y\",INDEX(OIQraw,ROW(),Setup!$C$5+COLUMN()-26),\"x\")","v":"x"},{"$f":"IF($E19=\"Y\",INDEX(OIQraw,ROW(),Setup!$C$5+COLUMN()-26),\"x\")","v":"x"},{"$f":"IF($E19=\"Y\",INDEX(OIQraw,ROW(),Setup!$C$5+COLUMN()-26),\"x\")","v":"x"},{"$f":"IF($E19=\"Y\",INDEX(OIQraw,ROW(),Setup!$C$5+COLUMN()-26),\"x\")","v":"x"},{"$f":"IF($E19=\"Y\",INDEX(OIQraw,ROW(),Setup!$C$5+COLUMN()-26),\"x\")","v":"x"},{"$f":"IF($E19=\"Y\",INDEX(OIQraw,ROW(),Setup!$C$5+COLUMN()-26),\"x\")","v":"x"},{"$f":"IF($E19=\"Y\",INDEX(OIQraw,ROW(),Setup!$C$5+COLUMN()-26),\"x\")","v":"x"},{"$f":"IF($E19=\"Y\",INDEX(OIQraw,ROW(),Setup!$C$5+COLUMN()-26),\"x\")","v":"x"},{"$f":"IF($E19=\"Y\",INDEX(OIQraw,ROW(),Setup!$C$5+COLUMN()-26),\"x\")","v":"x"},{"$f":"IF($E19=\"Y\",INDEX(OIQraw,ROW(),Setup!$C$5+COLUMN()-26),\"x\")","v":"x"},{"$f":"IF($E19=\"Y\",INDEX(OIQraw,ROW(),Setup!$C$5+COLUMN()-26),\"x\")","v":"x"},{"$f":"IF($E19=\"Y\",INDEX(OIQraw,ROW(),Setup!$C$5+COLUMN()-26),\"x\")","v":"x"},{"$f":"IF($E19=\"Y\",INDEX(OIQraw,ROW(),Setup!$C$5+COLUMN()-26),\"x\")","v":"x"},{"$f":"IF($E19=\"Y\",INDEX(OIQraw,ROW(),Setup!$C$5+COLUMN()-26),\"x\")","v":"x"},{"$f":"IF($E19=\"Y\",INDEX(OIQraw,ROW(),Setup!$C$5+COLUMN()-26),\"x\")","v":"x"},{"$f":"IF($E19=\"Y\",INDEX(OIQraw,ROW(),Setup!$C$5+COLUMN()-26),\"x\")","v":"x"},{"$f":"IF($E19=\"Y\",INDEX(OIQraw,ROW(),Setup!$C$5+COLUMN()-26),\"x\")","v":"x"},{"$f":"IF($E19=\"Y\",INDEX(OIQraw,ROW(),Setup!$C$5+COLUMN()-26),\"x\")","v":"x"},{"$f":"IF($E19=\"Y\",INDEX(OIQraw,ROW(),Setup!$C$5+COLUMN()-26),\"x\")","v":"x"},{"$f":"IF($E19=\"Y\",INDEX(OIQraw,ROW(),Setup!$C$5+COLUMN()-26),\"x\")","v":"x"},{"$f":"IF($E19=\"Y\",INDEX(OIQraw,ROW(),Setup!$C$5+COLUMN()-26),\"x\")","v":"x"},{"$f":"IF($E19=\"Y\",INDEX(OIQraw,ROW(),Setup!$C$5+COLUMN()-26),\"x\")","v":"x"},{"$f":"IF($E19=\"Y\",INDEX(OIQraw,ROW(),Setup!$C$5+COLUMN()-26),\"x\")","v":"x"},{"$f":"IF($E19=\"Y\",INDEX(OIQraw,ROW(),Setup!$C$5+COLUMN()-26),\"x\")","v":"x"},{"$f":"IF($E19=\"Y\",INDEX(OIQraw,ROW(),Setup!$C$5+COLUMN()-26),\"x\")","v":"x"},{"$f":"IF($E19=\"Y\",INDEX(OIQraw,ROW(),Setup!$C$5+COLUMN()-26),\"x\")","v":"x"},{"$f":"IF($E19=\"Y\",INDEX(OIQraw,ROW(),Setup!$C$5+COLUMN()-26),\"x\")","v":"x"},{"$f":"IF($E19=\"Y\",INDEX(OIQraw,ROW(),Setup!$C$5+COLUMN()-26),\"x\")","v":"x"},{"$f":"IF($E19=\"Y\",INDEX(OIQraw,ROW(),Setup!$C$5+COLUMN()-26),\"x\")","v":"x"},{"$f":"IF($E19=\"Y\",INDEX(OIQraw,ROW(),Setup!$C$5+COLUMN()-26),\"x\")","v":"x"},{"$f":"IF($E19=\"Y\",INDEX(OIQraw,ROW(),Setup!$C$5+COLUMN()-26),\"x\")","v":"x"},{"$f":"IF($E19=\"Y\",INDEX(OIQraw,ROW(),Setup!$C$5+COLUMN()-26),\"x\")","v":"x"},{"$f":"IF($E19=\"Y\",INDEX(OIQraw,ROW(),Setup!$C$5+COLUMN()-26),\"x\")","v":"x"},{"$f":"IF($E19=\"Y\",INDEX(OIQraw,ROW(),Setup!$C$5+COLUMN()-26),\"x\")","v":"x"},{"$f":"IF($E19=\"Y\",INDEX(OIQraw,ROW(),Setup!$C$5+COLUMN()-26),\"x\")","v":"x"},{"$f":"IF($E19=\"Y\",INDEX(OIQraw,ROW(),Setup!$C$5+COLUMN()-26),\"x\")","v":"x"},{"$f":"IF($E19=\"Y\",INDEX(OIQraw,ROW(),Setup!$C$5+COLUMN()-26),\"x\")","v":"x"},{"$f":"IF($E19=\"Y\",INDEX(OIQraw,ROW(),Setup!$C$5+COLUMN()-26),\"x\")","v":"x"},{"$f":"IF($E19=\"Y\",INDEX(OIQraw,ROW(),Setup!$C$5+COLUMN()-26),\"x\")","v":"x"},{"$f":"IF($E19=\"Y\",INDEX(OIQraw,ROW(),Setup!$C$5+COLUMN()-26),\"x\")","v":"x"},{"$f":"IF($E19=\"Y\",INDEX(OIQraw,ROW(),Setup!$C$5+COLUMN()-26),\"x\")","v":"x"},{"$f":"IF($E19=\"Y\",INDEX(OIQraw,ROW(),Setup!$C$5+COLUMN()-26),\"x\")","v":"x"},{"$f":"IF($E19=\"Y\",INDEX(OIQraw,ROW(),Setup!$C$5+COLUMN()-26),\"x\")","v":"x"},{"$f":"IF($E19=\"Y\",INDEX(OIQraw,ROW(),Setup!$C$5+COLUMN()-26),\"x\")","v":"x"},{"$f":"IF($E19=\"Y\",INDEX(OIQraw,ROW(),Setup!$C$5+COLUMN()-26),\"x\")","v":"x"},{"$f":"IF($E19=\"Y\",INDEX(OIQraw,ROW(),Setup!$C$5+COLUMN()-26),\"x\")","v":"x"},{"$f":"IF($E19=\"Y\",INDEX(OIQraw,ROW(),Setup!$C$5+COLUMN()-26),\"x\")","v":"x"},{"$f":"IF($E19=\"Y\",INDEX(OIQraw,ROW(),Setup!$C$5+COLUMN()-26),\"x\")","v":"x"},{"$f":"IF($E19=\"Y\",INDEX(OIQraw,ROW(),Setup!$C$5+COLUMN()-26),\"x\")","v":"x"},{"$f":"IF($E19=\"Y\",INDEX(OIQraw,ROW(),Setup!$C$5+COLUMN()-26),\"x\")","v":"x"},{"$f":"IF($E19=\"Y\",INDEX(OIQraw,ROW(),Setup!$C$5+COLUMN()-26),\"x\")","v":"x"},{"$f":"IF($E19=\"Y\",INDEX(OIQraw,ROW(),Setup!$C$5+COLUMN()-26),\"x\")","v":"x"},{"$f":"IF($E19=\"Y\",INDEX(OIQraw,ROW(),Setup!$C$5+COLUMN()-26),\"x\")","v":"x"},{"$f":"IF($E19=\"Y\",INDEX(OIQraw,ROW(),Setup!$C$5+COLUMN()-26),\"x\")","v":"x"},{"$f":"IF($E19=\"Y\",INDEX(OIQraw,ROW(),Setup!$C$5+COLUMN()-26),\"x\")","v":"x"},{"$f":"IF($E19=\"Y\",INDEX(OIQraw,ROW(),Setup!$C$5+COLUMN()-26),\"x\")","v":"x"},{"$f":"IF($E19=\"Y\",INDEX(OIQraw,ROW(),Setup!$C$5+COLUMN()-26),\"x\")","v":"x"},{"$f":"IF($E19=\"Y\",INDEX(OIQraw,ROW(),Setup!$C$5+COLUMN()-26),\"x\")","v":"x"},{"$f":"IF($E19=\"Y\",INDEX(OIQraw,ROW(),Setup!$C$5+COLUMN()-26),\"x\")","v":"x"},{"$f":"IF($E19=\"Y\",INDEX(OIQraw,ROW(),Setup!$C$5+COLUMN()-26),\"x\")","v":"x"},{"$f":"IF($E19=\"Y\",INDEX(OIQraw,ROW(),Setup!$C$5+COLUMN()-26),\"x\")","v":"x"},{"$f":"IF($E19=\"Y\",INDEX(OIQraw,ROW(),Setup!$C$5+COLUMN()-26),\"x\")","v":"x"},{"$f":"IF($E19=\"Y\",INDEX(OIQraw,ROW(),Setup!$C$5+COLUMN()-26),\"x\")","v":"x"},{"$f":"IF($E19=\"Y\",INDEX(OIQraw,ROW(),Setup!$C$5+COLUMN()-26),\"x\")","v":"x"},{"$f":"IF($E19=\"Y\",INDEX(OIQraw,ROW(),Setup!$C$5+COLUMN()-26),\"x\")","v":"x"},{"$f":"IF($E19=\"Y\",INDEX(OIQraw,ROW(),Setup!$C$5+COLUMN()-26),\"x\")","v":"x"},{"$f":"IF($E19=\"Y\",INDEX(OIQraw,ROW(),Setup!$C$5+COLUMN()-26),\"x\")","v":"x"},{"$f":"IF($E19=\"Y\",INDEX(OIQraw,ROW(),Setup!$C$5+COLUMN()-26),\"x\")","v":"x"},{"$f":"IF($E19=\"Y\",INDEX(OIQraw,ROW(),Setup!$C$5+COLUMN()-26),\"x\")","v":"x"},{"$f":"IF($E19=\"Y\",INDEX(OIQraw,ROW(),Setup!$C$5+COLUMN()-26),\"x\")","v":"x"},{"$f":"IF($E19=\"Y\",INDEX(OIQraw,ROW(),Setup!$C$5+COLUMN()-26),\"x\")","v":"x"},{"$f":"IF($E19=\"Y\",INDEX(OIQraw,ROW(),Setup!$C$5+COLUMN()-26),\"x\")","v":"x"},{"$f":"IF($E19=\"Y\",INDEX(OIQraw,ROW(),Setup!$C$5+COLUMN()-26),\"x\")","v":"x"},{"$f":"IF($E19=\"Y\",INDEX(OIQraw,ROW(),Setup!$C$5+COLUMN()-26),\"x\")","v":"x"},{"$f":"IF($E19=\"Y\",INDEX(OIQraw,ROW(),Setup!$C$5+COLUMN()-26),\"x\")","v":"x"},{"$f":"IF($E19=\"Y\",INDEX(OIQraw,ROW(),Setup!$C$5+COLUMN()-26),\"x\")","v":"x"},{"$f":"IF($E19=\"Y\",INDEX(OIQraw,ROW(),Setup!$C$5+COLUMN()-26),\"x\")","v":"x"},{"$f":"IF($E19=\"Y\",INDEX(OIQraw,ROW(),Setup!$C$5+COLUMN()-26),\"x\")","v":"x"},{"$f":"IF($E19=\"Y\",INDEX(OIQraw,ROW(),Setup!$C$5+COLUMN()-26),\"x\")","v":"x"},{"$f":"IF($E19=\"Y\",INDEX(OIQraw,ROW(),Setup!$C$5+COLUMN()-26),\"x\")","v":"x"},{"$f":"IF($E19=\"Y\",INDEX(OIQraw,ROW(),Setup!$C$5+COLUMN()-26),\"x\")","v":"x"},{"$f":"IF($E19=\"Y\",INDEX(OIQraw,ROW(),Setup!$C$5+COLUMN()-26),\"x\")","v":"x"},{"$f":"IF($E19=\"Y\",INDEX(OIQraw,ROW(),Setup!$C$5+COLUMN()-26),\"x\")","v":"x"},{"$f":"IF($E19=\"Y\",INDEX(OIQraw,ROW(),Setup!$C$5+COLUMN()-26),\"x\")","v":"x"},{"$f":"IF($E19=\"Y\",INDEX(OIQraw,ROW(),Setup!$C$5+COLUMN()-26),\"x\")","v":"x"},{"$f":"IF($E19=\"Y\",INDEX(OIQraw,ROW(),Setup!$C$5+COLUMN()-26),\"x\")","v":"x"},{"$f":"IF($E19=\"Y\",INDEX(OIQraw,ROW(),Setup!$C$5+COLUMN()-26),\"x\")","v":"x"},{"$f":"IF($E19=\"Y\",INDEX(OIQraw,ROW(),Setup!$C$5+COLUMN()-26),\"x\")","v":"x"},{"$f":"IF($E19=\"Y\",INDEX(OIQraw,ROW(),Setup!$C$5+COLUMN()-26),\"x\")","v":"x"},{"$f":"IF($E19=\"Y\",INDEX(OIQraw,ROW(),Setup!$C$5+COLUMN()-26),\"x\")","v":"x"},{"$f":"IF($E19=\"Y\",INDEX(OIQraw,ROW(),Setup!$C$5+COLUMN()-26),\"x\")","v":"x"},{"$f":"IF($E19=\"Y\",INDEX(OIQraw,ROW(),Setup!$C$5+COLUMN()-26),\"x\")","v":"x"},{"$f":"IF($E19=\"Y\",INDEX(OIQraw,ROW(),Setup!$C$5+COLUMN()-26),\"x\")","v":"x"},{"$f":"IF($E19=\"Y\",INDEX(OIQraw,ROW(),Setup!$C$5+COLUMN()-26),\"x\")","v":"x"},{"$f":"IF($E19=\"Y\",INDEX(OIQraw,ROW(),Setup!$C$5+COLUMN()-26),\"x\")","v":"x"},{"$f":"IF($E19=\"Y\",INDEX(OIQraw,ROW(),Setup!$C$5+COLUMN()-26),\"x\")","v":"x"},{"$f":"IF($E19=\"Y\",INDEX(OIQraw,ROW(),Setup!$C$5+COLUMN()-26),\"x\")","v":"x"},{"$f":"IF($E19=\"Y\",INDEX(OIQraw,ROW(),Setup!$C$5+COLUMN()-26),\"x\")","v":"x"},{"$f":"IF($E19=\"Y\",INDEX(OIQraw,ROW(),Setup!$C$5+COLUMN()-26),\"x\")","v":"x"},{"$f":"IF($E19=\"Y\",INDEX(OIQraw,ROW(),Setup!$C$5+COLUMN()-26),\"x\")","v":"x"},{"$f":"IF($E19=\"Y\",INDEX(OIQraw,ROW(),Setup!$C$5+COLUMN()-26),\"x\")","v":"x"},{"$f":"IF($E19=\"Y\",INDEX(OIQraw,ROW(),Setup!$C$5+COLUMN()-26),\"x\")","v":"x"},{"$f":"IF($E19=\"Y\",INDEX(OIQraw,ROW(),Setup!$C$5+COLUMN()-26),\"x\")","v":"x"},{"$f":"IF($E19=\"Y\",INDEX(OIQraw,ROW(),Setup!$C$5+COLUMN()-26),\"x\")","v":"x"},{"$f":"IF($E19=\"Y\",INDEX(OIQraw,ROW(),Setup!$C$5+COLUMN()-26),\"x\")","v":"x"},{"$f":"IF($E19=\"Y\",INDEX(OIQraw,ROW(),Setup!$C$5+COLUMN()-26),\"x\")","v":"x"},{"$f":"IF($E19=\"Y\",INDEX(OIQraw,ROW(),Setup!$C$5+COLUMN()-26),\"x\")","v":"x"},{"$f":"IF($E19=\"Y\",INDEX(OIQraw,ROW(),Setup!$C$5+COLUMN()-26),\"x\")","v":"x"},{"$f":"IF($E19=\"Y\",INDEX(OIQraw,ROW(),Setup!$C$5+COLUMN()-26),\"x\")","v":"x"},{"$f":"IF($E19=\"Y\",INDEX(OIQraw,ROW(),Setup!$C$5+COLUMN()-26),\"x\")","v":"x"},{"$f":"IF($E19=\"Y\",INDEX(OIQraw,ROW(),Setup!$C$5+COLUMN()-26),\"x\")","v":"x"},{"$f":"IF($E19=\"Y\",INDEX(OIQraw,ROW(),Setup!$C$5+COLUMN()-26),\"x\")","v":"x"},{"$f":"IF($E19=\"Y\",INDEX(OIQraw,ROW(),Setup!$C$5+COLUMN()-26),\"x\")","v":"x"},{"$f":"IF($E19=\"Y\",INDEX(OIQraw,ROW(),Setup!$C$5+COLUMN()-26),\"x\")","v":"x"},{"$f":"IF($E19=\"Y\",INDEX(OIQraw,ROW(),Setup!$C$5+COLUMN()-26),\"x\")","v":"x"},{"$f":"IF($E19=\"Y\",INDEX(OIQraw,ROW(),Setup!$C$5+COLUMN()-26),\"x\")","v":"x"},{"$f":"IF($E19=\"Y\",INDEX(OIQraw,ROW(),Setup!$C$5+COLUMN()-26),\"x\")","v":"x"},{"$f":"IF($E19=\"Y\",INDEX(OIQraw,ROW(),Setup!$C$5+COLUMN()-26),\"x\")","v":"x"},{"$f":"IF($E19=\"Y\",INDEX(OIQraw,ROW(),Setup!$C$5+COLUMN()-26),\"x\")","v":"x"},{"$f":"IF($E19=\"Y\",INDEX(OIQraw,ROW(),Setup!$C$5+COLUMN()-26),\"x\")","v":"x"},{"$f":"IF($E19=\"Y\",INDEX(OIQraw,ROW(),Setup!$C$5+COLUMN()-26),\"x\")","v":"x"},{"$f":"IF($E19=\"Y\",INDEX(OIQraw,ROW(),Setup!$C$5+COLUMN()-26),\"x\")","v":"x"},{"$f":"IF($E19=\"Y\",INDEX(OIQraw,ROW(),Setup!$C$5+COLUMN()-26),\"x\")","v":"x"},{"$f":"IF($E19=\"Y\",INDEX(OIQraw,ROW(),Setup!$C$5+COLUMN()-26),\"x\")","v":"x"},{"$f":"IF($E19=\"Y\",INDEX(OIQraw,ROW(),Setup!$C$5+COLUMN()-26),\"x\")","v":"x"},{"$f":"IF($E19=\"Y\",INDEX(OIQraw,ROW(),Setup!$C$5+COLUMN()-26),\"x\")","v":"x"},{"$f":"IF($E19=\"Y\",INDEX(OIQraw,ROW(),Setup!$C$5+COLUMN()-26),\"x\")","v":"x"},{"$f":"IF($E19=\"Y\",INDEX(OIQraw,ROW(),Setup!$C$5+COLUMN()-26),\"x\")","v":"x"},{"$f":"IF($E19=\"Y\",INDEX(OIQraw,ROW(),Setup!$C$5+COLUMN()-26),\"x\")","v":"x"},{"$f":"IF($E19=\"Y\",INDEX(OIQraw,ROW(),Setup!$C$5+COLUMN()-26),\"x\")","v":"x"},{"$f":"IF($E19=\"Y\",INDEX(OIQraw,ROW(),Setup!$C$5+COLUMN()-26),\"x\")","v":"x"},{"$f":"IF($E19=\"Y\",INDEX(OIQraw,ROW(),Setup!$C$5+COLUMN()-26),\"x\")","v":"x"},{"$f":"IF($E19=\"Y\",INDEX(OIQraw,ROW(),Setup!$C$5+COLUMN()-26),\"x\")","v":"x"},{"$f":"IF($E19=\"Y\",INDEX(OIQraw,ROW(),Setup!$C$5+COLUMN()-26),\"x\")","v":"x"},{"$f":"IF($E19=\"Y\",INDEX(OIQraw,ROW(),Setup!$C$5+COLUMN()-26),\"x\")","v":"x"},{"$f":"IF($E19=\"Y\",INDEX(OIQraw,ROW(),Setup!$C$5+COLUMN()-26),\"x\")","v":"x"},{"$f":"IF($E19=\"Y\",INDEX(OIQraw,ROW(),Setup!$C$5+COLUMN()-26),\"x\")","v":"x"},{"$f":"IF($E19=\"Y\",INDEX(OIQraw,ROW(),Setup!$C$5+COLUMN()-26),\"x\")","v":"x"},{"$f":"IF($E19=\"Y\",INDEX(OIQraw,ROW(),Setup!$C$5+COLUMN()-26),\"x\")","v":"x"}]
[1,"","",{"$f":"IF(ISERROR(FIND(\"Withdrew\",RawScores!B24)),RawScores!B24,RIGHT(RawScores!B24,LEN(RawScores!B24)-17))&\", \"&RawScores!C24","v":", "},{"$f":"IF(OR(ISERROR(FIND(\"Withdrew\",RawScores!B24))=FALSE,INDEX(OIQraw,ROW(),LastInputCol-3)=0),\"N\",IF(AND(Setup!$B$22=\"Yes\",INDEX(OIQraw,ROW(),LastInputCol)=1),\"N\",\"Y\"))","v":"N"},"X","X","X",{"$f":"IF(AND(ISNUMBER(F20),F20>Setup!$B$14-1),1,0)","v":0},{"$f":"IF(AND(F20>Setup!$B$14-1,Conv!H20<5),1,0)","v":0},{"$f":"IF(AND(F20>Setup!$B$14-1,Conv!G20=\"F\"),1,0)","v":0},"","","","","","","","","","","","","X","X",{"$f":"IF($E20=\"Y\",INDEX(OIQraw,ROW(),Setup!$C$5+COLUMN()-26),\"x\")","v":"x"},{"$f":"IF($E20=\"Y\",INDEX(OIQraw,ROW(),Setup!$C$5+COLUMN()-26),\"x\")","v":"x"},{"$f":"IF($E20=\"Y\",INDEX(OIQraw,ROW(),Setup!$C$5+COLUMN()-26),\"x\")","v":"x"},{"$f":"IF($E20=\"Y\",INDEX(OIQraw,ROW(),Setup!$C$5+COLUMN()-26),\"x\")","v":"x"},{"$f":"IF($E20=\"Y\",INDEX(OIQraw,ROW(),Setup!$C$5+COLUMN()-26),\"x\")","v":"x"},{"$f":"IF($E20=\"Y\",INDEX(OIQraw,ROW(),Setup!$C$5+COLUMN()-26),\"x\")","v":"x"},{"$f":"IF($E20=\"Y\",INDEX(OIQraw,ROW(),Setup!$C$5+COLUMN()-26),\"x\")","v":"x"},{"$f":"IF($E20=\"Y\",INDEX(OIQraw,ROW(),Setup!$C$5+COLUMN()-26),\"x\")","v":"x"},{"$f":"IF($E20=\"Y\",INDEX(OIQraw,ROW(),Setup!$C$5+COLUMN()-26),\"x\")","v":"x"},{"$f":"IF($E20=\"Y\",INDEX(OIQraw,ROW(),Setup!$C$5+COLUMN()-26),\"x\")","v":"x"},{"$f":"IF($E20=\"Y\",INDEX(OIQraw,ROW(),Setup!$C$5+COLUMN()-26),\"x\")","v":"x"},{"$f":"IF($E20=\"Y\",INDEX(OIQraw,ROW(),Setup!$C$5+COLUMN()-26),\"x\")","v":"x"},{"$f":"IF($E20=\"Y\",INDEX(OIQraw,ROW(),Setup!$C$5+COLUMN()-26),\"x\")","v":"x"},{"$f":"IF($E20=\"Y\",INDEX(OIQraw,ROW(),Setup!$C$5+COLUMN()-26),\"x\")","v":"x"},{"$f":"IF($E20=\"Y\",INDEX(OIQraw,ROW(),Setup!$C$5+COLUMN()-26),\"x\")","v":"x"},{"$f":"IF($E20=\"Y\",INDEX(OIQraw,ROW(),Setup!$C$5+COLUMN()-26),\"x\")","v":"x"},{"$f":"IF($E20=\"Y\",INDEX(OIQraw,ROW(),Setup!$C$5+COLUMN()-26),\"x\")","v":"x"},{"$f":"IF($E20=\"Y\",INDEX(OIQraw,ROW(),Setup!$C$5+COLUMN()-26),\"x\")","v":"x"},{"$f":"IF($E20=\"Y\",INDEX(OIQraw,ROW(),Setup!$C$5+COLUMN()-26),\"x\")","v":"x"},{"$f":"IF($E20=\"Y\",INDEX(OIQraw,ROW(),Setup!$C$5+COLUMN()-26),\"x\")","v":"x"},{"$f":"IF($E20=\"Y\",INDEX(OIQraw,ROW(),Setup!$C$5+COLUMN()-26),\"x\")","v":"x"},{"$f":"IF($E20=\"Y\",INDEX(OIQraw,ROW(),Setup!$C$5+COLUMN()-26),\"x\")","v":"x"},{"$f":"IF($E20=\"Y\",INDEX(OIQraw,ROW(),Setup!$C$5+COLUMN()-26),\"x\")","v":"x"},{"$f":"IF($E20=\"Y\",INDEX(OIQraw,ROW(),Setup!$C$5+COLUMN()-26),\"x\")","v":"x"},{"$f":"IF($E20=\"Y\",INDEX(OIQraw,ROW(),Setup!$C$5+COLUMN()-26),\"x\")","v":"x"},{"$f":"IF($E20=\"Y\",INDEX(OIQraw,ROW(),Setup!$C$5+COLUMN()-26),\"x\")","v":"x"},{"$f":"IF($E20=\"Y\",INDEX(OIQraw,ROW(),Setup!$C$5+COLUMN()-26),\"x\")","v":"x"},{"$f":"IF($E20=\"Y\",INDEX(OIQraw,ROW(),Setup!$C$5+COLUMN()-26),\"x\")","v":"x"},{"$f":"IF($E20=\"Y\",INDEX(OIQraw,ROW(),Setup!$C$5+COLUMN()-26),\"x\")","v":"x"},{"$f":"IF($E20=\"Y\",INDEX(OIQraw,ROW(),Setup!$C$5+COLUMN()-26),\"x\")","v":"x"},{"$f":"IF($E20=\"Y\",INDEX(OIQraw,ROW(),Setup!$C$5+COLUMN()-26),\"x\")","v":"x"},{"$f":"IF($E20=\"Y\",INDEX(OIQraw,ROW(),Setup!$C$5+COLUMN()-26),\"x\")","v":"x"},{"$f":"IF($E20=\"Y\",INDEX(OIQraw,ROW(),Setup!$C$5+COLUMN()-26),\"x\")","v":"x"},{"$f":"IF($E20=\"Y\",INDEX(OIQraw,ROW(),Setup!$C$5+COLUMN()-26),\"x\")","v":"x"},{"$f":"IF($E20=\"Y\",INDEX(OIQraw,ROW(),Setup!$C$5+COLUMN()-26),\"x\")","v":"x"},{"$f":"IF($E20=\"Y\",INDEX(OIQraw,ROW(),Setup!$C$5+COLUMN()-26),\"x\")","v":"x"},{"$f":"IF($E20=\"Y\",INDEX(OIQraw,ROW(),Setup!$C$5+COLUMN()-26),\"x\")","v":"x"},{"$f":"IF($E20=\"Y\",INDEX(OIQraw,ROW(),Setup!$C$5+COLUMN()-26),\"x\")","v":"x"},{"$f":"IF($E20=\"Y\",INDEX(OIQraw,ROW(),Setup!$C$5+COLUMN()-26),\"x\")","v":"x"},{"$f":"IF($E20=\"Y\",INDEX(OIQraw,ROW(),Setup!$C$5+COLUMN()-26),\"x\")","v":"x"},{"$f":"IF($E20=\"Y\",INDEX(OIQraw,ROW(),Setup!$C$5+COLUMN()-26),\"x\")","v":"x"},{"$f":"IF($E20=\"Y\",INDEX(OIQraw,ROW(),Setup!$C$5+COLUMN()-26),\"x\")","v":"x"},{"$f":"IF($E20=\"Y\",INDEX(OIQraw,ROW(),Setup!$C$5+COLUMN()-26),\"x\")","v":"x"},{"$f":"IF($E20=\"Y\",INDEX(OIQraw,ROW(),Setup!$C$5+COLUMN()-26),\"x\")","v":"x"},{"$f":"IF($E20=\"Y\",INDEX(OIQraw,ROW(),Setup!$C$5+COLUMN()-26),\"x\")","v":"x"},{"$f":"IF($E20=\"Y\",INDEX(OIQraw,ROW(),Setup!$C$5+COLUMN()-26),\"x\")","v":"x"},{"$f":"IF($E20=\"Y\",INDEX(OIQraw,ROW(),Setup!$C$5+COLUMN()-26),\"x\")","v":"x"},{"$f":"IF($E20=\"Y\",INDEX(OIQraw,ROW(),Setup!$C$5+COLUMN()-26),\"x\")","v":"x"},{"$f":"IF($E20=\"Y\",INDEX(OIQraw,ROW(),Setup!$C$5+COLUMN()-26),\"x\")","v":"x"},{"$f":"IF($E20=\"Y\",INDEX(OIQraw,ROW(),Setup!$C$5+COLUMN()-26),\"x\")","v":"x"},{"$f":"IF($E20=\"Y\",INDEX(OIQraw,ROW(),Setup!$C$5+COLUMN()-26),\"x\")","v":"x"},{"$f":"IF($E20=\"Y\",INDEX(OIQraw,ROW(),Setup!$C$5+COLUMN()-26),\"x\")","v":"x"},{"$f":"IF($E20=\"Y\",INDEX(OIQraw,ROW(),Setup!$C$5+COLUMN()-26),\"x\")","v":"x"},{"$f":"IF($E20=\"Y\",INDEX(OIQraw,ROW(),Setup!$C$5+COLUMN()-26),\"x\")","v":"x"},{"$f":"IF($E20=\"Y\",INDEX(OIQraw,ROW(),Setup!$C$5+COLUMN()-26),\"x\")","v":"x"},{"$f":"IF($E20=\"Y\",INDEX(OIQraw,ROW(),Setup!$C$5+COLUMN()-26),\"x\")","v":"x"},{"$f":"IF($E20=\"Y\",INDEX(OIQraw,ROW(),Setup!$C$5+COLUMN()-26),\"x\")","v":"x"},{"$f":"IF($E20=\"Y\",INDEX(OIQraw,ROW(),Setup!$C$5+COLUMN()-26),\"x\")","v":"x"},{"$f":"IF($E20=\"Y\",INDEX(OIQraw,ROW(),Setup!$C$5+COLUMN()-26),\"x\")","v":"x"},{"$f":"IF($E20=\"Y\",INDEX(OIQraw,ROW(),Setup!$C$5+COLUMN()-26),\"x\")","v":"x"},{"$f":"IF($E20=\"Y\",INDEX(OIQraw,ROW(),Setup!$C$5+COLUMN()-26),\"x\")","v":"x"},{"$f":"IF($E20=\"Y\",INDEX(OIQraw,ROW(),Setup!$C$5+COLUMN()-26),\"x\")","v":"x"},{"$f":"IF($E20=\"Y\",INDEX(OIQraw,ROW(),Setup!$C$5+COLUMN()-26),\"x\")","v":"x"},{"$f":"IF($E20=\"Y\",INDEX(OIQraw,ROW(),Setup!$C$5+COLUMN()-26),\"x\")","v":"x"},{"$f":"IF($E20=\"Y\",INDEX(OIQraw,ROW(),Setup!$C$5+COLUMN()-26),\"x\")","v":"x"},{"$f":"IF($E20=\"Y\",INDEX(OIQraw,ROW(),Setup!$C$5+COLUMN()-26),\"x\")","v":"x"},{"$f":"IF($E20=\"Y\",INDEX(OIQraw,ROW(),Setup!$C$5+COLUMN()-26),\"x\")","v":"x"},{"$f":"IF($E20=\"Y\",INDEX(OIQraw,ROW(),Setup!$C$5+COLUMN()-26),\"x\")","v":"x"},{"$f":"IF($E20=\"Y\",INDEX(OIQraw,ROW(),Setup!$C$5+COLUMN()-26),\"x\")","v":"x"},{"$f":"IF($E20=\"Y\",INDEX(OIQraw,ROW(),Setup!$C$5+COLUMN()-26),\"x\")","v":"x"},{"$f":"IF($E20=\"Y\",INDEX(OIQraw,ROW(),Setup!$C$5+COLUMN()-26),\"x\")","v":"x"},{"$f":"IF($E20=\"Y\",INDEX(OIQraw,ROW(),Setup!$C$5+COLUMN()-26),\"x\")","v":"x"},{"$f":"IF($E20=\"Y\",INDEX(OIQraw,ROW(),Setup!$C$5+COLUMN()-26),\"x\")","v":"x"},{"$f":"IF($E20=\"Y\",INDEX(OIQraw,ROW(),Setup!$C$5+COLUMN()-26),\"x\")","v":"x"},{"$f":"IF($E20=\"Y\",INDEX(OIQraw,ROW(),Setup!$C$5+COLUMN()-26),\"x\")","v":"x"},{"$f":"IF($E20=\"Y\",INDEX(OIQraw,ROW(),Setup!$C$5+COLUMN()-26),\"x\")","v":"x"},{"$f":"IF($E20=\"Y\",INDEX(OIQraw,ROW(),Setup!$C$5+COLUMN()-26),\"x\")","v":"x"},{"$f":"IF($E20=\"Y\",INDEX(OIQraw,ROW(),Setup!$C$5+COLUMN()-26),\"x\")","v":"x"},{"$f":"IF($E20=\"Y\",INDEX(OIQraw,ROW(),Setup!$C$5+COLUMN()-26),\"x\")","v":"x"},{"$f":"IF($E20=\"Y\",INDEX(OIQraw,ROW(),Setup!$C$5+COLUMN()-26),\"x\")","v":"x"},{"$f":"IF($E20=\"Y\",INDEX(OIQraw,ROW(),Setup!$C$5+COLUMN()-26),\"x\")","v":"x"},{"$f":"IF($E20=\"Y\",INDEX(OIQraw,ROW(),Setup!$C$5+COLUMN()-26),\"x\")","v":"x"},{"$f":"IF($E20=\"Y\",INDEX(OIQraw,ROW(),Setup!$C$5+COLUMN()-26),\"x\")","v":"x"},{"$f":"IF($E20=\"Y\",INDEX(OIQraw,ROW(),Setup!$C$5+COLUMN()-26),\"x\")","v":"x"},{"$f":"IF($E20=\"Y\",INDEX(OIQraw,ROW(),Setup!$C$5+COLUMN()-26),\"x\")","v":"x"},{"$f":"IF($E20=\"Y\",INDEX(OIQraw,ROW(),Setup!$C$5+COLUMN()-26),\"x\")","v":"x"},{"$f":"IF($E20=\"Y\",INDEX(OIQraw,ROW(),Setup!$C$5+COLUMN()-26),\"x\")","v":"x"},{"$f":"IF($E20=\"Y\",INDEX(OIQraw,ROW(),Setup!$C$5+COLUMN()-26),\"x\")","v":"x"},{"$f":"IF($E20=\"Y\",INDEX(OIQraw,ROW(),Setup!$C$5+COLUMN()-26),\"x\")","v":"x"},{"$f":"IF($E20=\"Y\",INDEX(OIQraw,ROW(),Setup!$C$5+COLUMN()-26),\"x\")","v":"x"},{"$f":"IF($E20=\"Y\",INDEX(OIQraw,ROW(),Setup!$C$5+COLUMN()-26),\"x\")","v":"x"},{"$f":"IF($E20=\"Y\",INDEX(OIQraw,ROW(),Setup!$C$5+COLUMN()-26),\"x\")","v":"x"},{"$f":"IF($E20=\"Y\",INDEX(OIQraw,ROW(),Setup!$C$5+COLUMN()-26),\"x\")","v":"x"},{"$f":"IF($E20=\"Y\",INDEX(OIQraw,ROW(),Setup!$C$5+COLUMN()-26),\"x\")","v":"x"},{"$f":"IF($E20=\"Y\",INDEX(OIQraw,ROW(),Setup!$C$5+COLUMN()-26),\"x\")","v":"x"},{"$f":"IF($E20=\"Y\",INDEX(OIQraw,ROW(),Setup!$C$5+COLUMN()-26),\"x\")","v":"x"},{"$f":"IF($E20=\"Y\",INDEX(OIQraw,ROW(),Setup!$C$5+COLUMN()-26),\"x\")","v":"x"},{"$f":"IF($E20=\"Y\",INDEX(OIQraw,ROW(),Setup!$C$5+COLUMN()-26),\"x\")","v":"x"},{"$f":"IF($E20=\"Y\",INDEX(OIQraw,ROW(),Setup!$C$5+COLUMN()-26),\"x\")","v":"x"},{"$f":"IF($E20=\"Y\",INDEX(OIQraw,ROW(),Setup!$C$5+COLUMN()-26),\"x\")","v":"x"},{"$f":"IF($E20=\"Y\",INDEX(OIQraw,ROW(),Setup!$C$5+COLUMN()-26),\"x\")","v":"x"},{"$f":"IF($E20=\"Y\",INDEX(OIQraw,ROW(),Setup!$C$5+COLUMN()-26),\"x\")","v":"x"},{"$f":"IF($E20=\"Y\",INDEX(OIQraw,ROW(),Setup!$C$5+COLUMN()-26),\"x\")","v":"x"},{"$f":"IF($E20=\"Y\",INDEX(OIQraw,ROW(),Setup!$C$5+COLUMN()-26),\"x\")","v":"x"},{"$f":"IF($E20=\"Y\",INDEX(OIQraw,ROW(),Setup!$C$5+COLUMN()-26),\"x\")","v":"x"},{"$f":"IF($E20=\"Y\",INDEX(OIQraw,ROW(),Setup!$C$5+COLUMN()-26),\"x\")","v":"x"},{"$f":"IF($E20=\"Y\",INDEX(OIQraw,ROW(),Setup!$C$5+COLUMN()-26),\"x\")","v":"x"},{"$f":"IF($E20=\"Y\",INDEX(OIQraw,ROW(),Setup!$C$5+COLUMN()-26),\"x\")","v":"x"},{"$f":"IF($E20=\"Y\",INDEX(OIQraw,ROW(),Setup!$C$5+COLUMN()-26),\"x\")","v":"x"},{"$f":"IF($E20=\"Y\",INDEX(OIQraw,ROW(),Setup!$C$5+COLUMN()-26),\"x\")","v":"x"},{"$f":"IF($E20=\"Y\",INDEX(OIQraw,ROW(),Setup!$C$5+COLUMN()-26),\"x\")","v":"x"},{"$f":"IF($E20=\"Y\",INDEX(OIQraw,ROW(),Setup!$C$5+COLUMN()-26),\"x\")","v":"x"},{"$f":"IF($E20=\"Y\",INDEX(OIQraw,ROW(),Setup!$C$5+COLUMN()-26),\"x\")","v":"x"},{"$f":"IF($E20=\"Y\",INDEX(OIQraw,ROW(),Setup!$C$5+COLUMN()-26),\"x\")","v":"x"},{"$f":"IF($E20=\"Y\",INDEX(OIQraw,ROW(),Setup!$C$5+COLUMN()-26),\"x\")","v":"x"},{"$f":"IF($E20=\"Y\",INDEX(OIQraw,ROW(),Setup!$C$5+COLUMN()-26),\"x\")","v":"x"},{"$f":"IF($E20=\"Y\",INDEX(OIQraw,ROW(),Setup!$C$5+COLUMN()-26),\"x\")","v":"x"},{"$f":"IF($E20=\"Y\",INDEX(OIQraw,ROW(),Setup!$C$5+COLUMN()-26),\"x\")","v":"x"},{"$f":"IF($E20=\"Y\",INDEX(OIQraw,ROW(),Setup!$C$5+COLUMN()-26),\"x\")","v":"x"},{"$f":"IF($E20=\"Y\",INDEX(OIQraw,ROW(),Setup!$C$5+COLUMN()-26),\"x\")","v":"x"},{"$f":"IF($E20=\"Y\",INDEX(OIQraw,ROW(),Setup!$C$5+COLUMN()-26),\"x\")","v":"x"},{"$f":"IF($E20=\"Y\",INDEX(OIQraw,ROW(),Setup!$C$5+COLUMN()-26),\"x\")","v":"x"},{"$f":"IF($E20=\"Y\",INDEX(OIQraw,ROW(),Setup!$C$5+COLUMN()-26),\"x\")","v":"x"},{"$f":"IF($E20=\"Y\",INDEX(OIQraw,ROW(),Setup!$C$5+COLUMN()-26),\"x\")","v":"x"},{"$f":"IF($E20=\"Y\",INDEX(OIQraw,ROW(),Setup!$C$5+COLUMN()-26),\"x\")","v":"x"},{"$f":"IF($E20=\"Y\",INDEX(OIQraw,ROW(),Setup!$C$5+COLUMN()-26),\"x\")","v":"x"},{"$f":"IF($E20=\"Y\",INDEX(OIQraw,ROW(),Setup!$C$5+COLUMN()-26),\"x\")","v":"x"},{"$f":"IF($E20=\"Y\",INDEX(OIQraw,ROW(),Setup!$C$5+COLUMN()-26),\"x\")","v":"x"},{"$f":"IF($E20=\"Y\",INDEX(OIQraw,ROW(),Setup!$C$5+COLUMN()-26),\"x\")","v":"x"},{"$f":"IF($E20=\"Y\",INDEX(OIQraw,ROW(),Setup!$C$5+COLUMN()-26),\"x\")","v":"x"},{"$f":"IF($E20=\"Y\",INDEX(OIQraw,ROW(),Setup!$C$5+COLUMN()-26),\"x\")","v":"x"},{"$f":"IF($E20=\"Y\",INDEX(OIQraw,ROW(),Setup!$C$5+COLUMN()-26),\"x\")","v":"x"},{"$f":"IF($E20=\"Y\",INDEX(OIQraw,ROW(),Setup!$C$5+COLUMN()-26),\"x\")","v":"x"},{"$f":"IF($E20=\"Y\",INDEX(OIQraw,ROW(),Setup!$C$5+COLUMN()-26),\"x\")","v":"x"},{"$f":"IF($E20=\"Y\",INDEX(OIQraw,ROW(),Setup!$C$5+COLUMN()-26),\"x\")","v":"x"},{"$f":"IF($E20=\"Y\",INDEX(OIQraw,ROW(),Setup!$C$5+COLUMN()-26),\"x\")","v":"x"},{"$f":"IF($E20=\"Y\",INDEX(OIQraw,ROW(),Setup!$C$5+COLUMN()-26),\"x\")","v":"x"},{"$f":"IF($E20=\"Y\",INDEX(OIQraw,ROW(),Setup!$C$5+COLUMN()-26),\"x\")","v":"x"},{"$f":"IF($E20=\"Y\",INDEX(OIQraw,ROW(),Setup!$C$5+COLUMN()-26),\"x\")","v":"x"},{"$f":"IF($E20=\"Y\",INDEX(OIQraw,ROW(),Setup!$C$5+COLUMN()-26),\"x\")","v":"x"},{"$f":"IF($E20=\"Y\",INDEX(OIQraw,ROW(),Setup!$C$5+COLUMN()-26),\"x\")","v":"x"},{"$f":"IF($E20=\"Y\",INDEX(OIQraw,ROW(),Setup!$C$5+COLUMN()-26),\"x\")","v":"x"},{"$f":"IF($E20=\"Y\",INDEX(OIQraw,ROW(),Setup!$C$5+COLUMN()-26),\"x\")","v":"x"},{"$f":"IF($E20=\"Y\",INDEX(OIQraw,ROW(),Setup!$C$5+COLUMN()-26),\"x\")","v":"x"},{"$f":"IF($E20=\"Y\",INDEX(OIQraw,ROW(),Setup!$C$5+COLUMN()-26),\"x\")","v":"x"},{"$f":"IF($E20=\"Y\",INDEX(OIQraw,ROW(),Setup!$C$5+COLUMN()-26),\"x\")","v":"x"},{"$f":"IF($E20=\"Y\",INDEX(OIQraw,ROW(),Setup!$C$5+COLUMN()-26),\"x\")","v":"x"},{"$f":"IF($E20=\"Y\",INDEX(OIQraw,ROW(),Setup!$C$5+COLUMN()-26),\"x\")","v":"x"},{"$f":"IF($E20=\"Y\",INDEX(OIQraw,ROW(),Setup!$C$5+COLUMN()-26),\"x\")","v":"x"},{"$f":"IF($E20=\"Y\",INDEX(OIQraw,ROW(),Setup!$C$5+COLUMN()-26),\"x\")","v":"x"},{"$f":"IF($E20=\"Y\",INDEX(OIQraw,ROW(),Setup!$C$5+COLUMN()-26),\"x\")","v":"x"},{"$f":"IF($E20=\"Y\",INDEX(OIQraw,ROW(),Setup!$C$5+COLUMN()-26),\"x\")","v":"x"},{"$f":"IF($E20=\"Y\",INDEX(OIQraw,ROW(),Setup!$C$5+COLUMN()-26),\"x\")","v":"x"},{"$f":"IF($E20=\"Y\",INDEX(OIQraw,ROW(),Setup!$C$5+COLUMN()-26),\"x\")","v":"x"},{"$f":"IF($E20=\"Y\",INDEX(OIQraw,ROW(),Setup!$C$5+COLUMN()-26),\"x\")","v":"x"},{"$f":"IF($E20=\"Y\",INDEX(OIQraw,ROW(),Setup!$C$5+COLUMN()-26),\"x\")","v":"x"},{"$f":"IF($E20=\"Y\",INDEX(OIQraw,ROW(),Setup!$C$5+COLUMN()-26),\"x\")","v":"x"},{"$f":"IF($E20=\"Y\",INDEX(OIQraw,ROW(),Setup!$C$5+COLUMN()-26),\"x\")","v":"x"},{"$f":"IF($E20=\"Y\",INDEX(OIQraw,ROW(),Setup!$C$5+COLUMN()-26),\"x\")","v":"x"},{"$f":"IF($E20=\"Y\",INDEX(OIQraw,ROW(),Setup!$C$5+COLUMN()-26),\"x\")","v":"x"},{"$f":"IF($E20=\"Y\",INDEX(OIQraw,ROW(),Setup!$C$5+COLUMN()-26),\"x\")","v":"x"},{"$f":"IF($E20=\"Y\",INDEX(OIQraw,ROW(),Setup!$C$5+COLUMN()-26),\"x\")","v":"x"},{"$f":"IF($E20=\"Y\",INDEX(OIQraw,ROW(),Setup!$C$5+COLUMN()-26),\"x\")","v":"x"},{"$f":"IF($E20=\"Y\",INDEX(OIQraw,ROW(),Setup!$C$5+COLUMN()-26),\"x\")","v":"x"},{"$f":"IF($E20=\"Y\",INDEX(OIQraw,ROW(),Setup!$C$5+COLUMN()-26),\"x\")","v":"x"},{"$f":"IF($E20=\"Y\",INDEX(OIQraw,ROW(),Setup!$C$5+COLUMN()-26),\"x\")","v":"x"},{"$f":"IF($E20=\"Y\",INDEX(OIQraw,ROW(),Setup!$C$5+COLUMN()-26),\"x\")","v":"x"},{"$f":"IF($E20=\"Y\",INDEX(OIQraw,ROW(),Setup!$C$5+COLUMN()-26),\"x\")","v":"x"},{"$f":"IF($E20=\"Y\",INDEX(OIQraw,ROW(),Setup!$C$5+COLUMN()-26),\"x\")","v":"x"},{"$f":"IF($E20=\"Y\",INDEX(OIQraw,ROW(),Setup!$C$5+COLUMN()-26),\"x\")","v":"x"},{"$f":"IF($E20=\"Y\",INDEX(OIQraw,ROW(),Setup!$C$5+COLUMN()-26),\"x\")","v":"x"},{"$f":"IF($E20=\"Y\",INDEX(OIQraw,ROW(),Setup!$C$5+COLUMN()-26),\"x\")","v":"x"},{"$f":"IF($E20=\"Y\",INDEX(OIQraw,ROW(),Setup!$C$5+COLUMN()-26),\"x\")","v":"x"},{"$f":"IF($E20=\"Y\",INDEX(OIQraw,ROW(),Setup!$C$5+COLUMN()-26),\"x\")","v":"x"},{"$f":"IF($E20=\"Y\",INDEX(OIQraw,ROW(),Setup!$C$5+COLUMN()-26),\"x\")","v":"x"},{"$f":"IF($E20=\"Y\",INDEX(OIQraw,ROW(),Setup!$C$5+COLUMN()-26),\"x\")","v":"x"},{"$f":"IF($E20=\"Y\",INDEX(OIQraw,ROW(),Setup!$C$5+COLUMN()-26),\"x\")","v":"x"},{"$f":"IF($E20=\"Y\",INDEX(OIQraw,ROW(),Setup!$C$5+COLUMN()-26),\"x\")","v":"x"},{"$f":"IF($E20=\"Y\",INDEX(OIQraw,ROW(),Setup!$C$5+COLUMN()-26),\"x\")","v":"x"},{"$f":"IF($E20=\"Y\",INDEX(OIQraw,ROW(),Setup!$C$5+COLUMN()-26),\"x\")","v":"x"},{"$f":"IF($E20=\"Y\",INDEX(OIQraw,ROW(),Setup!$C$5+COLUMN()-26),\"x\")","v":"x"},{"$f":"IF($E20=\"Y\",INDEX(OIQraw,ROW(),Setup!$C$5+COLUMN()-26),\"x\")","v":"x"},{"$f":"IF($E20=\"Y\",INDEX(OIQraw,ROW(),Setup!$C$5+COLUMN()-26),\"x\")","v":"x"},{"$f":"IF($E20=\"Y\",INDEX(OIQraw,ROW(),Setup!$C$5+COLUMN()-26),\"x\")","v":"x"},{"$f":"IF($E20=\"Y\",INDEX(OIQraw,ROW(),Setup!$C$5+COLUMN()-26),\"x\")","v":"x"},{"$f":"IF($E20=\"Y\",INDEX(OIQraw,ROW(),Setup!$C$5+COLUMN()-26),\"x\")","v":"x"},{"$f":"IF($E20=\"Y\",INDEX(OIQraw,ROW(),Setup!$C$5+COLUMN()-26),\"x\")","v":"x"},{"$f":"IF($E20=\"Y\",INDEX(OIQraw,ROW(),Setup!$C$5+COLUMN()-26),\"x\")","v":"x"},{"$f":"IF($E20=\"Y\",INDEX(OIQraw,ROW(),Setup!$C$5+COLUMN()-26),\"x\")","v":"x"},{"$f":"IF($E20=\"Y\",INDEX(OIQraw,ROW(),Setup!$C$5+COLUMN()-26),\"x\")","v":"x"},{"$f":"IF($E20=\"Y\",INDEX(OIQraw,ROW(),Setup!$C$5+COLUMN()-26),\"x\")","v":"x"},{"$f":"IF($E20=\"Y\",INDEX(OIQraw,ROW(),Setup!$C$5+COLUMN()-26),\"x\")","v":"x"},{"$f":"IF($E20=\"Y\",INDEX(OIQraw,ROW(),Setup!$C$5+COLUMN()-26),\"x\")","v":"x"},{"$f":"IF($E20=\"Y\",INDEX(OIQraw,ROW(),Setup!$C$5+COLUMN()-26),\"x\")","v":"x"},{"$f":"IF($E20=\"Y\",INDEX(OIQraw,ROW(),Setup!$C$5+COLUMN()-26),\"x\")","v":"x"},{"$f":"IF($E20=\"Y\",INDEX(OIQraw,ROW(),Setup!$C$5+COLUMN()-26),\"x\")","v":"x"},{"$f":"IF($E20=\"Y\",INDEX(OIQraw,ROW(),Setup!$C$5+COLUMN()-26),\"x\")","v":"x"},{"$f":"IF($E20=\"Y\",INDEX(OIQraw,ROW(),Setup!$C$5+COLUMN()-26),\"x\")","v":"x"},{"$f":"IF($E20=\"Y\",INDEX(OIQraw,ROW(),Setup!$C$5+COLUMN()-26),\"x\")","v":"x"},{"$f":"IF($E20=\"Y\",INDEX(OIQraw,ROW(),Setup!$C$5+COLUMN()-26),\"x\")","v":"x"},{"$f":"IF($E20=\"Y\",INDEX(OIQraw,ROW(),Setup!$C$5+COLUMN()-26),\"x\")","v":"x"},{"$f":"IF($E20=\"Y\",INDEX(OIQraw,ROW(),Setup!$C$5+COLUMN()-26),\"x\")","v":"x"},{"$f":"IF($E20=\"Y\",INDEX(OIQraw,ROW(),Setup!$C$5+COLUMN()-26),\"x\")","v":"x"},{"$f":"IF($E20=\"Y\",INDEX(OIQraw,ROW(),Setup!$C$5+COLUMN()-26),\"x\")","v":"x"},{"$f":"IF($E20=\"Y\",INDEX(OIQraw,ROW(),Setup!$C$5+COLUMN()-26),\"x\")","v":"x"},{"$f":"IF($E20=\"Y\",INDEX(OIQraw,ROW(),Setup!$C$5+COLUMN()-26),\"x\")","v":"x"},{"$f":"IF($E20=\"Y\",INDEX(OIQraw,ROW(),Setup!$C$5+COLUMN()-26),\"x\")","v":"x"},{"$f":"IF($E20=\"Y\",INDEX(OIQraw,ROW(),Setup!$C$5+COLUMN()-26),\"x\")","v":"x"},{"$f":"IF($E20=\"Y\",INDEX(OIQraw,ROW(),Setup!$C$5+COLUMN()-26),\"x\")","v":"x"},{"$f":"IF($E20=\"Y\",INDEX(OIQraw,ROW(),Setup!$C$5+COLUMN()-26),\"x\")","v":"x"},{"$f":"IF($E20=\"Y\",INDEX(OIQraw,ROW(),Setup!$C$5+COLUMN()-26),\"x\")","v":"x"},{"$f":"IF($E20=\"Y\",INDEX(OIQraw,ROW(),Setup!$C$5+COLUMN()-26),\"x\")","v":"x"},{"$f":"IF($E20=\"Y\",INDEX(OIQraw,ROW(),Setup!$C$5+COLUMN()-26),\"x\")","v":"x"},{"$f":"IF($E20=\"Y\",INDEX(OIQraw,ROW(),Setup!$C$5+COLUMN()-26),\"x\")","v":"x"},{"$f":"IF($E20=\"Y\",INDEX(OIQraw,ROW(),Setup!$C$5+COLUMN()-26),\"x\")","v":"x"},{"$f":"IF($E20=\"Y\",INDEX(OIQraw,ROW(),Setup!$C$5+COLUMN()-26),\"x\")","v":"x"},{"$f":"IF($E20=\"Y\",INDEX(OIQraw,ROW(),Setup!$C$5+COLUMN()-26),\"x\")","v":"x"},{"$f":"IF($E20=\"Y\",INDEX(OIQraw,ROW(),Setup!$C$5+COLUMN()-26),\"x\")","v":"x"},{"$f":"IF($E20=\"Y\",INDEX(OIQraw,ROW(),Setup!$C$5+COLUMN()-26),\"x\")","v":"x"},{"$f":"IF($E20=\"Y\",INDEX(OIQraw,ROW(),Setup!$C$5+COLUMN()-26),\"x\")","v":"x"},{"$f":"IF($E20=\"Y\",INDEX(OIQraw,ROW(),Setup!$C$5+COLUMN()-26),\"x\")","v":"x"},{"$f":"IF($E20=\"Y\",INDEX(OIQraw,ROW(),Setup!$C$5+COLUMN()-26),\"x\")","v":"x"},{"$f":"IF($E20=\"Y\",INDEX(OIQraw,ROW(),Setup!$C$5+COLUMN()-26),\"x\")","v":"x"},{"$f":"IF($E20=\"Y\",INDEX(OIQraw,ROW(),Setup!$C$5+COLUMN()-26),\"x\")","v":"x"},{"$f":"IF($E20=\"Y\",INDEX(OIQraw,ROW(),Setup!$C$5+COLUMN()-26),\"x\")","v":"x"},{"$f":"IF($E20=\"Y\",INDEX(OIQraw,ROW(),Setup!$C$5+COLUMN()-26),\"x\")","v":"x"},{"$f":"IF($E20=\"Y\",INDEX(OIQraw,ROW(),Setup!$C$5+COLUMN()-26),\"x\")","v":"x"},{"$f":"IF($E20=\"Y\",INDEX(OIQraw,ROW(),Setup!$C$5+COLUMN()-26),\"x\")","v":"x"},{"$f":"IF($E20=\"Y\",INDEX(OIQraw,ROW(),Setup!$C$5+COLUMN()-26),\"x\")","v":"x"},{"$f":"IF($E20=\"Y\",INDEX(OIQraw,ROW(),Setup!$C$5+COLUMN()-26),\"x\")","v":"x"},{"$f":"IF($E20=\"Y\",INDEX(OIQraw,ROW(),Setup!$C$5+COLUMN()-26),\"x\")","v":"x"},{"$f":"IF($E20=\"Y\",INDEX(OIQraw,ROW(),Setup!$C$5+COLUMN()-26),\"x\")","v":"x"},{"$f":"IF($E20=\"Y\",INDEX(OIQraw,ROW(),Setup!$C$5+COLUMN()-26),\"x\")","v":"x"},{"$f":"IF($E20=\"Y\",INDEX(OIQraw,ROW(),Setup!$C$5+COLUMN()-26),\"x\")","v":"x"},{"$f":"IF($E20=\"Y\",INDEX(OIQraw,ROW(),Setup!$C$5+COLUMN()-26),\"x\")","v":"x"},{"$f":"IF($E20=\"Y\",INDEX(OIQraw,ROW(),Setup!$C$5+COLUMN()-26),\"x\")","v":"x"},{"$f":"IF($E20=\"Y\",INDEX(OIQraw,ROW(),Setup!$C$5+COLUMN()-26),\"x\")","v":"x"},{"$f":"IF($E20=\"Y\",INDEX(OIQraw,ROW(),Setup!$C$5+COLUMN()-26),\"x\")","v":"x"},{"$f":"IF($E20=\"Y\",INDEX(OIQraw,ROW(),Setup!$C$5+COLUMN()-26),\"x\")","v":"x"},{"$f":"IF($E20=\"Y\",INDEX(OIQraw,ROW(),Setup!$C$5+COLUMN()-26),\"x\")","v":"x"},{"$f":"IF($E20=\"Y\",INDEX(OIQraw,ROW(),Setup!$C$5+COLUMN()-26),\"x\")","v":"x"},{"$f":"IF($E20=\"Y\",INDEX(OIQraw,ROW(),Setup!$C$5+COLUMN()-26),\"x\")","v":"x"},{"$f":"IF($E20=\"Y\",INDEX(OIQraw,ROW(),Setup!$C$5+COLUMN()-26),\"x\")","v":"x"},{"$f":"IF($E20=\"Y\",INDEX(OIQraw,ROW(),Setup!$C$5+COLUMN()-26),\"x\")","v":"x"},{"$f":"IF($E20=\"Y\",INDEX(OIQraw,ROW(),Setup!$C$5+COLUMN()-26),\"x\")","v":"x"},{"$f":"IF($E20=\"Y\",INDEX(OIQraw,ROW(),Setup!$C$5+COLUMN()-26),\"x\")","v":"x"},{"$f":"IF($E20=\"Y\",INDEX(OIQraw,ROW(),Setup!$C$5+COLUMN()-26),\"x\")","v":"x"},{"$f":"IF($E20=\"Y\",INDEX(OIQraw,ROW(),Setup!$C$5+COLUMN()-26),\"x\")","v":"x"},{"$f":"IF($E20=\"Y\",INDEX(OIQraw,ROW(),Setup!$C$5+COLUMN()-26),\"x\")","v":"x"},{"$f":"IF($E20=\"Y\",INDEX(OIQraw,ROW(),Setup!$C$5+COLUMN()-26),\"x\")","v":"x"},{"$f":"IF($E20=\"Y\",INDEX(OIQraw,ROW(),Setup!$C$5+COLUMN()-26),\"x\")","v":"x"},{"$f":"IF($E20=\"Y\",INDEX(OIQraw,ROW(),Setup!$C$5+COLUMN()-26),\"x\")","v":"x"},{"$f":"IF($E20=\"Y\",INDEX(OIQraw,ROW(),Setup!$C$5+COLUMN()-26),\"x\")","v":"x"}]
[1,"","",{"$f":"IF(ISERROR(FIND(\"Withdrew\",RawScores!B25)),RawScores!B25,RIGHT(RawScores!B25,LEN(RawScores!B25)-17))&\", \"&RawScores!C25","v":", "},{"$f":"IF(OR(ISERROR(FIND(\"Withdrew\",RawScores!B25))=FALSE,INDEX(OIQraw,ROW(),LastInputCol-3)=0),\"N\",IF(AND(Setup!$B$22=\"Yes\",INDEX(OIQraw,ROW(),LastInputCol)=1),\"N\",\"Y\"))","v":"N"},"X","X","X",{"$f":"IF(AND(ISNUMBER(F21),F21>Setup!$B$14-1),1,0)","v":0},{"$f":"IF(AND(F21>Setup!$B$14-1,Conv!H21<5),1,0)","v":0},{"$f":"IF(AND(F21>Setup!$B$14-1,Conv!G21=\"F\"),1,0)","v":0},"","","","","","","","","","","","","X","X",{"$f":"IF($E21=\"Y\",INDEX(OIQraw,ROW(),Setup!$C$5+COLUMN()-26),\"x\")","v":"x"},{"$f":"IF($E21=\"Y\",INDEX(OIQraw,ROW(),Setup!$C$5+COLUMN()-26),\"x\")","v":"x"},{"$f":"IF($E21=\"Y\",INDEX(OIQraw,ROW(),Setup!$C$5+COLUMN()-26),\"x\")","v":"x"},{"$f":"IF($E21=\"Y\",INDEX(OIQraw,ROW(),Setup!$C$5+COLUMN()-26),\"x\")","v":"x"},{"$f":"IF($E21=\"Y\",INDEX(OIQraw,ROW(),Setup!$C$5+COLUMN()-26),\"x\")","v":"x"},{"$f":"IF($E21=\"Y\",INDEX(OIQraw,ROW(),Setup!$C$5+COLUMN()-26),\"x\")","v":"x"},{"$f":"IF($E21=\"Y\",INDEX(OIQraw,ROW(),Setup!$C$5+COLUMN()-26),\"x\")","v":"x"},{"$f":"IF($E21=\"Y\",INDEX(OIQraw,ROW(),Setup!$C$5+COLUMN()-26),\"x\")","v":"x"},{"$f":"IF($E21=\"Y\",INDEX(OIQraw,ROW(),Setup!$C$5+COLUMN()-26),\"x\")","v":"x"},{"$f":"IF($E21=\"Y\",INDEX(OIQraw,ROW(),Setup!$C$5+COLUMN()-26),\"x\")","v":"x"},{"$f":"IF($E21=\"Y\",INDEX(OIQraw,ROW(),Setup!$C$5+COLUMN()-26),\"x\")","v":"x"},{"$f":"IF($E21=\"Y\",INDEX(OIQraw,ROW(),Setup!$C$5+COLUMN()-26),\"x\")","v":"x"},{"$f":"IF($E21=\"Y\",INDEX(OIQraw,ROW(),Setup!$C$5+COLUMN()-26),\"x\")","v":"x"},{"$f":"IF($E21=\"Y\",INDEX(OIQraw,ROW(),Setup!$C$5+COLUMN()-26),\"x\")","v":"x"},{"$f":"IF($E21=\"Y\",INDEX(OIQraw,ROW(),Setup!$C$5+COLUMN()-26),\"x\")","v":"x"},{"$f":"IF($E21=\"Y\",INDEX(OIQraw,ROW(),Setup!$C$5+COLUMN()-26),\"x\")","v":"x"},{"$f":"IF($E21=\"Y\",INDEX(OIQraw,ROW(),Setup!$C$5+COLUMN()-26),\"x\")","v":"x"},{"$f":"IF($E21=\"Y\",INDEX(OIQraw,ROW(),Setup!$C$5+COLUMN()-26),\"x\")","v":"x"},{"$f":"IF($E21=\"Y\",INDEX(OIQraw,ROW(),Setup!$C$5+COLUMN()-26),\"x\")","v":"x"},{"$f":"IF($E21=\"Y\",INDEX(OIQraw,ROW(),Setup!$C$5+COLUMN()-26),\"x\")","v":"x"},{"$f":"IF($E21=\"Y\",INDEX(OIQraw,ROW(),Setup!$C$5+COLUMN()-26),\"x\")","v":"x"},{"$f":"IF($E21=\"Y\",INDEX(OIQraw,ROW(),Setup!$C$5+COLUMN()-26),\"x\")","v":"x"},{"$f":"IF($E21=\"Y\",INDEX(OIQraw,ROW(),Setup!$C$5+COLUMN()-26),\"x\")","v":"x"},{"$f":"IF($E21=\"Y\",INDEX(OIQraw,ROW(),Setup!$C$5+COLUMN()-26),\"x\")","v":"x"},{"$f":"IF($E21=\"Y\",INDEX(OIQraw,ROW(),Setup!$C$5+COLUMN()-26),\"x\")","v":"x"},{"$f":"IF($E21=\"Y\",INDEX(OIQraw,ROW(),Setup!$C$5+COLUMN()-26),\"x\")","v":"x"},{"$f":"IF($E21=\"Y\",INDEX(OIQraw,ROW(),Setup!$C$5+COLUMN()-26),\"x\")","v":"x"},{"$f":"IF($E21=\"Y\",INDEX(OIQraw,ROW(),Setup!$C$5+COLUMN()-26),\"x\")","v":"x"},{"$f":"IF($E21=\"Y\",INDEX(OIQraw,ROW(),Setup!$C$5+COLUMN()-26),\"x\")","v":"x"},{"$f":"IF($E21=\"Y\",INDEX(OIQraw,ROW(),Setup!$C$5+COLUMN()-26),\"x\")","v":"x"},{"$f":"IF($E21=\"Y\",INDEX(OIQraw,ROW(),Setup!$C$5+COLUMN()-26),\"x\")","v":"x"},{"$f":"IF($E21=\"Y\",INDEX(OIQraw,ROW(),Setup!$C$5+COLUMN()-26),\"x\")","v":"x"},{"$f":"IF($E21=\"Y\",INDEX(OIQraw,ROW(),Setup!$C$5+COLUMN()-26),\"x\")","v":"x"},{"$f":"IF($E21=\"Y\",INDEX(OIQraw,ROW(),Setup!$C$5+COLUMN()-26),\"x\")","v":"x"},{"$f":"IF($E21=\"Y\",INDEX(OIQraw,ROW(),Setup!$C$5+COLUMN()-26),\"x\")","v":"x"},{"$f":"IF($E21=\"Y\",INDEX(OIQraw,ROW(),Setup!$C$5+COLUMN()-26),\"x\")","v":"x"},{"$f":"IF($E21=\"Y\",INDEX(OIQraw,ROW(),Setup!$C$5+COLUMN()-26),\"x\")","v":"x"},{"$f":"IF($E21=\"Y\",INDEX(OIQraw,ROW(),Setup!$C$5+COLUMN()-26),\"x\")","v":"x"},{"$f":"IF($E21=\"Y\",INDEX(OIQraw,ROW(),Setup!$C$5+COLUMN()-26),\"x\")","v":"x"},{"$f":"IF($E21=\"Y\",INDEX(OIQraw,ROW(),Setup!$C$5+COLUMN()-26),\"x\")","v":"x"},{"$f":"IF($E21=\"Y\",INDEX(OIQraw,ROW(),Setup!$C$5+COLUMN()-26),\"x\")","v":"x"},{"$f":"IF($E21=\"Y\",INDEX(OIQraw,ROW(),Setup!$C$5+COLUMN()-26),\"x\")","v":"x"},{"$f":"IF($E21=\"Y\",INDEX(OIQraw,ROW(),Setup!$C$5+COLUMN()-26),\"x\")","v":"x"},{"$f":"IF($E21=\"Y\",INDEX(OIQraw,ROW(),Setup!$C$5+COLUMN()-26),\"x\")","v":"x"},{"$f":"IF($E21=\"Y\",INDEX(OIQraw,ROW(),Setup!$C$5+COLUMN()-26),\"x\")","v":"x"},{"$f":"IF($E21=\"Y\",INDEX(OIQraw,ROW(),Setup!$C$5+COLUMN()-26),\"x\")","v":"x"},{"$f":"IF($E21=\"Y\",INDEX(OIQraw,ROW(),Setup!$C$5+COLUMN()-26),\"x\")","v":"x"},{"$f":"IF($E21=\"Y\",INDEX(OIQraw,ROW(),Setup!$C$5+COLUMN()-26),\"x\")","v":"x"},{"$f":"IF($E21=\"Y\",INDEX(OIQraw,ROW(),Setup!$C$5+COLUMN()-26),\"x\")","v":"x"},{"$f":"IF($E21=\"Y\",INDEX(OIQraw,ROW(),Setup!$C$5+COLUMN()-26),\"x\")","v":"x"},{"$f":"IF($E21=\"Y\",INDEX(OIQraw,ROW(),Setup!$C$5+COLUMN()-26),\"x\")","v":"x"},{"$f":"IF($E21=\"Y\",INDEX(OIQraw,ROW(),Setup!$C$5+COLUMN()-26),\"x\")","v":"x"},{"$f":"IF($E21=\"Y\",INDEX(OIQraw,ROW(),Setup!$C$5+COLUMN()-26),\"x\")","v":"x"},{"$f":"IF($E21=\"Y\",INDEX(OIQraw,ROW(),Setup!$C$5+COLUMN()-26),\"x\")","v":"x"},{"$f":"IF($E21=\"Y\",INDEX(OIQraw,ROW(),Setup!$C$5+COLUMN()-26),\"x\")","v":"x"},{"$f":"IF($E21=\"Y\",INDEX(OIQraw,ROW(),Setup!$C$5+COLUMN()-26),\"x\")","v":"x"},{"$f":"IF($E21=\"Y\",INDEX(OIQraw,ROW(),Setup!$C$5+COLUMN()-26),\"x\")","v":"x"},{"$f":"IF($E21=\"Y\",INDEX(OIQraw,ROW(),Setup!$C$5+COLUMN()-26),\"x\")","v":"x"},{"$f":"IF($E21=\"Y\",INDEX(OIQraw,ROW(),Setup!$C$5+COLUMN()-26),\"x\")","v":"x"},{"$f":"IF($E21=\"Y\",INDEX(OIQraw,ROW(),Setup!$C$5+COLUMN()-26),\"x\")","v":"x"},{"$f":"IF($E21=\"Y\",INDEX(OIQraw,ROW(),Setup!$C$5+COLUMN()-26),\"x\")","v":"x"},{"$f":"IF($E21=\"Y\",INDEX(OIQraw,ROW(),Setup!$C$5+COLUMN()-26),\"x\")","v":"x"},{"$f":"IF($E21=\"Y\",INDEX(OIQraw,ROW(),Setup!$C$5+COLUMN()-26),\"x\")","v":"x"},{"$f":"IF($E21=\"Y\",INDEX(OIQraw,ROW(),Setup!$C$5+COLUMN()-26),\"x\")","v":"x"},{"$f":"IF($E21=\"Y\",INDEX(OIQraw,ROW(),Setup!$C$5+COLUMN()-26),\"x\")","v":"x"},{"$f":"IF($E21=\"Y\",INDEX(OIQraw,ROW(),Setup!$C$5+COLUMN()-26),\"x\")","v":"x"},{"$f":"IF($E21=\"Y\",INDEX(OIQraw,ROW(),Setup!$C$5+COLUMN()-26),\"x\")","v":"x"},{"$f":"IF($E21=\"Y\",INDEX(OIQraw,ROW(),Setup!$C$5+COLUMN()-26),\"x\")","v":"x"},{"$f":"IF($E21=\"Y\",INDEX(OIQraw,ROW(),Setup!$C$5+COLUMN()-26),\"x\")","v":"x"},{"$f":"IF($E21=\"Y\",INDEX(OIQraw,ROW(),Setup!$C$5+COLUMN()-26),\"x\")","v":"x"},{"$f":"IF($E21=\"Y\",INDEX(OIQraw,ROW(),Setup!$C$5+COLUMN()-26),\"x\")","v":"x"},{"$f":"IF($E21=\"Y\",INDEX(OIQraw,ROW(),Setup!$C$5+COLUMN()-26),\"x\")","v":"x"},{"$f":"IF($E21=\"Y\",INDEX(OIQraw,ROW(),Setup!$C$5+COLUMN()-26),\"x\")","v":"x"},{"$f":"IF($E21=\"Y\",INDEX(OIQraw,ROW(),Setup!$C$5+COLUMN()-26),\"x\")","v":"x"},{"$f":"IF($E21=\"Y\",INDEX(OIQraw,ROW(),Setup!$C$5+COLUMN()-26),\"x\")","v":"x"},{"$f":"IF($E21=\"Y\",INDEX(OIQraw,ROW(),Setup!$C$5+COLUMN()-26),\"x\")","v":"x"},{"$f":"IF($E21=\"Y\",INDEX(OIQraw,ROW(),Setup!$C$5+COLUMN()-26),\"x\")","v":"x"},{"$f":"IF($E21=\"Y\",INDEX(OIQraw,ROW(),Setup!$C$5+COLUMN()-26),\"x\")","v":"x"},{"$f":"IF($E21=\"Y\",INDEX(OIQraw,ROW(),Setup!$C$5+COLUMN()-26),\"x\")","v":"x"},{"$f":"IF($E21=\"Y\",INDEX(OIQraw,ROW(),Setup!$C$5+COLUMN()-26),\"x\")","v":"x"},{"$f":"IF($E21=\"Y\",INDEX(OIQraw,ROW(),Setup!$C$5+COLUMN()-26),\"x\")","v":"x"},{"$f":"IF($E21=\"Y\",INDEX(OIQraw,ROW(),Setup!$C$5+COLUMN()-26),\"x\")","v":"x"},{"$f":"IF($E21=\"Y\",INDEX(OIQraw,ROW(),Setup!$C$5+COLUMN()-26),\"x\")","v":"x"},{"$f":"IF($E21=\"Y\",INDEX(OIQraw,ROW(),Setup!$C$5+COLUMN()-26),\"x\")","v":"x"},{"$f":"IF($E21=\"Y\",INDEX(OIQraw,ROW(),Setup!$C$5+COLUMN()-26),\"x\")","v":"x"},{"$f":"IF($E21=\"Y\",INDEX(OIQraw,ROW(),Setup!$C$5+COLUMN()-26),\"x\")","v":"x"},{"$f":"IF($E21=\"Y\",INDEX(OIQraw,ROW(),Setup!$C$5+COLUMN()-26),\"x\")","v":"x"},{"$f":"IF($E21=\"Y\",INDEX(OIQraw,ROW(),Setup!$C$5+COLUMN()-26),\"x\")","v":"x"},{"$f":"IF($E21=\"Y\",INDEX(OIQraw,ROW(),Setup!$C$5+COLUMN()-26),\"x\")","v":"x"},{"$f":"IF($E21=\"Y\",INDEX(OIQraw,ROW(),Setup!$C$5+COLUMN()-26),\"x\")","v":"x"},{"$f":"IF($E21=\"Y\",INDEX(OIQraw,ROW(),Setup!$C$5+COLUMN()-26),\"x\")","v":"x"},{"$f":"IF($E21=\"Y\",INDEX(OIQraw,ROW(),Setup!$C$5+COLUMN()-26),\"x\")","v":"x"},{"$f":"IF($E21=\"Y\",INDEX(OIQraw,ROW(),Setup!$C$5+COLUMN()-26),\"x\")","v":"x"},{"$f":"IF($E21=\"Y\",INDEX(OIQraw,ROW(),Setup!$C$5+COLUMN()-26),\"x\")","v":"x"},{"$f":"IF($E21=\"Y\",INDEX(OIQraw,ROW(),Setup!$C$5+COLUMN()-26),\"x\")","v":"x"},{"$f":"IF($E21=\"Y\",INDEX(OIQraw,ROW(),Setup!$C$5+COLUMN()-26),\"x\")","v":"x"},{"$f":"IF($E21=\"Y\",INDEX(OIQraw,ROW(),Setup!$C$5+COLUMN()-26),\"x\")","v":"x"},{"$f":"IF($E21=\"Y\",INDEX(OIQraw,ROW(),Setup!$C$5+COLUMN()-26),\"x\")","v":"x"},{"$f":"IF($E21=\"Y\",INDEX(OIQraw,ROW(),Setup!$C$5+COLUMN()-26),\"x\")","v":"x"},{"$f":"IF($E21=\"Y\",INDEX(OIQraw,ROW(),Setup!$C$5+COLUMN()-26),\"x\")","v":"x"},{"$f":"IF($E21=\"Y\",INDEX(OIQraw,ROW(),Setup!$C$5+COLUMN()-26),\"x\")","v":"x"},{"$f":"IF($E21=\"Y\",INDEX(OIQraw,ROW(),Setup!$C$5+COLUMN()-26),\"x\")","v":"x"},{"$f":"IF($E21=\"Y\",INDEX(OIQraw,ROW(),Setup!$C$5+COLUMN()-26),\"x\")","v":"x"},{"$f":"IF($E21=\"Y\",INDEX(OIQraw,ROW(),Setup!$C$5+COLUMN()-26),\"x\")","v":"x"},{"$f":"IF($E21=\"Y\",INDEX(OIQraw,ROW(),Setup!$C$5+COLUMN()-26),\"x\")","v":"x"},{"$f":"IF($E21=\"Y\",INDEX(OIQraw,ROW(),Setup!$C$5+COLUMN()-26),\"x\")","v":"x"},{"$f":"IF($E21=\"Y\",INDEX(OIQraw,ROW(),Setup!$C$5+COLUMN()-26),\"x\")","v":"x"},{"$f":"IF($E21=\"Y\",INDEX(OIQraw,ROW(),Setup!$C$5+COLUMN()-26),\"x\")","v":"x"},{"$f":"IF($E21=\"Y\",INDEX(OIQraw,ROW(),Setup!$C$5+COLUMN()-26),\"x\")","v":"x"},{"$f":"IF($E21=\"Y\",INDEX(OIQraw,ROW(),Setup!$C$5+COLUMN()-26),\"x\")","v":"x"},{"$f":"IF($E21=\"Y\",INDEX(OIQraw,ROW(),Setup!$C$5+COLUMN()-26),\"x\")","v":"x"},{"$f":"IF($E21=\"Y\",INDEX(OIQraw,ROW(),Setup!$C$5+COLUMN()-26),\"x\")","v":"x"},{"$f":"IF($E21=\"Y\",INDEX(OIQraw,ROW(),Setup!$C$5+COLUMN()-26),\"x\")","v":"x"},{"$f":"IF($E21=\"Y\",INDEX(OIQraw,ROW(),Setup!$C$5+COLUMN()-26),\"x\")","v":"x"},{"$f":"IF($E21=\"Y\",INDEX(OIQraw,ROW(),Setup!$C$5+COLUMN()-26),\"x\")","v":"x"},{"$f":"IF($E21=\"Y\",INDEX(OIQraw,ROW(),Setup!$C$5+COLUMN()-26),\"x\")","v":"x"},{"$f":"IF($E21=\"Y\",INDEX(OIQraw,ROW(),Setup!$C$5+COLUMN()-26),\"x\")","v":"x"},{"$f":"IF($E21=\"Y\",INDEX(OIQraw,ROW(),Setup!$C$5+COLUMN()-26),\"x\")","v":"x"},{"$f":"IF($E21=\"Y\",INDEX(OIQraw,ROW(),Setup!$C$5+COLUMN()-26),\"x\")","v":"x"},{"$f":"IF($E21=\"Y\",INDEX(OIQraw,ROW(),Setup!$C$5+COLUMN()-26),\"x\")","v":"x"},{"$f":"IF($E21=\"Y\",INDEX(OIQraw,ROW(),Setup!$C$5+COLUMN()-26),\"x\")","v":"x"},{"$f":"IF($E21=\"Y\",INDEX(OIQraw,ROW(),Setup!$C$5+COLUMN()-26),\"x\")","v":"x"},{"$f":"IF($E21=\"Y\",INDEX(OIQraw,ROW(),Setup!$C$5+COLUMN()-26),\"x\")","v":"x"},{"$f":"IF($E21=\"Y\",INDEX(OIQraw,ROW(),Setup!$C$5+COLUMN()-26),\"x\")","v":"x"},{"$f":"IF($E21=\"Y\",INDEX(OIQraw,ROW(),Setup!$C$5+COLUMN()-26),\"x\")","v":"x"},{"$f":"IF($E21=\"Y\",INDEX(OIQraw,ROW(),Setup!$C$5+COLUMN()-26),\"x\")","v":"x"},{"$f":"IF($E21=\"Y\",INDEX(OIQraw,ROW(),Setup!$C$5+COLUMN()-26),\"x\")","v":"x"},{"$f":"IF($E21=\"Y\",INDEX(OIQraw,ROW(),Setup!$C$5+COLUMN()-26),\"x\")","v":"x"},{"$f":"IF($E21=\"Y\",INDEX(OIQraw,ROW(),Setup!$C$5+COLUMN()-26),\"x\")","v":"x"},{"$f":"IF($E21=\"Y\",INDEX(OIQraw,ROW(),Setup!$C$5+COLUMN()-26),\"x\")","v":"x"},{"$f":"IF($E21=\"Y\",INDEX(OIQraw,ROW(),Setup!$C$5+COLUMN()-26),\"x\")","v":"x"},{"$f":"IF($E21=\"Y\",INDEX(OIQraw,ROW(),Setup!$C$5+COLUMN()-26),\"x\")","v":"x"},{"$f":"IF($E21=\"Y\",INDEX(OIQraw,ROW(),Setup!$C$5+COLUMN()-26),\"x\")","v":"x"},{"$f":"IF($E21=\"Y\",INDEX(OIQraw,ROW(),Setup!$C$5+COLUMN()-26),\"x\")","v":"x"},{"$f":"IF($E21=\"Y\",INDEX(OIQraw,ROW(),Setup!$C$5+COLUMN()-26),\"x\")","v":"x"},{"$f":"IF($E21=\"Y\",INDEX(OIQraw,ROW(),Setup!$C$5+COLUMN()-26),\"x\")","v":"x"},{"$f":"IF($E21=\"Y\",INDEX(OIQraw,ROW(),Setup!$C$5+COLUMN()-26),\"x\")","v":"x"},{"$f":"IF($E21=\"Y\",INDEX(OIQraw,ROW(),Setup!$C$5+COLUMN()-26),\"x\")","v":"x"},{"$f":"IF($E21=\"Y\",INDEX(OIQraw,ROW(),Setup!$C$5+COLUMN()-26),\"x\")","v":"x"},{"$f":"IF($E21=\"Y\",INDEX(OIQraw,ROW(),Setup!$C$5+COLUMN()-26),\"x\")","v":"x"},{"$f":"IF($E21=\"Y\",INDEX(OIQraw,ROW(),Setup!$C$5+COLUMN()-26),\"x\")","v":"x"},{"$f":"IF($E21=\"Y\",INDEX(OIQraw,ROW(),Setup!$C$5+COLUMN()-26),\"x\")","v":"x"},{"$f":"IF($E21=\"Y\",INDEX(OIQraw,ROW(),Setup!$C$5+COLUMN()-26),\"x\")","v":"x"},{"$f":"IF($E21=\"Y\",INDEX(OIQraw,ROW(),Setup!$C$5+COLUMN()-26),\"x\")","v":"x"},{"$f":"IF($E21=\"Y\",INDEX(OIQraw,ROW(),Setup!$C$5+COLUMN()-26),\"x\")","v":"x"},{"$f":"IF($E21=\"Y\",INDEX(OIQraw,ROW(),Setup!$C$5+COLUMN()-26),\"x\")","v":"x"},{"$f":"IF($E21=\"Y\",INDEX(OIQraw,ROW(),Setup!$C$5+COLUMN()-26),\"x\")","v":"x"},{"$f":"IF($E21=\"Y\",INDEX(OIQraw,ROW(),Setup!$C$5+COLUMN()-26),\"x\")","v":"x"},{"$f":"IF($E21=\"Y\",INDEX(OIQraw,ROW(),Setup!$C$5+COLUMN()-26),\"x\")","v":"x"},{"$f":"IF($E21=\"Y\",INDEX(OIQraw,ROW(),Setup!$C$5+COLUMN()-26),\"x\")","v":"x"},{"$f":"IF($E21=\"Y\",INDEX(OIQraw,ROW(),Setup!$C$5+COLUMN()-26),\"x\")","v":"x"},{"$f":"IF($E21=\"Y\",INDEX(OIQraw,ROW(),Setup!$C$5+COLUMN()-26),\"x\")","v":"x"},{"$f":"IF($E21=\"Y\",INDEX(OIQraw,ROW(),Setup!$C$5+COLUMN()-26),\"x\")","v":"x"},{"$f":"IF($E21=\"Y\",INDEX(OIQraw,ROW(),Setup!$C$5+COLUMN()-26),\"x\")","v":"x"},{"$f":"IF($E21=\"Y\",INDEX(OIQraw,ROW(),Setup!$C$5+COLUMN()-26),\"x\")","v":"x"},{"$f":"IF($E21=\"Y\",INDEX(OIQraw,ROW(),Setup!$C$5+COLUMN()-26),\"x\")","v":"x"},{"$f":"IF($E21=\"Y\",INDEX(OIQraw,ROW(),Setup!$C$5+COLUMN()-26),\"x\")","v":"x"},{"$f":"IF($E21=\"Y\",INDEX(OIQraw,ROW(),Setup!$C$5+COLUMN()-26),\"x\")","v":"x"},{"$f":"IF($E21=\"Y\",INDEX(OIQraw,ROW(),Setup!$C$5+COLUMN()-26),\"x\")","v":"x"},{"$f":"IF($E21=\"Y\",INDEX(OIQraw,ROW(),Setup!$C$5+COLUMN()-26),\"x\")","v":"x"},{"$f":"IF($E21=\"Y\",INDEX(OIQraw,ROW(),Setup!$C$5+COLUMN()-26),\"x\")","v":"x"},{"$f":"IF($E21=\"Y\",INDEX(OIQraw,ROW(),Setup!$C$5+COLUMN()-26),\"x\")","v":"x"},{"$f":"IF($E21=\"Y\",INDEX(OIQraw,ROW(),Setup!$C$5+COLUMN()-26),\"x\")","v":"x"},{"$f":"IF($E21=\"Y\",INDEX(OIQraw,ROW(),Setup!$C$5+COLUMN()-26),\"x\")","v":"x"},{"$f":"IF($E21=\"Y\",INDEX(OIQraw,ROW(),Setup!$C$5+COLUMN()-26),\"x\")","v":"x"},{"$f":"IF($E21=\"Y\",INDEX(OIQraw,ROW(),Setup!$C$5+COLUMN()-26),\"x\")","v":"x"},{"$f":"IF($E21=\"Y\",INDEX(OIQraw,ROW(),Setup!$C$5+COLUMN()-26),\"x\")","v":"x"},{"$f":"IF($E21=\"Y\",INDEX(OIQraw,ROW(),Setup!$C$5+COLUMN()-26),\"x\")","v":"x"},{"$f":"IF($E21=\"Y\",INDEX(OIQraw,ROW(),Setup!$C$5+COLUMN()-26),\"x\")","v":"x"},{"$f":"IF($E21=\"Y\",INDEX(OIQraw,ROW(),Setup!$C$5+COLUMN()-26),\"x\")","v":"x"},{"$f":"IF($E21=\"Y\",INDEX(OIQraw,ROW(),Setup!$C$5+COLUMN()-26),\"x\")","v":"x"},{"$f":"IF($E21=\"Y\",INDEX(OIQraw,ROW(),Setup!$C$5+COLUMN()-26),\"x\")","v":"x"},{"$f":"IF($E21=\"Y\",INDEX(OIQraw,ROW(),Setup!$C$5+COLUMN()-26),\"x\")","v":"x"},{"$f":"IF($E21=\"Y\",INDEX(OIQraw,ROW(),Setup!$C$5+COLUMN()-26),\"x\")","v":"x"},{"$f":"IF($E21=\"Y\",INDEX(OIQraw,ROW(),Setup!$C$5+COLUMN()-26),\"x\")","v":"x"},{"$f":"IF($E21=\"Y\",INDEX(OIQraw,ROW(),Setup!$C$5+COLUMN()-26),\"x\")","v":"x"},{"$f":"IF($E21=\"Y\",INDEX(OIQraw,ROW(),Setup!$C$5+COLUMN()-26),\"x\")","v":"x"},{"$f":"IF($E21=\"Y\",INDEX(OIQraw,ROW(),Setup!$C$5+COLUMN()-26),\"x\")","v":"x"},{"$f":"IF($E21=\"Y\",INDEX(OIQraw,ROW(),Setup!$C$5+COLUMN()-26),\"x\")","v":"x"},{"$f":"IF($E21=\"Y\",INDEX(OIQraw,ROW(),Setup!$C$5+COLUMN()-26),\"x\")","v":"x"},{"$f":"IF($E21=\"Y\",INDEX(OIQraw,ROW(),Setup!$C$5+COLUMN()-26),\"x\")","v":"x"},{"$f":"IF($E21=\"Y\",INDEX(OIQraw,ROW(),Setup!$C$5+COLUMN()-26),\"x\")","v":"x"},{"$f":"IF($E21=\"Y\",INDEX(OIQraw,ROW(),Setup!$C$5+COLUMN()-26),\"x\")","v":"x"},{"$f":"IF($E21=\"Y\",INDEX(OIQraw,ROW(),Setup!$C$5+COLUMN()-26),\"x\")","v":"x"},{"$f":"IF($E21=\"Y\",INDEX(OIQraw,ROW(),Setup!$C$5+COLUMN()-26),\"x\")","v":"x"},{"$f":"IF($E21=\"Y\",INDEX(OIQraw,ROW(),Setup!$C$5+COLUMN()-26),\"x\")","v":"x"},{"$f":"IF($E21=\"Y\",INDEX(OIQraw,ROW(),Setup!$C$5+COLUMN()-26),\"x\")","v":"x"},{"$f":"IF($E21=\"Y\",INDEX(OIQraw,ROW(),Setup!$C$5+COLUMN()-26),\"x\")","v":"x"},{"$f":"IF($E21=\"Y\",INDEX(OIQraw,ROW(),Setup!$C$5+COLUMN()-26),\"x\")","v":"x"},{"$f":"IF($E21=\"Y\",INDEX(OIQraw,ROW(),Setup!$C$5+COLUMN()-26),\"x\")","v":"x"},{"$f":"IF($E21=\"Y\",INDEX(OIQraw,ROW(),Setup!$C$5+COLUMN()-26),\"x\")","v":"x"},{"$f":"IF($E21=\"Y\",INDEX(OIQraw,ROW(),Setup!$C$5+COLUMN()-26),\"x\")","v":"x"},{"$f":"IF($E21=\"Y\",INDEX(OIQraw,ROW(),Setup!$C$5+COLUMN()-26),\"x\")","v":"x"},{"$f":"IF($E21=\"Y\",INDEX(OIQraw,ROW(),Setup!$C$5+COLUMN()-26),\"x\")","v":"x"},{"$f":"IF($E21=\"Y\",INDEX(OIQraw,ROW(),Setup!$C$5+COLUMN()-26),\"x\")","v":"x"},{"$f":"IF($E21=\"Y\",INDEX(OIQraw,ROW(),Setup!$C$5+COLUMN()-26),\"x\")","v":"x"},{"$f":"IF($E21=\"Y\",INDEX(OIQraw,ROW(),Setup!$C$5+COLUMN()-26),\"x\")","v":"x"},{"$f":"IF($E21=\"Y\",INDEX(OIQraw,ROW(),Setup!$C$5+COLUMN()-26),\"x\")","v":"x"},{"$f":"IF($E21=\"Y\",INDEX(OIQraw,ROW(),Setup!$C$5+COLUMN()-26),\"x\")","v":"x"},{"$f":"IF($E21=\"Y\",INDEX(OIQraw,ROW(),Setup!$C$5+COLUMN()-26),\"x\")","v":"x"},{"$f":"IF($E21=\"Y\",INDEX(OIQraw,ROW(),Setup!$C$5+COLUMN()-26),\"x\")","v":"x"},{"$f":"IF($E21=\"Y\",INDEX(OIQraw,ROW(),Setup!$C$5+COLUMN()-26),\"x\")","v":"x"},{"$f":"IF($E21=\"Y\",INDEX(OIQraw,ROW(),Setup!$C$5+COLUMN()-26),\"x\")","v":"x"},{"$f":"IF($E21=\"Y\",INDEX(OIQraw,ROW(),Setup!$C$5+COLUMN()-26),\"x\")","v":"x"},{"$f":"IF($E21=\"Y\",INDEX(OIQraw,ROW(),Setup!$C$5+COLUMN()-26),\"x\")","v":"x"},{"$f":"IF($E21=\"Y\",INDEX(OIQraw,ROW(),Setup!$C$5+COLUMN()-26),\"x\")","v":"x"},{"$f":"IF($E21=\"Y\",INDEX(OIQraw,ROW(),Setup!$C$5+COLUMN()-26),\"x\")","v":"x"},{"$f":"IF($E21=\"Y\",INDEX(OIQraw,ROW(),Setup!$C$5+COLUMN()-26),\"x\")","v":"x"},{"$f":"IF($E21=\"Y\",INDEX(OIQraw,ROW(),Setup!$C$5+COLUMN()-26),\"x\")","v":"x"},{"$f":"IF($E21=\"Y\",INDEX(OIQraw,ROW(),Setup!$C$5+COLUMN()-26),\"x\")","v":"x"},{"$f":"IF($E21=\"Y\",INDEX(OIQraw,ROW(),Setup!$C$5+COLUMN()-26),\"x\")","v":"x"},{"$f":"IF($E21=\"Y\",INDEX(OIQraw,ROW(),Setup!$C$5+COLUMN()-26),\"x\")","v":"x"},{"$f":"IF($E21=\"Y\",INDEX(OIQraw,ROW(),Setup!$C$5+COLUMN()-26),\"x\")","v":"x"},{"$f":"IF($E21=\"Y\",INDEX(OIQraw,ROW(),Setup!$C$5+COLUMN()-26),\"x\")","v":"x"},{"$f":"IF($E21=\"Y\",INDEX(OIQraw,ROW(),Setup!$C$5+COLUMN()-26),\"x\")","v":"x"},{"$f":"IF($E21=\"Y\",INDEX(OIQraw,ROW(),Setup!$C$5+COLUMN()-26),\"x\")","v":"x"},{"$f":"IF($E21=\"Y\",INDEX(OIQraw,ROW(),Setup!$C$5+COLUMN()-26),\"x\")","v":"x"},{"$f":"IF($E21=\"Y\",INDEX(OIQraw,ROW(),Setup!$C$5+COLUMN()-26),\"x\")","v":"x"},{"$f":"IF($E21=\"Y\",INDEX(OIQraw,ROW(),Setup!$C$5+COLUMN()-26),\"x\")","v":"x"},{"$f":"IF($E21=\"Y\",INDEX(OIQraw,ROW(),Setup!$C$5+COLUMN()-26),\"x\")","v":"x"},{"$f":"IF($E21=\"Y\",INDEX(OIQraw,ROW(),Setup!$C$5+COLUMN()-26),\"x\")","v":"x"},{"$f":"IF($E21=\"Y\",INDEX(OIQraw,ROW(),Setup!$C$5+COLUMN()-26),\"x\")","v":"x"},{"$f":"IF($E21=\"Y\",INDEX(OIQraw,ROW(),Setup!$C$5+COLUMN()-26),\"x\")","v":"x"},{"$f":"IF($E21=\"Y\",INDEX(OIQraw,ROW(),Setup!$C$5+COLUMN()-26),\"x\")","v":"x"},{"$f":"IF($E21=\"Y\",INDEX(OIQraw,ROW(),Setup!$C$5+COLUMN()-26),\"x\")","v":"x"},{"$f":"IF($E21=\"Y\",INDEX(OIQraw,ROW(),Setup!$C$5+COLUMN()-26),\"x\")","v":"x"},{"$f":"IF($E21=\"Y\",INDEX(OIQraw,ROW(),Setup!$C$5+COLUMN()-26),\"x\")","v":"x"},{"$f":"IF($E21=\"Y\",INDEX(OIQraw,ROW(),Setup!$C$5+COLUMN()-26),\"x\")","v":"x"},{"$f":"IF($E21=\"Y\",INDEX(OIQraw,ROW(),Setup!$C$5+COLUMN()-26),\"x\")","v":"x"},{"$f":"IF($E21=\"Y\",INDEX(OIQraw,ROW(),Setup!$C$5+COLUMN()-26),\"x\")","v":"x"},{"$f":"IF($E21=\"Y\",INDEX(OIQraw,ROW(),Setup!$C$5+COLUMN()-26),\"x\")","v":"x"},{"$f":"IF($E21=\"Y\",INDEX(OIQraw,ROW(),Setup!$C$5+COLUMN()-26),\"x\")","v":"x"},{"$f":"IF($E21=\"Y\",INDEX(OIQraw,ROW(),Setup!$C$5+COLUMN()-26),\"x\")","v":"x"},{"$f":"IF($E21=\"Y\",INDEX(OIQraw,ROW(),Setup!$C$5+COLUMN()-26),\"x\")","v":"x"},{"$f":"IF($E21=\"Y\",INDEX(OIQraw,ROW(),Setup!$C$5+COLUMN()-26),\"x\")","v":"x"},{"$f":"IF($E21=\"Y\",INDEX(OIQraw,ROW(),Setup!$C$5+COLUMN()-26),\"x\")","v":"x"},{"$f":"IF($E21=\"Y\",INDEX(OIQraw,ROW(),Setup!$C$5+COLUMN()-26),\"x\")","v":"x"},{"$f":"IF($E21=\"Y\",INDEX(OIQraw,ROW(),Setup!$C$5+COLUMN()-26),\"x\")","v":"x"},{"$f":"IF($E21=\"Y\",INDEX(OIQraw,ROW(),Setup!$C$5+COLUMN()-26),\"x\")","v":"x"},{"$f":"IF($E21=\"Y\",INDEX(OIQraw,ROW(),Setup!$C$5+COLUMN()-26),\"x\")","v":"x"},{"$f":"IF($E21=\"Y\",INDEX(OIQraw,ROW(),Setup!$C$5+COLUMN()-26),\"x\")","v":"x"},{"$f":"IF($E21=\"Y\",INDEX(OIQraw,ROW(),Setup!$C$5+COLUMN()-26),\"x\")","v":"x"},{"$f":"IF($E21=\"Y\",INDEX(OIQraw,ROW(),Setup!$C$5+COLUMN()-26),\"x\")","v":"x"},{"$f":"IF($E21=\"Y\",INDEX(OIQraw,ROW(),Setup!$C$5+COLUMN()-26),\"x\")","v":"x"},{"$f":"IF($E21=\"Y\",INDEX(OIQraw,ROW(),Setup!$C$5+COLUMN()-26),\"x\")","v":"x"},{"$f":"IF($E21=\"Y\",INDEX(OIQraw,ROW(),Setup!$C$5+COLUMN()-26),\"x\")","v":"x"},{"$f":"IF($E21=\"Y\",INDEX(OIQraw,ROW(),Setup!$C$5+COLUMN()-26),\"x\")","v":"x"},{"$f":"IF($E21=\"Y\",INDEX(OIQraw,ROW(),Setup!$C$5+COLUMN()-26),\"x\")","v":"x"},{"$f":"IF($E21=\"Y\",INDEX(OIQraw,ROW(),Setup!$C$5+COLUMN()-26),\"x\")","v":"x"},{"$f":"IF($E21=\"Y\",INDEX(OIQraw,ROW(),Setup!$C$5+COLUMN()-26),\"x\")","v":"x"},{"$f":"IF($E21=\"Y\",INDEX(OIQraw,ROW(),Setup!$C$5+COLUMN()-26),\"x\")","v":"x"},{"$f":"IF($E21=\"Y\",INDEX(OIQraw,ROW(),Setup!$C$5+COLUMN()-26),\"x\")","v":"x"},{"$f":"IF($E21=\"Y\",INDEX(OIQraw,ROW(),Setup!$C$5+COLUMN()-26),\"x\")","v":"x"}]
[1,"","",{"$f":"IF(ISERROR(FIND(\"Withdrew\",RawScores!B26)),RawScores!B26,RIGHT(RawScores!B26,LEN(RawScores!B26)-17))&\", \"&RawScores!C26","v":", "},{"$f":"IF(OR(ISERROR(FIND(\"Withdrew\",RawScores!B26))=FALSE,INDEX(OIQraw,ROW(),LastInputCol-3)=0),\"N\",IF(AND(Setup!$B$22=\"Yes\",INDEX(OIQraw,ROW(),LastInputCol)=1),\"N\",\"Y\"))","v":"N"},"X","X","X",{"$f":"IF(AND(ISNUMBER(F22),F22>Setup!$B$14-1),1,0)","v":0},{"$f":"IF(AND(F22>Setup!$B$14-1,Conv!H22<5),1,0)","v":0},{"$f":"IF(AND(F22>Setup!$B$14-1,Conv!G22=\"F\"),1,0)","v":0},"","","","","","","","","","","","","X","X",{"$f":"IF($E22=\"Y\",INDEX(OIQraw,ROW(),Setup!$C$5+COLUMN()-26),\"x\")","v":"x"},{"$f":"IF($E22=\"Y\",INDEX(OIQraw,ROW(),Setup!$C$5+COLUMN()-26),\"x\")","v":"x"},{"$f":"IF($E22=\"Y\",INDEX(OIQraw,ROW(),Setup!$C$5+COLUMN()-26),\"x\")","v":"x"},{"$f":"IF($E22=\"Y\",INDEX(OIQraw,ROW(),Setup!$C$5+COLUMN()-26),\"x\")","v":"x"},{"$f":"IF($E22=\"Y\",INDEX(OIQraw,ROW(),Setup!$C$5+COLUMN()-26),\"x\")","v":"x"},{"$f":"IF($E22=\"Y\",INDEX(OIQraw,ROW(),Setup!$C$5+COLUMN()-26),\"x\")","v":"x"},{"$f":"IF($E22=\"Y\",INDEX(OIQraw,ROW(),Setup!$C$5+COLUMN()-26),\"x\")","v":"x"},{"$f":"IF($E22=\"Y\",INDEX(OIQraw,ROW(),Setup!$C$5+COLUMN()-26),\"x\")","v":"x"},{"$f":"IF($E22=\"Y\",INDEX(OIQraw,ROW(),Setup!$C$5+COLUMN()-26),\"x\")","v":"x"},{"$f":"IF($E22=\"Y\",INDEX(OIQraw,ROW(),Setup!$C$5+COLUMN()-26),\"x\")","v":"x"},{"$f":"IF($E22=\"Y\",INDEX(OIQraw,ROW(),Setup!$C$5+COLUMN()-26),\"x\")","v":"x"},{"$f":"IF($E22=\"Y\",INDEX(OIQraw,ROW(),Setup!$C$5+COLUMN()-26),\"x\")","v":"x"},{"$f":"IF($E22=\"Y\",INDEX(OIQraw,ROW(),Setup!$C$5+COLUMN()-26),\"x\")","v":"x"},{"$f":"IF($E22=\"Y\",INDEX(OIQraw,ROW(),Setup!$C$5+COLUMN()-26),\"x\")","v":"x"},{"$f":"IF($E22=\"Y\",INDEX(OIQraw,ROW(),Setup!$C$5+COLUMN()-26),\"x\")","v":"x"},{"$f":"IF($E22=\"Y\",INDEX(OIQraw,ROW(),Setup!$C$5+COLUMN()-26),\"x\")","v":"x"},{"$f":"IF($E22=\"Y\",INDEX(OIQraw,ROW(),Setup!$C$5+COLUMN()-26),\"x\")","v":"x"},{"$f":"IF($E22=\"Y\",INDEX(OIQraw,ROW(),Setup!$C$5+COLUMN()-26),\"x\")","v":"x"},{"$f":"IF($E22=\"Y\",INDEX(OIQraw,ROW(),Setup!$C$5+COLUMN()-26),\"x\")","v":"x"},{"$f":"IF($E22=\"Y\",INDEX(OIQraw,ROW(),Setup!$C$5+COLUMN()-26),\"x\")","v":"x"},{"$f":"IF($E22=\"Y\",INDEX(OIQraw,ROW(),Setup!$C$5+COLUMN()-26),\"x\")","v":"x"},{"$f":"IF($E22=\"Y\",INDEX(OIQraw,ROW(),Setup!$C$5+COLUMN()-26),\"x\")","v":"x"},{"$f":"IF($E22=\"Y\",INDEX(OIQraw,ROW(),Setup!$C$5+COLUMN()-26),\"x\")","v":"x"},{"$f":"IF($E22=\"Y\",INDEX(OIQraw,ROW(),Setup!$C$5+COLUMN()-26),\"x\")","v":"x"},{"$f":"IF($E22=\"Y\",INDEX(OIQraw,ROW(),Setup!$C$5+COLUMN()-26),\"x\")","v":"x"},{"$f":"IF($E22=\"Y\",INDEX(OIQraw,ROW(),Setup!$C$5+COLUMN()-26),\"x\")","v":"x"},{"$f":"IF($E22=\"Y\",INDEX(OIQraw,ROW(),Setup!$C$5+COLUMN()-26),\"x\")","v":"x"},{"$f":"IF($E22=\"Y\",INDEX(OIQraw,ROW(),Setup!$C$5+COLUMN()-26),\"x\")","v":"x"},{"$f":"IF($E22=\"Y\",INDEX(OIQraw,ROW(),Setup!$C$5+COLUMN()-26),\"x\")","v":"x"},{"$f":"IF($E22=\"Y\",INDEX(OIQraw,ROW(),Setup!$C$5+COLUMN()-26),\"x\")","v":"x"},{"$f":"IF($E22=\"Y\",INDEX(OIQraw,ROW(),Setup!$C$5+COLUMN()-26),\"x\")","v":"x"},{"$f":"IF($E22=\"Y\",INDEX(OIQraw,ROW(),Setup!$C$5+COLUMN()-26),\"x\")","v":"x"},{"$f":"IF($E22=\"Y\",INDEX(OIQraw,ROW(),Setup!$C$5+COLUMN()-26),\"x\")","v":"x"},{"$f":"IF($E22=\"Y\",INDEX(OIQraw,ROW(),Setup!$C$5+COLUMN()-26),\"x\")","v":"x"},{"$f":"IF($E22=\"Y\",INDEX(OIQraw,ROW(),Setup!$C$5+COLUMN()-26),\"x\")","v":"x"},{"$f":"IF($E22=\"Y\",INDEX(OIQraw,ROW(),Setup!$C$5+COLUMN()-26),\"x\")","v":"x"},{"$f":"IF($E22=\"Y\",INDEX(OIQraw,ROW(),Setup!$C$5+COLUMN()-26),\"x\")","v":"x"},{"$f":"IF($E22=\"Y\",INDEX(OIQraw,ROW(),Setup!$C$5+COLUMN()-26),\"x\")","v":"x"},{"$f":"IF($E22=\"Y\",INDEX(OIQraw,ROW(),Setup!$C$5+COLUMN()-26),\"x\")","v":"x"},{"$f":"IF($E22=\"Y\",INDEX(OIQraw,ROW(),Setup!$C$5+COLUMN()-26),\"x\")","v":"x"},{"$f":"IF($E22=\"Y\",INDEX(OIQraw,ROW(),Setup!$C$5+COLUMN()-26),\"x\")","v":"x"},{"$f":"IF($E22=\"Y\",INDEX(OIQraw,ROW(),Setup!$C$5+COLUMN()-26),\"x\")","v":"x"},{"$f":"IF($E22=\"Y\",INDEX(OIQraw,ROW(),Setup!$C$5+COLUMN()-26),\"x\")","v":"x"},{"$f":"IF($E22=\"Y\",INDEX(OIQraw,ROW(),Setup!$C$5+COLUMN()-26),\"x\")","v":"x"},{"$f":"IF($E22=\"Y\",INDEX(OIQraw,ROW(),Setup!$C$5+COLUMN()-26),\"x\")","v":"x"},{"$f":"IF($E22=\"Y\",INDEX(OIQraw,ROW(),Setup!$C$5+COLUMN()-26),\"x\")","v":"x"},{"$f":"IF($E22=\"Y\",INDEX(OIQraw,ROW(),Setup!$C$5+COLUMN()-26),\"x\")","v":"x"},{"$f":"IF($E22=\"Y\",INDEX(OIQraw,ROW(),Setup!$C$5+COLUMN()-26),\"x\")","v":"x"},{"$f":"IF($E22=\"Y\",INDEX(OIQraw,ROW(),Setup!$C$5+COLUMN()-26),\"x\")","v":"x"},{"$f":"IF($E22=\"Y\",INDEX(OIQraw,ROW(),Setup!$C$5+COLUMN()-26),\"x\")","v":"x"},{"$f":"IF($E22=\"Y\",INDEX(OIQraw,ROW(),Setup!$C$5+COLUMN()-26),\"x\")","v":"x"},{"$f":"IF($E22=\"Y\",INDEX(OIQraw,ROW(),Setup!$C$5+COLUMN()-26),\"x\")","v":"x"},{"$f":"IF($E22=\"Y\",INDEX(OIQraw,ROW(),Setup!$C$5+COLUMN()-26),\"x\")","v":"x"},{"$f":"IF($E22=\"Y\",INDEX(OIQraw,ROW(),Setup!$C$5+COLUMN()-26),\"x\")","v":"x"},{"$f":"IF($E22=\"Y\",INDEX(OIQraw,ROW(),Setup!$C$5+COLUMN()-26),\"x\")","v":"x"},{"$f":"IF($E22=\"Y\",INDEX(OIQraw,ROW(),Setup!$C$5+COLUMN()-26),\"x\")","v":"x"},{"$f":"IF($E22=\"Y\",INDEX(OIQraw,ROW(),Setup!$C$5+COLUMN()-26),\"x\")","v":"x"},{"$f":"IF($E22=\"Y\",INDEX(OIQraw,ROW(),Setup!$C$5+COLUMN()-26),\"x\")","v":"x"},{"$f":"IF($E22=\"Y\",INDEX(OIQraw,ROW(),Setup!$C$5+COLUMN()-26),\"x\")","v":"x"},{"$f":"IF($E22=\"Y\",INDEX(OIQraw,ROW(),Setup!$C$5+COLUMN()-26),\"x\")","v":"x"},{"$f":"IF($E22=\"Y\",INDEX(OIQraw,ROW(),Setup!$C$5+COLUMN()-26),\"x\")","v":"x"},{"$f":"IF($E22=\"Y\",INDEX(OIQraw,ROW(),Setup!$C$5+COLUMN()-26),\"x\")","v":"x"},{"$f":"IF($E22=\"Y\",INDEX(OIQraw,ROW(),Setup!$C$5+COLUMN()-26),\"x\")","v":"x"},{"$f":"IF($E22=\"Y\",INDEX(OIQraw,ROW(),Setup!$C$5+COLUMN()-26),\"x\")","v":"x"},{"$f":"IF($E22=\"Y\",INDEX(OIQraw,ROW(),Setup!$C$5+COLUMN()-26),\"x\")","v":"x"},{"$f":"IF($E22=\"Y\",INDEX(OIQraw,ROW(),Setup!$C$5+COLUMN()-26),\"x\")","v":"x"},{"$f":"IF($E22=\"Y\",INDEX(OIQraw,ROW(),Setup!$C$5+COLUMN()-26),\"x\")","v":"x"},{"$f":"IF($E22=\"Y\",INDEX(OIQraw,ROW(),Setup!$C$5+COLUMN()-26),\"x\")","v":"x"},{"$f":"IF($E22=\"Y\",INDEX(OIQraw,ROW(),Setup!$C$5+COLUMN()-26),\"x\")","v":"x"},{"$f":"IF($E22=\"Y\",INDEX(OIQraw,ROW(),Setup!$C$5+COLUMN()-26),\"x\")","v":"x"},{"$f":"IF($E22=\"Y\",INDEX(OIQraw,ROW(),Setup!$C$5+COLUMN()-26),\"x\")","v":"x"},{"$f":"IF($E22=\"Y\",INDEX(OIQraw,ROW(),Setup!$C$5+COLUMN()-26),\"x\")","v":"x"},{"$f":"IF($E22=\"Y\",INDEX(OIQraw,ROW(),Setup!$C$5+COLUMN()-26),\"x\")","v":"x"},{"$f":"IF($E22=\"Y\",INDEX(OIQraw,ROW(),Setup!$C$5+COLUMN()-26),\"x\")","v":"x"},{"$f":"IF($E22=\"Y\",INDEX(OIQraw,ROW(),Setup!$C$5+COLUMN()-26),\"x\")","v":"x"},{"$f":"IF($E22=\"Y\",INDEX(OIQraw,ROW(),Setup!$C$5+COLUMN()-26),\"x\")","v":"x"},{"$f":"IF($E22=\"Y\",INDEX(OIQraw,ROW(),Setup!$C$5+COLUMN()-26),\"x\")","v":"x"},{"$f":"IF($E22=\"Y\",INDEX(OIQraw,ROW(),Setup!$C$5+COLUMN()-26),\"x\")","v":"x"},{"$f":"IF($E22=\"Y\",INDEX(OIQraw,ROW(),Setup!$C$5+COLUMN()-26),\"x\")","v":"x"},{"$f":"IF($E22=\"Y\",INDEX(OIQraw,ROW(),Setup!$C$5+COLUMN()-26),\"x\")","v":"x"},{"$f":"IF($E22=\"Y\",INDEX(OIQraw,ROW(),Setup!$C$5+COLUMN()-26),\"x\")","v":"x"},{"$f":"IF($E22=\"Y\",INDEX(OIQraw,ROW(),Setup!$C$5+COLUMN()-26),\"x\")","v":"x"},{"$f":"IF($E22=\"Y\",INDEX(OIQraw,ROW(),Setup!$C$5+COLUMN()-26),\"x\")","v":"x"},{"$f":"IF($E22=\"Y\",INDEX(OIQraw,ROW(),Setup!$C$5+COLUMN()-26),\"x\")","v":"x"},{"$f":"IF($E22=\"Y\",INDEX(OIQraw,ROW(),Setup!$C$5+COLUMN()-26),\"x\")","v":"x"},{"$f":"IF($E22=\"Y\",INDEX(OIQraw,ROW(),Setup!$C$5+COLUMN()-26),\"x\")","v":"x"},{"$f":"IF($E22=\"Y\",INDEX(OIQraw,ROW(),Setup!$C$5+COLUMN()-26),\"x\")","v":"x"},{"$f":"IF($E22=\"Y\",INDEX(OIQraw,ROW(),Setup!$C$5+COLUMN()-26),\"x\")","v":"x"},{"$f":"IF($E22=\"Y\",INDEX(OIQraw,ROW(),Setup!$C$5+COLUMN()-26),\"x\")","v":"x"},{"$f":"IF($E22=\"Y\",INDEX(OIQraw,ROW(),Setup!$C$5+COLUMN()-26),\"x\")","v":"x"},{"$f":"IF($E22=\"Y\",INDEX(OIQraw,ROW(),Setup!$C$5+COLUMN()-26),\"x\")","v":"x"},{"$f":"IF($E22=\"Y\",INDEX(OIQraw,ROW(),Setup!$C$5+COLUMN()-26),\"x\")","v":"x"},{"$f":"IF($E22=\"Y\",INDEX(OIQraw,ROW(),Setup!$C$5+COLUMN()-26),\"x\")","v":"x"},{"$f":"IF($E22=\"Y\",INDEX(OIQraw,ROW(),Setup!$C$5+COLUMN()-26),\"x\")","v":"x"},{"$f":"IF($E22=\"Y\",INDEX(OIQraw,ROW(),Setup!$C$5+COLUMN()-26),\"x\")","v":"x"},{"$f":"IF($E22=\"Y\",INDEX(OIQraw,ROW(),Setup!$C$5+COLUMN()-26),\"x\")","v":"x"},{"$f":"IF($E22=\"Y\",INDEX(OIQraw,ROW(),Setup!$C$5+COLUMN()-26),\"x\")","v":"x"},{"$f":"IF($E22=\"Y\",INDEX(OIQraw,ROW(),Setup!$C$5+COLUMN()-26),\"x\")","v":"x"},{"$f":"IF($E22=\"Y\",INDEX(OIQraw,ROW(),Setup!$C$5+COLUMN()-26),\"x\")","v":"x"},{"$f":"IF($E22=\"Y\",INDEX(OIQraw,ROW(),Setup!$C$5+COLUMN()-26),\"x\")","v":"x"},{"$f":"IF($E22=\"Y\",INDEX(OIQraw,ROW(),Setup!$C$5+COLUMN()-26),\"x\")","v":"x"},{"$f":"IF($E22=\"Y\",INDEX(OIQraw,ROW(),Setup!$C$5+COLUMN()-26),\"x\")","v":"x"},{"$f":"IF($E22=\"Y\",INDEX(OIQraw,ROW(),Setup!$C$5+COLUMN()-26),\"x\")","v":"x"},{"$f":"IF($E22=\"Y\",INDEX(OIQraw,ROW(),Setup!$C$5+COLUMN()-26),\"x\")","v":"x"},{"$f":"IF($E22=\"Y\",INDEX(OIQraw,ROW(),Setup!$C$5+COLUMN()-26),\"x\")","v":"x"},{"$f":"IF($E22=\"Y\",INDEX(OIQraw,ROW(),Setup!$C$5+COLUMN()-26),\"x\")","v":"x"},{"$f":"IF($E22=\"Y\",INDEX(OIQraw,ROW(),Setup!$C$5+COLUMN()-26),\"x\")","v":"x"},{"$f":"IF($E22=\"Y\",INDEX(OIQraw,ROW(),Setup!$C$5+COLUMN()-26),\"x\")","v":"x"},{"$f":"IF($E22=\"Y\",INDEX(OIQraw,ROW(),Setup!$C$5+COLUMN()-26),\"x\")","v":"x"},{"$f":"IF($E22=\"Y\",INDEX(OIQraw,ROW(),Setup!$C$5+COLUMN()-26),\"x\")","v":"x"},{"$f":"IF($E22=\"Y\",INDEX(OIQraw,ROW(),Setup!$C$5+COLUMN()-26),\"x\")","v":"x"},{"$f":"IF($E22=\"Y\",INDEX(OIQraw,ROW(),Setup!$C$5+COLUMN()-26),\"x\")","v":"x"},{"$f":"IF($E22=\"Y\",INDEX(OIQraw,ROW(),Setup!$C$5+COLUMN()-26),\"x\")","v":"x"},{"$f":"IF($E22=\"Y\",INDEX(OIQraw,ROW(),Setup!$C$5+COLUMN()-26),\"x\")","v":"x"},{"$f":"IF($E22=\"Y\",INDEX(OIQraw,ROW(),Setup!$C$5+COLUMN()-26),\"x\")","v":"x"},{"$f":"IF($E22=\"Y\",INDEX(OIQraw,ROW(),Setup!$C$5+COLUMN()-26),\"x\")","v":"x"},{"$f":"IF($E22=\"Y\",INDEX(OIQraw,ROW(),Setup!$C$5+COLUMN()-26),\"x\")","v":"x"},{"$f":"IF($E22=\"Y\",INDEX(OIQraw,ROW(),Setup!$C$5+COLUMN()-26),\"x\")","v":"x"},{"$f":"IF($E22=\"Y\",INDEX(OIQraw,ROW(),Setup!$C$5+COLUMN()-26),\"x\")","v":"x"},{"$f":"IF($E22=\"Y\",INDEX(OIQraw,ROW(),Setup!$C$5+COLUMN()-26),\"x\")","v":"x"},{"$f":"IF($E22=\"Y\",INDEX(OIQraw,ROW(),Setup!$C$5+COLUMN()-26),\"x\")","v":"x"},{"$f":"IF($E22=\"Y\",INDEX(OIQraw,ROW(),Setup!$C$5+COLUMN()-26),\"x\")","v":"x"},{"$f":"IF($E22=\"Y\",INDEX(OIQraw,ROW(),Setup!$C$5+COLUMN()-26),\"x\")","v":"x"},{"$f":"IF($E22=\"Y\",INDEX(OIQraw,ROW(),Setup!$C$5+COLUMN()-26),\"x\")","v":"x"},{"$f":"IF($E22=\"Y\",INDEX(OIQraw,ROW(),Setup!$C$5+COLUMN()-26),\"x\")","v":"x"},{"$f":"IF($E22=\"Y\",INDEX(OIQraw,ROW(),Setup!$C$5+COLUMN()-26),\"x\")","v":"x"},{"$f":"IF($E22=\"Y\",INDEX(OIQraw,ROW(),Setup!$C$5+COLUMN()-26),\"x\")","v":"x"},{"$f":"IF($E22=\"Y\",INDEX(OIQraw,ROW(),Setup!$C$5+COLUMN()-26),\"x\")","v":"x"},{"$f":"IF($E22=\"Y\",INDEX(OIQraw,ROW(),Setup!$C$5+COLUMN()-26),\"x\")","v":"x"},{"$f":"IF($E22=\"Y\",INDEX(OIQraw,ROW(),Setup!$C$5+COLUMN()-26),\"x\")","v":"x"},{"$f":"IF($E22=\"Y\",INDEX(OIQraw,ROW(),Setup!$C$5+COLUMN()-26),\"x\")","v":"x"},{"$f":"IF($E22=\"Y\",INDEX(OIQraw,ROW(),Setup!$C$5+COLUMN()-26),\"x\")","v":"x"},{"$f":"IF($E22=\"Y\",INDEX(OIQraw,ROW(),Setup!$C$5+COLUMN()-26),\"x\")","v":"x"},{"$f":"IF($E22=\"Y\",INDEX(OIQraw,ROW(),Setup!$C$5+COLUMN()-26),\"x\")","v":"x"},{"$f":"IF($E22=\"Y\",INDEX(OIQraw,ROW(),Setup!$C$5+COLUMN()-26),\"x\")","v":"x"},{"$f":"IF($E22=\"Y\",INDEX(OIQraw,ROW(),Setup!$C$5+COLUMN()-26),\"x\")","v":"x"},{"$f":"IF($E22=\"Y\",INDEX(OIQraw,ROW(),Setup!$C$5+COLUMN()-26),\"x\")","v":"x"},{"$f":"IF($E22=\"Y\",INDEX(OIQraw,ROW(),Setup!$C$5+COLUMN()-26),\"x\")","v":"x"},{"$f":"IF($E22=\"Y\",INDEX(OIQraw,ROW(),Setup!$C$5+COLUMN()-26),\"x\")","v":"x"},{"$f":"IF($E22=\"Y\",INDEX(OIQraw,ROW(),Setup!$C$5+COLUMN()-26),\"x\")","v":"x"},{"$f":"IF($E22=\"Y\",INDEX(OIQraw,ROW(),Setup!$C$5+COLUMN()-26),\"x\")","v":"x"},{"$f":"IF($E22=\"Y\",INDEX(OIQraw,ROW(),Setup!$C$5+COLUMN()-26),\"x\")","v":"x"},{"$f":"IF($E22=\"Y\",INDEX(OIQraw,ROW(),Setup!$C$5+COLUMN()-26),\"x\")","v":"x"},{"$f":"IF($E22=\"Y\",INDEX(OIQraw,ROW(),Setup!$C$5+COLUMN()-26),\"x\")","v":"x"},{"$f":"IF($E22=\"Y\",INDEX(OIQraw,ROW(),Setup!$C$5+COLUMN()-26),\"x\")","v":"x"},{"$f":"IF($E22=\"Y\",INDEX(OIQraw,ROW(),Setup!$C$5+COLUMN()-26),\"x\")","v":"x"},{"$f":"IF($E22=\"Y\",INDEX(OIQraw,ROW(),Setup!$C$5+COLUMN()-26),\"x\")","v":"x"},{"$f":"IF($E22=\"Y\",INDEX(OIQraw,ROW(),Setup!$C$5+COLUMN()-26),\"x\")","v":"x"},{"$f":"IF($E22=\"Y\",INDEX(OIQraw,ROW(),Setup!$C$5+COLUMN()-26),\"x\")","v":"x"},{"$f":"IF($E22=\"Y\",INDEX(OIQraw,ROW(),Setup!$C$5+COLUMN()-26),\"x\")","v":"x"},{"$f":"IF($E22=\"Y\",INDEX(OIQraw,ROW(),Setup!$C$5+COLUMN()-26),\"x\")","v":"x"},{"$f":"IF($E22=\"Y\",INDEX(OIQraw,ROW(),Setup!$C$5+COLUMN()-26),\"x\")","v":"x"},{"$f":"IF($E22=\"Y\",INDEX(OIQraw,ROW(),Setup!$C$5+COLUMN()-26),\"x\")","v":"x"},{"$f":"IF($E22=\"Y\",INDEX(OIQraw,ROW(),Setup!$C$5+COLUMN()-26),\"x\")","v":"x"},{"$f":"IF($E22=\"Y\",INDEX(OIQraw,ROW(),Setup!$C$5+COLUMN()-26),\"x\")","v":"x"},{"$f":"IF($E22=\"Y\",INDEX(OIQraw,ROW(),Setup!$C$5+COLUMN()-26),\"x\")","v":"x"},{"$f":"IF($E22=\"Y\",INDEX(OIQraw,ROW(),Setup!$C$5+COLUMN()-26),\"x\")","v":"x"},{"$f":"IF($E22=\"Y\",INDEX(OIQraw,ROW(),Setup!$C$5+COLUMN()-26),\"x\")","v":"x"},{"$f":"IF($E22=\"Y\",INDEX(OIQraw,ROW(),Setup!$C$5+COLUMN()-26),\"x\")","v":"x"},{"$f":"IF($E22=\"Y\",INDEX(OIQraw,ROW(),Setup!$C$5+COLUMN()-26),\"x\")","v":"x"},{"$f":"IF($E22=\"Y\",INDEX(OIQraw,ROW(),Setup!$C$5+COLUMN()-26),\"x\")","v":"x"},{"$f":"IF($E22=\"Y\",INDEX(OIQraw,ROW(),Setup!$C$5+COLUMN()-26),\"x\")","v":"x"},{"$f":"IF($E22=\"Y\",INDEX(OIQraw,ROW(),Setup!$C$5+COLUMN()-26),\"x\")","v":"x"},{"$f":"IF($E22=\"Y\",INDEX(OIQraw,ROW(),Setup!$C$5+COLUMN()-26),\"x\")","v":"x"},{"$f":"IF($E22=\"Y\",INDEX(OIQraw,ROW(),Setup!$C$5+COLUMN()-26),\"x\")","v":"x"},{"$f":"IF($E22=\"Y\",INDEX(OIQraw,ROW(),Setup!$C$5+COLUMN()-26),\"x\")","v":"x"},{"$f":"IF($E22=\"Y\",INDEX(OIQraw,ROW(),Setup!$C$5+COLUMN()-26),\"x\")","v":"x"},{"$f":"IF($E22=\"Y\",INDEX(OIQraw,ROW(),Setup!$C$5+COLUMN()-26),\"x\")","v":"x"},{"$f":"IF($E22=\"Y\",INDEX(OIQraw,ROW(),Setup!$C$5+COLUMN()-26),\"x\")","v":"x"},{"$f":"IF($E22=\"Y\",INDEX(OIQraw,ROW(),Setup!$C$5+COLUMN()-26),\"x\")","v":"x"},{"$f":"IF($E22=\"Y\",INDEX(OIQraw,ROW(),Setup!$C$5+COLUMN()-26),\"x\")","v":"x"},{"$f":"IF($E22=\"Y\",INDEX(OIQraw,ROW(),Setup!$C$5+COLUMN()-26),\"x\")","v":"x"},{"$f":"IF($E22=\"Y\",INDEX(OIQraw,ROW(),Setup!$C$5+COLUMN()-26),\"x\")","v":"x"},{"$f":"IF($E22=\"Y\",INDEX(OIQraw,ROW(),Setup!$C$5+COLUMN()-26),\"x\")","v":"x"},{"$f":"IF($E22=\"Y\",INDEX(OIQraw,ROW(),Setup!$C$5+COLUMN()-26),\"x\")","v":"x"},{"$f":"IF($E22=\"Y\",INDEX(OIQraw,ROW(),Setup!$C$5+COLUMN()-26),\"x\")","v":"x"},{"$f":"IF($E22=\"Y\",INDEX(OIQraw,ROW(),Setup!$C$5+COLUMN()-26),\"x\")","v":"x"},{"$f":"IF($E22=\"Y\",INDEX(OIQraw,ROW(),Setup!$C$5+COLUMN()-26),\"x\")","v":"x"},{"$f":"IF($E22=\"Y\",INDEX(OIQraw,ROW(),Setup!$C$5+COLUMN()-26),\"x\")","v":"x"},{"$f":"IF($E22=\"Y\",INDEX(OIQraw,ROW(),Setup!$C$5+COLUMN()-26),\"x\")","v":"x"},{"$f":"IF($E22=\"Y\",INDEX(OIQraw,ROW(),Setup!$C$5+COLUMN()-26),\"x\")","v":"x"},{"$f":"IF($E22=\"Y\",INDEX(OIQraw,ROW(),Setup!$C$5+COLUMN()-26),\"x\")","v":"x"},{"$f":"IF($E22=\"Y\",INDEX(OIQraw,ROW(),Setup!$C$5+COLUMN()-26),\"x\")","v":"x"},{"$f":"IF($E22=\"Y\",INDEX(OIQraw,ROW(),Setup!$C$5+COLUMN()-26),\"x\")","v":"x"},{"$f":"IF($E22=\"Y\",INDEX(OIQraw,ROW(),Setup!$C$5+COLUMN()-26),\"x\")","v":"x"},{"$f":"IF($E22=\"Y\",INDEX(OIQraw,ROW(),Setup!$C$5+COLUMN()-26),\"x\")","v":"x"},{"$f":"IF($E22=\"Y\",INDEX(OIQraw,ROW(),Setup!$C$5+COLUMN()-26),\"x\")","v":"x"},{"$f":"IF($E22=\"Y\",INDEX(OIQraw,ROW(),Setup!$C$5+COLUMN()-26),\"x\")","v":"x"},{"$f":"IF($E22=\"Y\",INDEX(OIQraw,ROW(),Setup!$C$5+COLUMN()-26),\"x\")","v":"x"},{"$f":"IF($E22=\"Y\",INDEX(OIQraw,ROW(),Setup!$C$5+COLUMN()-26),\"x\")","v":"x"},{"$f":"IF($E22=\"Y\",INDEX(OIQraw,ROW(),Setup!$C$5+COLUMN()-26),\"x\")","v":"x"},{"$f":"IF($E22=\"Y\",INDEX(OIQraw,ROW(),Setup!$C$5+COLUMN()-26),\"x\")","v":"x"},{"$f":"IF($E22=\"Y\",INDEX(OIQraw,ROW(),Setup!$C$5+COLUMN()-26),\"x\")","v":"x"},{"$f":"IF($E22=\"Y\",INDEX(OIQraw,ROW(),Setup!$C$5+COLUMN()-26),\"x\")","v":"x"},{"$f":"IF($E22=\"Y\",INDEX(OIQraw,ROW(),Setup!$C$5+COLUMN()-26),\"x\")","v":"x"},{"$f":"IF($E22=\"Y\",INDEX(OIQraw,ROW(),Setup!$C$5+COLUMN()-26),\"x\")","v":"x"},{"$f":"IF($E22=\"Y\",INDEX(OIQraw,ROW(),Setup!$C$5+COLUMN()-26),\"x\")","v":"x"},{"$f":"IF($E22=\"Y\",INDEX(OIQraw,ROW(),Setup!$C$5+COLUMN()-26),\"x\")","v":"x"},{"$f":"IF($E22=\"Y\",INDEX(OIQraw,ROW(),Setup!$C$5+COLUMN()-26),\"x\")","v":"x"},{"$f":"IF($E22=\"Y\",INDEX(OIQraw,ROW(),Setup!$C$5+COLUMN()-26),\"x\")","v":"x"},{"$f":"IF($E22=\"Y\",INDEX(OIQraw,ROW(),Setup!$C$5+COLUMN()-26),\"x\")","v":"x"},{"$f":"IF($E22=\"Y\",INDEX(OIQraw,ROW(),Setup!$C$5+COLUMN()-26),\"x\")","v":"x"},{"$f":"IF($E22=\"Y\",INDEX(OIQraw,ROW(),Setup!$C$5+COLUMN()-26),\"x\")","v":"x"},{"$f":"IF($E22=\"Y\",INDEX(OIQraw,ROW(),Setup!$C$5+COLUMN()-26),\"x\")","v":"x"},{"$f":"IF($E22=\"Y\",INDEX(OIQraw,ROW(),Setup!$C$5+COLUMN()-26),\"x\")","v":"x"},{"$f":"IF($E22=\"Y\",INDEX(OIQraw,ROW(),Setup!$C$5+COLUMN()-26),\"x\")","v":"x"},{"$f":"IF($E22=\"Y\",INDEX(OIQraw,ROW(),Setup!$C$5+COLUMN()-26),\"x\")","v":"x"},{"$f":"IF($E22=\"Y\",INDEX(OIQraw,ROW(),Setup!$C$5+COLUMN()-26),\"x\")","v":"x"},{"$f":"IF($E22=\"Y\",INDEX(OIQraw,ROW(),Setup!$C$5+COLUMN()-26),\"x\")","v":"x"},{"$f":"IF($E22=\"Y\",INDEX(OIQraw,ROW(),Setup!$C$5+COLUMN()-26),\"x\")","v":"x"},{"$f":"IF($E22=\"Y\",INDEX(OIQraw,ROW(),Setup!$C$5+COLUMN()-26),\"x\")","v":"x"},{"$f":"IF($E22=\"Y\",INDEX(OIQraw,ROW(),Setup!$C$5+COLUMN()-26),\"x\")","v":"x"},{"$f":"IF($E22=\"Y\",INDEX(OIQraw,ROW(),Setup!$C$5+COLUMN()-26),\"x\")","v":"x"},{"$f":"IF($E22=\"Y\",INDEX(OIQraw,ROW(),Setup!$C$5+COLUMN()-26),\"x\")","v":"x"},{"$f":"IF($E22=\"Y\",INDEX(OIQraw,ROW(),Setup!$C$5+COLUMN()-26),\"x\")","v":"x"},{"$f":"IF($E22=\"Y\",INDEX(OIQraw,ROW(),Setup!$C$5+COLUMN()-26),\"x\")","v":"x"},{"$f":"IF($E22=\"Y\",INDEX(OIQraw,ROW(),Setup!$C$5+COLUMN()-26),\"x\")","v":"x"},{"$f":"IF($E22=\"Y\",INDEX(OIQraw,ROW(),Setup!$C$5+COLUMN()-26),\"x\")","v":"x"},{"$f":"IF($E22=\"Y\",INDEX(OIQraw,ROW(),Setup!$C$5+COLUMN()-26),\"x\")","v":"x"},{"$f":"IF($E22=\"Y\",INDEX(OIQraw,ROW(),Setup!$C$5+COLUMN()-26),\"x\")","v":"x"},{"$f":"IF($E22=\"Y\",INDEX(OIQraw,ROW(),Setup!$C$5+COLUMN()-26),\"x\")","v":"x"},{"$f":"IF($E22=\"Y\",INDEX(OIQraw,ROW(),Setup!$C$5+COLUMN()-26),\"x\")","v":"x"},{"$f":"IF($E22=\"Y\",INDEX(OIQraw,ROW(),Setup!$C$5+COLUMN()-26),\"x\")","v":"x"},{"$f":"IF($E22=\"Y\",INDEX(OIQraw,ROW(),Setup!$C$5+COLUMN()-26),\"x\")","v":"x"},{"$f":"IF($E22=\"Y\",INDEX(OIQraw,ROW(),Setup!$C$5+COLUMN()-26),\"x\")","v":"x"},{"$f":"IF($E22=\"Y\",INDEX(OIQraw,ROW(),Setup!$C$5+COLUMN()-26),\"x\")","v":"x"},{"$f":"IF($E22=\"Y\",INDEX(OIQraw,ROW(),Setup!$C$5+COLUMN()-26),\"x\")","v":"x"},{"$f":"IF($E22=\"Y\",INDEX(OIQraw,ROW(),Setup!$C$5+COLUMN()-26),\"x\")","v":"x"},{"$f":"IF($E22=\"Y\",INDEX(OIQraw,ROW(),Setup!$C$5+COLUMN()-26),\"x\")","v":"x"},{"$f":"IF($E22=\"Y\",INDEX(OIQraw,ROW(),Setup!$C$5+COLUMN()-26),\"x\")","v":"x"},{"$f":"IF($E22=\"Y\",INDEX(OIQraw,ROW(),Setup!$C$5+COLUMN()-26),\"x\")","v":"x"},{"$f":"IF($E22=\"Y\",INDEX(OIQraw,ROW(),Setup!$C$5+COLUMN()-26),\"x\")","v":"x"},{"$f":"IF($E22=\"Y\",INDEX(OIQraw,ROW(),Setup!$C$5+COLUMN()-26),\"x\")","v":"x"},{"$f":"IF($E22=\"Y\",INDEX(OIQraw,ROW(),Setup!$C$5+COLUMN()-26),\"x\")","v":"x"},{"$f":"IF($E22=\"Y\",INDEX(OIQraw,ROW(),Setup!$C$5+COLUMN()-26),\"x\")","v":"x"},{"$f":"IF($E22=\"Y\",INDEX(OIQraw,ROW(),Setup!$C$5+COLUMN()-26),\"x\")","v":"x"},{"$f":"IF($E22=\"Y\",INDEX(OIQraw,ROW(),Setup!$C$5+COLUMN()-26),\"x\")","v":"x"},{"$f":"IF($E22=\"Y\",INDEX(OIQraw,ROW(),Setup!$C$5+COLUMN()-26),\"x\")","v":"x"},{"$f":"IF($E22=\"Y\",INDEX(OIQraw,ROW(),Setup!$C$5+COLUMN()-26),\"x\")","v":"x"},{"$f":"IF($E22=\"Y\",INDEX(OIQraw,ROW(),Setup!$C$5+COLUMN()-26),\"x\")","v":"x"},{"$f":"IF($E22=\"Y\",INDEX(OIQraw,ROW(),Setup!$C$5+COLUMN()-26),\"x\")","v":"x"},{"$f":"IF($E22=\"Y\",INDEX(OIQraw,ROW(),Setup!$C$5+COLUMN()-26),\"x\")","v":"x"},{"$f":"IF($E22=\"Y\",INDEX(OIQraw,ROW(),Setup!$C$5+COLUMN()-26),\"x\")","v":"x"},{"$f":"IF($E22=\"Y\",INDEX(OIQraw,ROW(),Setup!$C$5+COLUMN()-26),\"x\")","v":"x"},{"$f":"IF($E22=\"Y\",INDEX(OIQraw,ROW(),Setup!$C$5+COLUMN()-26),\"x\")","v":"x"},{"$f":"IF($E22=\"Y\",INDEX(OIQraw,ROW(),Setup!$C$5+COLUMN()-26),\"x\")","v":"x"},{"$f":"IF($E22=\"Y\",INDEX(OIQraw,ROW(),Setup!$C$5+COLUMN()-26),\"x\")","v":"x"},{"$f":"IF($E22=\"Y\",INDEX(OIQraw,ROW(),Setup!$C$5+COLUMN()-26),\"x\")","v":"x"},{"$f":"IF($E22=\"Y\",INDEX(OIQraw,ROW(),Setup!$C$5+COLUMN()-26),\"x\")","v":"x"},{"$f":"IF($E22=\"Y\",INDEX(OIQraw,ROW(),Setup!$C$5+COLUMN()-26),\"x\")","v":"x"},{"$f":"IF($E22=\"Y\",INDEX(OIQraw,ROW(),Setup!$C$5+COLUMN()-26),\"x\")","v":"x"},{"$f":"IF($E22=\"Y\",INDEX(OIQraw,ROW(),Setup!$C$5+COLUMN()-26),\"x\")","v":"x"},{"$f":"IF($E22=\"Y\",INDEX(OIQraw,ROW(),Setup!$C$5+COLUMN()-26),\"x\")","v":"x"}]
[1,"","",{"$f":"IF(ISERROR(FIND(\"Withdrew\",RawScores!B27)),RawScores!B27,RIGHT(RawScores!B27,LEN(RawScores!B27)-17))&\", \"&RawScores!C27","v":", "},{"$f":"IF(OR(ISERROR(FIND(\"Withdrew\",RawScores!B27))=FALSE,INDEX(OIQraw,ROW(),LastInputCol-3)=0),\"N\",IF(AND(Setup!$B$22=\"Yes\",INDEX(OIQraw,ROW(),LastInputCol)=1),\"N\",\"Y\"))","v":"N"},"X","X","X",{"$f":"IF(AND(ISNUMBER(F23),F23>Setup!$B$14-1),1,0)","v":0},{"$f":"IF(AND(F23>Setup!$B$14-1,Conv!H23<5),1,0)","v":0},{"$f":"IF(AND(F23>Setup!$B$14-1,Conv!G23=\"F\"),1,0)","v":0},"","","","","","","","","","","","","X","X",{"$f":"IF($E23=\"Y\",INDEX(OIQraw,ROW(),Setup!$C$5+COLUMN()-26),\"x\")","v":"x"},{"$f":"IF($E23=\"Y\",INDEX(OIQraw,ROW(),Setup!$C$5+COLUMN()-26),\"x\")","v":"x"},{"$f":"IF($E23=\"Y\",INDEX(OIQraw,ROW(),Setup!$C$5+COLUMN()-26),\"x\")","v":"x"},{"$f":"IF($E23=\"Y\",INDEX(OIQraw,ROW(),Setup!$C$5+COLUMN()-26),\"x\")","v":"x"},{"$f":"IF($E23=\"Y\",INDEX(OIQraw,ROW(),Setup!$C$5+COLUMN()-26),\"x\")","v":"x"},{"$f":"IF($E23=\"Y\",INDEX(OIQraw,ROW(),Setup!$C$5+COLUMN()-26),\"x\")","v":"x"},{"$f":"IF($E23=\"Y\",INDEX(OIQraw,ROW(),Setup!$C$5+COLUMN()-26),\"x\")","v":"x"},{"$f":"IF($E23=\"Y\",INDEX(OIQraw,ROW(),Setup!$C$5+COLUMN()-26),\"x\")","v":"x"},{"$f":"IF($E23=\"Y\",INDEX(OIQraw,ROW(),Setup!$C$5+COLUMN()-26),\"x\")","v":"x"},{"$f":"IF($E23=\"Y\",INDEX(OIQraw,ROW(),Setup!$C$5+COLUMN()-26),\"x\")","v":"x"},{"$f":"IF($E23=\"Y\",INDEX(OIQraw,ROW(),Setup!$C$5+COLUMN()-26),\"x\")","v":"x"},{"$f":"IF($E23=\"Y\",INDEX(OIQraw,ROW(),Setup!$C$5+COLUMN()-26),\"x\")","v":"x"},{"$f":"IF($E23=\"Y\",INDEX(OIQraw,ROW(),Setup!$C$5+COLUMN()-26),\"x\")","v":"x"},{"$f":"IF($E23=\"Y\",INDEX(OIQraw,ROW(),Setup!$C$5+COLUMN()-26),\"x\")","v":"x"},{"$f":"IF($E23=\"Y\",INDEX(OIQraw,ROW(),Setup!$C$5+COLUMN()-26),\"x\")","v":"x"},{"$f":"IF($E23=\"Y\",INDEX(OIQraw,ROW(),Setup!$C$5+COLUMN()-26),\"x\")","v":"x"},{"$f":"IF($E23=\"Y\",INDEX(OIQraw,ROW(),Setup!$C$5+COLUMN()-26),\"x\")","v":"x"},{"$f":"IF($E23=\"Y\",INDEX(OIQraw,ROW(),Setup!$C$5+COLUMN()-26),\"x\")","v":"x"},{"$f":"IF($E23=\"Y\",INDEX(OIQraw,ROW(),Setup!$C$5+COLUMN()-26),\"x\")","v":"x"},{"$f":"IF($E23=\"Y\",INDEX(OIQraw,ROW(),Setup!$C$5+COLUMN()-26),\"x\")","v":"x"},{"$f":"IF($E23=\"Y\",INDEX(OIQraw,ROW(),Setup!$C$5+COLUMN()-26),\"x\")","v":"x"},{"$f":"IF($E23=\"Y\",INDEX(OIQraw,ROW(),Setup!$C$5+COLUMN()-26),\"x\")","v":"x"},{"$f":"IF($E23=\"Y\",INDEX(OIQraw,ROW(),Setup!$C$5+COLUMN()-26),\"x\")","v":"x"},{"$f":"IF($E23=\"Y\",INDEX(OIQraw,ROW(),Setup!$C$5+COLUMN()-26),\"x\")","v":"x"},{"$f":"IF($E23=\"Y\",INDEX(OIQraw,ROW(),Setup!$C$5+COLUMN()-26),\"x\")","v":"x"},{"$f":"IF($E23=\"Y\",INDEX(OIQraw,ROW(),Setup!$C$5+COLUMN()-26),\"x\")","v":"x"},{"$f":"IF($E23=\"Y\",INDEX(OIQraw,ROW(),Setup!$C$5+COLUMN()-26),\"x\")","v":"x"},{"$f":"IF($E23=\"Y\",INDEX(OIQraw,ROW(),Setup!$C$5+COLUMN()-26),\"x\")","v":"x"},{"$f":"IF($E23=\"Y\",INDEX(OIQraw,ROW(),Setup!$C$5+COLUMN()-26),\"x\")","v":"x"},{"$f":"IF($E23=\"Y\",INDEX(OIQraw,ROW(),Setup!$C$5+COLUMN()-26),\"x\")","v":"x"},{"$f":"IF($E23=\"Y\",INDEX(OIQraw,ROW(),Setup!$C$5+COLUMN()-26),\"x\")","v":"x"},{"$f":"IF($E23=\"Y\",INDEX(OIQraw,ROW(),Setup!$C$5+COLUMN()-26),\"x\")","v":"x"},{"$f":"IF($E23=\"Y\",INDEX(OIQraw,ROW(),Setup!$C$5+COLUMN()-26),\"x\")","v":"x"},{"$f":"IF($E23=\"Y\",INDEX(OIQraw,ROW(),Setup!$C$5+COLUMN()-26),\"x\")","v":"x"},{"$f":"IF($E23=\"Y\",INDEX(OIQraw,ROW(),Setup!$C$5+COLUMN()-26),\"x\")","v":"x"},{"$f":"IF($E23=\"Y\",INDEX(OIQraw,ROW(),Setup!$C$5+COLUMN()-26),\"x\")","v":"x"},{"$f":"IF($E23=\"Y\",INDEX(OIQraw,ROW(),Setup!$C$5+COLUMN()-26),\"x\")","v":"x"},{"$f":"IF($E23=\"Y\",INDEX(OIQraw,ROW(),Setup!$C$5+COLUMN()-26),\"x\")","v":"x"},{"$f":"IF($E23=\"Y\",INDEX(OIQraw,ROW(),Setup!$C$5+COLUMN()-26),\"x\")","v":"x"},{"$f":"IF($E23=\"Y\",INDEX(OIQraw,ROW(),Setup!$C$5+COLUMN()-26),\"x\")","v":"x"},{"$f":"IF($E23=\"Y\",INDEX(OIQraw,ROW(),Setup!$C$5+COLUMN()-26),\"x\")","v":"x"},{"$f":"IF($E23=\"Y\",INDEX(OIQraw,ROW(),Setup!$C$5+COLUMN()-26),\"x\")","v":"x"},{"$f":"IF($E23=\"Y\",INDEX(OIQraw,ROW(),Setup!$C$5+COLUMN()-26),\"x\")","v":"x"},{"$f":"IF($E23=\"Y\",INDEX(OIQraw,ROW(),Setup!$C$5+COLUMN()-26),\"x\")","v":"x"},{"$f":"IF($E23=\"Y\",INDEX(OIQraw,ROW(),Setup!$C$5+COLUMN()-26),\"x\")","v":"x"},{"$f":"IF($E23=\"Y\",INDEX(OIQraw,ROW(),Setup!$C$5+COLUMN()-26),\"x\")","v":"x"},{"$f":"IF($E23=\"Y\",INDEX(OIQraw,ROW(),Setup!$C$5+COLUMN()-26),\"x\")","v":"x"},{"$f":"IF($E23=\"Y\",INDEX(OIQraw,ROW(),Setup!$C$5+COLUMN()-26),\"x\")","v":"x"},{"$f":"IF($E23=\"Y\",INDEX(OIQraw,ROW(),Setup!$C$5+COLUMN()-26),\"x\")","v":"x"},{"$f":"IF($E23=\"Y\",INDEX(OIQraw,ROW(),Setup!$C$5+COLUMN()-26),\"x\")","v":"x"},{"$f":"IF($E23=\"Y\",INDEX(OIQraw,ROW(),Setup!$C$5+COLUMN()-26),\"x\")","v":"x"},{"$f":"IF($E23=\"Y\",INDEX(OIQraw,ROW(),Setup!$C$5+COLUMN()-26),\"x\")","v":"x"},{"$f":"IF($E23=\"Y\",INDEX(OIQraw,ROW(),Setup!$C$5+COLUMN()-26),\"x\")","v":"x"},{"$f":"IF($E23=\"Y\",INDEX(OIQraw,ROW(),Setup!$C$5+COLUMN()-26),\"x\")","v":"x"},{"$f":"IF($E23=\"Y\",INDEX(OIQraw,ROW(),Setup!$C$5+COLUMN()-26),\"x\")","v":"x"},{"$f":"IF($E23=\"Y\",INDEX(OIQraw,ROW(),Setup!$C$5+COLUMN()-26),\"x\")","v":"x"},{"$f":"IF($E23=\"Y\",INDEX(OIQraw,ROW(),Setup!$C$5+COLUMN()-26),\"x\")","v":"x"},{"$f":"IF($E23=\"Y\",INDEX(OIQraw,ROW(),Setup!$C$5+COLUMN()-26),\"x\")","v":"x"},{"$f":"IF($E23=\"Y\",INDEX(OIQraw,ROW(),Setup!$C$5+COLUMN()-26),\"x\")","v":"x"},{"$f":"IF($E23=\"Y\",INDEX(OIQraw,ROW(),Setup!$C$5+COLUMN()-26),\"x\")","v":"x"},{"$f":"IF($E23=\"Y\",INDEX(OIQraw,ROW(),Setup!$C$5+COLUMN()-26),\"x\")","v":"x"},{"$f":"IF($E23=\"Y\",INDEX(OIQraw,ROW(),Setup!$C$5+COLUMN()-26),\"x\")","v":"x"},{"$f":"IF($E23=\"Y\",INDEX(OIQraw,ROW(),Setup!$C$5+COLUMN()-26),\"x\")","v":"x"},{"$f":"IF($E23=\"Y\",INDEX(OIQraw,ROW(),Setup!$C$5+COLUMN()-26),\"x\")","v":"x"},{"$f":"IF($E23=\"Y\",INDEX(OIQraw,ROW(),Setup!$C$5+COLUMN()-26),\"x\")","v":"x"},{"$f":"IF($E23=\"Y\",INDEX(OIQraw,ROW(),Setup!$C$5+COLUMN()-26),\"x\")","v":"x"},{"$f":"IF($E23=\"Y\",INDEX(OIQraw,ROW(),Setup!$C$5+COLUMN()-26),\"x\")","v":"x"},{"$f":"IF($E23=\"Y\",INDEX(OIQraw,ROW(),Setup!$C$5+COLUMN()-26),\"x\")","v":"x"},{"$f":"IF($E23=\"Y\",INDEX(OIQraw,ROW(),Setup!$C$5+COLUMN()-26),\"x\")","v":"x"},{"$f":"IF($E23=\"Y\",INDEX(OIQraw,ROW(),Setup!$C$5+COLUMN()-26),\"x\")","v":"x"},{"$f":"IF($E23=\"Y\",INDEX(OIQraw,ROW(),Setup!$C$5+COLUMN()-26),\"x\")","v":"x"},{"$f":"IF($E23=\"Y\",INDEX(OIQraw,ROW(),Setup!$C$5+COLUMN()-26),\"x\")","v":"x"},{"$f":"IF($E23=\"Y\",INDEX(OIQraw,ROW(),Setup!$C$5+COLUMN()-26),\"x\")","v":"x"},{"$f":"IF($E23=\"Y\",INDEX(OIQraw,ROW(),Setup!$C$5+COLUMN()-26),\"x\")","v":"x"},{"$f":"IF($E23=\"Y\",INDEX(OIQraw,ROW(),Setup!$C$5+COLUMN()-26),\"x\")","v":"x"},{"$f":"IF($E23=\"Y\",INDEX(OIQraw,ROW(),Setup!$C$5+COLUMN()-26),\"x\")","v":"x"},{"$f":"IF($E23=\"Y\",INDEX(OIQraw,ROW(),Setup!$C$5+COLUMN()-26),\"x\")","v":"x"},{"$f":"IF($E23=\"Y\",INDEX(OIQraw,ROW(),Setup!$C$5+COLUMN()-26),\"x\")","v":"x"},{"$f":"IF($E23=\"Y\",INDEX(OIQraw,ROW(),Setup!$C$5+COLUMN()-26),\"x\")","v":"x"},{"$f":"IF($E23=\"Y\",INDEX(OIQraw,ROW(),Setup!$C$5+COLUMN()-26),\"x\")","v":"x"},{"$f":"IF($E23=\"Y\",INDEX(OIQraw,ROW(),Setup!$C$5+COLUMN()-26),\"x\")","v":"x"},{"$f":"IF($E23=\"Y\",INDEX(OIQraw,ROW(),Setup!$C$5+COLUMN()-26),\"x\")","v":"x"},{"$f":"IF($E23=\"Y\",INDEX(OIQraw,ROW(),Setup!$C$5+COLUMN()-26),\"x\")","v":"x"},{"$f":"IF($E23=\"Y\",INDEX(OIQraw,ROW(),Setup!$C$5+COLUMN()-26),\"x\")","v":"x"},{"$f":"IF($E23=\"Y\",INDEX(OIQraw,ROW(),Setup!$C$5+COLUMN()-26),\"x\")","v":"x"},{"$f":"IF($E23=\"Y\",INDEX(OIQraw,ROW(),Setup!$C$5+COLUMN()-26),\"x\")","v":"x"},{"$f":"IF($E23=\"Y\",INDEX(OIQraw,ROW(),Setup!$C$5+COLUMN()-26),\"x\")","v":"x"},{"$f":"IF($E23=\"Y\",INDEX(OIQraw,ROW(),Setup!$C$5+COLUMN()-26),\"x\")","v":"x"},{"$f":"IF($E23=\"Y\",INDEX(OIQraw,ROW(),Setup!$C$5+COLUMN()-26),\"x\")","v":"x"},{"$f":"IF($E23=\"Y\",INDEX(OIQraw,ROW(),Setup!$C$5+COLUMN()-26),\"x\")","v":"x"},{"$f":"IF($E23=\"Y\",INDEX(OIQraw,ROW(),Setup!$C$5+COLUMN()-26),\"x\")","v":"x"},{"$f":"IF($E23=\"Y\",INDEX(OIQraw,ROW(),Setup!$C$5+COLUMN()-26),\"x\")","v":"x"},{"$f":"IF($E23=\"Y\",INDEX(OIQraw,ROW(),Setup!$C$5+COLUMN()-26),\"x\")","v":"x"},{"$f":"IF($E23=\"Y\",INDEX(OIQraw,ROW(),Setup!$C$5+COLUMN()-26),\"x\")","v":"x"},{"$f":"IF($E23=\"Y\",INDEX(OIQraw,ROW(),Setup!$C$5+COLUMN()-26),\"x\")","v":"x"},{"$f":"IF($E23=\"Y\",INDEX(OIQraw,ROW(),Setup!$C$5+COLUMN()-26),\"x\")","v":"x"},{"$f":"IF($E23=\"Y\",INDEX(OIQraw,ROW(),Setup!$C$5+COLUMN()-26),\"x\")","v":"x"},{"$f":"IF($E23=\"Y\",INDEX(OIQraw,ROW(),Setup!$C$5+COLUMN()-26),\"x\")","v":"x"},{"$f":"IF($E23=\"Y\",INDEX(OIQraw,ROW(),Setup!$C$5+COLUMN()-26),\"x\")","v":"x"},{"$f":"IF($E23=\"Y\",INDEX(OIQraw,ROW(),Setup!$C$5+COLUMN()-26),\"x\")","v":"x"},{"$f":"IF($E23=\"Y\",INDEX(OIQraw,ROW(),Setup!$C$5+COLUMN()-26),\"x\")","v":"x"},{"$f":"IF($E23=\"Y\",INDEX(OIQraw,ROW(),Setup!$C$5+COLUMN()-26),\"x\")","v":"x"},{"$f":"IF($E23=\"Y\",INDEX(OIQraw,ROW(),Setup!$C$5+COLUMN()-26),\"x\")","v":"x"},{"$f":"IF($E23=\"Y\",INDEX(OIQraw,ROW(),Setup!$C$5+COLUMN()-26),\"x\")","v":"x"},{"$f":"IF($E23=\"Y\",INDEX(OIQraw,ROW(),Setup!$C$5+COLUMN()-26),\"x\")","v":"x"},{"$f":"IF($E23=\"Y\",INDEX(OIQraw,ROW(),Setup!$C$5+COLUMN()-26),\"x\")","v":"x"},{"$f":"IF($E23=\"Y\",INDEX(OIQraw,ROW(),Setup!$C$5+COLUMN()-26),\"x\")","v":"x"},{"$f":"IF($E23=\"Y\",INDEX(OIQraw,ROW(),Setup!$C$5+COLUMN()-26),\"x\")","v":"x"},{"$f":"IF($E23=\"Y\",INDEX(OIQraw,ROW(),Setup!$C$5+COLUMN()-26),\"x\")","v":"x"},{"$f":"IF($E23=\"Y\",INDEX(OIQraw,ROW(),Setup!$C$5+COLUMN()-26),\"x\")","v":"x"},{"$f":"IF($E23=\"Y\",INDEX(OIQraw,ROW(),Setup!$C$5+COLUMN()-26),\"x\")","v":"x"},{"$f":"IF($E23=\"Y\",INDEX(OIQraw,ROW(),Setup!$C$5+COLUMN()-26),\"x\")","v":"x"},{"$f":"IF($E23=\"Y\",INDEX(OIQraw,ROW(),Setup!$C$5+COLUMN()-26),\"x\")","v":"x"},{"$f":"IF($E23=\"Y\",INDEX(OIQraw,ROW(),Setup!$C$5+COLUMN()-26),\"x\")","v":"x"},{"$f":"IF($E23=\"Y\",INDEX(OIQraw,ROW(),Setup!$C$5+COLUMN()-26),\"x\")","v":"x"},{"$f":"IF($E23=\"Y\",INDEX(OIQraw,ROW(),Setup!$C$5+COLUMN()-26),\"x\")","v":"x"},{"$f":"IF($E23=\"Y\",INDEX(OIQraw,ROW(),Setup!$C$5+COLUMN()-26),\"x\")","v":"x"},{"$f":"IF($E23=\"Y\",INDEX(OIQraw,ROW(),Setup!$C$5+COLUMN()-26),\"x\")","v":"x"},{"$f":"IF($E23=\"Y\",INDEX(OIQraw,ROW(),Setup!$C$5+COLUMN()-26),\"x\")","v":"x"},{"$f":"IF($E23=\"Y\",INDEX(OIQraw,ROW(),Setup!$C$5+COLUMN()-26),\"x\")","v":"x"},{"$f":"IF($E23=\"Y\",INDEX(OIQraw,ROW(),Setup!$C$5+COLUMN()-26),\"x\")","v":"x"},{"$f":"IF($E23=\"Y\",INDEX(OIQraw,ROW(),Setup!$C$5+COLUMN()-26),\"x\")","v":"x"},{"$f":"IF($E23=\"Y\",INDEX(OIQraw,ROW(),Setup!$C$5+COLUMN()-26),\"x\")","v":"x"},{"$f":"IF($E23=\"Y\",INDEX(OIQraw,ROW(),Setup!$C$5+COLUMN()-26),\"x\")","v":"x"},{"$f":"IF($E23=\"Y\",INDEX(OIQraw,ROW(),Setup!$C$5+COLUMN()-26),\"x\")","v":"x"},{"$f":"IF($E23=\"Y\",INDEX(OIQraw,ROW(),Setup!$C$5+COLUMN()-26),\"x\")","v":"x"},{"$f":"IF($E23=\"Y\",INDEX(OIQraw,ROW(),Setup!$C$5+COLUMN()-26),\"x\")","v":"x"},{"$f":"IF($E23=\"Y\",INDEX(OIQraw,ROW(),Setup!$C$5+COLUMN()-26),\"x\")","v":"x"},{"$f":"IF($E23=\"Y\",INDEX(OIQraw,ROW(),Setup!$C$5+COLUMN()-26),\"x\")","v":"x"},{"$f":"IF($E23=\"Y\",INDEX(OIQraw,ROW(),Setup!$C$5+COLUMN()-26),\"x\")","v":"x"},{"$f":"IF($E23=\"Y\",INDEX(OIQraw,ROW(),Setup!$C$5+COLUMN()-26),\"x\")","v":"x"},{"$f":"IF($E23=\"Y\",INDEX(OIQraw,ROW(),Setup!$C$5+COLUMN()-26),\"x\")","v":"x"},{"$f":"IF($E23=\"Y\",INDEX(OIQraw,ROW(),Setup!$C$5+COLUMN()-26),\"x\")","v":"x"},{"$f":"IF($E23=\"Y\",INDEX(OIQraw,ROW(),Setup!$C$5+COLUMN()-26),\"x\")","v":"x"},{"$f":"IF($E23=\"Y\",INDEX(OIQraw,ROW(),Setup!$C$5+COLUMN()-26),\"x\")","v":"x"},{"$f":"IF($E23=\"Y\",INDEX(OIQraw,ROW(),Setup!$C$5+COLUMN()-26),\"x\")","v":"x"},{"$f":"IF($E23=\"Y\",INDEX(OIQraw,ROW(),Setup!$C$5+COLUMN()-26),\"x\")","v":"x"},{"$f":"IF($E23=\"Y\",INDEX(OIQraw,ROW(),Setup!$C$5+COLUMN()-26),\"x\")","v":"x"},{"$f":"IF($E23=\"Y\",INDEX(OIQraw,ROW(),Setup!$C$5+COLUMN()-26),\"x\")","v":"x"},{"$f":"IF($E23=\"Y\",INDEX(OIQraw,ROW(),Setup!$C$5+COLUMN()-26),\"x\")","v":"x"},{"$f":"IF($E23=\"Y\",INDEX(OIQraw,ROW(),Setup!$C$5+COLUMN()-26),\"x\")","v":"x"},{"$f":"IF($E23=\"Y\",INDEX(OIQraw,ROW(),Setup!$C$5+COLUMN()-26),\"x\")","v":"x"},{"$f":"IF($E23=\"Y\",INDEX(OIQraw,ROW(),Setup!$C$5+COLUMN()-26),\"x\")","v":"x"},{"$f":"IF($E23=\"Y\",INDEX(OIQraw,ROW(),Setup!$C$5+COLUMN()-26),\"x\")","v":"x"},{"$f":"IF($E23=\"Y\",INDEX(OIQraw,ROW(),Setup!$C$5+COLUMN()-26),\"x\")","v":"x"},{"$f":"IF($E23=\"Y\",INDEX(OIQraw,ROW(),Setup!$C$5+COLUMN()-26),\"x\")","v":"x"},{"$f":"IF($E23=\"Y\",INDEX(OIQraw,ROW(),Setup!$C$5+COLUMN()-26),\"x\")","v":"x"},{"$f":"IF($E23=\"Y\",INDEX(OIQraw,ROW(),Setup!$C$5+COLUMN()-26),\"x\")","v":"x"},{"$f":"IF($E23=\"Y\",INDEX(OIQraw,ROW(),Setup!$C$5+COLUMN()-26),\"x\")","v":"x"},{"$f":"IF($E23=\"Y\",INDEX(OIQraw,ROW(),Setup!$C$5+COLUMN()-26),\"x\")","v":"x"},{"$f":"IF($E23=\"Y\",INDEX(OIQraw,ROW(),Setup!$C$5+COLUMN()-26),\"x\")","v":"x"},{"$f":"IF($E23=\"Y\",INDEX(OIQraw,ROW(),Setup!$C$5+COLUMN()-26),\"x\")","v":"x"},{"$f":"IF($E23=\"Y\",INDEX(OIQraw,ROW(),Setup!$C$5+COLUMN()-26),\"x\")","v":"x"},{"$f":"IF($E23=\"Y\",INDEX(OIQraw,ROW(),Setup!$C$5+COLUMN()-26),\"x\")","v":"x"},{"$f":"IF($E23=\"Y\",INDEX(OIQraw,ROW(),Setup!$C$5+COLUMN()-26),\"x\")","v":"x"},{"$f":"IF($E23=\"Y\",INDEX(OIQraw,ROW(),Setup!$C$5+COLUMN()-26),\"x\")","v":"x"},{"$f":"IF($E23=\"Y\",INDEX(OIQraw,ROW(),Setup!$C$5+COLUMN()-26),\"x\")","v":"x"},{"$f":"IF($E23=\"Y\",INDEX(OIQraw,ROW(),Setup!$C$5+COLUMN()-26),\"x\")","v":"x"},{"$f":"IF($E23=\"Y\",INDEX(OIQraw,ROW(),Setup!$C$5+COLUMN()-26),\"x\")","v":"x"},{"$f":"IF($E23=\"Y\",INDEX(OIQraw,ROW(),Setup!$C$5+COLUMN()-26),\"x\")","v":"x"},{"$f":"IF($E23=\"Y\",INDEX(OIQraw,ROW(),Setup!$C$5+COLUMN()-26),\"x\")","v":"x"},{"$f":"IF($E23=\"Y\",INDEX(OIQraw,ROW(),Setup!$C$5+COLUMN()-26),\"x\")","v":"x"},{"$f":"IF($E23=\"Y\",INDEX(OIQraw,ROW(),Setup!$C$5+COLUMN()-26),\"x\")","v":"x"},{"$f":"IF($E23=\"Y\",INDEX(OIQraw,ROW(),Setup!$C$5+COLUMN()-26),\"x\")","v":"x"},{"$f":"IF($E23=\"Y\",INDEX(OIQraw,ROW(),Setup!$C$5+COLUMN()-26),\"x\")","v":"x"},{"$f":"IF($E23=\"Y\",INDEX(OIQraw,ROW(),Setup!$C$5+COLUMN()-26),\"x\")","v":"x"},{"$f":"IF($E23=\"Y\",INDEX(OIQraw,ROW(),Setup!$C$5+COLUMN()-26),\"x\")","v":"x"},{"$f":"IF($E23=\"Y\",INDEX(OIQraw,ROW(),Setup!$C$5+COLUMN()-26),\"x\")","v":"x"},{"$f":"IF($E23=\"Y\",INDEX(OIQraw,ROW(),Setup!$C$5+COLUMN()-26),\"x\")","v":"x"},{"$f":"IF($E23=\"Y\",INDEX(OIQraw,ROW(),Setup!$C$5+COLUMN()-26),\"x\")","v":"x"},{"$f":"IF($E23=\"Y\",INDEX(OIQraw,ROW(),Setup!$C$5+COLUMN()-26),\"x\")","v":"x"},{"$f":"IF($E23=\"Y\",INDEX(OIQraw,ROW(),Setup!$C$5+COLUMN()-26),\"x\")","v":"x"},{"$f":"IF($E23=\"Y\",INDEX(OIQraw,ROW(),Setup!$C$5+COLUMN()-26),\"x\")","v":"x"},{"$f":"IF($E23=\"Y\",INDEX(OIQraw,ROW(),Setup!$C$5+COLUMN()-26),\"x\")","v":"x"},{"$f":"IF($E23=\"Y\",INDEX(OIQraw,ROW(),Setup!$C$5+COLUMN()-26),\"x\")","v":"x"},{"$f":"IF($E23=\"Y\",INDEX(OIQraw,ROW(),Setup!$C$5+COLUMN()-26),\"x\")","v":"x"},{"$f":"IF($E23=\"Y\",INDEX(OIQraw,ROW(),Setup!$C$5+COLUMN()-26),\"x\")","v":"x"},{"$f":"IF($E23=\"Y\",INDEX(OIQraw,ROW(),Setup!$C$5+COLUMN()-26),\"x\")","v":"x"},{"$f":"IF($E23=\"Y\",INDEX(OIQraw,ROW(),Setup!$C$5+COLUMN()-26),\"x\")","v":"x"},{"$f":"IF($E23=\"Y\",INDEX(OIQraw,ROW(),Setup!$C$5+COLUMN()-26),\"x\")","v":"x"},{"$f":"IF($E23=\"Y\",INDEX(OIQraw,ROW(),Setup!$C$5+COLUMN()-26),\"x\")","v":"x"},{"$f":"IF($E23=\"Y\",INDEX(OIQraw,ROW(),Setup!$C$5+COLUMN()-26),\"x\")","v":"x"},{"$f":"IF($E23=\"Y\",INDEX(OIQraw,ROW(),Setup!$C$5+COLUMN()-26),\"x\")","v":"x"},{"$f":"IF($E23=\"Y\",INDEX(OIQraw,ROW(),Setup!$C$5+COLUMN()-26),\"x\")","v":"x"},{"$f":"IF($E23=\"Y\",INDEX(OIQraw,ROW(),Setup!$C$5+COLUMN()-26),\"x\")","v":"x"},{"$f":"IF($E23=\"Y\",INDEX(OIQraw,ROW(),Setup!$C$5+COLUMN()-26),\"x\")","v":"x"},{"$f":"IF($E23=\"Y\",INDEX(OIQraw,ROW(),Setup!$C$5+COLUMN()-26),\"x\")","v":"x"},{"$f":"IF($E23=\"Y\",INDEX(OIQraw,ROW(),Setup!$C$5+COLUMN()-26),\"x\")","v":"x"},{"$f":"IF($E23=\"Y\",INDEX(OIQraw,ROW(),Setup!$C$5+COLUMN()-26),\"x\")","v":"x"},{"$f":"IF($E23=\"Y\",INDEX(OIQraw,ROW(),Setup!$C$5+COLUMN()-26),\"x\")","v":"x"},{"$f":"IF($E23=\"Y\",INDEX(OIQraw,ROW(),Setup!$C$5+COLUMN()-26),\"x\")","v":"x"},{"$f":"IF($E23=\"Y\",INDEX(OIQraw,ROW(),Setup!$C$5+COLUMN()-26),\"x\")","v":"x"},{"$f":"IF($E23=\"Y\",INDEX(OIQraw,ROW(),Setup!$C$5+COLUMN()-26),\"x\")","v":"x"},{"$f":"IF($E23=\"Y\",INDEX(OIQraw,ROW(),Setup!$C$5+COLUMN()-26),\"x\")","v":"x"},{"$f":"IF($E23=\"Y\",INDEX(OIQraw,ROW(),Setup!$C$5+COLUMN()-26),\"x\")","v":"x"},{"$f":"IF($E23=\"Y\",INDEX(OIQraw,ROW(),Setup!$C$5+COLUMN()-26),\"x\")","v":"x"},{"$f":"IF($E23=\"Y\",INDEX(OIQraw,ROW(),Setup!$C$5+COLUMN()-26),\"x\")","v":"x"},{"$f":"IF($E23=\"Y\",INDEX(OIQraw,ROW(),Setup!$C$5+COLUMN()-26),\"x\")","v":"x"},{"$f":"IF($E23=\"Y\",INDEX(OIQraw,ROW(),Setup!$C$5+COLUMN()-26),\"x\")","v":"x"},{"$f":"IF($E23=\"Y\",INDEX(OIQraw,ROW(),Setup!$C$5+COLUMN()-26),\"x\")","v":"x"},{"$f":"IF($E23=\"Y\",INDEX(OIQraw,ROW(),Setup!$C$5+COLUMN()-26),\"x\")","v":"x"},{"$f":"IF($E23=\"Y\",INDEX(OIQraw,ROW(),Setup!$C$5+COLUMN()-26),\"x\")","v":"x"},{"$f":"IF($E23=\"Y\",INDEX(OIQraw,ROW(),Setup!$C$5+COLUMN()-26),\"x\")","v":"x"},{"$f":"IF($E23=\"Y\",INDEX(OIQraw,ROW(),Setup!$C$5+COLUMN()-26),\"x\")","v":"x"},{"$f":"IF($E23=\"Y\",INDEX(OIQraw,ROW(),Setup!$C$5+COLUMN()-26),\"x\")","v":"x"},{"$f":"IF($E23=\"Y\",INDEX(OIQraw,ROW(),Setup!$C$5+COLUMN()-26),\"x\")","v":"x"},{"$f":"IF($E23=\"Y\",INDEX(OIQraw,ROW(),Setup!$C$5+COLUMN()-26),\"x\")","v":"x"},{"$f":"IF($E23=\"Y\",INDEX(OIQraw,ROW(),Setup!$C$5+COLUMN()-26),\"x\")","v":"x"},{"$f":"IF($E23=\"Y\",INDEX(OIQraw,ROW(),Setup!$C$5+COLUMN()-26),\"x\")","v":"x"},{"$f":"IF($E23=\"Y\",INDEX(OIQraw,ROW(),Setup!$C$5+COLUMN()-26),\"x\")","v":"x"},{"$f":"IF($E23=\"Y\",INDEX(OIQraw,ROW(),Setup!$C$5+COLUMN()-26),\"x\")","v":"x"},{"$f":"IF($E23=\"Y\",INDEX(OIQraw,ROW(),Setup!$C$5+COLUMN()-26),\"x\")","v":"x"},{"$f":"IF($E23=\"Y\",INDEX(OIQraw,ROW(),Setup!$C$5+COLUMN()-26),\"x\")","v":"x"},{"$f":"IF($E23=\"Y\",INDEX(OIQraw,ROW(),Setup!$C$5+COLUMN()-26),\"x\")","v":"x"},{"$f":"IF($E23=\"Y\",INDEX(OIQraw,ROW(),Setup!$C$5+COLUMN()-26),\"x\")","v":"x"},{"$f":"IF($E23=\"Y\",INDEX(OIQraw,ROW(),Setup!$C$5+COLUMN()-26),\"x\")","v":"x"},{"$f":"IF($E23=\"Y\",INDEX(OIQraw,ROW(),Setup!$C$5+COLUMN()-26),\"x\")","v":"x"},{"$f":"IF($E23=\"Y\",INDEX(OIQraw,ROW(),Setup!$C$5+COLUMN()-26),\"x\")","v":"x"},{"$f":"IF($E23=\"Y\",INDEX(OIQraw,ROW(),Setup!$C$5+COLUMN()-26),\"x\")","v":"x"},{"$f":"IF($E23=\"Y\",INDEX(OIQraw,ROW(),Setup!$C$5+COLUMN()-26),\"x\")","v":"x"},{"$f":"IF($E23=\"Y\",INDEX(OIQraw,ROW(),Setup!$C$5+COLUMN()-26),\"x\")","v":"x"},{"$f":"IF($E23=\"Y\",INDEX(OIQraw,ROW(),Setup!$C$5+COLUMN()-26),\"x\")","v":"x"},{"$f":"IF($E23=\"Y\",INDEX(OIQraw,ROW(),Setup!$C$5+COLUMN()-26),\"x\")","v":"x"},{"$f":"IF($E23=\"Y\",INDEX(OIQraw,ROW(),Setup!$C$5+COLUMN()-26),\"x\")","v":"x"},{"$f":"IF($E23=\"Y\",INDEX(OIQraw,ROW(),Setup!$C$5+COLUMN()-26),\"x\")","v":"x"},{"$f":"IF($E23=\"Y\",INDEX(OIQraw,ROW(),Setup!$C$5+COLUMN()-26),\"x\")","v":"x"},{"$f":"IF($E23=\"Y\",INDEX(OIQraw,ROW(),Setup!$C$5+COLUMN()-26),\"x\")","v":"x"},{"$f":"IF($E23=\"Y\",INDEX(OIQraw,ROW(),Setup!$C$5+COLUMN()-26),\"x\")","v":"x"},{"$f":"IF($E23=\"Y\",INDEX(OIQraw,ROW(),Setup!$C$5+COLUMN()-26),\"x\")","v":"x"},{"$f":"IF($E23=\"Y\",INDEX(OIQraw,ROW(),Setup!$C$5+COLUMN()-26),\"x\")","v":"x"},{"$f":"IF($E23=\"Y\",INDEX(OIQraw,ROW(),Setup!$C$5+COLUMN()-26),\"x\")","v":"x"},{"$f":"IF($E23=\"Y\",INDEX(OIQraw,ROW(),Setup!$C$5+COLUMN()-26),\"x\")","v":"x"},{"$f":"IF($E23=\"Y\",INDEX(OIQraw,ROW(),Setup!$C$5+COLUMN()-26),\"x\")","v":"x"},{"$f":"IF($E23=\"Y\",INDEX(OIQraw,ROW(),Setup!$C$5+COLUMN()-26),\"x\")","v":"x"},{"$f":"IF($E23=\"Y\",INDEX(OIQraw,ROW(),Setup!$C$5+COLUMN()-26),\"x\")","v":"x"},{"$f":"IF($E23=\"Y\",INDEX(OIQraw,ROW(),Setup!$C$5+COLUMN()-26),\"x\")","v":"x"},{"$f":"IF($E23=\"Y\",INDEX(OIQraw,ROW(),Setup!$C$5+COLUMN()-26),\"x\")","v":"x"},{"$f":"IF($E23=\"Y\",INDEX(OIQraw,ROW(),Setup!$C$5+COLUMN()-26),\"x\")","v":"x"},{"$f":"IF($E23=\"Y\",INDEX(OIQraw,ROW(),Setup!$C$5+COLUMN()-26),\"x\")","v":"x"},{"$f":"IF($E23=\"Y\",INDEX(OIQraw,ROW(),Setup!$C$5+COLUMN()-26),\"x\")","v":"x"},{"$f":"IF($E23=\"Y\",INDEX(OIQraw,ROW(),Setup!$C$5+COLUMN()-26),\"x\")","v":"x"},{"$f":"IF($E23=\"Y\",INDEX(OIQraw,ROW(),Setup!$C$5+COLUMN()-26),\"x\")","v":"x"},{"$f":"IF($E23=\"Y\",INDEX(OIQraw,ROW(),Setup!$C$5+COLUMN()-26),\"x\")","v":"x"},{"$f":"IF($E23=\"Y\",INDEX(OIQraw,ROW(),Setup!$C$5+COLUMN()-26),\"x\")","v":"x"},{"$f":"IF($E23=\"Y\",INDEX(OIQraw,ROW(),Setup!$C$5+COLUMN()-26),\"x\")","v":"x"},{"$f":"IF($E23=\"Y\",INDEX(OIQraw,ROW(),Setup!$C$5+COLUMN()-26),\"x\")","v":"x"},{"$f":"IF($E23=\"Y\",INDEX(OIQraw,ROW(),Setup!$C$5+COLUMN()-26),\"x\")","v":"x"},{"$f":"IF($E23=\"Y\",INDEX(OIQraw,ROW(),Setup!$C$5+COLUMN()-26),\"x\")","v":"x"},{"$f":"IF($E23=\"Y\",INDEX(OIQraw,ROW(),Setup!$C$5+COLUMN()-26),\"x\")","v":"x"},{"$f":"IF($E23=\"Y\",INDEX(OIQraw,ROW(),Setup!$C$5+COLUMN()-26),\"x\")","v":"x"},{"$f":"IF($E23=\"Y\",INDEX(OIQraw,ROW(),Setup!$C$5+COLUMN()-26),\"x\")","v":"x"},{"$f":"IF($E23=\"Y\",INDEX(OIQraw,ROW(),Setup!$C$5+COLUMN()-26),\"x\")","v":"x"},{"$f":"IF($E23=\"Y\",INDEX(OIQraw,ROW(),Setup!$C$5+COLUMN()-26),\"x\")","v":"x"}]
[1,"","",{"$f":"IF(ISERROR(FIND(\"Withdrew\",RawScores!B28)),RawScores!B28,RIGHT(RawScores!B28,LEN(RawScores!B28)-17))&\", \"&RawScores!C28","v":", "},{"$f":"IF(OR(ISERROR(FIND(\"Withdrew\",RawScores!B28))=FALSE,INDEX(OIQraw,ROW(),LastInputCol-3)=0),\"N\",IF(AND(Setup!$B$22=\"Yes\",INDEX(OIQraw,ROW(),LastInputCol)=1),\"N\",\"Y\"))","v":"N"},"X","X","X",{"$f":"IF(AND(ISNUMBER(F24),F24>Setup!$B$14-1),1,0)","v":0},{"$f":"IF(AND(F24>Setup!$B$14-1,Conv!H24<5),1,0)","v":0},{"$f":"IF(AND(F24>Setup!$B$14-1,Conv!G24=\"F\"),1,0)","v":0},"","","","","","","","","","","","","X","X",{"$f":"IF($E24=\"Y\",INDEX(OIQraw,ROW(),Setup!$C$5+COLUMN()-26),\"x\")","v":"x"},{"$f":"IF($E24=\"Y\",INDEX(OIQraw,ROW(),Setup!$C$5+COLUMN()-26),\"x\")","v":"x"},{"$f":"IF($E24=\"Y\",INDEX(OIQraw,ROW(),Setup!$C$5+COLUMN()-26),\"x\")","v":"x"},{"$f":"IF($E24=\"Y\",INDEX(OIQraw,ROW(),Setup!$C$5+COLUMN()-26),\"x\")","v":"x"},{"$f":"IF($E24=\"Y\",INDEX(OIQraw,ROW(),Setup!$C$5+COLUMN()-26),\"x\")","v":"x"},{"$f":"IF($E24=\"Y\",INDEX(OIQraw,ROW(),Setup!$C$5+COLUMN()-26),\"x\")","v":"x"},{"$f":"IF($E24=\"Y\",INDEX(OIQraw,ROW(),Setup!$C$5+COLUMN()-26),\"x\")","v":"x"},{"$f":"IF($E24=\"Y\",INDEX(OIQraw,ROW(),Setup!$C$5+COLUMN()-26),\"x\")","v":"x"},{"$f":"IF($E24=\"Y\",INDEX(OIQraw,ROW(),Setup!$C$5+COLUMN()-26),\"x\")","v":"x"},{"$f":"IF($E24=\"Y\",INDEX(OIQraw,ROW(),Setup!$C$5+COLUMN()-26),\"x\")","v":"x"},{"$f":"IF($E24=\"Y\",INDEX(OIQraw,ROW(),Setup!$C$5+COLUMN()-26),\"x\")","v":"x"},{"$f":"IF($E24=\"Y\",INDEX(OIQraw,ROW(),Setup!$C$5+COLUMN()-26),\"x\")","v":"x"},{"$f":"IF($E24=\"Y\",INDEX(OIQraw,ROW(),Setup!$C$5+COLUMN()-26),\"x\")","v":"x"},{"$f":"IF($E24=\"Y\",INDEX(OIQraw,ROW(),Setup!$C$5+COLUMN()-26),\"x\")","v":"x"},{"$f":"IF($E24=\"Y\",INDEX(OIQraw,ROW(),Setup!$C$5+COLUMN()-26),\"x\")","v":"x"},{"$f":"IF($E24=\"Y\",INDEX(OIQraw,ROW(),Setup!$C$5+COLUMN()-26),\"x\")","v":"x"},{"$f":"IF($E24=\"Y\",INDEX(OIQraw,ROW(),Setup!$C$5+COLUMN()-26),\"x\")","v":"x"},{"$f":"IF($E24=\"Y\",INDEX(OIQraw,ROW(),Setup!$C$5+COLUMN()-26),\"x\")","v":"x"},{"$f":"IF($E24=\"Y\",INDEX(OIQraw,ROW(),Setup!$C$5+COLUMN()-26),\"x\")","v":"x"},{"$f":"IF($E24=\"Y\",INDEX(OIQraw,ROW(),Setup!$C$5+COLUMN()-26),\"x\")","v":"x"},{"$f":"IF($E24=\"Y\",INDEX(OIQraw,ROW(),Setup!$C$5+COLUMN()-26),\"x\")","v":"x"},{"$f":"IF($E24=\"Y\",INDEX(OIQraw,ROW(),Setup!$C$5+COLUMN()-26),\"x\")","v":"x"},{"$f":"IF($E24=\"Y\",INDEX(OIQraw,ROW(),Setup!$C$5+COLUMN()-26),\"x\")","v":"x"},{"$f":"IF($E24=\"Y\",INDEX(OIQraw,ROW(),Setup!$C$5+COLUMN()-26),\"x\")","v":"x"},{"$f":"IF($E24=\"Y\",INDEX(OIQraw,ROW(),Setup!$C$5+COLUMN()-26),\"x\")","v":"x"},{"$f":"IF($E24=\"Y\",INDEX(OIQraw,ROW(),Setup!$C$5+COLUMN()-26),\"x\")","v":"x"},{"$f":"IF($E24=\"Y\",INDEX(OIQraw,ROW(),Setup!$C$5+COLUMN()-26),\"x\")","v":"x"},{"$f":"IF($E24=\"Y\",INDEX(OIQraw,ROW(),Setup!$C$5+COLUMN()-26),\"x\")","v":"x"},{"$f":"IF($E24=\"Y\",INDEX(OIQraw,ROW(),Setup!$C$5+COLUMN()-26),\"x\")","v":"x"},{"$f":"IF($E24=\"Y\",INDEX(OIQraw,ROW(),Setup!$C$5+COLUMN()-26),\"x\")","v":"x"},{"$f":"IF($E24=\"Y\",INDEX(OIQraw,ROW(),Setup!$C$5+COLUMN()-26),\"x\")","v":"x"},{"$f":"IF($E24=\"Y\",INDEX(OIQraw,ROW(),Setup!$C$5+COLUMN()-26),\"x\")","v":"x"},{"$f":"IF($E24=\"Y\",INDEX(OIQraw,ROW(),Setup!$C$5+COLUMN()-26),\"x\")","v":"x"},{"$f":"IF($E24=\"Y\",INDEX(OIQraw,ROW(),Setup!$C$5+COLUMN()-26),\"x\")","v":"x"},{"$f":"IF($E24=\"Y\",INDEX(OIQraw,ROW(),Setup!$C$5+COLUMN()-26),\"x\")","v":"x"},{"$f":"IF($E24=\"Y\",INDEX(OIQraw,ROW(),Setup!$C$5+COLUMN()-26),\"x\")","v":"x"},{"$f":"IF($E24=\"Y\",INDEX(OIQraw,ROW(),Setup!$C$5+COLUMN()-26),\"x\")","v":"x"},{"$f":"IF($E24=\"Y\",INDEX(OIQraw,ROW(),Setup!$C$5+COLUMN()-26),\"x\")","v":"x"},{"$f":"IF($E24=\"Y\",INDEX(OIQraw,ROW(),Setup!$C$5+COLUMN()-26),\"x\")","v":"x"},{"$f":"IF($E24=\"Y\",INDEX(OIQraw,ROW(),Setup!$C$5+COLUMN()-26),\"x\")","v":"x"},{"$f":"IF($E24=\"Y\",INDEX(OIQraw,ROW(),Setup!$C$5+COLUMN()-26),\"x\")","v":"x"},{"$f":"IF($E24=\"Y\",INDEX(OIQraw,ROW(),Setup!$C$5+COLUMN()-26),\"x\")","v":"x"},{"$f":"IF($E24=\"Y\",INDEX(OIQraw,ROW(),Setup!$C$5+COLUMN()-26),\"x\")","v":"x"},{"$f":"IF($E24=\"Y\",INDEX(OIQraw,ROW(),Setup!$C$5+COLUMN()-26),\"x\")","v":"x"},{"$f":"IF($E24=\"Y\",INDEX(OIQraw,ROW(),Setup!$C$5+COLUMN()-26),\"x\")","v":"x"},{"$f":"IF($E24=\"Y\",INDEX(OIQraw,ROW(),Setup!$C$5+COLUMN()-26),\"x\")","v":"x"},{"$f":"IF($E24=\"Y\",INDEX(OIQraw,ROW(),Setup!$C$5+COLUMN()-26),\"x\")","v":"x"},{"$f":"IF($E24=\"Y\",INDEX(OIQraw,ROW(),Setup!$C$5+COLUMN()-26),\"x\")","v":"x"},{"$f":"IF($E24=\"Y\",INDEX(OIQraw,ROW(),Setup!$C$5+COLUMN()-26),\"x\")","v":"x"},{"$f":"IF($E24=\"Y\",INDEX(OIQraw,ROW(),Setup!$C$5+COLUMN()-26),\"x\")","v":"x"},{"$f":"IF($E24=\"Y\",INDEX(OIQraw,ROW(),Setup!$C$5+COLUMN()-26),\"x\")","v":"x"},{"$f":"IF($E24=\"Y\",INDEX(OIQraw,ROW(),Setup!$C$5+COLUMN()-26),\"x\")","v":"x"},{"$f":"IF($E24=\"Y\",INDEX(OIQraw,ROW(),Setup!$C$5+COLUMN()-26),\"x\")","v":"x"},{"$f":"IF($E24=\"Y\",INDEX(OIQraw,ROW(),Setup!$C$5+COLUMN()-26),\"x\")","v":"x"},{"$f":"IF($E24=\"Y\",INDEX(OIQraw,ROW(),Setup!$C$5+COLUMN()-26),\"x\")","v":"x"},{"$f":"IF($E24=\"Y\",INDEX(OIQraw,ROW(),Setup!$C$5+COLUMN()-26),\"x\")","v":"x"},{"$f":"IF($E24=\"Y\",INDEX(OIQraw,ROW(),Setup!$C$5+COLUMN()-26),\"x\")","v":"x"},{"$f":"IF($E24=\"Y\",INDEX(OIQraw,ROW(),Setup!$C$5+COLUMN()-26),\"x\")","v":"x"},{"$f":"IF($E24=\"Y\",INDEX(OIQraw,ROW(),Setup!$C$5+COLUMN()-26),\"x\")","v":"x"},{"$f":"IF($E24=\"Y\",INDEX(OIQraw,ROW(),Setup!$C$5+COLUMN()-26),\"x\")","v":"x"},{"$f":"IF($E24=\"Y\",INDEX(OIQraw,ROW(),Setup!$C$5+COLUMN()-26),\"x\")","v":"x"},{"$f":"IF($E24=\"Y\",INDEX(OIQraw,ROW(),Setup!$C$5+COLUMN()-26),\"x\")","v":"x"},{"$f":"IF($E24=\"Y\",INDEX(OIQraw,ROW(),Setup!$C$5+COLUMN()-26),\"x\")","v":"x"},{"$f":"IF($E24=\"Y\",INDEX(OIQraw,ROW(),Setup!$C$5+COLUMN()-26),\"x\")","v":"x"},{"$f":"IF($E24=\"Y\",INDEX(OIQraw,ROW(),Setup!$C$5+COLUMN()-26),\"x\")","v":"x"},{"$f":"IF($E24=\"Y\",INDEX(OIQraw,ROW(),Setup!$C$5+COLUMN()-26),\"x\")","v":"x"},{"$f":"IF($E24=\"Y\",INDEX(OIQraw,ROW(),Setup!$C$5+COLUMN()-26),\"x\")","v":"x"},{"$f":"IF($E24=\"Y\",INDEX(OIQraw,ROW(),Setup!$C$5+COLUMN()-26),\"x\")","v":"x"},{"$f":"IF($E24=\"Y\",INDEX(OIQraw,ROW(),Setup!$C$5+COLUMN()-26),\"x\")","v":"x"},{"$f":"IF($E24=\"Y\",INDEX(OIQraw,ROW(),Setup!$C$5+COLUMN()-26),\"x\")","v":"x"},{"$f":"IF($E24=\"Y\",INDEX(OIQraw,ROW(),Setup!$C$5+COLUMN()-26),\"x\")","v":"x"},{"$f":"IF($E24=\"Y\",INDEX(OIQraw,ROW(),Setup!$C$5+COLUMN()-26),\"x\")","v":"x"},{"$f":"IF($E24=\"Y\",INDEX(OIQraw,ROW(),Setup!$C$5+COLUMN()-26),\"x\")","v":"x"},{"$f":"IF($E24=\"Y\",INDEX(OIQraw,ROW(),Setup!$C$5+COLUMN()-26),\"x\")","v":"x"},{"$f":"IF($E24=\"Y\",INDEX(OIQraw,ROW(),Setup!$C$5+COLUMN()-26),\"x\")","v":"x"},{"$f":"IF($E24=\"Y\",INDEX(OIQraw,ROW(),Setup!$C$5+COLUMN()-26),\"x\")","v":"x"},{"$f":"IF($E24=\"Y\",INDEX(OIQraw,ROW(),Setup!$C$5+COLUMN()-26),\"x\")","v":"x"},{"$f":"IF($E24=\"Y\",INDEX(OIQraw,ROW(),Setup!$C$5+COLUMN()-26),\"x\")","v":"x"},{"$f":"IF($E24=\"Y\",INDEX(OIQraw,ROW(),Setup!$C$5+COLUMN()-26),\"x\")","v":"x"},{"$f":"IF($E24=\"Y\",INDEX(OIQraw,ROW(),Setup!$C$5+COLUMN()-26),\"x\")","v":"x"},{"$f":"IF($E24=\"Y\",INDEX(OIQraw,ROW(),Setup!$C$5+COLUMN()-26),\"x\")","v":"x"},{"$f":"IF($E24=\"Y\",INDEX(OIQraw,ROW(),Setup!$C$5+COLUMN()-26),\"x\")","v":"x"},{"$f":"IF($E24=\"Y\",INDEX(OIQraw,ROW(),Setup!$C$5+COLUMN()-26),\"x\")","v":"x"},{"$f":"IF($E24=\"Y\",INDEX(OIQraw,ROW(),Setup!$C$5+COLUMN()-26),\"x\")","v":"x"},{"$f":"IF($E24=\"Y\",INDEX(OIQraw,ROW(),Setup!$C$5+COLUMN()-26),\"x\")","v":"x"},{"$f":"IF($E24=\"Y\",INDEX(OIQraw,ROW(),Setup!$C$5+COLUMN()-26),\"x\")","v":"x"},{"$f":"IF($E24=\"Y\",INDEX(OIQraw,ROW(),Setup!$C$5+COLUMN()-26),\"x\")","v":"x"},{"$f":"IF($E24=\"Y\",INDEX(OIQraw,ROW(),Setup!$C$5+COLUMN()-26),\"x\")","v":"x"},{"$f":"IF($E24=\"Y\",INDEX(OIQraw,ROW(),Setup!$C$5+COLUMN()-26),\"x\")","v":"x"},{"$f":"IF($E24=\"Y\",INDEX(OIQraw,ROW(),Setup!$C$5+COLUMN()-26),\"x\")","v":"x"},{"$f":"IF($E24=\"Y\",INDEX(OIQraw,ROW(),Setup!$C$5+COLUMN()-26),\"x\")","v":"x"},{"$f":"IF($E24=\"Y\",INDEX(OIQraw,ROW(),Setup!$C$5+COLUMN()-26),\"x\")","v":"x"},{"$f":"IF($E24=\"Y\",INDEX(OIQraw,ROW(),Setup!$C$5+COLUMN()-26),\"x\")","v":"x"},{"$f":"IF($E24=\"Y\",INDEX(OIQraw,ROW(),Setup!$C$5+COLUMN()-26),\"x\")","v":"x"},{"$f":"IF($E24=\"Y\",INDEX(OIQraw,ROW(),Setup!$C$5+COLUMN()-26),\"x\")","v":"x"},{"$f":"IF($E24=\"Y\",INDEX(OIQraw,ROW(),Setup!$C$5+COLUMN()-26),\"x\")","v":"x"},{"$f":"IF($E24=\"Y\",INDEX(OIQraw,ROW(),Setup!$C$5+COLUMN()-26),\"x\")","v":"x"},{"$f":"IF($E24=\"Y\",INDEX(OIQraw,ROW(),Setup!$C$5+COLUMN()-26),\"x\")","v":"x"},{"$f":"IF($E24=\"Y\",INDEX(OIQraw,ROW(),Setup!$C$5+COLUMN()-26),\"x\")","v":"x"},{"$f":"IF($E24=\"Y\",INDEX(OIQraw,ROW(),Setup!$C$5+COLUMN()-26),\"x\")","v":"x"},{"$f":"IF($E24=\"Y\",INDEX(OIQraw,ROW(),Setup!$C$5+COLUMN()-26),\"x\")","v":"x"},{"$f":"IF($E24=\"Y\",INDEX(OIQraw,ROW(),Setup!$C$5+COLUMN()-26),\"x\")","v":"x"},{"$f":"IF($E24=\"Y\",INDEX(OIQraw,ROW(),Setup!$C$5+COLUMN()-26),\"x\")","v":"x"},{"$f":"IF($E24=\"Y\",INDEX(OIQraw,ROW(),Setup!$C$5+COLUMN()-26),\"x\")","v":"x"},{"$f":"IF($E24=\"Y\",INDEX(OIQraw,ROW(),Setup!$C$5+COLUMN()-26),\"x\")","v":"x"},{"$f":"IF($E24=\"Y\",INDEX(OIQraw,ROW(),Setup!$C$5+COLUMN()-26),\"x\")","v":"x"},{"$f":"IF($E24=\"Y\",INDEX(OIQraw,ROW(),Setup!$C$5+COLUMN()-26),\"x\")","v":"x"},{"$f":"IF($E24=\"Y\",INDEX(OIQraw,ROW(),Setup!$C$5+COLUMN()-26),\"x\")","v":"x"},{"$f":"IF($E24=\"Y\",INDEX(OIQraw,ROW(),Setup!$C$5+COLUMN()-26),\"x\")","v":"x"},{"$f":"IF($E24=\"Y\",INDEX(OIQraw,ROW(),Setup!$C$5+COLUMN()-26),\"x\")","v":"x"},{"$f":"IF($E24=\"Y\",INDEX(OIQraw,ROW(),Setup!$C$5+COLUMN()-26),\"x\")","v":"x"},{"$f":"IF($E24=\"Y\",INDEX(OIQraw,ROW(),Setup!$C$5+COLUMN()-26),\"x\")","v":"x"},{"$f":"IF($E24=\"Y\",INDEX(OIQraw,ROW(),Setup!$C$5+COLUMN()-26),\"x\")","v":"x"},{"$f":"IF($E24=\"Y\",INDEX(OIQraw,ROW(),Setup!$C$5+COLUMN()-26),\"x\")","v":"x"},{"$f":"IF($E24=\"Y\",INDEX(OIQraw,ROW(),Setup!$C$5+COLUMN()-26),\"x\")","v":"x"},{"$f":"IF($E24=\"Y\",INDEX(OIQraw,ROW(),Setup!$C$5+COLUMN()-26),\"x\")","v":"x"},{"$f":"IF($E24=\"Y\",INDEX(OIQraw,ROW(),Setup!$C$5+COLUMN()-26),\"x\")","v":"x"},{"$f":"IF($E24=\"Y\",INDEX(OIQraw,ROW(),Setup!$C$5+COLUMN()-26),\"x\")","v":"x"},{"$f":"IF($E24=\"Y\",INDEX(OIQraw,ROW(),Setup!$C$5+COLUMN()-26),\"x\")","v":"x"},{"$f":"IF($E24=\"Y\",INDEX(OIQraw,ROW(),Setup!$C$5+COLUMN()-26),\"x\")","v":"x"},{"$f":"IF($E24=\"Y\",INDEX(OIQraw,ROW(),Setup!$C$5+COLUMN()-26),\"x\")","v":"x"},{"$f":"IF($E24=\"Y\",INDEX(OIQraw,ROW(),Setup!$C$5+COLUMN()-26),\"x\")","v":"x"},{"$f":"IF($E24=\"Y\",INDEX(OIQraw,ROW(),Setup!$C$5+COLUMN()-26),\"x\")","v":"x"},{"$f":"IF($E24=\"Y\",INDEX(OIQraw,ROW(),Setup!$C$5+COLUMN()-26),\"x\")","v":"x"},{"$f":"IF($E24=\"Y\",INDEX(OIQraw,ROW(),Setup!$C$5+COLUMN()-26),\"x\")","v":"x"},{"$f":"IF($E24=\"Y\",INDEX(OIQraw,ROW(),Setup!$C$5+COLUMN()-26),\"x\")","v":"x"},{"$f":"IF($E24=\"Y\",INDEX(OIQraw,ROW(),Setup!$C$5+COLUMN()-26),\"x\")","v":"x"},{"$f":"IF($E24=\"Y\",INDEX(OIQraw,ROW(),Setup!$C$5+COLUMN()-26),\"x\")","v":"x"},{"$f":"IF($E24=\"Y\",INDEX(OIQraw,ROW(),Setup!$C$5+COLUMN()-26),\"x\")","v":"x"},{"$f":"IF($E24=\"Y\",INDEX(OIQraw,ROW(),Setup!$C$5+COLUMN()-26),\"x\")","v":"x"},{"$f":"IF($E24=\"Y\",INDEX(OIQraw,ROW(),Setup!$C$5+COLUMN()-26),\"x\")","v":"x"},{"$f":"IF($E24=\"Y\",INDEX(OIQraw,ROW(),Setup!$C$5+COLUMN()-26),\"x\")","v":"x"},{"$f":"IF($E24=\"Y\",INDEX(OIQraw,ROW(),Setup!$C$5+COLUMN()-26),\"x\")","v":"x"},{"$f":"IF($E24=\"Y\",INDEX(OIQraw,ROW(),Setup!$C$5+COLUMN()-26),\"x\")","v":"x"},{"$f":"IF($E24=\"Y\",INDEX(OIQraw,ROW(),Setup!$C$5+COLUMN()-26),\"x\")","v":"x"},{"$f":"IF($E24=\"Y\",INDEX(OIQraw,ROW(),Setup!$C$5+COLUMN()-26),\"x\")","v":"x"},{"$f":"IF($E24=\"Y\",INDEX(OIQraw,ROW(),Setup!$C$5+COLUMN()-26),\"x\")","v":"x"},{"$f":"IF($E24=\"Y\",INDEX(OIQraw,ROW(),Setup!$C$5+COLUMN()-26),\"x\")","v":"x"},{"$f":"IF($E24=\"Y\",INDEX(OIQraw,ROW(),Setup!$C$5+COLUMN()-26),\"x\")","v":"x"},{"$f":"IF($E24=\"Y\",INDEX(OIQraw,ROW(),Setup!$C$5+COLUMN()-26),\"x\")","v":"x"},{"$f":"IF($E24=\"Y\",INDEX(OIQraw,ROW(),Setup!$C$5+COLUMN()-26),\"x\")","v":"x"},{"$f":"IF($E24=\"Y\",INDEX(OIQraw,ROW(),Setup!$C$5+COLUMN()-26),\"x\")","v":"x"},{"$f":"IF($E24=\"Y\",INDEX(OIQraw,ROW(),Setup!$C$5+COLUMN()-26),\"x\")","v":"x"},{"$f":"IF($E24=\"Y\",INDEX(OIQraw,ROW(),Setup!$C$5+COLUMN()-26),\"x\")","v":"x"},{"$f":"IF($E24=\"Y\",INDEX(OIQraw,ROW(),Setup!$C$5+COLUMN()-26),\"x\")","v":"x"},{"$f":"IF($E24=\"Y\",INDEX(OIQraw,ROW(),Setup!$C$5+COLUMN()-26),\"x\")","v":"x"},{"$f":"IF($E24=\"Y\",INDEX(OIQraw,ROW(),Setup!$C$5+COLUMN()-26),\"x\")","v":"x"},{"$f":"IF($E24=\"Y\",INDEX(OIQraw,ROW(),Setup!$C$5+COLUMN()-26),\"x\")","v":"x"},{"$f":"IF($E24=\"Y\",INDEX(OIQraw,ROW(),Setup!$C$5+COLUMN()-26),\"x\")","v":"x"},{"$f":"IF($E24=\"Y\",INDEX(OIQraw,ROW(),Setup!$C$5+COLUMN()-26),\"x\")","v":"x"},{"$f":"IF($E24=\"Y\",INDEX(OIQraw,ROW(),Setup!$C$5+COLUMN()-26),\"x\")","v":"x"},{"$f":"IF($E24=\"Y\",INDEX(OIQraw,ROW(),Setup!$C$5+COLUMN()-26),\"x\")","v":"x"},{"$f":"IF($E24=\"Y\",INDEX(OIQraw,ROW(),Setup!$C$5+COLUMN()-26),\"x\")","v":"x"},{"$f":"IF($E24=\"Y\",INDEX(OIQraw,ROW(),Setup!$C$5+COLUMN()-26),\"x\")","v":"x"},{"$f":"IF($E24=\"Y\",INDEX(OIQraw,ROW(),Setup!$C$5+COLUMN()-26),\"x\")","v":"x"},{"$f":"IF($E24=\"Y\",INDEX(OIQraw,ROW(),Setup!$C$5+COLUMN()-26),\"x\")","v":"x"},{"$f":"IF($E24=\"Y\",INDEX(OIQraw,ROW(),Setup!$C$5+COLUMN()-26),\"x\")","v":"x"},{"$f":"IF($E24=\"Y\",INDEX(OIQraw,ROW(),Setup!$C$5+COLUMN()-26),\"x\")","v":"x"},{"$f":"IF($E24=\"Y\",INDEX(OIQraw,ROW(),Setup!$C$5+COLUMN()-26),\"x\")","v":"x"},{"$f":"IF($E24=\"Y\",INDEX(OIQraw,ROW(),Setup!$C$5+COLUMN()-26),\"x\")","v":"x"},{"$f":"IF($E24=\"Y\",INDEX(OIQraw,ROW(),Setup!$C$5+COLUMN()-26),\"x\")","v":"x"},{"$f":"IF($E24=\"Y\",INDEX(OIQraw,ROW(),Setup!$C$5+COLUMN()-26),\"x\")","v":"x"},{"$f":"IF($E24=\"Y\",INDEX(OIQraw,ROW(),Setup!$C$5+COLUMN()-26),\"x\")","v":"x"},{"$f":"IF($E24=\"Y\",INDEX(OIQraw,ROW(),Setup!$C$5+COLUMN()-26),\"x\")","v":"x"},{"$f":"IF($E24=\"Y\",INDEX(OIQraw,ROW(),Setup!$C$5+COLUMN()-26),\"x\")","v":"x"},{"$f":"IF($E24=\"Y\",INDEX(OIQraw,ROW(),Setup!$C$5+COLUMN()-26),\"x\")","v":"x"},{"$f":"IF($E24=\"Y\",INDEX(OIQraw,ROW(),Setup!$C$5+COLUMN()-26),\"x\")","v":"x"},{"$f":"IF($E24=\"Y\",INDEX(OIQraw,ROW(),Setup!$C$5+COLUMN()-26),\"x\")","v":"x"},{"$f":"IF($E24=\"Y\",INDEX(OIQraw,ROW(),Setup!$C$5+COLUMN()-26),\"x\")","v":"x"},{"$f":"IF($E24=\"Y\",INDEX(OIQraw,ROW(),Setup!$C$5+COLUMN()-26),\"x\")","v":"x"},{"$f":"IF($E24=\"Y\",INDEX(OIQraw,ROW(),Setup!$C$5+COLUMN()-26),\"x\")","v":"x"},{"$f":"IF($E24=\"Y\",INDEX(OIQraw,ROW(),Setup!$C$5+COLUMN()-26),\"x\")","v":"x"},{"$f":"IF($E24=\"Y\",INDEX(OIQraw,ROW(),Setup!$C$5+COLUMN()-26),\"x\")","v":"x"},{"$f":"IF($E24=\"Y\",INDEX(OIQraw,ROW(),Setup!$C$5+COLUMN()-26),\"x\")","v":"x"},{"$f":"IF($E24=\"Y\",INDEX(OIQraw,ROW(),Setup!$C$5+COLUMN()-26),\"x\")","v":"x"},{"$f":"IF($E24=\"Y\",INDEX(OIQraw,ROW(),Setup!$C$5+COLUMN()-26),\"x\")","v":"x"},{"$f":"IF($E24=\"Y\",INDEX(OIQraw,ROW(),Setup!$C$5+COLUMN()-26),\"x\")","v":"x"},{"$f":"IF($E24=\"Y\",INDEX(OIQraw,ROW(),Setup!$C$5+COLUMN()-26),\"x\")","v":"x"},{"$f":"IF($E24=\"Y\",INDEX(OIQraw,ROW(),Setup!$C$5+COLUMN()-26),\"x\")","v":"x"},{"$f":"IF($E24=\"Y\",INDEX(OIQraw,ROW(),Setup!$C$5+COLUMN()-26),\"x\")","v":"x"},{"$f":"IF($E24=\"Y\",INDEX(OIQraw,ROW(),Setup!$C$5+COLUMN()-26),\"x\")","v":"x"},{"$f":"IF($E24=\"Y\",INDEX(OIQraw,ROW(),Setup!$C$5+COLUMN()-26),\"x\")","v":"x"},{"$f":"IF($E24=\"Y\",INDEX(OIQraw,ROW(),Setup!$C$5+COLUMN()-26),\"x\")","v":"x"},{"$f":"IF($E24=\"Y\",INDEX(OIQraw,ROW(),Setup!$C$5+COLUMN()-26),\"x\")","v":"x"},{"$f":"IF($E24=\"Y\",INDEX(OIQraw,ROW(),Setup!$C$5+COLUMN()-26),\"x\")","v":"x"},{"$f":"IF($E24=\"Y\",INDEX(OIQraw,ROW(),Setup!$C$5+COLUMN()-26),\"x\")","v":"x"},{"$f":"IF($E24=\"Y\",INDEX(OIQraw,ROW(),Setup!$C$5+COLUMN()-26),\"x\")","v":"x"},{"$f":"IF($E24=\"Y\",INDEX(OIQraw,ROW(),Setup!$C$5+COLUMN()-26),\"x\")","v":"x"},{"$f":"IF($E24=\"Y\",INDEX(OIQraw,ROW(),Setup!$C$5+COLUMN()-26),\"x\")","v":"x"},{"$f":"IF($E24=\"Y\",INDEX(OIQraw,ROW(),Setup!$C$5+COLUMN()-26),\"x\")","v":"x"},{"$f":"IF($E24=\"Y\",INDEX(OIQraw,ROW(),Setup!$C$5+COLUMN()-26),\"x\")","v":"x"},{"$f":"IF($E24=\"Y\",INDEX(OIQraw,ROW(),Setup!$C$5+COLUMN()-26),\"x\")","v":"x"},{"$f":"IF($E24=\"Y\",INDEX(OIQraw,ROW(),Setup!$C$5+COLUMN()-26),\"x\")","v":"x"},{"$f":"IF($E24=\"Y\",INDEX(OIQraw,ROW(),Setup!$C$5+COLUMN()-26),\"x\")","v":"x"},{"$f":"IF($E24=\"Y\",INDEX(OIQraw,ROW(),Setup!$C$5+COLUMN()-26),\"x\")","v":"x"},{"$f":"IF($E24=\"Y\",INDEX(OIQraw,ROW(),Setup!$C$5+COLUMN()-26),\"x\")","v":"x"},{"$f":"IF($E24=\"Y\",INDEX(OIQraw,ROW(),Setup!$C$5+COLUMN()-26),\"x\")","v":"x"},{"$f":"IF($E24=\"Y\",INDEX(OIQraw,ROW(),Setup!$C$5+COLUMN()-26),\"x\")","v":"x"},{"$f":"IF($E24=\"Y\",INDEX(OIQraw,ROW(),Setup!$C$5+COLUMN()-26),\"x\")","v":"x"},{"$f":"IF($E24=\"Y\",INDEX(OIQraw,ROW(),Setup!$C$5+COLUMN()-26),\"x\")","v":"x"},{"$f":"IF($E24=\"Y\",INDEX(OIQraw,ROW(),Setup!$C$5+COLUMN()-26),\"x\")","v":"x"},{"$f":"IF($E24=\"Y\",INDEX(OIQraw,ROW(),Setup!$C$5+COLUMN()-26),\"x\")","v":"x"},{"$f":"IF($E24=\"Y\",INDEX(OIQraw,ROW(),Setup!$C$5+COLUMN()-26),\"x\")","v":"x"},{"$f":"IF($E24=\"Y\",INDEX(OIQraw,ROW(),Setup!$C$5+COLUMN()-26),\"x\")","v":"x"},{"$f":"IF($E24=\"Y\",INDEX(OIQraw,ROW(),Setup!$C$5+COLUMN()-26),\"x\")","v":"x"},{"$f":"IF($E24=\"Y\",INDEX(OIQraw,ROW(),Setup!$C$5+COLUMN()-26),\"x\")","v":"x"},{"$f":"IF($E24=\"Y\",INDEX(OIQraw,ROW(),Setup!$C$5+COLUMN()-26),\"x\")","v":"x"},{"$f":"IF($E24=\"Y\",INDEX(OIQraw,ROW(),Setup!$C$5+COLUMN()-26),\"x\")","v":"x"},{"$f":"IF($E24=\"Y\",INDEX(OIQraw,ROW(),Setup!$C$5+COLUMN()-26),\"x\")","v":"x"},{"$f":"IF($E24=\"Y\",INDEX(OIQraw,ROW(),Setup!$C$5+COLUMN()-26),\"x\")","v":"x"},{"$f":"IF($E24=\"Y\",INDEX(OIQraw,ROW(),Setup!$C$5+COLUMN()-26),\"x\")","v":"x"},{"$f":"IF($E24=\"Y\",INDEX(OIQraw,ROW(),Setup!$C$5+COLUMN()-26),\"x\")","v":"x"},{"$f":"IF($E24=\"Y\",INDEX(OIQraw,ROW(),Setup!$C$5+COLUMN()-26),\"x\")","v":"x"},{"$f":"IF($E24=\"Y\",INDEX(OIQraw,ROW(),Setup!$C$5+COLUMN()-26),\"x\")","v":"x"},{"$f":"IF($E24=\"Y\",INDEX(OIQraw,ROW(),Setup!$C$5+COLUMN()-26),\"x\")","v":"x"},{"$f":"IF($E24=\"Y\",INDEX(OIQraw,ROW(),Setup!$C$5+COLUMN()-26),\"x\")","v":"x"},{"$f":"IF($E24=\"Y\",INDEX(OIQraw,ROW(),Setup!$C$5+COLUMN()-26),\"x\")","v":"x"},{"$f":"IF($E24=\"Y\",INDEX(OIQraw,ROW(),Setup!$C$5+COLUMN()-26),\"x\")","v":"x"},{"$f":"IF($E24=\"Y\",INDEX(OIQraw,ROW(),Setup!$C$5+COLUMN()-26),\"x\")","v":"x"},{"$f":"IF($E24=\"Y\",INDEX(OIQraw,ROW(),Setup!$C$5+COLUMN()-26),\"x\")","v":"x"},{"$f":"IF($E24=\"Y\",INDEX(OIQraw,ROW(),Setup!$C$5+COLUMN()-26),\"x\")","v":"x"},{"$f":"IF($E24=\"Y\",INDEX(OIQraw,ROW(),Setup!$C$5+COLUMN()-26),\"x\")","v":"x"},{"$f":"IF($E24=\"Y\",INDEX(OIQraw,ROW(),Setup!$C$5+COLUMN()-26),\"x\")","v":"x"},{"$f":"IF($E24=\"Y\",INDEX(OIQraw,ROW(),Setup!$C$5+COLUMN()-26),\"x\")","v":"x"},{"$f":"IF($E24=\"Y\",INDEX(OIQraw,ROW(),Setup!$C$5+COLUMN()-26),\"x\")","v":"x"},{"$f":"IF($E24=\"Y\",INDEX(OIQraw,ROW(),Setup!$C$5+COLUMN()-26),\"x\")","v":"x"},{"$f":"IF($E24=\"Y\",INDEX(OIQraw,ROW(),Setup!$C$5+COLUMN()-26),\"x\")","v":"x"},{"$f":"IF($E24=\"Y\",INDEX(OIQraw,ROW(),Setup!$C$5+COLUMN()-26),\"x\")","v":"x"},{"$f":"IF($E24=\"Y\",INDEX(OIQraw,ROW(),Setup!$C$5+COLUMN()-26),\"x\")","v":"x"},{"$f":"IF($E24=\"Y\",INDEX(OIQraw,ROW(),Setup!$C$5+COLUMN()-26),\"x\")","v":"x"},{"$f":"IF($E24=\"Y\",INDEX(OIQraw,ROW(),Setup!$C$5+COLUMN()-26),\"x\")","v":"x"},{"$f":"IF($E24=\"Y\",INDEX(OIQraw,ROW(),Setup!$C$5+COLUMN()-26),\"x\")","v":"x"},{"$f":"IF($E24=\"Y\",INDEX(OIQraw,ROW(),Setup!$C$5+COLUMN()-26),\"x\")","v":"x"},{"$f":"IF($E24=\"Y\",INDEX(OIQraw,ROW(),Setup!$C$5+COLUMN()-26),\"x\")","v":"x"},{"$f":"IF($E24=\"Y\",INDEX(OIQraw,ROW(),Setup!$C$5+COLUMN()-26),\"x\")","v":"x"},{"$f":"IF($E24=\"Y\",INDEX(OIQraw,ROW(),Setup!$C$5+COLUMN()-26),\"x\")","v":"x"},{"$f":"IF($E24=\"Y\",INDEX(OIQraw,ROW(),Setup!$C$5+COLUMN()-26),\"x\")","v":"x"},{"$f":"IF($E24=\"Y\",INDEX(OIQraw,ROW(),Setup!$C$5+COLUMN()-26),\"x\")","v":"x"},{"$f":"IF($E24=\"Y\",INDEX(OIQraw,ROW(),Setup!$C$5+COLUMN()-26),\"x\")","v":"x"},{"$f":"IF($E24=\"Y\",INDEX(OIQraw,ROW(),Setup!$C$5+COLUMN()-26),\"x\")","v":"x"},{"$f":"IF($E24=\"Y\",INDEX(OIQraw,ROW(),Setup!$C$5+COLUMN()-26),\"x\")","v":"x"},{"$f":"IF($E24=\"Y\",INDEX(OIQraw,ROW(),Setup!$C$5+COLUMN()-26),\"x\")","v":"x"},{"$f":"IF($E24=\"Y\",INDEX(OIQraw,ROW(),Setup!$C$5+COLUMN()-26),\"x\")","v":"x"},{"$f":"IF($E24=\"Y\",INDEX(OIQraw,ROW(),Setup!$C$5+COLUMN()-26),\"x\")","v":"x"},{"$f":"IF($E24=\"Y\",INDEX(OIQraw,ROW(),Setup!$C$5+COLUMN()-26),\"x\")","v":"x"},{"$f":"IF($E24=\"Y\",INDEX(OIQraw,ROW(),Setup!$C$5+COLUMN()-26),\"x\")","v":"x"},{"$f":"IF($E24=\"Y\",INDEX(OIQraw,ROW(),Setup!$C$5+COLUMN()-26),\"x\")","v":"x"},{"$f":"IF($E24=\"Y\",INDEX(OIQraw,ROW(),Setup!$C$5+COLUMN()-26),\"x\")","v":"x"},{"$f":"IF($E24=\"Y\",INDEX(OIQraw,ROW(),Setup!$C$5+COLUMN()-26),\"x\")","v":"x"},{"$f":"IF($E24=\"Y\",INDEX(OIQraw,ROW(),Setup!$C$5+COLUMN()-26),\"x\")","v":"x"},{"$f":"IF($E24=\"Y\",INDEX(OIQraw,ROW(),Setup!$C$5+COLUMN()-26),\"x\")","v":"x"},{"$f":"IF($E24=\"Y\",INDEX(OIQraw,ROW(),Setup!$C$5+COLUMN()-26),\"x\")","v":"x"},{"$f":"IF($E24=\"Y\",INDEX(OIQraw,ROW(),Setup!$C$5+COLUMN()-26),\"x\")","v":"x"}]
[1,"","",{"$f":"IF(ISERROR(FIND(\"Withdrew\",RawScores!B29)),RawScores!B29,RIGHT(RawScores!B29,LEN(RawScores!B29)-17))&\", \"&RawScores!C29","v":", "},{"$f":"IF(OR(ISERROR(FIND(\"Withdrew\",RawScores!B29))=FALSE,INDEX(OIQraw,ROW(),LastInputCol-3)=0),\"N\",IF(AND(Setup!$B$22=\"Yes\",INDEX(OIQraw,ROW(),LastInputCol)=1),\"N\",\"Y\"))","v":"N"},"X","X","X",{"$f":"IF(AND(ISNUMBER(F25),F25>Setup!$B$14-1),1,0)","v":0},{"$f":"IF(AND(F25>Setup!$B$14-1,Conv!H25<5),1,0)","v":0},{"$f":"IF(AND(F25>Setup!$B$14-1,Conv!G25=\"F\"),1,0)","v":0},"","","","","","","","","","","","","X","X",{"$f":"IF($E25=\"Y\",INDEX(OIQraw,ROW(),Setup!$C$5+COLUMN()-26),\"x\")","v":"x"},{"$f":"IF($E25=\"Y\",INDEX(OIQraw,ROW(),Setup!$C$5+COLUMN()-26),\"x\")","v":"x"},{"$f":"IF($E25=\"Y\",INDEX(OIQraw,ROW(),Setup!$C$5+COLUMN()-26),\"x\")","v":"x"},{"$f":"IF($E25=\"Y\",INDEX(OIQraw,ROW(),Setup!$C$5+COLUMN()-26),\"x\")","v":"x"},{"$f":"IF($E25=\"Y\",INDEX(OIQraw,ROW(),Setup!$C$5+COLUMN()-26),\"x\")","v":"x"},{"$f":"IF($E25=\"Y\",INDEX(OIQraw,ROW(),Setup!$C$5+COLUMN()-26),\"x\")","v":"x"},{"$f":"IF($E25=\"Y\",INDEX(OIQraw,ROW(),Setup!$C$5+COLUMN()-26),\"x\")","v":"x"},{"$f":"IF($E25=\"Y\",INDEX(OIQraw,ROW(),Setup!$C$5+COLUMN()-26),\"x\")","v":"x"},{"$f":"IF($E25=\"Y\",INDEX(OIQraw,ROW(),Setup!$C$5+COLUMN()-26),\"x\")","v":"x"},{"$f":"IF($E25=\"Y\",INDEX(OIQraw,ROW(),Setup!$C$5+COLUMN()-26),\"x\")","v":"x"},{"$f":"IF($E25=\"Y\",INDEX(OIQraw,ROW(),Setup!$C$5+COLUMN()-26),\"x\")","v":"x"},{"$f":"IF($E25=\"Y\",INDEX(OIQraw,ROW(),Setup!$C$5+COLUMN()-26),\"x\")","v":"x"},{"$f":"IF($E25=\"Y\",INDEX(OIQraw,ROW(),Setup!$C$5+COLUMN()-26),\"x\")","v":"x"},{"$f":"IF($E25=\"Y\",INDEX(OIQraw,ROW(),Setup!$C$5+COLUMN()-26),\"x\")","v":"x"},{"$f":"IF($E25=\"Y\",INDEX(OIQraw,ROW(),Setup!$C$5+COLUMN()-26),\"x\")","v":"x"},{"$f":"IF($E25=\"Y\",INDEX(OIQraw,ROW(),Setup!$C$5+COLUMN()-26),\"x\")","v":"x"},{"$f":"IF($E25=\"Y\",INDEX(OIQraw,ROW(),Setup!$C$5+COLUMN()-26),\"x\")","v":"x"},{"$f":"IF($E25=\"Y\",INDEX(OIQraw,ROW(),Setup!$C$5+COLUMN()-26),\"x\")","v":"x"},{"$f":"IF($E25=\"Y\",INDEX(OIQraw,ROW(),Setup!$C$5+COLUMN()-26),\"x\")","v":"x"},{"$f":"IF($E25=\"Y\",INDEX(OIQraw,ROW(),Setup!$C$5+COLUMN()-26),\"x\")","v":"x"},{"$f":"IF($E25=\"Y\",INDEX(OIQraw,ROW(),Setup!$C$5+COLUMN()-26),\"x\")","v":"x"},{"$f":"IF($E25=\"Y\",INDEX(OIQraw,ROW(),Setup!$C$5+COLUMN()-26),\"x\")","v":"x"},{"$f":"IF($E25=\"Y\",INDEX(OIQraw,ROW(),Setup!$C$5+COLUMN()-26),\"x\")","v":"x"},{"$f":"IF($E25=\"Y\",INDEX(OIQraw,ROW(),Setup!$C$5+COLUMN()-26),\"x\")","v":"x"},{"$f":"IF($E25=\"Y\",INDEX(OIQraw,ROW(),Setup!$C$5+COLUMN()-26),\"x\")","v":"x"},{"$f":"IF($E25=\"Y\",INDEX(OIQraw,ROW(),Setup!$C$5+COLUMN()-26),\"x\")","v":"x"},{"$f":"IF($E25=\"Y\",INDEX(OIQraw,ROW(),Setup!$C$5+COLUMN()-26),\"x\")","v":"x"},{"$f":"IF($E25=\"Y\",INDEX(OIQraw,ROW(),Setup!$C$5+COLUMN()-26),\"x\")","v":"x"},{"$f":"IF($E25=\"Y\",INDEX(OIQraw,ROW(),Setup!$C$5+COLUMN()-26),\"x\")","v":"x"},{"$f":"IF($E25=\"Y\",INDEX(OIQraw,ROW(),Setup!$C$5+COLUMN()-26),\"x\")","v":"x"},{"$f":"IF($E25=\"Y\",INDEX(OIQraw,ROW(),Setup!$C$5+COLUMN()-26),\"x\")","v":"x"},{"$f":"IF($E25=\"Y\",INDEX(OIQraw,ROW(),Setup!$C$5+COLUMN()-26),\"x\")","v":"x"},{"$f":"IF($E25=\"Y\",INDEX(OIQraw,ROW(),Setup!$C$5+COLUMN()-26),\"x\")","v":"x"},{"$f":"IF($E25=\"Y\",INDEX(OIQraw,ROW(),Setup!$C$5+COLUMN()-26),\"x\")","v":"x"},{"$f":"IF($E25=\"Y\",INDEX(OIQraw,ROW(),Setup!$C$5+COLUMN()-26),\"x\")","v":"x"},{"$f":"IF($E25=\"Y\",INDEX(OIQraw,ROW(),Setup!$C$5+COLUMN()-26),\"x\")","v":"x"},{"$f":"IF($E25=\"Y\",INDEX(OIQraw,ROW(),Setup!$C$5+COLUMN()-26),\"x\")","v":"x"},{"$f":"IF($E25=\"Y\",INDEX(OIQraw,ROW(),Setup!$C$5+COLUMN()-26),\"x\")","v":"x"},{"$f":"IF($E25=\"Y\",INDEX(OIQraw,ROW(),Setup!$C$5+COLUMN()-26),\"x\")","v":"x"},{"$f":"IF($E25=\"Y\",INDEX(OIQraw,ROW(),Setup!$C$5+COLUMN()-26),\"x\")","v":"x"},{"$f":"IF($E25=\"Y\",INDEX(OIQraw,ROW(),Setup!$C$5+COLUMN()-26),\"x\")","v":"x"},{"$f":"IF($E25=\"Y\",INDEX(OIQraw,ROW(),Setup!$C$5+COLUMN()-26),\"x\")","v":"x"},{"$f":"IF($E25=\"Y\",INDEX(OIQraw,ROW(),Setup!$C$5+COLUMN()-26),\"x\")","v":"x"},{"$f":"IF($E25=\"Y\",INDEX(OIQraw,ROW(),Setup!$C$5+COLUMN()-26),\"x\")","v":"x"},{"$f":"IF($E25=\"Y\",INDEX(OIQraw,ROW(),Setup!$C$5+COLUMN()-26),\"x\")","v":"x"},{"$f":"IF($E25=\"Y\",INDEX(OIQraw,ROW(),Setup!$C$5+COLUMN()-26),\"x\")","v":"x"},{"$f":"IF($E25=\"Y\",INDEX(OIQraw,ROW(),Setup!$C$5+COLUMN()-26),\"x\")","v":"x"},{"$f":"IF($E25=\"Y\",INDEX(OIQraw,ROW(),Setup!$C$5+COLUMN()-26),\"x\")","v":"x"},{"$f":"IF($E25=\"Y\",INDEX(OIQraw,ROW(),Setup!$C$5+COLUMN()-26),\"x\")","v":"x"},{"$f":"IF($E25=\"Y\",INDEX(OIQraw,ROW(),Setup!$C$5+COLUMN()-26),\"x\")","v":"x"},{"$f":"IF($E25=\"Y\",INDEX(OIQraw,ROW(),Setup!$C$5+COLUMN()-26),\"x\")","v":"x"},{"$f":"IF($E25=\"Y\",INDEX(OIQraw,ROW(),Setup!$C$5+COLUMN()-26),\"x\")","v":"x"},{"$f":"IF($E25=\"Y\",INDEX(OIQraw,ROW(),Setup!$C$5+COLUMN()-26),\"x\")","v":"x"},{"$f":"IF($E25=\"Y\",INDEX(OIQraw,ROW(),Setup!$C$5+COLUMN()-26),\"x\")","v":"x"},{"$f":"IF($E25=\"Y\",INDEX(OIQraw,ROW(),Setup!$C$5+COLUMN()-26),\"x\")","v":"x"},{"$f":"IF($E25=\"Y\",INDEX(OIQraw,ROW(),Setup!$C$5+COLUMN()-26),\"x\")","v":"x"},{"$f":"IF($E25=\"Y\",INDEX(OIQraw,ROW(),Setup!$C$5+COLUMN()-26),\"x\")","v":"x"},{"$f":"IF($E25=\"Y\",INDEX(OIQraw,ROW(),Setup!$C$5+COLUMN()-26),\"x\")","v":"x"},{"$f":"IF($E25=\"Y\",INDEX(OIQraw,ROW(),Setup!$C$5+COLUMN()-26),\"x\")","v":"x"},{"$f":"IF($E25=\"Y\",INDEX(OIQraw,ROW(),Setup!$C$5+COLUMN()-26),\"x\")","v":"x"},{"$f":"IF($E25=\"Y\",INDEX(OIQraw,ROW(),Setup!$C$5+COLUMN()-26),\"x\")","v":"x"},{"$f":"IF($E25=\"Y\",INDEX(OIQraw,ROW(),Setup!$C$5+COLUMN()-26),\"x\")","v":"x"},{"$f":"IF($E25=\"Y\",INDEX(OIQraw,ROW(),Setup!$C$5+COLUMN()-26),\"x\")","v":"x"},{"$f":"IF($E25=\"Y\",INDEX(OIQraw,ROW(),Setup!$C$5+COLUMN()-26),\"x\")","v":"x"},{"$f":"IF($E25=\"Y\",INDEX(OIQraw,ROW(),Setup!$C$5+COLUMN()-26),\"x\")","v":"x"},{"$f":"IF($E25=\"Y\",INDEX(OIQraw,ROW(),Setup!$C$5+COLUMN()-26),\"x\")","v":"x"},{"$f":"IF($E25=\"Y\",INDEX(OIQraw,ROW(),Setup!$C$5+COLUMN()-26),\"x\")","v":"x"},{"$f":"IF($E25=\"Y\",INDEX(OIQraw,ROW(),Setup!$C$5+COLUMN()-26),\"x\")","v":"x"},{"$f":"IF($E25=\"Y\",INDEX(OIQraw,ROW(),Setup!$C$5+COLUMN()-26),\"x\")","v":"x"},{"$f":"IF($E25=\"Y\",INDEX(OIQraw,ROW(),Setup!$C$5+COLUMN()-26),\"x\")","v":"x"},{"$f":"IF($E25=\"Y\",INDEX(OIQraw,ROW(),Setup!$C$5+COLUMN()-26),\"x\")","v":"x"},{"$f":"IF($E25=\"Y\",INDEX(OIQraw,ROW(),Setup!$C$5+COLUMN()-26),\"x\")","v":"x"},{"$f":"IF($E25=\"Y\",INDEX(OIQraw,ROW(),Setup!$C$5+COLUMN()-26),\"x\")","v":"x"},{"$f":"IF($E25=\"Y\",INDEX(OIQraw,ROW(),Setup!$C$5+COLUMN()-26),\"x\")","v":"x"},{"$f":"IF($E25=\"Y\",INDEX(OIQraw,ROW(),Setup!$C$5+COLUMN()-26),\"x\")","v":"x"},{"$f":"IF($E25=\"Y\",INDEX(OIQraw,ROW(),Setup!$C$5+COLUMN()-26),\"x\")","v":"x"},{"$f":"IF($E25=\"Y\",INDEX(OIQraw,ROW(),Setup!$C$5+COLUMN()-26),\"x\")","v":"x"},{"$f":"IF($E25=\"Y\",INDEX(OIQraw,ROW(),Setup!$C$5+COLUMN()-26),\"x\")","v":"x"},{"$f":"IF($E25=\"Y\",INDEX(OIQraw,ROW(),Setup!$C$5+COLUMN()-26),\"x\")","v":"x"},{"$f":"IF($E25=\"Y\",INDEX(OIQraw,ROW(),Setup!$C$5+COLUMN()-26),\"x\")","v":"x"},{"$f":"IF($E25=\"Y\",INDEX(OIQraw,ROW(),Setup!$C$5+COLUMN()-26),\"x\")","v":"x"},{"$f":"IF($E25=\"Y\",INDEX(OIQraw,ROW(),Setup!$C$5+COLUMN()-26),\"x\")","v":"x"},{"$f":"IF($E25=\"Y\",INDEX(OIQraw,ROW(),Setup!$C$5+COLUMN()-26),\"x\")","v":"x"},{"$f":"IF($E25=\"Y\",INDEX(OIQraw,ROW(),Setup!$C$5+COLUMN()-26),\"x\")","v":"x"},{"$f":"IF($E25=\"Y\",INDEX(OIQraw,ROW(),Setup!$C$5+COLUMN()-26),\"x\")","v":"x"},{"$f":"IF($E25=\"Y\",INDEX(OIQraw,ROW(),Setup!$C$5+COLUMN()-26),\"x\")","v":"x"},{"$f":"IF($E25=\"Y\",INDEX(OIQraw,ROW(),Setup!$C$5+COLUMN()-26),\"x\")","v":"x"},{"$f":"IF($E25=\"Y\",INDEX(OIQraw,ROW(),Setup!$C$5+COLUMN()-26),\"x\")","v":"x"},{"$f":"IF($E25=\"Y\",INDEX(OIQraw,ROW(),Setup!$C$5+COLUMN()-26),\"x\")","v":"x"},{"$f":"IF($E25=\"Y\",INDEX(OIQraw,ROW(),Setup!$C$5+COLUMN()-26),\"x\")","v":"x"},{"$f":"IF($E25=\"Y\",INDEX(OIQraw,ROW(),Setup!$C$5+COLUMN()-26),\"x\")","v":"x"},{"$f":"IF($E25=\"Y\",INDEX(OIQraw,ROW(),Setup!$C$5+COLUMN()-26),\"x\")","v":"x"},{"$f":"IF($E25=\"Y\",INDEX(OIQraw,ROW(),Setup!$C$5+COLUMN()-26),\"x\")","v":"x"},{"$f":"IF($E25=\"Y\",INDEX(OIQraw,ROW(),Setup!$C$5+COLUMN()-26),\"x\")","v":"x"},{"$f":"IF($E25=\"Y\",INDEX(OIQraw,ROW(),Setup!$C$5+COLUMN()-26),\"x\")","v":"x"},{"$f":"IF($E25=\"Y\",INDEX(OIQraw,ROW(),Setup!$C$5+COLUMN()-26),\"x\")","v":"x"},{"$f":"IF($E25=\"Y\",INDEX(OIQraw,ROW(),Setup!$C$5+COLUMN()-26),\"x\")","v":"x"},{"$f":"IF($E25=\"Y\",INDEX(OIQraw,ROW(),Setup!$C$5+COLUMN()-26),\"x\")","v":"x"},{"$f":"IF($E25=\"Y\",INDEX(OIQraw,ROW(),Setup!$C$5+COLUMN()-26),\"x\")","v":"x"},{"$f":"IF($E25=\"Y\",INDEX(OIQraw,ROW(),Setup!$C$5+COLUMN()-26),\"x\")","v":"x"},{"$f":"IF($E25=\"Y\",INDEX(OIQraw,ROW(),Setup!$C$5+COLUMN()-26),\"x\")","v":"x"},{"$f":"IF($E25=\"Y\",INDEX(OIQraw,ROW(),Setup!$C$5+COLUMN()-26),\"x\")","v":"x"},{"$f":"IF($E25=\"Y\",INDEX(OIQraw,ROW(),Setup!$C$5+COLUMN()-26),\"x\")","v":"x"},{"$f":"IF($E25=\"Y\",INDEX(OIQraw,ROW(),Setup!$C$5+COLUMN()-26),\"x\")","v":"x"},{"$f":"IF($E25=\"Y\",INDEX(OIQraw,ROW(),Setup!$C$5+COLUMN()-26),\"x\")","v":"x"},{"$f":"IF($E25=\"Y\",INDEX(OIQraw,ROW(),Setup!$C$5+COLUMN()-26),\"x\")","v":"x"},{"$f":"IF($E25=\"Y\",INDEX(OIQraw,ROW(),Setup!$C$5+COLUMN()-26),\"x\")","v":"x"},{"$f":"IF($E25=\"Y\",INDEX(OIQraw,ROW(),Setup!$C$5+COLUMN()-26),\"x\")","v":"x"},{"$f":"IF($E25=\"Y\",INDEX(OIQraw,ROW(),Setup!$C$5+COLUMN()-26),\"x\")","v":"x"},{"$f":"IF($E25=\"Y\",INDEX(OIQraw,ROW(),Setup!$C$5+COLUMN()-26),\"x\")","v":"x"},{"$f":"IF($E25=\"Y\",INDEX(OIQraw,ROW(),Setup!$C$5+COLUMN()-26),\"x\")","v":"x"},{"$f":"IF($E25=\"Y\",INDEX(OIQraw,ROW(),Setup!$C$5+COLUMN()-26),\"x\")","v":"x"},{"$f":"IF($E25=\"Y\",INDEX(OIQraw,ROW(),Setup!$C$5+COLUMN()-26),\"x\")","v":"x"},{"$f":"IF($E25=\"Y\",INDEX(OIQraw,ROW(),Setup!$C$5+COLUMN()-26),\"x\")","v":"x"},{"$f":"IF($E25=\"Y\",INDEX(OIQraw,ROW(),Setup!$C$5+COLUMN()-26),\"x\")","v":"x"},{"$f":"IF($E25=\"Y\",INDEX(OIQraw,ROW(),Setup!$C$5+COLUMN()-26),\"x\")","v":"x"},{"$f":"IF($E25=\"Y\",INDEX(OIQraw,ROW(),Setup!$C$5+COLUMN()-26),\"x\")","v":"x"},{"$f":"IF($E25=\"Y\",INDEX(OIQraw,ROW(),Setup!$C$5+COLUMN()-26),\"x\")","v":"x"},{"$f":"IF($E25=\"Y\",INDEX(OIQraw,ROW(),Setup!$C$5+COLUMN()-26),\"x\")","v":"x"},{"$f":"IF($E25=\"Y\",INDEX(OIQraw,ROW(),Setup!$C$5+COLUMN()-26),\"x\")","v":"x"},{"$f":"IF($E25=\"Y\",INDEX(OIQraw,ROW(),Setup!$C$5+COLUMN()-26),\"x\")","v":"x"},{"$f":"IF($E25=\"Y\",INDEX(OIQraw,ROW(),Setup!$C$5+COLUMN()-26),\"x\")","v":"x"},{"$f":"IF($E25=\"Y\",INDEX(OIQraw,ROW(),Setup!$C$5+COLUMN()-26),\"x\")","v":"x"},{"$f":"IF($E25=\"Y\",INDEX(OIQraw,ROW(),Setup!$C$5+COLUMN()-26),\"x\")","v":"x"},{"$f":"IF($E25=\"Y\",INDEX(OIQraw,ROW(),Setup!$C$5+COLUMN()-26),\"x\")","v":"x"},{"$f":"IF($E25=\"Y\",INDEX(OIQraw,ROW(),Setup!$C$5+COLUMN()-26),\"x\")","v":"x"},{"$f":"IF($E25=\"Y\",INDEX(OIQraw,ROW(),Setup!$C$5+COLUMN()-26),\"x\")","v":"x"},{"$f":"IF($E25=\"Y\",INDEX(OIQraw,ROW(),Setup!$C$5+COLUMN()-26),\"x\")","v":"x"},{"$f":"IF($E25=\"Y\",INDEX(OIQraw,ROW(),Setup!$C$5+COLUMN()-26),\"x\")","v":"x"},{"$f":"IF($E25=\"Y\",INDEX(OIQraw,ROW(),Setup!$C$5+COLUMN()-26),\"x\")","v":"x"},{"$f":"IF($E25=\"Y\",INDEX(OIQraw,ROW(),Setup!$C$5+COLUMN()-26),\"x\")","v":"x"},{"$f":"IF($E25=\"Y\",INDEX(OIQraw,ROW(),Setup!$C$5+COLUMN()-26),\"x\")","v":"x"},{"$f":"IF($E25=\"Y\",INDEX(OIQraw,ROW(),Setup!$C$5+COLUMN()-26),\"x\")","v":"x"},{"$f":"IF($E25=\"Y\",INDEX(OIQraw,ROW(),Setup!$C$5+COLUMN()-26),\"x\")","v":"x"},{"$f":"IF($E25=\"Y\",INDEX(OIQraw,ROW(),Setup!$C$5+COLUMN()-26),\"x\")","v":"x"},{"$f":"IF($E25=\"Y\",INDEX(OIQraw,ROW(),Setup!$C$5+COLUMN()-26),\"x\")","v":"x"},{"$f":"IF($E25=\"Y\",INDEX(OIQraw,ROW(),Setup!$C$5+COLUMN()-26),\"x\")","v":"x"},{"$f":"IF($E25=\"Y\",INDEX(OIQraw,ROW(),Setup!$C$5+COLUMN()-26),\"x\")","v":"x"},{"$f":"IF($E25=\"Y\",INDEX(OIQraw,ROW(),Setup!$C$5+COLUMN()-26),\"x\")","v":"x"},{"$f":"IF($E25=\"Y\",INDEX(OIQraw,ROW(),Setup!$C$5+COLUMN()-26),\"x\")","v":"x"},{"$f":"IF($E25=\"Y\",INDEX(OIQraw,ROW(),Setup!$C$5+COLUMN()-26),\"x\")","v":"x"},{"$f":"IF($E25=\"Y\",INDEX(OIQraw,ROW(),Setup!$C$5+COLUMN()-26),\"x\")","v":"x"},{"$f":"IF($E25=\"Y\",INDEX(OIQraw,ROW(),Setup!$C$5+COLUMN()-26),\"x\")","v":"x"},{"$f":"IF($E25=\"Y\",INDEX(OIQraw,ROW(),Setup!$C$5+COLUMN()-26),\"x\")","v":"x"},{"$f":"IF($E25=\"Y\",INDEX(OIQraw,ROW(),Setup!$C$5+COLUMN()-26),\"x\")","v":"x"},{"$f":"IF($E25=\"Y\",INDEX(OIQraw,ROW(),Setup!$C$5+COLUMN()-26),\"x\")","v":"x"},{"$f":"IF($E25=\"Y\",INDEX(OIQraw,ROW(),Setup!$C$5+COLUMN()-26),\"x\")","v":"x"},{"$f":"IF($E25=\"Y\",INDEX(OIQraw,ROW(),Setup!$C$5+COLUMN()-26),\"x\")","v":"x"},{"$f":"IF($E25=\"Y\",INDEX(OIQraw,ROW(),Setup!$C$5+COLUMN()-26),\"x\")","v":"x"},{"$f":"IF($E25=\"Y\",INDEX(OIQraw,ROW(),Setup!$C$5+COLUMN()-26),\"x\")","v":"x"},{"$f":"IF($E25=\"Y\",INDEX(OIQraw,ROW(),Setup!$C$5+COLUMN()-26),\"x\")","v":"x"},{"$f":"IF($E25=\"Y\",INDEX(OIQraw,ROW(),Setup!$C$5+COLUMN()-26),\"x\")","v":"x"},{"$f":"IF($E25=\"Y\",INDEX(OIQraw,ROW(),Setup!$C$5+COLUMN()-26),\"x\")","v":"x"},{"$f":"IF($E25=\"Y\",INDEX(OIQraw,ROW(),Setup!$C$5+COLUMN()-26),\"x\")","v":"x"},{"$f":"IF($E25=\"Y\",INDEX(OIQraw,ROW(),Setup!$C$5+COLUMN()-26),\"x\")","v":"x"},{"$f":"IF($E25=\"Y\",INDEX(OIQraw,ROW(),Setup!$C$5+COLUMN()-26),\"x\")","v":"x"},{"$f":"IF($E25=\"Y\",INDEX(OIQraw,ROW(),Setup!$C$5+COLUMN()-26),\"x\")","v":"x"},{"$f":"IF($E25=\"Y\",INDEX(OIQraw,ROW(),Setup!$C$5+COLUMN()-26),\"x\")","v":"x"},{"$f":"IF($E25=\"Y\",INDEX(OIQraw,ROW(),Setup!$C$5+COLUMN()-26),\"x\")","v":"x"},{"$f":"IF($E25=\"Y\",INDEX(OIQraw,ROW(),Setup!$C$5+COLUMN()-26),\"x\")","v":"x"},{"$f":"IF($E25=\"Y\",INDEX(OIQraw,ROW(),Setup!$C$5+COLUMN()-26),\"x\")","v":"x"},{"$f":"IF($E25=\"Y\",INDEX(OIQraw,ROW(),Setup!$C$5+COLUMN()-26),\"x\")","v":"x"},{"$f":"IF($E25=\"Y\",INDEX(OIQraw,ROW(),Setup!$C$5+COLUMN()-26),\"x\")","v":"x"},{"$f":"IF($E25=\"Y\",INDEX(OIQraw,ROW(),Setup!$C$5+COLUMN()-26),\"x\")","v":"x"},{"$f":"IF($E25=\"Y\",INDEX(OIQraw,ROW(),Setup!$C$5+COLUMN()-26),\"x\")","v":"x"},{"$f":"IF($E25=\"Y\",INDEX(OIQraw,ROW(),Setup!$C$5+COLUMN()-26),\"x\")","v":"x"},{"$f":"IF($E25=\"Y\",INDEX(OIQraw,ROW(),Setup!$C$5+COLUMN()-26),\"x\")","v":"x"},{"$f":"IF($E25=\"Y\",INDEX(OIQraw,ROW(),Setup!$C$5+COLUMN()-26),\"x\")","v":"x"},{"$f":"IF($E25=\"Y\",INDEX(OIQraw,ROW(),Setup!$C$5+COLUMN()-26),\"x\")","v":"x"},{"$f":"IF($E25=\"Y\",INDEX(OIQraw,ROW(),Setup!$C$5+COLUMN()-26),\"x\")","v":"x"},{"$f":"IF($E25=\"Y\",INDEX(OIQraw,ROW(),Setup!$C$5+COLUMN()-26),\"x\")","v":"x"},{"$f":"IF($E25=\"Y\",INDEX(OIQraw,ROW(),Setup!$C$5+COLUMN()-26),\"x\")","v":"x"},{"$f":"IF($E25=\"Y\",INDEX(OIQraw,ROW(),Setup!$C$5+COLUMN()-26),\"x\")","v":"x"},{"$f":"IF($E25=\"Y\",INDEX(OIQraw,ROW(),Setup!$C$5+COLUMN()-26),\"x\")","v":"x"},{"$f":"IF($E25=\"Y\",INDEX(OIQraw,ROW(),Setup!$C$5+COLUMN()-26),\"x\")","v":"x"},{"$f":"IF($E25=\"Y\",INDEX(OIQraw,ROW(),Setup!$C$5+COLUMN()-26),\"x\")","v":"x"},{"$f":"IF($E25=\"Y\",INDEX(OIQraw,ROW(),Setup!$C$5+COLUMN()-26),\"x\")","v":"x"},{"$f":"IF($E25=\"Y\",INDEX(OIQraw,ROW(),Setup!$C$5+COLUMN()-26),\"x\")","v":"x"},{"$f":"IF($E25=\"Y\",INDEX(OIQraw,ROW(),Setup!$C$5+COLUMN()-26),\"x\")","v":"x"},{"$f":"IF($E25=\"Y\",INDEX(OIQraw,ROW(),Setup!$C$5+COLUMN()-26),\"x\")","v":"x"},{"$f":"IF($E25=\"Y\",INDEX(OIQraw,ROW(),Setup!$C$5+COLUMN()-26),\"x\")","v":"x"},{"$f":"IF($E25=\"Y\",INDEX(OIQraw,ROW(),Setup!$C$5+COLUMN()-26),\"x\")","v":"x"},{"$f":"IF($E25=\"Y\",INDEX(OIQraw,ROW(),Setup!$C$5+COLUMN()-26),\"x\")","v":"x"},{"$f":"IF($E25=\"Y\",INDEX(OIQraw,ROW(),Setup!$C$5+COLUMN()-26),\"x\")","v":"x"},{"$f":"IF($E25=\"Y\",INDEX(OIQraw,ROW(),Setup!$C$5+COLUMN()-26),\"x\")","v":"x"},{"$f":"IF($E25=\"Y\",INDEX(OIQraw,ROW(),Setup!$C$5+COLUMN()-26),\"x\")","v":"x"},{"$f":"IF($E25=\"Y\",INDEX(OIQraw,ROW(),Setup!$C$5+COLUMN()-26),\"x\")","v":"x"},{"$f":"IF($E25=\"Y\",INDEX(OIQraw,ROW(),Setup!$C$5+COLUMN()-26),\"x\")","v":"x"},{"$f":"IF($E25=\"Y\",INDEX(OIQraw,ROW(),Setup!$C$5+COLUMN()-26),\"x\")","v":"x"},{"$f":"IF($E25=\"Y\",INDEX(OIQraw,ROW(),Setup!$C$5+COLUMN()-26),\"x\")","v":"x"},{"$f":"IF($E25=\"Y\",INDEX(OIQraw,ROW(),Setup!$C$5+COLUMN()-26),\"x\")","v":"x"},{"$f":"IF($E25=\"Y\",INDEX(OIQraw,ROW(),Setup!$C$5+COLUMN()-26),\"x\")","v":"x"},{"$f":"IF($E25=\"Y\",INDEX(OIQraw,ROW(),Setup!$C$5+COLUMN()-26),\"x\")","v":"x"},{"$f":"IF($E25=\"Y\",INDEX(OIQraw,ROW(),Setup!$C$5+COLUMN()-26),\"x\")","v":"x"},{"$f":"IF($E25=\"Y\",INDEX(OIQraw,ROW(),Setup!$C$5+COLUMN()-26),\"x\")","v":"x"},{"$f":"IF($E25=\"Y\",INDEX(OIQraw,ROW(),Setup!$C$5+COLUMN()-26),\"x\")","v":"x"},{"$f":"IF($E25=\"Y\",INDEX(OIQraw,ROW(),Setup!$C$5+COLUMN()-26),\"x\")","v":"x"},{"$f":"IF($E25=\"Y\",INDEX(OIQraw,ROW(),Setup!$C$5+COLUMN()-26),\"x\")","v":"x"},{"$f":"IF($E25=\"Y\",INDEX(OIQraw,ROW(),Setup!$C$5+COLUMN()-26),\"x\")","v":"x"},{"$f":"IF($E25=\"Y\",INDEX(OIQraw,ROW(),Setup!$C$5+COLUMN()-26),\"x\")","v":"x"},{"$f":"IF($E25=\"Y\",INDEX(OIQraw,ROW(),Setup!$C$5+COLUMN()-26),\"x\")","v":"x"},{"$f":"IF($E25=\"Y\",INDEX(OIQraw,ROW(),Setup!$C$5+COLUMN()-26),\"x\")","v":"x"},{"$f":"IF($E25=\"Y\",INDEX(OIQraw,ROW(),Setup!$C$5+COLUMN()-26),\"x\")","v":"x"},{"$f":"IF($E25=\"Y\",INDEX(OIQraw,ROW(),Setup!$C$5+COLUMN()-26),\"x\")","v":"x"},{"$f":"IF($E25=\"Y\",INDEX(OIQraw,ROW(),Setup!$C$5+COLUMN()-26),\"x\")","v":"x"},{"$f":"IF($E25=\"Y\",INDEX(OIQraw,ROW(),Setup!$C$5+COLUMN()-26),\"x\")","v":"x"},{"$f":"IF($E25=\"Y\",INDEX(OIQraw,ROW(),Setup!$C$5+COLUMN()-26),\"x\")","v":"x"},{"$f":"IF($E25=\"Y\",INDEX(OIQraw,ROW(),Setup!$C$5+COLUMN()-26),\"x\")","v":"x"},{"$f":"IF($E25=\"Y\",INDEX(OIQraw,ROW(),Setup!$C$5+COLUMN()-26),\"x\")","v":"x"},{"$f":"IF($E25=\"Y\",INDEX(OIQraw,ROW(),Setup!$C$5+COLUMN()-26),\"x\")","v":"x"},{"$f":"IF($E25=\"Y\",INDEX(OIQraw,ROW(),Setup!$C$5+COLUMN()-26),\"x\")","v":"x"},{"$f":"IF($E25=\"Y\",INDEX(OIQraw,ROW(),Setup!$C$5+COLUMN()-26),\"x\")","v":"x"},{"$f":"IF($E25=\"Y\",INDEX(OIQraw,ROW(),Setup!$C$5+COLUMN()-26),\"x\")","v":"x"},{"$f":"IF($E25=\"Y\",INDEX(OIQraw,ROW(),Setup!$C$5+COLUMN()-26),\"x\")","v":"x"},{"$f":"IF($E25=\"Y\",INDEX(OIQraw,ROW(),Setup!$C$5+COLUMN()-26),\"x\")","v":"x"},{"$f":"IF($E25=\"Y\",INDEX(OIQraw,ROW(),Setup!$C$5+COLUMN()-26),\"x\")","v":"x"},{"$f":"IF($E25=\"Y\",INDEX(OIQraw,ROW(),Setup!$C$5+COLUMN()-26),\"x\")","v":"x"},{"$f":"IF($E25=\"Y\",INDEX(OIQraw,ROW(),Setup!$C$5+COLUMN()-26),\"x\")","v":"x"},{"$f":"IF($E25=\"Y\",INDEX(OIQraw,ROW(),Setup!$C$5+COLUMN()-26),\"x\")","v":"x"},{"$f":"IF($E25=\"Y\",INDEX(OIQraw,ROW(),Setup!$C$5+COLUMN()-26),\"x\")","v":"x"},{"$f":"IF($E25=\"Y\",INDEX(OIQraw,ROW(),Setup!$C$5+COLUMN()-26),\"x\")","v":"x"},{"$f":"IF($E25=\"Y\",INDEX(OIQraw,ROW(),Setup!$C$5+COLUMN()-26),\"x\")","v":"x"},{"$f":"IF($E25=\"Y\",INDEX(OIQraw,ROW(),Setup!$C$5+COLUMN()-26),\"x\")","v":"x"},{"$f":"IF($E25=\"Y\",INDEX(OIQraw,ROW(),Setup!$C$5+COLUMN()-26),\"x\")","v":"x"},{"$f":"IF($E25=\"Y\",INDEX(OIQraw,ROW(),Setup!$C$5+COLUMN()-26),\"x\")","v":"x"},{"$f":"IF($E25=\"Y\",INDEX(OIQraw,ROW(),Setup!$C$5+COLUMN()-26),\"x\")","v":"x"},{"$f":"IF($E25=\"Y\",INDEX(OIQraw,ROW(),Setup!$C$5+COLUMN()-26),\"x\")","v":"x"},{"$f":"IF($E25=\"Y\",INDEX(OIQraw,ROW(),Setup!$C$5+COLUMN()-26),\"x\")","v":"x"},{"$f":"IF($E25=\"Y\",INDEX(OIQraw,ROW(),Setup!$C$5+COLUMN()-26),\"x\")","v":"x"},{"$f":"IF($E25=\"Y\",INDEX(OIQraw,ROW(),Setup!$C$5+COLUMN()-26),\"x\")","v":"x"},{"$f":"IF($E25=\"Y\",INDEX(OIQraw,ROW(),Setup!$C$5+COLUMN()-26),\"x\")","v":"x"},{"$f":"IF($E25=\"Y\",INDEX(OIQraw,ROW(),Setup!$C$5+COLUMN()-26),\"x\")","v":"x"},{"$f":"IF($E25=\"Y\",INDEX(OIQraw,ROW(),Setup!$C$5+COLUMN()-26),\"x\")","v":"x"},{"$f":"IF($E25=\"Y\",INDEX(OIQraw,ROW(),Setup!$C$5+COLUMN()-26),\"x\")","v":"x"},{"$f":"IF($E25=\"Y\",INDEX(OIQraw,ROW(),Setup!$C$5+COLUMN()-26),\"x\")","v":"x"},{"$f":"IF($E25=\"Y\",INDEX(OIQraw,ROW(),Setup!$C$5+COLUMN()-26),\"x\")","v":"x"},{"$f":"IF($E25=\"Y\",INDEX(OIQraw,ROW(),Setup!$C$5+COLUMN()-26),\"x\")","v":"x"},{"$f":"IF($E25=\"Y\",INDEX(OIQraw,ROW(),Setup!$C$5+COLUMN()-26),\"x\")","v":"x"},{"$f":"IF($E25=\"Y\",INDEX(OIQraw,ROW(),Setup!$C$5+COLUMN()-26),\"x\")","v":"x"},{"$f":"IF($E25=\"Y\",INDEX(OIQraw,ROW(),Setup!$C$5+COLUMN()-26),\"x\")","v":"x"},{"$f":"IF($E25=\"Y\",INDEX(OIQraw,ROW(),Setup!$C$5+COLUMN()-26),\"x\")","v":"x"},{"$f":"IF($E25=\"Y\",INDEX(OIQraw,ROW(),Setup!$C$5+COLUMN()-26),\"x\")","v":"x"},{"$f":"IF($E25=\"Y\",INDEX(OIQraw,ROW(),Setup!$C$5+COLUMN()-26),\"x\")","v":"x"},{"$f":"IF($E25=\"Y\",INDEX(OIQraw,ROW(),Setup!$C$5+COLUMN()-26),\"x\")","v":"x"},{"$f":"IF($E25=\"Y\",INDEX(OIQraw,ROW(),Setup!$C$5+COLUMN()-26),\"x\")","v":"x"},{"$f":"IF($E25=\"Y\",INDEX(OIQraw,ROW(),Setup!$C$5+COLUMN()-26),\"x\")","v":"x"},{"$f":"IF($E25=\"Y\",INDEX(OIQraw,ROW(),Setup!$C$5+COLUMN()-26),\"x\")","v":"x"},{"$f":"IF($E25=\"Y\",INDEX(OIQraw,ROW(),Setup!$C$5+COLUMN()-26),\"x\")","v":"x"},{"$f":"IF($E25=\"Y\",INDEX(OIQraw,ROW(),Setup!$C$5+COLUMN()-26),\"x\")","v":"x"},{"$f":"IF($E25=\"Y\",INDEX(OIQraw,ROW(),Setup!$C$5+COLUMN()-26),\"x\")","v":"x"},{"$f":"IF($E25=\"Y\",INDEX(OIQraw,ROW(),Setup!$C$5+COLUMN()-26),\"x\")","v":"x"},{"$f":"IF($E25=\"Y\",INDEX(OIQraw,ROW(),Setup!$C$5+COLUMN()-26),\"x\")","v":"x"},{"$f":"IF($E25=\"Y\",INDEX(OIQraw,ROW(),Setup!$C$5+COLUMN()-26),\"x\")","v":"x"}]
[1,"","",{"$f":"IF(ISERROR(FIND(\"Withdrew\",RawScores!B30)),RawScores!B30,RIGHT(RawScores!B30,LEN(RawScores!B30)-17))&\", \"&RawScores!C30","v":", "},{"$f":"IF(OR(ISERROR(FIND(\"Withdrew\",RawScores!B30))=FALSE,INDEX(OIQraw,ROW(),LastInputCol-3)=0),\"N\",IF(AND(Setup!$B$22=\"Yes\",INDEX(OIQraw,ROW(),LastInputCol)=1),\"N\",\"Y\"))","v":"N"},"X","X","X",{"$f":"IF(AND(ISNUMBER(F26),F26>Setup!$B$14-1),1,0)","v":0},{"$f":"IF(AND(F26>Setup!$B$14-1,Conv!H26<5),1,0)","v":0},{"$f":"IF(AND(F26>Setup!$B$14-1,Conv!G26=\"F\"),1,0)","v":0},"","","","","","","","","","","","","X","X",{"$f":"IF($E26=\"Y\",INDEX(OIQraw,ROW(),Setup!$C$5+COLUMN()-26),\"x\")","v":"x"},{"$f":"IF($E26=\"Y\",INDEX(OIQraw,ROW(),Setup!$C$5+COLUMN()-26),\"x\")","v":"x"},{"$f":"IF($E26=\"Y\",INDEX(OIQraw,ROW(),Setup!$C$5+COLUMN()-26),\"x\")","v":"x"},{"$f":"IF($E26=\"Y\",INDEX(OIQraw,ROW(),Setup!$C$5+COLUMN()-26),\"x\")","v":"x"},{"$f":"IF($E26=\"Y\",INDEX(OIQraw,ROW(),Setup!$C$5+COLUMN()-26),\"x\")","v":"x"},{"$f":"IF($E26=\"Y\",INDEX(OIQraw,ROW(),Setup!$C$5+COLUMN()-26),\"x\")","v":"x"},{"$f":"IF($E26=\"Y\",INDEX(OIQraw,ROW(),Setup!$C$5+COLUMN()-26),\"x\")","v":"x"},{"$f":"IF($E26=\"Y\",INDEX(OIQraw,ROW(),Setup!$C$5+COLUMN()-26),\"x\")","v":"x"},{"$f":"IF($E26=\"Y\",INDEX(OIQraw,ROW(),Setup!$C$5+COLUMN()-26),\"x\")","v":"x"},{"$f":"IF($E26=\"Y\",INDEX(OIQraw,ROW(),Setup!$C$5+COLUMN()-26),\"x\")","v":"x"},{"$f":"IF($E26=\"Y\",INDEX(OIQraw,ROW(),Setup!$C$5+COLUMN()-26),\"x\")","v":"x"},{"$f":"IF($E26=\"Y\",INDEX(OIQraw,ROW(),Setup!$C$5+COLUMN()-26),\"x\")","v":"x"},{"$f":"IF($E26=\"Y\",INDEX(OIQraw,ROW(),Setup!$C$5+COLUMN()-26),\"x\")","v":"x"},{"$f":"IF($E26=\"Y\",INDEX(OIQraw,ROW(),Setup!$C$5+COLUMN()-26),\"x\")","v":"x"},{"$f":"IF($E26=\"Y\",INDEX(OIQraw,ROW(),Setup!$C$5+COLUMN()-26),\"x\")","v":"x"},{"$f":"IF($E26=\"Y\",INDEX(OIQraw,ROW(),Setup!$C$5+COLUMN()-26),\"x\")","v":"x"},{"$f":"IF($E26=\"Y\",INDEX(OIQraw,ROW(),Setup!$C$5+COLUMN()-26),\"x\")","v":"x"},{"$f":"IF($E26=\"Y\",INDEX(OIQraw,ROW(),Setup!$C$5+COLUMN()-26),\"x\")","v":"x"},{"$f":"IF($E26=\"Y\",INDEX(OIQraw,ROW(),Setup!$C$5+COLUMN()-26),\"x\")","v":"x"},{"$f":"IF($E26=\"Y\",INDEX(OIQraw,ROW(),Setup!$C$5+COLUMN()-26),\"x\")","v":"x"},{"$f":"IF($E26=\"Y\",INDEX(OIQraw,ROW(),Setup!$C$5+COLUMN()-26),\"x\")","v":"x"},{"$f":"IF($E26=\"Y\",INDEX(OIQraw,ROW(),Setup!$C$5+COLUMN()-26),\"x\")","v":"x"},{"$f":"IF($E26=\"Y\",INDEX(OIQraw,ROW(),Setup!$C$5+COLUMN()-26),\"x\")","v":"x"},{"$f":"IF($E26=\"Y\",INDEX(OIQraw,ROW(),Setup!$C$5+COLUMN()-26),\"x\")","v":"x"},{"$f":"IF($E26=\"Y\",INDEX(OIQraw,ROW(),Setup!$C$5+COLUMN()-26),\"x\")","v":"x"},{"$f":"IF($E26=\"Y\",INDEX(OIQraw,ROW(),Setup!$C$5+COLUMN()-26),\"x\")","v":"x"},{"$f":"IF($E26=\"Y\",INDEX(OIQraw,ROW(),Setup!$C$5+COLUMN()-26),\"x\")","v":"x"},{"$f":"IF($E26=\"Y\",INDEX(OIQraw,ROW(),Setup!$C$5+COLUMN()-26),\"x\")","v":"x"},{"$f":"IF($E26=\"Y\",INDEX(OIQraw,ROW(),Setup!$C$5+COLUMN()-26),\"x\")","v":"x"},{"$f":"IF($E26=\"Y\",INDEX(OIQraw,ROW(),Setup!$C$5+COLUMN()-26),\"x\")","v":"x"},{"$f":"IF($E26=\"Y\",INDEX(OIQraw,ROW(),Setup!$C$5+COLUMN()-26),\"x\")","v":"x"},{"$f":"IF($E26=\"Y\",INDEX(OIQraw,ROW(),Setup!$C$5+COLUMN()-26),\"x\")","v":"x"},{"$f":"IF($E26=\"Y\",INDEX(OIQraw,ROW(),Setup!$C$5+COLUMN()-26),\"x\")","v":"x"},{"$f":"IF($E26=\"Y\",INDEX(OIQraw,ROW(),Setup!$C$5+COLUMN()-26),\"x\")","v":"x"},{"$f":"IF($E26=\"Y\",INDEX(OIQraw,ROW(),Setup!$C$5+COLUMN()-26),\"x\")","v":"x"},{"$f":"IF($E26=\"Y\",INDEX(OIQraw,ROW(),Setup!$C$5+COLUMN()-26),\"x\")","v":"x"},{"$f":"IF($E26=\"Y\",INDEX(OIQraw,ROW(),Setup!$C$5+COLUMN()-26),\"x\")","v":"x"},{"$f":"IF($E26=\"Y\",INDEX(OIQraw,ROW(),Setup!$C$5+COLUMN()-26),\"x\")","v":"x"},{"$f":"IF($E26=\"Y\",INDEX(OIQraw,ROW(),Setup!$C$5+COLUMN()-26),\"x\")","v":"x"},{"$f":"IF($E26=\"Y\",INDEX(OIQraw,ROW(),Setup!$C$5+COLUMN()-26),\"x\")","v":"x"},{"$f":"IF($E26=\"Y\",INDEX(OIQraw,ROW(),Setup!$C$5+COLUMN()-26),\"x\")","v":"x"},{"$f":"IF($E26=\"Y\",INDEX(OIQraw,ROW(),Setup!$C$5+COLUMN()-26),\"x\")","v":"x"},{"$f":"IF($E26=\"Y\",INDEX(OIQraw,ROW(),Setup!$C$5+COLUMN()-26),\"x\")","v":"x"},{"$f":"IF($E26=\"Y\",INDEX(OIQraw,ROW(),Setup!$C$5+COLUMN()-26),\"x\")","v":"x"},{"$f":"IF($E26=\"Y\",INDEX(OIQraw,ROW(),Setup!$C$5+COLUMN()-26),\"x\")","v":"x"},{"$f":"IF($E26=\"Y\",INDEX(OIQraw,ROW(),Setup!$C$5+COLUMN()-26),\"x\")","v":"x"},{"$f":"IF($E26=\"Y\",INDEX(OIQraw,ROW(),Setup!$C$5+COLUMN()-26),\"x\")","v":"x"},{"$f":"IF($E26=\"Y\",INDEX(OIQraw,ROW(),Setup!$C$5+COLUMN()-26),\"x\")","v":"x"},{"$f":"IF($E26=\"Y\",INDEX(OIQraw,ROW(),Setup!$C$5+COLUMN()-26),\"x\")","v":"x"},{"$f":"IF($E26=\"Y\",INDEX(OIQraw,ROW(),Setup!$C$5+COLUMN()-26),\"x\")","v":"x"},{"$f":"IF($E26=\"Y\",INDEX(OIQraw,ROW(),Setup!$C$5+COLUMN()-26),\"x\")","v":"x"},{"$f":"IF($E26=\"Y\",INDEX(OIQraw,ROW(),Setup!$C$5+COLUMN()-26),\"x\")","v":"x"},{"$f":"IF($E26=\"Y\",INDEX(OIQraw,ROW(),Setup!$C$5+COLUMN()-26),\"x\")","v":"x"},{"$f":"IF($E26=\"Y\",INDEX(OIQraw,ROW(),Setup!$C$5+COLUMN()-26),\"x\")","v":"x"},{"$f":"IF($E26=\"Y\",INDEX(OIQraw,ROW(),Setup!$C$5+COLUMN()-26),\"x\")","v":"x"},{"$f":"IF($E26=\"Y\",INDEX(OIQraw,ROW(),Setup!$C$5+COLUMN()-26),\"x\")","v":"x"},{"$f":"IF($E26=\"Y\",INDEX(OIQraw,ROW(),Setup!$C$5+COLUMN()-26),\"x\")","v":"x"},{"$f":"IF($E26=\"Y\",INDEX(OIQraw,ROW(),Setup!$C$5+COLUMN()-26),\"x\")","v":"x"},{"$f":"IF($E26=\"Y\",INDEX(OIQraw,ROW(),Setup!$C$5+COLUMN()-26),\"x\")","v":"x"},{"$f":"IF($E26=\"Y\",INDEX(OIQraw,ROW(),Setup!$C$5+COLUMN()-26),\"x\")","v":"x"},{"$f":"IF($E26=\"Y\",INDEX(OIQraw,ROW(),Setup!$C$5+COLUMN()-26),\"x\")","v":"x"},{"$f":"IF($E26=\"Y\",INDEX(OIQraw,ROW(),Setup!$C$5+COLUMN()-26),\"x\")","v":"x"},{"$f":"IF($E26=\"Y\",INDEX(OIQraw,ROW(),Setup!$C$5+COLUMN()-26),\"x\")","v":"x"},{"$f":"IF($E26=\"Y\",INDEX(OIQraw,ROW(),Setup!$C$5+COLUMN()-26),\"x\")","v":"x"},{"$f":"IF($E26=\"Y\",INDEX(OIQraw,ROW(),Setup!$C$5+COLUMN()-26),\"x\")","v":"x"},{"$f":"IF($E26=\"Y\",INDEX(OIQraw,ROW(),Setup!$C$5+COLUMN()-26),\"x\")","v":"x"},{"$f":"IF($E26=\"Y\",INDEX(OIQraw,ROW(),Setup!$C$5+COLUMN()-26),\"x\")","v":"x"},{"$f":"IF($E26=\"Y\",INDEX(OIQraw,ROW(),Setup!$C$5+COLUMN()-26),\"x\")","v":"x"},{"$f":"IF($E26=\"Y\",INDEX(OIQraw,ROW(),Setup!$C$5+COLUMN()-26),\"x\")","v":"x"},{"$f":"IF($E26=\"Y\",INDEX(OIQraw,ROW(),Setup!$C$5+COLUMN()-26),\"x\")","v":"x"},{"$f":"IF($E26=\"Y\",INDEX(OIQraw,ROW(),Setup!$C$5+COLUMN()-26),\"x\")","v":"x"},{"$f":"IF($E26=\"Y\",INDEX(OIQraw,ROW(),Setup!$C$5+COLUMN()-26),\"x\")","v":"x"},{"$f":"IF($E26=\"Y\",INDEX(OIQraw,ROW(),Setup!$C$5+COLUMN()-26),\"x\")","v":"x"},{"$f":"IF($E26=\"Y\",INDEX(OIQraw,ROW(),Setup!$C$5+COLUMN()-26),\"x\")","v":"x"},{"$f":"IF($E26=\"Y\",INDEX(OIQraw,ROW(),Setup!$C$5+COLUMN()-26),\"x\")","v":"x"},{"$f":"IF($E26=\"Y\",INDEX(OIQraw,ROW(),Setup!$C$5+COLUMN()-26),\"x\")","v":"x"},{"$f":"IF($E26=\"Y\",INDEX(OIQraw,ROW(),Setup!$C$5+COLUMN()-26),\"x\")","v":"x"},{"$f":"IF($E26=\"Y\",INDEX(OIQraw,ROW(),Setup!$C$5+COLUMN()-26),\"x\")","v":"x"},{"$f":"IF($E26=\"Y\",INDEX(OIQraw,ROW(),Setup!$C$5+COLUMN()-26),\"x\")","v":"x"},{"$f":"IF($E26=\"Y\",INDEX(OIQraw,ROW(),Setup!$C$5+COLUMN()-26),\"x\")","v":"x"},{"$f":"IF($E26=\"Y\",INDEX(OIQraw,ROW(),Setup!$C$5+COLUMN()-26),\"x\")","v":"x"},{"$f":"IF($E26=\"Y\",INDEX(OIQraw,ROW(),Setup!$C$5+COLUMN()-26),\"x\")","v":"x"},{"$f":"IF($E26=\"Y\",INDEX(OIQraw,ROW(),Setup!$C$5+COLUMN()-26),\"x\")","v":"x"},{"$f":"IF($E26=\"Y\",INDEX(OIQraw,ROW(),Setup!$C$5+COLUMN()-26),\"x\")","v":"x"},{"$f":"IF($E26=\"Y\",INDEX(OIQraw,ROW(),Setup!$C$5+COLUMN()-26),\"x\")","v":"x"},{"$f":"IF($E26=\"Y\",INDEX(OIQraw,ROW(),Setup!$C$5+COLUMN()-26),\"x\")","v":"x"},{"$f":"IF($E26=\"Y\",INDEX(OIQraw,ROW(),Setup!$C$5+COLUMN()-26),\"x\")","v":"x"},{"$f":"IF($E26=\"Y\",INDEX(OIQraw,ROW(),Setup!$C$5+COLUMN()-26),\"x\")","v":"x"},{"$f":"IF($E26=\"Y\",INDEX(OIQraw,ROW(),Setup!$C$5+COLUMN()-26),\"x\")","v":"x"},{"$f":"IF($E26=\"Y\",INDEX(OIQraw,ROW(),Setup!$C$5+COLUMN()-26),\"x\")","v":"x"},{"$f":"IF($E26=\"Y\",INDEX(OIQraw,ROW(),Setup!$C$5+COLUMN()-26),\"x\")","v":"x"},{"$f":"IF($E26=\"Y\",INDEX(OIQraw,ROW(),Setup!$C$5+COLUMN()-26),\"x\")","v":"x"},{"$f":"IF($E26=\"Y\",INDEX(OIQraw,ROW(),Setup!$C$5+COLUMN()-26),\"x\")","v":"x"},{"$f":"IF($E26=\"Y\",INDEX(OIQraw,ROW(),Setup!$C$5+COLUMN()-26),\"x\")","v":"x"},{"$f":"IF($E26=\"Y\",INDEX(OIQraw,ROW(),Setup!$C$5+COLUMN()-26),\"x\")","v":"x"},{"$f":"IF($E26=\"Y\",INDEX(OIQraw,ROW(),Setup!$C$5+COLUMN()-26),\"x\")","v":"x"},{"$f":"IF($E26=\"Y\",INDEX(OIQraw,ROW(),Setup!$C$5+COLUMN()-26),\"x\")","v":"x"},{"$f":"IF($E26=\"Y\",INDEX(OIQraw,ROW(),Setup!$C$5+COLUMN()-26),\"x\")","v":"x"},{"$f":"IF($E26=\"Y\",INDEX(OIQraw,ROW(),Setup!$C$5+COLUMN()-26),\"x\")","v":"x"},{"$f":"IF($E26=\"Y\",INDEX(OIQraw,ROW(),Setup!$C$5+COLUMN()-26),\"x\")","v":"x"},{"$f":"IF($E26=\"Y\",INDEX(OIQraw,ROW(),Setup!$C$5+COLUMN()-26),\"x\")","v":"x"},{"$f":"IF($E26=\"Y\",INDEX(OIQraw,ROW(),Setup!$C$5+COLUMN()-26),\"x\")","v":"x"},{"$f":"IF($E26=\"Y\",INDEX(OIQraw,ROW(),Setup!$C$5+COLUMN()-26),\"x\")","v":"x"},{"$f":"IF($E26=\"Y\",INDEX(OIQraw,ROW(),Setup!$C$5+COLUMN()-26),\"x\")","v":"x"},{"$f":"IF($E26=\"Y\",INDEX(OIQraw,ROW(),Setup!$C$5+COLUMN()-26),\"x\")","v":"x"},{"$f":"IF($E26=\"Y\",INDEX(OIQraw,ROW(),Setup!$C$5+COLUMN()-26),\"x\")","v":"x"},{"$f":"IF($E26=\"Y\",INDEX(OIQraw,ROW(),Setup!$C$5+COLUMN()-26),\"x\")","v":"x"},{"$f":"IF($E26=\"Y\",INDEX(OIQraw,ROW(),Setup!$C$5+COLUMN()-26),\"x\")","v":"x"},{"$f":"IF($E26=\"Y\",INDEX(OIQraw,ROW(),Setup!$C$5+COLUMN()-26),\"x\")","v":"x"},{"$f":"IF($E26=\"Y\",INDEX(OIQraw,ROW(),Setup!$C$5+COLUMN()-26),\"x\")","v":"x"},{"$f":"IF($E26=\"Y\",INDEX(OIQraw,ROW(),Setup!$C$5+COLUMN()-26),\"x\")","v":"x"},{"$f":"IF($E26=\"Y\",INDEX(OIQraw,ROW(),Setup!$C$5+COLUMN()-26),\"x\")","v":"x"},{"$f":"IF($E26=\"Y\",INDEX(OIQraw,ROW(),Setup!$C$5+COLUMN()-26),\"x\")","v":"x"},{"$f":"IF($E26=\"Y\",INDEX(OIQraw,ROW(),Setup!$C$5+COLUMN()-26),\"x\")","v":"x"},{"$f":"IF($E26=\"Y\",INDEX(OIQraw,ROW(),Setup!$C$5+COLUMN()-26),\"x\")","v":"x"},{"$f":"IF($E26=\"Y\",INDEX(OIQraw,ROW(),Setup!$C$5+COLUMN()-26),\"x\")","v":"x"},{"$f":"IF($E26=\"Y\",INDEX(OIQraw,ROW(),Setup!$C$5+COLUMN()-26),\"x\")","v":"x"},{"$f":"IF($E26=\"Y\",INDEX(OIQraw,ROW(),Setup!$C$5+COLUMN()-26),\"x\")","v":"x"},{"$f":"IF($E26=\"Y\",INDEX(OIQraw,ROW(),Setup!$C$5+COLUMN()-26),\"x\")","v":"x"},{"$f":"IF($E26=\"Y\",INDEX(OIQraw,ROW(),Setup!$C$5+COLUMN()-26),\"x\")","v":"x"},{"$f":"IF($E26=\"Y\",INDEX(OIQraw,ROW(),Setup!$C$5+COLUMN()-26),\"x\")","v":"x"},{"$f":"IF($E26=\"Y\",INDEX(OIQraw,ROW(),Setup!$C$5+COLUMN()-26),\"x\")","v":"x"},{"$f":"IF($E26=\"Y\",INDEX(OIQraw,ROW(),Setup!$C$5+COLUMN()-26),\"x\")","v":"x"},{"$f":"IF($E26=\"Y\",INDEX(OIQraw,ROW(),Setup!$C$5+COLUMN()-26),\"x\")","v":"x"},{"$f":"IF($E26=\"Y\",INDEX(OIQraw,ROW(),Setup!$C$5+COLUMN()-26),\"x\")","v":"x"},{"$f":"IF($E26=\"Y\",INDEX(OIQraw,ROW(),Setup!$C$5+COLUMN()-26),\"x\")","v":"x"},{"$f":"IF($E26=\"Y\",INDEX(OIQraw,ROW(),Setup!$C$5+COLUMN()-26),\"x\")","v":"x"},{"$f":"IF($E26=\"Y\",INDEX(OIQraw,ROW(),Setup!$C$5+COLUMN()-26),\"x\")","v":"x"},{"$f":"IF($E26=\"Y\",INDEX(OIQraw,ROW(),Setup!$C$5+COLUMN()-26),\"x\")","v":"x"},{"$f":"IF($E26=\"Y\",INDEX(OIQraw,ROW(),Setup!$C$5+COLUMN()-26),\"x\")","v":"x"},{"$f":"IF($E26=\"Y\",INDEX(OIQraw,ROW(),Setup!$C$5+COLUMN()-26),\"x\")","v":"x"},{"$f":"IF($E26=\"Y\",INDEX(OIQraw,ROW(),Setup!$C$5+COLUMN()-26),\"x\")","v":"x"},{"$f":"IF($E26=\"Y\",INDEX(OIQraw,ROW(),Setup!$C$5+COLUMN()-26),\"x\")","v":"x"},{"$f":"IF($E26=\"Y\",INDEX(OIQraw,ROW(),Setup!$C$5+COLUMN()-26),\"x\")","v":"x"},{"$f":"IF($E26=\"Y\",INDEX(OIQraw,ROW(),Setup!$C$5+COLUMN()-26),\"x\")","v":"x"},{"$f":"IF($E26=\"Y\",INDEX(OIQraw,ROW(),Setup!$C$5+COLUMN()-26),\"x\")","v":"x"},{"$f":"IF($E26=\"Y\",INDEX(OIQraw,ROW(),Setup!$C$5+COLUMN()-26),\"x\")","v":"x"},{"$f":"IF($E26=\"Y\",INDEX(OIQraw,ROW(),Setup!$C$5+COLUMN()-26),\"x\")","v":"x"},{"$f":"IF($E26=\"Y\",INDEX(OIQraw,ROW(),Setup!$C$5+COLUMN()-26),\"x\")","v":"x"},{"$f":"IF($E26=\"Y\",INDEX(OIQraw,ROW(),Setup!$C$5+COLUMN()-26),\"x\")","v":"x"},{"$f":"IF($E26=\"Y\",INDEX(OIQraw,ROW(),Setup!$C$5+COLUMN()-26),\"x\")","v":"x"},{"$f":"IF($E26=\"Y\",INDEX(OIQraw,ROW(),Setup!$C$5+COLUMN()-26),\"x\")","v":"x"},{"$f":"IF($E26=\"Y\",INDEX(OIQraw,ROW(),Setup!$C$5+COLUMN()-26),\"x\")","v":"x"},{"$f":"IF($E26=\"Y\",INDEX(OIQraw,ROW(),Setup!$C$5+COLUMN()-26),\"x\")","v":"x"},{"$f":"IF($E26=\"Y\",INDEX(OIQraw,ROW(),Setup!$C$5+COLUMN()-26),\"x\")","v":"x"},{"$f":"IF($E26=\"Y\",INDEX(OIQraw,ROW(),Setup!$C$5+COLUMN()-26),\"x\")","v":"x"},{"$f":"IF($E26=\"Y\",INDEX(OIQraw,ROW(),Setup!$C$5+COLUMN()-26),\"x\")","v":"x"},{"$f":"IF($E26=\"Y\",INDEX(OIQraw,ROW(),Setup!$C$5+COLUMN()-26),\"x\")","v":"x"},{"$f":"IF($E26=\"Y\",INDEX(OIQraw,ROW(),Setup!$C$5+COLUMN()-26),\"x\")","v":"x"},{"$f":"IF($E26=\"Y\",INDEX(OIQraw,ROW(),Setup!$C$5+COLUMN()-26),\"x\")","v":"x"},{"$f":"IF($E26=\"Y\",INDEX(OIQraw,ROW(),Setup!$C$5+COLUMN()-26),\"x\")","v":"x"},{"$f":"IF($E26=\"Y\",INDEX(OIQraw,ROW(),Setup!$C$5+COLUMN()-26),\"x\")","v":"x"},{"$f":"IF($E26=\"Y\",INDEX(OIQraw,ROW(),Setup!$C$5+COLUMN()-26),\"x\")","v":"x"},{"$f":"IF($E26=\"Y\",INDEX(OIQraw,ROW(),Setup!$C$5+COLUMN()-26),\"x\")","v":"x"},{"$f":"IF($E26=\"Y\",INDEX(OIQraw,ROW(),Setup!$C$5+COLUMN()-26),\"x\")","v":"x"},{"$f":"IF($E26=\"Y\",INDEX(OIQraw,ROW(),Setup!$C$5+COLUMN()-26),\"x\")","v":"x"},{"$f":"IF($E26=\"Y\",INDEX(OIQraw,ROW(),Setup!$C$5+COLUMN()-26),\"x\")","v":"x"},{"$f":"IF($E26=\"Y\",INDEX(OIQraw,ROW(),Setup!$C$5+COLUMN()-26),\"x\")","v":"x"},{"$f":"IF($E26=\"Y\",INDEX(OIQraw,ROW(),Setup!$C$5+COLUMN()-26),\"x\")","v":"x"},{"$f":"IF($E26=\"Y\",INDEX(OIQraw,ROW(),Setup!$C$5+COLUMN()-26),\"x\")","v":"x"},{"$f":"IF($E26=\"Y\",INDEX(OIQraw,ROW(),Setup!$C$5+COLUMN()-26),\"x\")","v":"x"},{"$f":"IF($E26=\"Y\",INDEX(OIQraw,ROW(),Setup!$C$5+COLUMN()-26),\"x\")","v":"x"},{"$f":"IF($E26=\"Y\",INDEX(OIQraw,ROW(),Setup!$C$5+COLUMN()-26),\"x\")","v":"x"},{"$f":"IF($E26=\"Y\",INDEX(OIQraw,ROW(),Setup!$C$5+COLUMN()-26),\"x\")","v":"x"},{"$f":"IF($E26=\"Y\",INDEX(OIQraw,ROW(),Setup!$C$5+COLUMN()-26),\"x\")","v":"x"},{"$f":"IF($E26=\"Y\",INDEX(OIQraw,ROW(),Setup!$C$5+COLUMN()-26),\"x\")","v":"x"},{"$f":"IF($E26=\"Y\",INDEX(OIQraw,ROW(),Setup!$C$5+COLUMN()-26),\"x\")","v":"x"},{"$f":"IF($E26=\"Y\",INDEX(OIQraw,ROW(),Setup!$C$5+COLUMN()-26),\"x\")","v":"x"},{"$f":"IF($E26=\"Y\",INDEX(OIQraw,ROW(),Setup!$C$5+COLUMN()-26),\"x\")","v":"x"},{"$f":"IF($E26=\"Y\",INDEX(OIQraw,ROW(),Setup!$C$5+COLUMN()-26),\"x\")","v":"x"},{"$f":"IF($E26=\"Y\",INDEX(OIQraw,ROW(),Setup!$C$5+COLUMN()-26),\"x\")","v":"x"},{"$f":"IF($E26=\"Y\",INDEX(OIQraw,ROW(),Setup!$C$5+COLUMN()-26),\"x\")","v":"x"},{"$f":"IF($E26=\"Y\",INDEX(OIQraw,ROW(),Setup!$C$5+COLUMN()-26),\"x\")","v":"x"},{"$f":"IF($E26=\"Y\",INDEX(OIQraw,ROW(),Setup!$C$5+COLUMN()-26),\"x\")","v":"x"},{"$f":"IF($E26=\"Y\",INDEX(OIQraw,ROW(),Setup!$C$5+COLUMN()-26),\"x\")","v":"x"},{"$f":"IF($E26=\"Y\",INDEX(OIQraw,ROW(),Setup!$C$5+COLUMN()-26),\"x\")","v":"x"},{"$f":"IF($E26=\"Y\",INDEX(OIQraw,ROW(),Setup!$C$5+COLUMN()-26),\"x\")","v":"x"},{"$f":"IF($E26=\"Y\",INDEX(OIQraw,ROW(),Setup!$C$5+COLUMN()-26),\"x\")","v":"x"},{"$f":"IF($E26=\"Y\",INDEX(OIQraw,ROW(),Setup!$C$5+COLUMN()-26),\"x\")","v":"x"},{"$f":"IF($E26=\"Y\",INDEX(OIQraw,ROW(),Setup!$C$5+COLUMN()-26),\"x\")","v":"x"},{"$f":"IF($E26=\"Y\",INDEX(OIQraw,ROW(),Setup!$C$5+COLUMN()-26),\"x\")","v":"x"},{"$f":"IF($E26=\"Y\",INDEX(OIQraw,ROW(),Setup!$C$5+COLUMN()-26),\"x\")","v":"x"},{"$f":"IF($E26=\"Y\",INDEX(OIQraw,ROW(),Setup!$C$5+COLUMN()-26),\"x\")","v":"x"},{"$f":"IF($E26=\"Y\",INDEX(OIQraw,ROW(),Setup!$C$5+COLUMN()-26),\"x\")","v":"x"},{"$f":"IF($E26=\"Y\",INDEX(OIQraw,ROW(),Setup!$C$5+COLUMN()-26),\"x\")","v":"x"},{"$f":"IF($E26=\"Y\",INDEX(OIQraw,ROW(),Setup!$C$5+COLUMN()-26),\"x\")","v":"x"},{"$f":"IF($E26=\"Y\",INDEX(OIQraw,ROW(),Setup!$C$5+COLUMN()-26),\"x\")","v":"x"},{"$f":"IF($E26=\"Y\",INDEX(OIQraw,ROW(),Setup!$C$5+COLUMN()-26),\"x\")","v":"x"},{"$f":"IF($E26=\"Y\",INDEX(OIQraw,ROW(),Setup!$C$5+COLUMN()-26),\"x\")","v":"x"},{"$f":"IF($E26=\"Y\",INDEX(OIQraw,ROW(),Setup!$C$5+COLUMN()-26),\"x\")","v":"x"},{"$f":"IF($E26=\"Y\",INDEX(OIQraw,ROW(),Setup!$C$5+COLUMN()-26),\"x\")","v":"x"},{"$f":"IF($E26=\"Y\",INDEX(OIQraw,ROW(),Setup!$C$5+COLUMN()-26),\"x\")","v":"x"},{"$f":"IF($E26=\"Y\",INDEX(OIQraw,ROW(),Setup!$C$5+COLUMN()-26),\"x\")","v":"x"},{"$f":"IF($E26=\"Y\",INDEX(OIQraw,ROW(),Setup!$C$5+COLUMN()-26),\"x\")","v":"x"},{"$f":"IF($E26=\"Y\",INDEX(OIQraw,ROW(),Setup!$C$5+COLUMN()-26),\"x\")","v":"x"},{"$f":"IF($E26=\"Y\",INDEX(OIQraw,ROW(),Setup!$C$5+COLUMN()-26),\"x\")","v":"x"},{"$f":"IF($E26=\"Y\",INDEX(OIQraw,ROW(),Setup!$C$5+COLUMN()-26),\"x\")","v":"x"},{"$f":"IF($E26=\"Y\",INDEX(OIQraw,ROW(),Setup!$C$5+COLUMN()-26),\"x\")","v":"x"},{"$f":"IF($E26=\"Y\",INDEX(OIQraw,ROW(),Setup!$C$5+COLUMN()-26),\"x\")","v":"x"},{"$f":"IF($E26=\"Y\",INDEX(OIQraw,ROW(),Setup!$C$5+COLUMN()-26),\"x\")","v":"x"},{"$f":"IF($E26=\"Y\",INDEX(OIQraw,ROW(),Setup!$C$5+COLUMN()-26),\"x\")","v":"x"},{"$f":"IF($E26=\"Y\",INDEX(OIQraw,ROW(),Setup!$C$5+COLUMN()-26),\"x\")","v":"x"},{"$f":"IF($E26=\"Y\",INDEX(OIQraw,ROW(),Setup!$C$5+COLUMN()-26),\"x\")","v":"x"},{"$f":"IF($E26=\"Y\",INDEX(OIQraw,ROW(),Setup!$C$5+COLUMN()-26),\"x\")","v":"x"},{"$f":"IF($E26=\"Y\",INDEX(OIQraw,ROW(),Setup!$C$5+COLUMN()-26),\"x\")","v":"x"},{"$f":"IF($E26=\"Y\",INDEX(OIQraw,ROW(),Setup!$C$5+COLUMN()-26),\"x\")","v":"x"},{"$f":"IF($E26=\"Y\",INDEX(OIQraw,ROW(),Setup!$C$5+COLUMN()-26),\"x\")","v":"x"},{"$f":"IF($E26=\"Y\",INDEX(OIQraw,ROW(),Setup!$C$5+COLUMN()-26),\"x\")","v":"x"},{"$f":"IF($E26=\"Y\",INDEX(OIQraw,ROW(),Setup!$C$5+COLUMN()-26),\"x\")","v":"x"},{"$f":"IF($E26=\"Y\",INDEX(OIQraw,ROW(),Setup!$C$5+COLUMN()-26),\"x\")","v":"x"},{"$f":"IF($E26=\"Y\",INDEX(OIQraw,ROW(),Setup!$C$5+COLUMN()-26),\"x\")","v":"x"},{"$f":"IF($E26=\"Y\",INDEX(OIQraw,ROW(),Setup!$C$5+COLUMN()-26),\"x\")","v":"x"},{"$f":"IF($E26=\"Y\",INDEX(OIQraw,ROW(),Setup!$C$5+COLUMN()-26),\"x\")","v":"x"},{"$f":"IF($E26=\"Y\",INDEX(OIQraw,ROW(),Setup!$C$5+COLUMN()-26),\"x\")","v":"x"},{"$f":"IF($E26=\"Y\",INDEX(OIQraw,ROW(),Setup!$C$5+COLUMN()-26),\"x\")","v":"x"},{"$f":"IF($E26=\"Y\",INDEX(OIQraw,ROW(),Setup!$C$5+COLUMN()-26),\"x\")","v":"x"},{"$f":"IF($E26=\"Y\",INDEX(OIQraw,ROW(),Setup!$C$5+COLUMN()-26),\"x\")","v":"x"},{"$f":"IF($E26=\"Y\",INDEX(OIQraw,ROW(),Setup!$C$5+COLUMN()-26),\"x\")","v":"x"},{"$f":"IF($E26=\"Y\",INDEX(OIQraw,ROW(),Setup!$C$5+COLUMN()-26),\"x\")","v":"x"},{"$f":"IF($E26=\"Y\",INDEX(OIQraw,ROW(),Setup!$C$5+COLUMN()-26),\"x\")","v":"x"},{"$f":"IF($E26=\"Y\",INDEX(OIQraw,ROW(),Setup!$C$5+COLUMN()-26),\"x\")","v":"x"},{"$f":"IF($E26=\"Y\",INDEX(OIQraw,ROW(),Setup!$C$5+COLUMN()-26),\"x\")","v":"x"},{"$f":"IF($E26=\"Y\",INDEX(OIQraw,ROW(),Setup!$C$5+COLUMN()-26),\"x\")","v":"x"},{"$f":"IF($E26=\"Y\",INDEX(OIQraw,ROW(),Setup!$C$5+COLUMN()-26),\"x\")","v":"x"},{"$f":"IF($E26=\"Y\",INDEX(OIQraw,ROW(),Setup!$C$5+COLUMN()-26),\"x\")","v":"x"},{"$f":"IF($E26=\"Y\",INDEX(OIQraw,ROW(),Setup!$C$5+COLUMN()-26),\"x\")","v":"x"},{"$f":"IF($E26=\"Y\",INDEX(OIQraw,ROW(),Setup!$C$5+COLUMN()-26),\"x\")","v":"x"},{"$f":"IF($E26=\"Y\",INDEX(OIQraw,ROW(),Setup!$C$5+COLUMN()-26),\"x\")","v":"x"},{"$f":"IF($E26=\"Y\",INDEX(OIQraw,ROW(),Setup!$C$5+COLUMN()-26),\"x\")","v":"x"},{"$f":"IF($E26=\"Y\",INDEX(OIQraw,ROW(),Setup!$C$5+COLUMN()-26),\"x\")","v":"x"},{"$f":"IF($E26=\"Y\",INDEX(OIQraw,ROW(),Setup!$C$5+COLUMN()-26),\"x\")","v":"x"},{"$f":"IF($E26=\"Y\",INDEX(OIQraw,ROW(),Setup!$C$5+COLUMN()-26),\"x\")","v":"x"},{"$f":"IF($E26=\"Y\",INDEX(OIQraw,ROW(),Setup!$C$5+COLUMN()-26),\"x\")","v":"x"},{"$f":"IF($E26=\"Y\",INDEX(OIQraw,ROW(),Setup!$C$5+COLUMN()-26),\"x\")","v":"x"},{"$f":"IF($E26=\"Y\",INDEX(OIQraw,ROW(),Setup!$C$5+COLUMN()-26),\"x\")","v":"x"},{"$f":"IF($E26=\"Y\",INDEX(OIQraw,ROW(),Setup!$C$5+COLUMN()-26),\"x\")","v":"x"},{"$f":"IF($E26=\"Y\",INDEX(OIQraw,ROW(),Setup!$C$5+COLUMN()-26),\"x\")","v":"x"},{"$f":"IF($E26=\"Y\",INDEX(OIQraw,ROW(),Setup!$C$5+COLUMN()-26),\"x\")","v":"x"},{"$f":"IF($E26=\"Y\",INDEX(OIQraw,ROW(),Setup!$C$5+COLUMN()-26),\"x\")","v":"x"},{"$f":"IF($E26=\"Y\",INDEX(OIQraw,ROW(),Setup!$C$5+COLUMN()-26),\"x\")","v":"x"},{"$f":"IF($E26=\"Y\",INDEX(OIQraw,ROW(),Setup!$C$5+COLUMN()-26),\"x\")","v":"x"},{"$f":"IF($E26=\"Y\",INDEX(OIQraw,ROW(),Setup!$C$5+COLUMN()-26),\"x\")","v":"x"},{"$f":"IF($E26=\"Y\",INDEX(OIQraw,ROW(),Setup!$C$5+COLUMN()-26),\"x\")","v":"x"},{"$f":"IF($E26=\"Y\",INDEX(OIQraw,ROW(),Setup!$C$5+COLUMN()-26),\"x\")","v":"x"},{"$f":"IF($E26=\"Y\",INDEX(OIQraw,ROW(),Setup!$C$5+COLUMN()-26),\"x\")","v":"x"},{"$f":"IF($E26=\"Y\",INDEX(OIQraw,ROW(),Setup!$C$5+COLUMN()-26),\"x\")","v":"x"},{"$f":"IF($E26=\"Y\",INDEX(OIQraw,ROW(),Setup!$C$5+COLUMN()-26),\"x\")","v":"x"},{"$f":"IF($E26=\"Y\",INDEX(OIQraw,ROW(),Setup!$C$5+COLUMN()-26),\"x\")","v":"x"},{"$f":"IF($E26=\"Y\",INDEX(OIQraw,ROW(),Setup!$C$5+COLUMN()-26),\"x\")","v":"x"},{"$f":"IF($E26=\"Y\",INDEX(OIQraw,ROW(),Setup!$C$5+COLUMN()-26),\"x\")","v":"x"},{"$f":"IF($E26=\"Y\",INDEX(OIQraw,ROW(),Setup!$C$5+COLUMN()-26),\"x\")","v":"x"},{"$f":"IF($E26=\"Y\",INDEX(OIQraw,ROW(),Setup!$C$5+COLUMN()-26),\"x\")","v":"x"},{"$f":"IF($E26=\"Y\",INDEX(OIQraw,ROW(),Setup!$C$5+COLUMN()-26),\"x\")","v":"x"}]
[1,"","",{"$f":"IF(ISERROR(FIND(\"Withdrew\",RawScores!B31)),RawScores!B31,RIGHT(RawScores!B31,LEN(RawScores!B31)-17))&\", \"&RawScores!C31","v":", "},{"$f":"IF(OR(ISERROR(FIND(\"Withdrew\",RawScores!B31))=FALSE,INDEX(OIQraw,ROW(),LastInputCol-3)=0),\"N\",IF(AND(Setup!$B$22=\"Yes\",INDEX(OIQraw,ROW(),LastInputCol)=1),\"N\",\"Y\"))","v":"N"},"X","X","X",{"$f":"IF(AND(ISNUMBER(F27),F27>Setup!$B$14-1),1,0)","v":0},{"$f":"IF(AND(F27>Setup!$B$14-1,Conv!H27<5),1,0)","v":0},{"$f":"IF(AND(F27>Setup!$B$14-1,Conv!G27=\"F\"),1,0)","v":0},"","","","","","","","","","","","","X","X",{"$f":"IF($E27=\"Y\",INDEX(OIQraw,ROW(),Setup!$C$5+COLUMN()-26),\"x\")","v":"x"},{"$f":"IF($E27=\"Y\",INDEX(OIQraw,ROW(),Setup!$C$5+COLUMN()-26),\"x\")","v":"x"},{"$f":"IF($E27=\"Y\",INDEX(OIQraw,ROW(),Setup!$C$5+COLUMN()-26),\"x\")","v":"x"},{"$f":"IF($E27=\"Y\",INDEX(OIQraw,ROW(),Setup!$C$5+COLUMN()-26),\"x\")","v":"x"},{"$f":"IF($E27=\"Y\",INDEX(OIQraw,ROW(),Setup!$C$5+COLUMN()-26),\"x\")","v":"x"},{"$f":"IF($E27=\"Y\",INDEX(OIQraw,ROW(),Setup!$C$5+COLUMN()-26),\"x\")","v":"x"},{"$f":"IF($E27=\"Y\",INDEX(OIQraw,ROW(),Setup!$C$5+COLUMN()-26),\"x\")","v":"x"},{"$f":"IF($E27=\"Y\",INDEX(OIQraw,ROW(),Setup!$C$5+COLUMN()-26),\"x\")","v":"x"},{"$f":"IF($E27=\"Y\",INDEX(OIQraw,ROW(),Setup!$C$5+COLUMN()-26),\"x\")","v":"x"},{"$f":"IF($E27=\"Y\",INDEX(OIQraw,ROW(),Setup!$C$5+COLUMN()-26),\"x\")","v":"x"},{"$f":"IF($E27=\"Y\",INDEX(OIQraw,ROW(),Setup!$C$5+COLUMN()-26),\"x\")","v":"x"},{"$f":"IF($E27=\"Y\",INDEX(OIQraw,ROW(),Setup!$C$5+COLUMN()-26),\"x\")","v":"x"},{"$f":"IF($E27=\"Y\",INDEX(OIQraw,ROW(),Setup!$C$5+COLUMN()-26),\"x\")","v":"x"},{"$f":"IF($E27=\"Y\",INDEX(OIQraw,ROW(),Setup!$C$5+COLUMN()-26),\"x\")","v":"x"},{"$f":"IF($E27=\"Y\",INDEX(OIQraw,ROW(),Setup!$C$5+COLUMN()-26),\"x\")","v":"x"},{"$f":"IF($E27=\"Y\",INDEX(OIQraw,ROW(),Setup!$C$5+COLUMN()-26),\"x\")","v":"x"},{"$f":"IF($E27=\"Y\",INDEX(OIQraw,ROW(),Setup!$C$5+COLUMN()-26),\"x\")","v":"x"},{"$f":"IF($E27=\"Y\",INDEX(OIQraw,ROW(),Setup!$C$5+COLUMN()-26),\"x\")","v":"x"},{"$f":"IF($E27=\"Y\",INDEX(OIQraw,ROW(),Setup!$C$5+COLUMN()-26),\"x\")","v":"x"},{"$f":"IF($E27=\"Y\",INDEX(OIQraw,ROW(),Setup!$C$5+COLUMN()-26),\"x\")","v":"x"},{"$f":"IF($E27=\"Y\",INDEX(OIQraw,ROW(),Setup!$C$5+COLUMN()-26),\"x\")","v":"x"},{"$f":"IF($E27=\"Y\",INDEX(OIQraw,ROW(),Setup!$C$5+COLUMN()-26),\"x\")","v":"x"},{"$f":"IF($E27=\"Y\",INDEX(OIQraw,ROW(),Setup!$C$5+COLUMN()-26),\"x\")","v":"x"},{"$f":"IF($E27=\"Y\",INDEX(OIQraw,ROW(),Setup!$C$5+COLUMN()-26),\"x\")","v":"x"},{"$f":"IF($E27=\"Y\",INDEX(OIQraw,ROW(),Setup!$C$5+COLUMN()-26),\"x\")","v":"x"},{"$f":"IF($E27=\"Y\",INDEX(OIQraw,ROW(),Setup!$C$5+COLUMN()-26),\"x\")","v":"x"},{"$f":"IF($E27=\"Y\",INDEX(OIQraw,ROW(),Setup!$C$5+COLUMN()-26),\"x\")","v":"x"},{"$f":"IF($E27=\"Y\",INDEX(OIQraw,ROW(),Setup!$C$5+COLUMN()-26),\"x\")","v":"x"},{"$f":"IF($E27=\"Y\",INDEX(OIQraw,ROW(),Setup!$C$5+COLUMN()-26),\"x\")","v":"x"},{"$f":"IF($E27=\"Y\",INDEX(OIQraw,ROW(),Setup!$C$5+COLUMN()-26),\"x\")","v":"x"},{"$f":"IF($E27=\"Y\",INDEX(OIQraw,ROW(),Setup!$C$5+COLUMN()-26),\"x\")","v":"x"},{"$f":"IF($E27=\"Y\",INDEX(OIQraw,ROW(),Setup!$C$5+COLUMN()-26),\"x\")","v":"x"},{"$f":"IF($E27=\"Y\",INDEX(OIQraw,ROW(),Setup!$C$5+COLUMN()-26),\"x\")","v":"x"},{"$f":"IF($E27=\"Y\",INDEX(OIQraw,ROW(),Setup!$C$5+COLUMN()-26),\"x\")","v":"x"},{"$f":"IF($E27=\"Y\",INDEX(OIQraw,ROW(),Setup!$C$5+COLUMN()-26),\"x\")","v":"x"},{"$f":"IF($E27=\"Y\",INDEX(OIQraw,ROW(),Setup!$C$5+COLUMN()-26),\"x\")","v":"x"},{"$f":"IF($E27=\"Y\",INDEX(OIQraw,ROW(),Setup!$C$5+COLUMN()-26),\"x\")","v":"x"},{"$f":"IF($E27=\"Y\",INDEX(OIQraw,ROW(),Setup!$C$5+COLUMN()-26),\"x\")","v":"x"},{"$f":"IF($E27=\"Y\",INDEX(OIQraw,ROW(),Setup!$C$5+COLUMN()-26),\"x\")","v":"x"},{"$f":"IF($E27=\"Y\",INDEX(OIQraw,ROW(),Setup!$C$5+COLUMN()-26),\"x\")","v":"x"},{"$f":"IF($E27=\"Y\",INDEX(OIQraw,ROW(),Setup!$C$5+COLUMN()-26),\"x\")","v":"x"},{"$f":"IF($E27=\"Y\",INDEX(OIQraw,ROW(),Setup!$C$5+COLUMN()-26),\"x\")","v":"x"},{"$f":"IF($E27=\"Y\",INDEX(OIQraw,ROW(),Setup!$C$5+COLUMN()-26),\"x\")","v":"x"},{"$f":"IF($E27=\"Y\",INDEX(OIQraw,ROW(),Setup!$C$5+COLUMN()-26),\"x\")","v":"x"},{"$f":"IF($E27=\"Y\",INDEX(OIQraw,ROW(),Setup!$C$5+COLUMN()-26),\"x\")","v":"x"},{"$f":"IF($E27=\"Y\",INDEX(OIQraw,ROW(),Setup!$C$5+COLUMN()-26),\"x\")","v":"x"},{"$f":"IF($E27=\"Y\",INDEX(OIQraw,ROW(),Setup!$C$5+COLUMN()-26),\"x\")","v":"x"},{"$f":"IF($E27=\"Y\",INDEX(OIQraw,ROW(),Setup!$C$5+COLUMN()-26),\"x\")","v":"x"},{"$f":"IF($E27=\"Y\",INDEX(OIQraw,ROW(),Setup!$C$5+COLUMN()-26),\"x\")","v":"x"},{"$f":"IF($E27=\"Y\",INDEX(OIQraw,ROW(),Setup!$C$5+COLUMN()-26),\"x\")","v":"x"},{"$f":"IF($E27=\"Y\",INDEX(OIQraw,ROW(),Setup!$C$5+COLUMN()-26),\"x\")","v":"x"},{"$f":"IF($E27=\"Y\",INDEX(OIQraw,ROW(),Setup!$C$5+COLUMN()-26),\"x\")","v":"x"},{"$f":"IF($E27=\"Y\",INDEX(OIQraw,ROW(),Setup!$C$5+COLUMN()-26),\"x\")","v":"x"},{"$f":"IF($E27=\"Y\",INDEX(OIQraw,ROW(),Setup!$C$5+COLUMN()-26),\"x\")","v":"x"},{"$f":"IF($E27=\"Y\",INDEX(OIQraw,ROW(),Setup!$C$5+COLUMN()-26),\"x\")","v":"x"},{"$f":"IF($E27=\"Y\",INDEX(OIQraw,ROW(),Setup!$C$5+COLUMN()-26),\"x\")","v":"x"},{"$f":"IF($E27=\"Y\",INDEX(OIQraw,ROW(),Setup!$C$5+COLUMN()-26),\"x\")","v":"x"},{"$f":"IF($E27=\"Y\",INDEX(OIQraw,ROW(),Setup!$C$5+COLUMN()-26),\"x\")","v":"x"},{"$f":"IF($E27=\"Y\",INDEX(OIQraw,ROW(),Setup!$C$5+COLUMN()-26),\"x\")","v":"x"},{"$f":"IF($E27=\"Y\",INDEX(OIQraw,ROW(),Setup!$C$5+COLUMN()-26),\"x\")","v":"x"},{"$f":"IF($E27=\"Y\",INDEX(OIQraw,ROW(),Setup!$C$5+COLUMN()-26),\"x\")","v":"x"},{"$f":"IF($E27=\"Y\",INDEX(OIQraw,ROW(),Setup!$C$5+COLUMN()-26),\"x\")","v":"x"},{"$f":"IF($E27=\"Y\",INDEX(OIQraw,ROW(),Setup!$C$5+COLUMN()-26),\"x\")","v":"x"},{"$f":"IF($E27=\"Y\",INDEX(OIQraw,ROW(),Setup!$C$5+COLUMN()-26),\"x\")","v":"x"},{"$f":"IF($E27=\"Y\",INDEX(OIQraw,ROW(),Setup!$C$5+COLUMN()-26),\"x\")","v":"x"},{"$f":"IF($E27=\"Y\",INDEX(OIQraw,ROW(),Setup!$C$5+COLUMN()-26),\"x\")","v":"x"},{"$f":"IF($E27=\"Y\",INDEX(OIQraw,ROW(),Setup!$C$5+COLUMN()-26),\"x\")","v":"x"},{"$f":"IF($E27=\"Y\",INDEX(OIQraw,ROW(),Setup!$C$5+COLUMN()-26),\"x\")","v":"x"},{"$f":"IF($E27=\"Y\",INDEX(OIQraw,ROW(),Setup!$C$5+COLUMN()-26),\"x\")","v":"x"},{"$f":"IF($E27=\"Y\",INDEX(OIQraw,ROW(),Setup!$C$5+COLUMN()-26),\"x\")","v":"x"},{"$f":"IF($E27=\"Y\",INDEX(OIQraw,ROW(),Setup!$C$5+COLUMN()-26),\"x\")","v":"x"},{"$f":"IF($E27=\"Y\",INDEX(OIQraw,ROW(),Setup!$C$5+COLUMN()-26),\"x\")","v":"x"},{"$f":"IF($E27=\"Y\",INDEX(OIQraw,ROW(),Setup!$C$5+COLUMN()-26),\"x\")","v":"x"},{"$f":"IF($E27=\"Y\",INDEX(OIQraw,ROW(),Setup!$C$5+COLUMN()-26),\"x\")","v":"x"},{"$f":"IF($E27=\"Y\",INDEX(OIQraw,ROW(),Setup!$C$5+COLUMN()-26),\"x\")","v":"x"},{"$f":"IF($E27=\"Y\",INDEX(OIQraw,ROW(),Setup!$C$5+COLUMN()-26),\"x\")","v":"x"},{"$f":"IF($E27=\"Y\",INDEX(OIQraw,ROW(),Setup!$C$5+COLUMN()-26),\"x\")","v":"x"},{"$f":"IF($E27=\"Y\",INDEX(OIQraw,ROW(),Setup!$C$5+COLUMN()-26),\"x\")","v":"x"},{"$f":"IF($E27=\"Y\",INDEX(OIQraw,ROW(),Setup!$C$5+COLUMN()-26),\"x\")","v":"x"},{"$f":"IF($E27=\"Y\",INDEX(OIQraw,ROW(),Setup!$C$5+COLUMN()-26),\"x\")","v":"x"},{"$f":"IF($E27=\"Y\",INDEX(OIQraw,ROW(),Setup!$C$5+COLUMN()-26),\"x\")","v":"x"},{"$f":"IF($E27=\"Y\",INDEX(OIQraw,ROW(),Setup!$C$5+COLUMN()-26),\"x\")","v":"x"},{"$f":"IF($E27=\"Y\",INDEX(OIQraw,ROW(),Setup!$C$5+COLUMN()-26),\"x\")","v":"x"},{"$f":"IF($E27=\"Y\",INDEX(OIQraw,ROW(),Setup!$C$5+COLUMN()-26),\"x\")","v":"x"},{"$f":"IF($E27=\"Y\",INDEX(OIQraw,ROW(),Setup!$C$5+COLUMN()-26),\"x\")","v":"x"},{"$f":"IF($E27=\"Y\",INDEX(OIQraw,ROW(),Setup!$C$5+COLUMN()-26),\"x\")","v":"x"},{"$f":"IF($E27=\"Y\",INDEX(OIQraw,ROW(),Setup!$C$5+COLUMN()-26),\"x\")","v":"x"},{"$f":"IF($E27=\"Y\",INDEX(OIQraw,ROW(),Setup!$C$5+COLUMN()-26),\"x\")","v":"x"},{"$f":"IF($E27=\"Y\",INDEX(OIQraw,ROW(),Setup!$C$5+COLUMN()-26),\"x\")","v":"x"},{"$f":"IF($E27=\"Y\",INDEX(OIQraw,ROW(),Setup!$C$5+COLUMN()-26),\"x\")","v":"x"},{"$f":"IF($E27=\"Y\",INDEX(OIQraw,ROW(),Setup!$C$5+COLUMN()-26),\"x\")","v":"x"},{"$f":"IF($E27=\"Y\",INDEX(OIQraw,ROW(),Setup!$C$5+COLUMN()-26),\"x\")","v":"x"},{"$f":"IF($E27=\"Y\",INDEX(OIQraw,ROW(),Setup!$C$5+COLUMN()-26),\"x\")","v":"x"},{"$f":"IF($E27=\"Y\",INDEX(OIQraw,ROW(),Setup!$C$5+COLUMN()-26),\"x\")","v":"x"},{"$f":"IF($E27=\"Y\",INDEX(OIQraw,ROW(),Setup!$C$5+COLUMN()-26),\"x\")","v":"x"},{"$f":"IF($E27=\"Y\",INDEX(OIQraw,ROW(),Setup!$C$5+COLUMN()-26),\"x\")","v":"x"},{"$f":"IF($E27=\"Y\",INDEX(OIQraw,ROW(),Setup!$C$5+COLUMN()-26),\"x\")","v":"x"},{"$f":"IF($E27=\"Y\",INDEX(OIQraw,ROW(),Setup!$C$5+COLUMN()-26),\"x\")","v":"x"},{"$f":"IF($E27=\"Y\",INDEX(OIQraw,ROW(),Setup!$C$5+COLUMN()-26),\"x\")","v":"x"},{"$f":"IF($E27=\"Y\",INDEX(OIQraw,ROW(),Setup!$C$5+COLUMN()-26),\"x\")","v":"x"},{"$f":"IF($E27=\"Y\",INDEX(OIQraw,ROW(),Setup!$C$5+COLUMN()-26),\"x\")","v":"x"},{"$f":"IF($E27=\"Y\",INDEX(OIQraw,ROW(),Setup!$C$5+COLUMN()-26),\"x\")","v":"x"},{"$f":"IF($E27=\"Y\",INDEX(OIQraw,ROW(),Setup!$C$5+COLUMN()-26),\"x\")","v":"x"},{"$f":"IF($E27=\"Y\",INDEX(OIQraw,ROW(),Setup!$C$5+COLUMN()-26),\"x\")","v":"x"},{"$f":"IF($E27=\"Y\",INDEX(OIQraw,ROW(),Setup!$C$5+COLUMN()-26),\"x\")","v":"x"},{"$f":"IF($E27=\"Y\",INDEX(OIQraw,ROW(),Setup!$C$5+COLUMN()-26),\"x\")","v":"x"},{"$f":"IF($E27=\"Y\",INDEX(OIQraw,ROW(),Setup!$C$5+COLUMN()-26),\"x\")","v":"x"},{"$f":"IF($E27=\"Y\",INDEX(OIQraw,ROW(),Setup!$C$5+COLUMN()-26),\"x\")","v":"x"},{"$f":"IF($E27=\"Y\",INDEX(OIQraw,ROW(),Setup!$C$5+COLUMN()-26),\"x\")","v":"x"},{"$f":"IF($E27=\"Y\",INDEX(OIQraw,ROW(),Setup!$C$5+COLUMN()-26),\"x\")","v":"x"},{"$f":"IF($E27=\"Y\",INDEX(OIQraw,ROW(),Setup!$C$5+COLUMN()-26),\"x\")","v":"x"},{"$f":"IF($E27=\"Y\",INDEX(OIQraw,ROW(),Setup!$C$5+COLUMN()-26),\"x\")","v":"x"},{"$f":"IF($E27=\"Y\",INDEX(OIQraw,ROW(),Setup!$C$5+COLUMN()-26),\"x\")","v":"x"},{"$f":"IF($E27=\"Y\",INDEX(OIQraw,ROW(),Setup!$C$5+COLUMN()-26),\"x\")","v":"x"},{"$f":"IF($E27=\"Y\",INDEX(OIQraw,ROW(),Setup!$C$5+COLUMN()-26),\"x\")","v":"x"},{"$f":"IF($E27=\"Y\",INDEX(OIQraw,ROW(),Setup!$C$5+COLUMN()-26),\"x\")","v":"x"},{"$f":"IF($E27=\"Y\",INDEX(OIQraw,ROW(),Setup!$C$5+COLUMN()-26),\"x\")","v":"x"},{"$f":"IF($E27=\"Y\",INDEX(OIQraw,ROW(),Setup!$C$5+COLUMN()-26),\"x\")","v":"x"},{"$f":"IF($E27=\"Y\",INDEX(OIQraw,ROW(),Setup!$C$5+COLUMN()-26),\"x\")","v":"x"},{"$f":"IF($E27=\"Y\",INDEX(OIQraw,ROW(),Setup!$C$5+COLUMN()-26),\"x\")","v":"x"},{"$f":"IF($E27=\"Y\",INDEX(OIQraw,ROW(),Setup!$C$5+COLUMN()-26),\"x\")","v":"x"},{"$f":"IF($E27=\"Y\",INDEX(OIQraw,ROW(),Setup!$C$5+COLUMN()-26),\"x\")","v":"x"},{"$f":"IF($E27=\"Y\",INDEX(OIQraw,ROW(),Setup!$C$5+COLUMN()-26),\"x\")","v":"x"},{"$f":"IF($E27=\"Y\",INDEX(OIQraw,ROW(),Setup!$C$5+COLUMN()-26),\"x\")","v":"x"},{"$f":"IF($E27=\"Y\",INDEX(OIQraw,ROW(),Setup!$C$5+COLUMN()-26),\"x\")","v":"x"},{"$f":"IF($E27=\"Y\",INDEX(OIQraw,ROW(),Setup!$C$5+COLUMN()-26),\"x\")","v":"x"},{"$f":"IF($E27=\"Y\",INDEX(OIQraw,ROW(),Setup!$C$5+COLUMN()-26),\"x\")","v":"x"},{"$f":"IF($E27=\"Y\",INDEX(OIQraw,ROW(),Setup!$C$5+COLUMN()-26),\"x\")","v":"x"},{"$f":"IF($E27=\"Y\",INDEX(OIQraw,ROW(),Setup!$C$5+COLUMN()-26),\"x\")","v":"x"},{"$f":"IF($E27=\"Y\",INDEX(OIQraw,ROW(),Setup!$C$5+COLUMN()-26),\"x\")","v":"x"},{"$f":"IF($E27=\"Y\",INDEX(OIQraw,ROW(),Setup!$C$5+COLUMN()-26),\"x\")","v":"x"},{"$f":"IF($E27=\"Y\",INDEX(OIQraw,ROW(),Setup!$C$5+COLUMN()-26),\"x\")","v":"x"},{"$f":"IF($E27=\"Y\",INDEX(OIQraw,ROW(),Setup!$C$5+COLUMN()-26),\"x\")","v":"x"},{"$f":"IF($E27=\"Y\",INDEX(OIQraw,ROW(),Setup!$C$5+COLUMN()-26),\"x\")","v":"x"},{"$f":"IF($E27=\"Y\",INDEX(OIQraw,ROW(),Setup!$C$5+COLUMN()-26),\"x\")","v":"x"},{"$f":"IF($E27=\"Y\",INDEX(OIQraw,ROW(),Setup!$C$5+COLUMN()-26),\"x\")","v":"x"},{"$f":"IF($E27=\"Y\",INDEX(OIQraw,ROW(),Setup!$C$5+COLUMN()-26),\"x\")","v":"x"},{"$f":"IF($E27=\"Y\",INDEX(OIQraw,ROW(),Setup!$C$5+COLUMN()-26),\"x\")","v":"x"},{"$f":"IF($E27=\"Y\",INDEX(OIQraw,ROW(),Setup!$C$5+COLUMN()-26),\"x\")","v":"x"},{"$f":"IF($E27=\"Y\",INDEX(OIQraw,ROW(),Setup!$C$5+COLUMN()-26),\"x\")","v":"x"},{"$f":"IF($E27=\"Y\",INDEX(OIQraw,ROW(),Setup!$C$5+COLUMN()-26),\"x\")","v":"x"},{"$f":"IF($E27=\"Y\",INDEX(OIQraw,ROW(),Setup!$C$5+COLUMN()-26),\"x\")","v":"x"},{"$f":"IF($E27=\"Y\",INDEX(OIQraw,ROW(),Setup!$C$5+COLUMN()-26),\"x\")","v":"x"},{"$f":"IF($E27=\"Y\",INDEX(OIQraw,ROW(),Setup!$C$5+COLUMN()-26),\"x\")","v":"x"},{"$f":"IF($E27=\"Y\",INDEX(OIQraw,ROW(),Setup!$C$5+COLUMN()-26),\"x\")","v":"x"},{"$f":"IF($E27=\"Y\",INDEX(OIQraw,ROW(),Setup!$C$5+COLUMN()-26),\"x\")","v":"x"},{"$f":"IF($E27=\"Y\",INDEX(OIQraw,ROW(),Setup!$C$5+COLUMN()-26),\"x\")","v":"x"},{"$f":"IF($E27=\"Y\",INDEX(OIQraw,ROW(),Setup!$C$5+COLUMN()-26),\"x\")","v":"x"},{"$f":"IF($E27=\"Y\",INDEX(OIQraw,ROW(),Setup!$C$5+COLUMN()-26),\"x\")","v":"x"},{"$f":"IF($E27=\"Y\",INDEX(OIQraw,ROW(),Setup!$C$5+COLUMN()-26),\"x\")","v":"x"},{"$f":"IF($E27=\"Y\",INDEX(OIQraw,ROW(),Setup!$C$5+COLUMN()-26),\"x\")","v":"x"},{"$f":"IF($E27=\"Y\",INDEX(OIQraw,ROW(),Setup!$C$5+COLUMN()-26),\"x\")","v":"x"},{"$f":"IF($E27=\"Y\",INDEX(OIQraw,ROW(),Setup!$C$5+COLUMN()-26),\"x\")","v":"x"},{"$f":"IF($E27=\"Y\",INDEX(OIQraw,ROW(),Setup!$C$5+COLUMN()-26),\"x\")","v":"x"},{"$f":"IF($E27=\"Y\",INDEX(OIQraw,ROW(),Setup!$C$5+COLUMN()-26),\"x\")","v":"x"},{"$f":"IF($E27=\"Y\",INDEX(OIQraw,ROW(),Setup!$C$5+COLUMN()-26),\"x\")","v":"x"},{"$f":"IF($E27=\"Y\",INDEX(OIQraw,ROW(),Setup!$C$5+COLUMN()-26),\"x\")","v":"x"},{"$f":"IF($E27=\"Y\",INDEX(OIQraw,ROW(),Setup!$C$5+COLUMN()-26),\"x\")","v":"x"},{"$f":"IF($E27=\"Y\",INDEX(OIQraw,ROW(),Setup!$C$5+COLUMN()-26),\"x\")","v":"x"},{"$f":"IF($E27=\"Y\",INDEX(OIQraw,ROW(),Setup!$C$5+COLUMN()-26),\"x\")","v":"x"},{"$f":"IF($E27=\"Y\",INDEX(OIQraw,ROW(),Setup!$C$5+COLUMN()-26),\"x\")","v":"x"},{"$f":"IF($E27=\"Y\",INDEX(OIQraw,ROW(),Setup!$C$5+COLUMN()-26),\"x\")","v":"x"},{"$f":"IF($E27=\"Y\",INDEX(OIQraw,ROW(),Setup!$C$5+COLUMN()-26),\"x\")","v":"x"},{"$f":"IF($E27=\"Y\",INDEX(OIQraw,ROW(),Setup!$C$5+COLUMN()-26),\"x\")","v":"x"},{"$f":"IF($E27=\"Y\",INDEX(OIQraw,ROW(),Setup!$C$5+COLUMN()-26),\"x\")","v":"x"},{"$f":"IF($E27=\"Y\",INDEX(OIQraw,ROW(),Setup!$C$5+COLUMN()-26),\"x\")","v":"x"},{"$f":"IF($E27=\"Y\",INDEX(OIQraw,ROW(),Setup!$C$5+COLUMN()-26),\"x\")","v":"x"},{"$f":"IF($E27=\"Y\",INDEX(OIQraw,ROW(),Setup!$C$5+COLUMN()-26),\"x\")","v":"x"},{"$f":"IF($E27=\"Y\",INDEX(OIQraw,ROW(),Setup!$C$5+COLUMN()-26),\"x\")","v":"x"},{"$f":"IF($E27=\"Y\",INDEX(OIQraw,ROW(),Setup!$C$5+COLUMN()-26),\"x\")","v":"x"},{"$f":"IF($E27=\"Y\",INDEX(OIQraw,ROW(),Setup!$C$5+COLUMN()-26),\"x\")","v":"x"},{"$f":"IF($E27=\"Y\",INDEX(OIQraw,ROW(),Setup!$C$5+COLUMN()-26),\"x\")","v":"x"},{"$f":"IF($E27=\"Y\",INDEX(OIQraw,ROW(),Setup!$C$5+COLUMN()-26),\"x\")","v":"x"},{"$f":"IF($E27=\"Y\",INDEX(OIQraw,ROW(),Setup!$C$5+COLUMN()-26),\"x\")","v":"x"},{"$f":"IF($E27=\"Y\",INDEX(OIQraw,ROW(),Setup!$C$5+COLUMN()-26),\"x\")","v":"x"},{"$f":"IF($E27=\"Y\",INDEX(OIQraw,ROW(),Setup!$C$5+COLUMN()-26),\"x\")","v":"x"},{"$f":"IF($E27=\"Y\",INDEX(OIQraw,ROW(),Setup!$C$5+COLUMN()-26),\"x\")","v":"x"},{"$f":"IF($E27=\"Y\",INDEX(OIQraw,ROW(),Setup!$C$5+COLUMN()-26),\"x\")","v":"x"},{"$f":"IF($E27=\"Y\",INDEX(OIQraw,ROW(),Setup!$C$5+COLUMN()-26),\"x\")","v":"x"},{"$f":"IF($E27=\"Y\",INDEX(OIQraw,ROW(),Setup!$C$5+COLUMN()-26),\"x\")","v":"x"},{"$f":"IF($E27=\"Y\",INDEX(OIQraw,ROW(),Setup!$C$5+COLUMN()-26),\"x\")","v":"x"},{"$f":"IF($E27=\"Y\",INDEX(OIQraw,ROW(),Setup!$C$5+COLUMN()-26),\"x\")","v":"x"},{"$f":"IF($E27=\"Y\",INDEX(OIQraw,ROW(),Setup!$C$5+COLUMN()-26),\"x\")","v":"x"},{"$f":"IF($E27=\"Y\",INDEX(OIQraw,ROW(),Setup!$C$5+COLUMN()-26),\"x\")","v":"x"},{"$f":"IF($E27=\"Y\",INDEX(OIQraw,ROW(),Setup!$C$5+COLUMN()-26),\"x\")","v":"x"},{"$f":"IF($E27=\"Y\",INDEX(OIQraw,ROW(),Setup!$C$5+COLUMN()-26),\"x\")","v":"x"},{"$f":"IF($E27=\"Y\",INDEX(OIQraw,ROW(),Setup!$C$5+COLUMN()-26),\"x\")","v":"x"},{"$f":"IF($E27=\"Y\",INDEX(OIQraw,ROW(),Setup!$C$5+COLUMN()-26),\"x\")","v":"x"},{"$f":"IF($E27=\"Y\",INDEX(OIQraw,ROW(),Setup!$C$5+COLUMN()-26),\"x\")","v":"x"},{"$f":"IF($E27=\"Y\",INDEX(OIQraw,ROW(),Setup!$C$5+COLUMN()-26),\"x\")","v":"x"},{"$f":"IF($E27=\"Y\",INDEX(OIQraw,ROW(),Setup!$C$5+COLUMN()-26),\"x\")","v":"x"},{"$f":"IF($E27=\"Y\",INDEX(OIQraw,ROW(),Setup!$C$5+COLUMN()-26),\"x\")","v":"x"},{"$f":"IF($E27=\"Y\",INDEX(OIQraw,ROW(),Setup!$C$5+COLUMN()-26),\"x\")","v":"x"},{"$f":"IF($E27=\"Y\",INDEX(OIQraw,ROW(),Setup!$C$5+COLUMN()-26),\"x\")","v":"x"},{"$f":"IF($E27=\"Y\",INDEX(OIQraw,ROW(),Setup!$C$5+COLUMN()-26),\"x\")","v":"x"},{"$f":"IF($E27=\"Y\",INDEX(OIQraw,ROW(),Setup!$C$5+COLUMN()-26),\"x\")","v":"x"},{"$f":"IF($E27=\"Y\",INDEX(OIQraw,ROW(),Setup!$C$5+COLUMN()-26),\"x\")","v":"x"},{"$f":"IF($E27=\"Y\",INDEX(OIQraw,ROW(),Setup!$C$5+COLUMN()-26),\"x\")","v":"x"},{"$f":"IF($E27=\"Y\",INDEX(OIQraw,ROW(),Setup!$C$5+COLUMN()-26),\"x\")","v":"x"},{"$f":"IF($E27=\"Y\",INDEX(OIQraw,ROW(),Setup!$C$5+COLUMN()-26),\"x\")","v":"x"},{"$f":"IF($E27=\"Y\",INDEX(OIQraw,ROW(),Setup!$C$5+COLUMN()-26),\"x\")","v":"x"},{"$f":"IF($E27=\"Y\",INDEX(OIQraw,ROW(),Setup!$C$5+COLUMN()-26),\"x\")","v":"x"},{"$f":"IF($E27=\"Y\",INDEX(OIQraw,ROW(),Setup!$C$5+COLUMN()-26),\"x\")","v":"x"},{"$f":"IF($E27=\"Y\",INDEX(OIQraw,ROW(),Setup!$C$5+COLUMN()-26),\"x\")","v":"x"},{"$f":"IF($E27=\"Y\",INDEX(OIQraw,ROW(),Setup!$C$5+COLUMN()-26),\"x\")","v":"x"},{"$f":"IF($E27=\"Y\",INDEX(OIQraw,ROW(),Setup!$C$5+COLUMN()-26),\"x\")","v":"x"},{"$f":"IF($E27=\"Y\",INDEX(OIQraw,ROW(),Setup!$C$5+COLUMN()-26),\"x\")","v":"x"},{"$f":"IF($E27=\"Y\",INDEX(OIQraw,ROW(),Setup!$C$5+COLUMN()-26),\"x\")","v":"x"},{"$f":"IF($E27=\"Y\",INDEX(OIQraw,ROW(),Setup!$C$5+COLUMN()-26),\"x\")","v":"x"},{"$f":"IF($E27=\"Y\",INDEX(OIQraw,ROW(),Setup!$C$5+COLUMN()-26),\"x\")","v":"x"},{"$f":"IF($E27=\"Y\",INDEX(OIQraw,ROW(),Setup!$C$5+COLUMN()-26),\"x\")","v":"x"},{"$f":"IF($E27=\"Y\",INDEX(OIQraw,ROW(),Setup!$C$5+COLUMN()-26),\"x\")","v":"x"},{"$f":"IF($E27=\"Y\",INDEX(OIQraw,ROW(),Setup!$C$5+COLUMN()-26),\"x\")","v":"x"},{"$f":"IF($E27=\"Y\",INDEX(OIQraw,ROW(),Setup!$C$5+COLUMN()-26),\"x\")","v":"x"},{"$f":"IF($E27=\"Y\",INDEX(OIQraw,ROW(),Setup!$C$5+COLUMN()-26),\"x\")","v":"x"},{"$f":"IF($E27=\"Y\",INDEX(OIQraw,ROW(),Setup!$C$5+COLUMN()-26),\"x\")","v":"x"},{"$f":"IF($E27=\"Y\",INDEX(OIQraw,ROW(),Setup!$C$5+COLUMN()-26),\"x\")","v":"x"},{"$f":"IF($E27=\"Y\",INDEX(OIQraw,ROW(),Setup!$C$5+COLUMN()-26),\"x\")","v":"x"},{"$f":"IF($E27=\"Y\",INDEX(OIQraw,ROW(),Setup!$C$5+COLUMN()-26),\"x\")","v":"x"},{"$f":"IF($E27=\"Y\",INDEX(OIQraw,ROW(),Setup!$C$5+COLUMN()-26),\"x\")","v":"x"},{"$f":"IF($E27=\"Y\",INDEX(OIQraw,ROW(),Setup!$C$5+COLUMN()-26),\"x\")","v":"x"},{"$f":"IF($E27=\"Y\",INDEX(OIQraw,ROW(),Setup!$C$5+COLUMN()-26),\"x\")","v":"x"},{"$f":"IF($E27=\"Y\",INDEX(OIQraw,ROW(),Setup!$C$5+COLUMN()-26),\"x\")","v":"x"},{"$f":"IF($E27=\"Y\",INDEX(OIQraw,ROW(),Setup!$C$5+COLUMN()-26),\"x\")","v":"x"},{"$f":"IF($E27=\"Y\",INDEX(OIQraw,ROW(),Setup!$C$5+COLUMN()-26),\"x\")","v":"x"},{"$f":"IF($E27=\"Y\",INDEX(OIQraw,ROW(),Setup!$C$5+COLUMN()-26),\"x\")","v":"x"},{"$f":"IF($E27=\"Y\",INDEX(OIQraw,ROW(),Setup!$C$5+COLUMN()-26),\"x\")","v":"x"},{"$f":"IF($E27=\"Y\",INDEX(OIQraw,ROW(),Setup!$C$5+COLUMN()-26),\"x\")","v":"x"},{"$f":"IF($E27=\"Y\",INDEX(OIQraw,ROW(),Setup!$C$5+COLUMN()-26),\"x\")","v":"x"},{"$f":"IF($E27=\"Y\",INDEX(OIQraw,ROW(),Setup!$C$5+COLUMN()-26),\"x\")","v":"x"},{"$f":"IF($E27=\"Y\",INDEX(OIQraw,ROW(),Setup!$C$5+COLUMN()-26),\"x\")","v":"x"},{"$f":"IF($E27=\"Y\",INDEX(OIQraw,ROW(),Setup!$C$5+COLUMN()-26),\"x\")","v":"x"},{"$f":"IF($E27=\"Y\",INDEX(OIQraw,ROW(),Setup!$C$5+COLUMN()-26),\"x\")","v":"x"},{"$f":"IF($E27=\"Y\",INDEX(OIQraw,ROW(),Setup!$C$5+COLUMN()-26),\"x\")","v":"x"},{"$f":"IF($E27=\"Y\",INDEX(OIQraw,ROW(),Setup!$C$5+COLUMN()-26),\"x\")","v":"x"},{"$f":"IF($E27=\"Y\",INDEX(OIQraw,ROW(),Setup!$C$5+COLUMN()-26),\"x\")","v":"x"},{"$f":"IF($E27=\"Y\",INDEX(OIQraw,ROW(),Setup!$C$5+COLUMN()-26),\"x\")","v":"x"},{"$f":"IF($E27=\"Y\",INDEX(OIQraw,ROW(),Setup!$C$5+COLUMN()-26),\"x\")","v":"x"},{"$f":"IF($E27=\"Y\",INDEX(OIQraw,ROW(),Setup!$C$5+COLUMN()-26),\"x\")","v":"x"},{"$f":"IF($E27=\"Y\",INDEX(OIQraw,ROW(),Setup!$C$5+COLUMN()-26),\"x\")","v":"x"},{"$f":"IF($E27=\"Y\",INDEX(OIQraw,ROW(),Setup!$C$5+COLUMN()-26),\"x\")","v":"x"},{"$f":"IF($E27=\"Y\",INDEX(OIQraw,ROW(),Setup!$C$5+COLUMN()-26),\"x\")","v":"x"},{"$f":"IF($E27=\"Y\",INDEX(OIQraw,ROW(),Setup!$C$5+COLUMN()-26),\"x\")","v":"x"},{"$f":"IF($E27=\"Y\",INDEX(OIQraw,ROW(),Setup!$C$5+COLUMN()-26),\"x\")","v":"x"},{"$f":"IF($E27=\"Y\",INDEX(OIQraw,ROW(),Setup!$C$5+COLUMN()-26),\"x\")","v":"x"},{"$f":"IF($E27=\"Y\",INDEX(OIQraw,ROW(),Setup!$C$5+COLUMN()-26),\"x\")","v":"x"},{"$f":"IF($E27=\"Y\",INDEX(OIQraw,ROW(),Setup!$C$5+COLUMN()-26),\"x\")","v":"x"},{"$f":"IF($E27=\"Y\",INDEX(OIQraw,ROW(),Setup!$C$5+COLUMN()-26),\"x\")","v":"x"},{"$f":"IF($E27=\"Y\",INDEX(OIQraw,ROW(),Setup!$C$5+COLUMN()-26),\"x\")","v":"x"},{"$f":"IF($E27=\"Y\",INDEX(OIQraw,ROW(),Setup!$C$5+COLUMN()-26),\"x\")","v":"x"},{"$f":"IF($E27=\"Y\",INDEX(OIQraw,ROW(),Setup!$C$5+COLUMN()-26),\"x\")","v":"x"},{"$f":"IF($E27=\"Y\",INDEX(OIQraw,ROW(),Setup!$C$5+COLUMN()-26),\"x\")","v":"x"},{"$f":"IF($E27=\"Y\",INDEX(OIQraw,ROW(),Setup!$C$5+COLUMN()-26),\"x\")","v":"x"}]
[1,"","",{"$f":"IF(ISERROR(FIND(\"Withdrew\",RawScores!B32)),RawScores!B32,RIGHT(RawScores!B32,LEN(RawScores!B32)-17))&\", \"&RawScores!C32","v":", "},{"$f":"IF(OR(ISERROR(FIND(\"Withdrew\",RawScores!B32))=FALSE,INDEX(OIQraw,ROW(),LastInputCol-3)=0),\"N\",IF(AND(Setup!$B$22=\"Yes\",INDEX(OIQraw,ROW(),LastInputCol)=1),\"N\",\"Y\"))","v":"N"},"X","X","X",{"$f":"IF(AND(ISNUMBER(F28),F28>Setup!$B$14-1),1,0)","v":0},{"$f":"IF(AND(F28>Setup!$B$14-1,Conv!H28<5),1,0)","v":0},{"$f":"IF(AND(F28>Setup!$B$14-1,Conv!G28=\"F\"),1,0)","v":0},"","","","","","","","","","","","","X","X",{"$f":"IF($E28=\"Y\",INDEX(OIQraw,ROW(),Setup!$C$5+COLUMN()-26),\"x\")","v":"x"},{"$f":"IF($E28=\"Y\",INDEX(OIQraw,ROW(),Setup!$C$5+COLUMN()-26),\"x\")","v":"x"},{"$f":"IF($E28=\"Y\",INDEX(OIQraw,ROW(),Setup!$C$5+COLUMN()-26),\"x\")","v":"x"},{"$f":"IF($E28=\"Y\",INDEX(OIQraw,ROW(),Setup!$C$5+COLUMN()-26),\"x\")","v":"x"},{"$f":"IF($E28=\"Y\",INDEX(OIQraw,ROW(),Setup!$C$5+COLUMN()-26),\"x\")","v":"x"},{"$f":"IF($E28=\"Y\",INDEX(OIQraw,ROW(),Setup!$C$5+COLUMN()-26),\"x\")","v":"x"},{"$f":"IF($E28=\"Y\",INDEX(OIQraw,ROW(),Setup!$C$5+COLUMN()-26),\"x\")","v":"x"},{"$f":"IF($E28=\"Y\",INDEX(OIQraw,ROW(),Setup!$C$5+COLUMN()-26),\"x\")","v":"x"},{"$f":"IF($E28=\"Y\",INDEX(OIQraw,ROW(),Setup!$C$5+COLUMN()-26),\"x\")","v":"x"},{"$f":"IF($E28=\"Y\",INDEX(OIQraw,ROW(),Setup!$C$5+COLUMN()-26),\"x\")","v":"x"},{"$f":"IF($E28=\"Y\",INDEX(OIQraw,ROW(),Setup!$C$5+COLUMN()-26),\"x\")","v":"x"},{"$f":"IF($E28=\"Y\",INDEX(OIQraw,ROW(),Setup!$C$5+COLUMN()-26),\"x\")","v":"x"},{"$f":"IF($E28=\"Y\",INDEX(OIQraw,ROW(),Setup!$C$5+COLUMN()-26),\"x\")","v":"x"},{"$f":"IF($E28=\"Y\",INDEX(OIQraw,ROW(),Setup!$C$5+COLUMN()-26),\"x\")","v":"x"},{"$f":"IF($E28=\"Y\",INDEX(OIQraw,ROW(),Setup!$C$5+COLUMN()-26),\"x\")","v":"x"},{"$f":"IF($E28=\"Y\",INDEX(OIQraw,ROW(),Setup!$C$5+COLUMN()-26),\"x\")","v":"x"},{"$f":"IF($E28=\"Y\",INDEX(OIQraw,ROW(),Setup!$C$5+COLUMN()-26),\"x\")","v":"x"},{"$f":"IF($E28=\"Y\",INDEX(OIQraw,ROW(),Setup!$C$5+COLUMN()-26),\"x\")","v":"x"},{"$f":"IF($E28=\"Y\",INDEX(OIQraw,ROW(),Setup!$C$5+COLUMN()-26),\"x\")","v":"x"},{"$f":"IF($E28=\"Y\",INDEX(OIQraw,ROW(),Setup!$C$5+COLUMN()-26),\"x\")","v":"x"},{"$f":"IF($E28=\"Y\",INDEX(OIQraw,ROW(),Setup!$C$5+COLUMN()-26),\"x\")","v":"x"},{"$f":"IF($E28=\"Y\",INDEX(OIQraw,ROW(),Setup!$C$5+COLUMN()-26),\"x\")","v":"x"},{"$f":"IF($E28=\"Y\",INDEX(OIQraw,ROW(),Setup!$C$5+COLUMN()-26),\"x\")","v":"x"},{"$f":"IF($E28=\"Y\",INDEX(OIQraw,ROW(),Setup!$C$5+COLUMN()-26),\"x\")","v":"x"},{"$f":"IF($E28=\"Y\",INDEX(OIQraw,ROW(),Setup!$C$5+COLUMN()-26),\"x\")","v":"x"},{"$f":"IF($E28=\"Y\",INDEX(OIQraw,ROW(),Setup!$C$5+COLUMN()-26),\"x\")","v":"x"},{"$f":"IF($E28=\"Y\",INDEX(OIQraw,ROW(),Setup!$C$5+COLUMN()-26),\"x\")","v":"x"},{"$f":"IF($E28=\"Y\",INDEX(OIQraw,ROW(),Setup!$C$5+COLUMN()-26),\"x\")","v":"x"},{"$f":"IF($E28=\"Y\",INDEX(OIQraw,ROW(),Setup!$C$5+COLUMN()-26),\"x\")","v":"x"},{"$f":"IF($E28=\"Y\",INDEX(OIQraw,ROW(),Setup!$C$5+COLUMN()-26),\"x\")","v":"x"},{"$f":"IF($E28=\"Y\",INDEX(OIQraw,ROW(),Setup!$C$5+COLUMN()-26),\"x\")","v":"x"},{"$f":"IF($E28=\"Y\",INDEX(OIQraw,ROW(),Setup!$C$5+COLUMN()-26),\"x\")","v":"x"},{"$f":"IF($E28=\"Y\",INDEX(OIQraw,ROW(),Setup!$C$5+COLUMN()-26),\"x\")","v":"x"},{"$f":"IF($E28=\"Y\",INDEX(OIQraw,ROW(),Setup!$C$5+COLUMN()-26),\"x\")","v":"x"},{"$f":"IF($E28=\"Y\",INDEX(OIQraw,ROW(),Setup!$C$5+COLUMN()-26),\"x\")","v":"x"},{"$f":"IF($E28=\"Y\",INDEX(OIQraw,ROW(),Setup!$C$5+COLUMN()-26),\"x\")","v":"x"},{"$f":"IF($E28=\"Y\",INDEX(OIQraw,ROW(),Setup!$C$5+COLUMN()-26),\"x\")","v":"x"},{"$f":"IF($E28=\"Y\",INDEX(OIQraw,ROW(),Setup!$C$5+COLUMN()-26),\"x\")","v":"x"},{"$f":"IF($E28=\"Y\",INDEX(OIQraw,ROW(),Setup!$C$5+COLUMN()-26),\"x\")","v":"x"},{"$f":"IF($E28=\"Y\",INDEX(OIQraw,ROW(),Setup!$C$5+COLUMN()-26),\"x\")","v":"x"},{"$f":"IF($E28=\"Y\",INDEX(OIQraw,ROW(),Setup!$C$5+COLUMN()-26),\"x\")","v":"x"},{"$f":"IF($E28=\"Y\",INDEX(OIQraw,ROW(),Setup!$C$5+COLUMN()-26),\"x\")","v":"x"},{"$f":"IF($E28=\"Y\",INDEX(OIQraw,ROW(),Setup!$C$5+COLUMN()-26),\"x\")","v":"x"},{"$f":"IF($E28=\"Y\",INDEX(OIQraw,ROW(),Setup!$C$5+COLUMN()-26),\"x\")","v":"x"},{"$f":"IF($E28=\"Y\",INDEX(OIQraw,ROW(),Setup!$C$5+COLUMN()-26),\"x\")","v":"x"},{"$f":"IF($E28=\"Y\",INDEX(OIQraw,ROW(),Setup!$C$5+COLUMN()-26),\"x\")","v":"x"},{"$f":"IF($E28=\"Y\",INDEX(OIQraw,ROW(),Setup!$C$5+COLUMN()-26),\"x\")","v":"x"},{"$f":"IF($E28=\"Y\",INDEX(OIQraw,ROW(),Setup!$C$5+COLUMN()-26),\"x\")","v":"x"},{"$f":"IF($E28=\"Y\",INDEX(OIQraw,ROW(),Setup!$C$5+COLUMN()-26),\"x\")","v":"x"},{"$f":"IF($E28=\"Y\",INDEX(OIQraw,ROW(),Setup!$C$5+COLUMN()-26),\"x\")","v":"x"},{"$f":"IF($E28=\"Y\",INDEX(OIQraw,ROW(),Setup!$C$5+COLUMN()-26),\"x\")","v":"x"},{"$f":"IF($E28=\"Y\",INDEX(OIQraw,ROW(),Setup!$C$5+COLUMN()-26),\"x\")","v":"x"},{"$f":"IF($E28=\"Y\",INDEX(OIQraw,ROW(),Setup!$C$5+COLUMN()-26),\"x\")","v":"x"},{"$f":"IF($E28=\"Y\",INDEX(OIQraw,ROW(),Setup!$C$5+COLUMN()-26),\"x\")","v":"x"},{"$f":"IF($E28=\"Y\",INDEX(OIQraw,ROW(),Setup!$C$5+COLUMN()-26),\"x\")","v":"x"},{"$f":"IF($E28=\"Y\",INDEX(OIQraw,ROW(),Setup!$C$5+COLUMN()-26),\"x\")","v":"x"},{"$f":"IF($E28=\"Y\",INDEX(OIQraw,ROW(),Setup!$C$5+COLUMN()-26),\"x\")","v":"x"},{"$f":"IF($E28=\"Y\",INDEX(OIQraw,ROW(),Setup!$C$5+COLUMN()-26),\"x\")","v":"x"},{"$f":"IF($E28=\"Y\",INDEX(OIQraw,ROW(),Setup!$C$5+COLUMN()-26),\"x\")","v":"x"},{"$f":"IF($E28=\"Y\",INDEX(OIQraw,ROW(),Setup!$C$5+COLUMN()-26),\"x\")","v":"x"},{"$f":"IF($E28=\"Y\",INDEX(OIQraw,ROW(),Setup!$C$5+COLUMN()-26),\"x\")","v":"x"},{"$f":"IF($E28=\"Y\",INDEX(OIQraw,ROW(),Setup!$C$5+COLUMN()-26),\"x\")","v":"x"},{"$f":"IF($E28=\"Y\",INDEX(OIQraw,ROW(),Setup!$C$5+COLUMN()-26),\"x\")","v":"x"},{"$f":"IF($E28=\"Y\",INDEX(OIQraw,ROW(),Setup!$C$5+COLUMN()-26),\"x\")","v":"x"},{"$f":"IF($E28=\"Y\",INDEX(OIQraw,ROW(),Setup!$C$5+COLUMN()-26),\"x\")","v":"x"},{"$f":"IF($E28=\"Y\",INDEX(OIQraw,ROW(),Setup!$C$5+COLUMN()-26),\"x\")","v":"x"},{"$f":"IF($E28=\"Y\",INDEX(OIQraw,ROW(),Setup!$C$5+COLUMN()-26),\"x\")","v":"x"},{"$f":"IF($E28=\"Y\",INDEX(OIQraw,ROW(),Setup!$C$5+COLUMN()-26),\"x\")","v":"x"},{"$f":"IF($E28=\"Y\",INDEX(OIQraw,ROW(),Setup!$C$5+COLUMN()-26),\"x\")","v":"x"},{"$f":"IF($E28=\"Y\",INDEX(OIQraw,ROW(),Setup!$C$5+COLUMN()-26),\"x\")","v":"x"},{"$f":"IF($E28=\"Y\",INDEX(OIQraw,ROW(),Setup!$C$5+COLUMN()-26),\"x\")","v":"x"},{"$f":"IF($E28=\"Y\",INDEX(OIQraw,ROW(),Setup!$C$5+COLUMN()-26),\"x\")","v":"x"},{"$f":"IF($E28=\"Y\",INDEX(OIQraw,ROW(),Setup!$C$5+COLUMN()-26),\"x\")","v":"x"},{"$f":"IF($E28=\"Y\",INDEX(OIQraw,ROW(),Setup!$C$5+COLUMN()-26),\"x\")","v":"x"},{"$f":"IF($E28=\"Y\",INDEX(OIQraw,ROW(),Setup!$C$5+COLUMN()-26),\"x\")","v":"x"},{"$f":"IF($E28=\"Y\",INDEX(OIQraw,ROW(),Setup!$C$5+COLUMN()-26),\"x\")","v":"x"},{"$f":"IF($E28=\"Y\",INDEX(OIQraw,ROW(),Setup!$C$5+COLUMN()-26),\"x\")","v":"x"},{"$f":"IF($E28=\"Y\",INDEX(OIQraw,ROW(),Setup!$C$5+COLUMN()-26),\"x\")","v":"x"},{"$f":"IF($E28=\"Y\",INDEX(OIQraw,ROW(),Setup!$C$5+COLUMN()-26),\"x\")","v":"x"},{"$f":"IF($E28=\"Y\",INDEX(OIQraw,ROW(),Setup!$C$5+COLUMN()-26),\"x\")","v":"x"},{"$f":"IF($E28=\"Y\",INDEX(OIQraw,ROW(),Setup!$C$5+COLUMN()-26),\"x\")","v":"x"},{"$f":"IF($E28=\"Y\",INDEX(OIQraw,ROW(),Setup!$C$5+COLUMN()-26),\"x\")","v":"x"},{"$f":"IF($E28=\"Y\",INDEX(OIQraw,ROW(),Setup!$C$5+COLUMN()-26),\"x\")","v":"x"},{"$f":"IF($E28=\"Y\",INDEX(OIQraw,ROW(),Setup!$C$5+COLUMN()-26),\"x\")","v":"x"},{"$f":"IF($E28=\"Y\",INDEX(OIQraw,ROW(),Setup!$C$5+COLUMN()-26),\"x\")","v":"x"},{"$f":"IF($E28=\"Y\",INDEX(OIQraw,ROW(),Setup!$C$5+COLUMN()-26),\"x\")","v":"x"},{"$f":"IF($E28=\"Y\",INDEX(OIQraw,ROW(),Setup!$C$5+COLUMN()-26),\"x\")","v":"x"},{"$f":"IF($E28=\"Y\",INDEX(OIQraw,ROW(),Setup!$C$5+COLUMN()-26),\"x\")","v":"x"},{"$f":"IF($E28=\"Y\",INDEX(OIQraw,ROW(),Setup!$C$5+COLUMN()-26),\"x\")","v":"x"},{"$f":"IF($E28=\"Y\",INDEX(OIQraw,ROW(),Setup!$C$5+COLUMN()-26),\"x\")","v":"x"},{"$f":"IF($E28=\"Y\",INDEX(OIQraw,ROW(),Setup!$C$5+COLUMN()-26),\"x\")","v":"x"},{"$f":"IF($E28=\"Y\",INDEX(OIQraw,ROW(),Setup!$C$5+COLUMN()-26),\"x\")","v":"x"},{"$f":"IF($E28=\"Y\",INDEX(OIQraw,ROW(),Setup!$C$5+COLUMN()-26),\"x\")","v":"x"},{"$f":"IF($E28=\"Y\",INDEX(OIQraw,ROW(),Setup!$C$5+COLUMN()-26),\"x\")","v":"x"},{"$f":"IF($E28=\"Y\",INDEX(OIQraw,ROW(),Setup!$C$5+COLUMN()-26),\"x\")","v":"x"},{"$f":"IF($E28=\"Y\",INDEX(OIQraw,ROW(),Setup!$C$5+COLUMN()-26),\"x\")","v":"x"},{"$f":"IF($E28=\"Y\",INDEX(OIQraw,ROW(),Setup!$C$5+COLUMN()-26),\"x\")","v":"x"},{"$f":"IF($E28=\"Y\",INDEX(OIQraw,ROW(),Setup!$C$5+COLUMN()-26),\"x\")","v":"x"},{"$f":"IF($E28=\"Y\",INDEX(OIQraw,ROW(),Setup!$C$5+COLUMN()-26),\"x\")","v":"x"},{"$f":"IF($E28=\"Y\",INDEX(OIQraw,ROW(),Setup!$C$5+COLUMN()-26),\"x\")","v":"x"},{"$f":"IF($E28=\"Y\",INDEX(OIQraw,ROW(),Setup!$C$5+COLUMN()-26),\"x\")","v":"x"},{"$f":"IF($E28=\"Y\",INDEX(OIQraw,ROW(),Setup!$C$5+COLUMN()-26),\"x\")","v":"x"},{"$f":"IF($E28=\"Y\",INDEX(OIQraw,ROW(),Setup!$C$5+COLUMN()-26),\"x\")","v":"x"},{"$f":"IF($E28=\"Y\",INDEX(OIQraw,ROW(),Setup!$C$5+COLUMN()-26),\"x\")","v":"x"},{"$f":"IF($E28=\"Y\",INDEX(OIQraw,ROW(),Setup!$C$5+COLUMN()-26),\"x\")","v":"x"},{"$f":"IF($E28=\"Y\",INDEX(OIQraw,ROW(),Setup!$C$5+COLUMN()-26),\"x\")","v":"x"},{"$f":"IF($E28=\"Y\",INDEX(OIQraw,ROW(),Setup!$C$5+COLUMN()-26),\"x\")","v":"x"},{"$f":"IF($E28=\"Y\",INDEX(OIQraw,ROW(),Setup!$C$5+COLUMN()-26),\"x\")","v":"x"},{"$f":"IF($E28=\"Y\",INDEX(OIQraw,ROW(),Setup!$C$5+COLUMN()-26),\"x\")","v":"x"},{"$f":"IF($E28=\"Y\",INDEX(OIQraw,ROW(),Setup!$C$5+COLUMN()-26),\"x\")","v":"x"},{"$f":"IF($E28=\"Y\",INDEX(OIQraw,ROW(),Setup!$C$5+COLUMN()-26),\"x\")","v":"x"},{"$f":"IF($E28=\"Y\",INDEX(OIQraw,ROW(),Setup!$C$5+COLUMN()-26),\"x\")","v":"x"},{"$f":"IF($E28=\"Y\",INDEX(OIQraw,ROW(),Setup!$C$5+COLUMN()-26),\"x\")","v":"x"},{"$f":"IF($E28=\"Y\",INDEX(OIQraw,ROW(),Setup!$C$5+COLUMN()-26),\"x\")","v":"x"},{"$f":"IF($E28=\"Y\",INDEX(OIQraw,ROW(),Setup!$C$5+COLUMN()-26),\"x\")","v":"x"},{"$f":"IF($E28=\"Y\",INDEX(OIQraw,ROW(),Setup!$C$5+COLUMN()-26),\"x\")","v":"x"},{"$f":"IF($E28=\"Y\",INDEX(OIQraw,ROW(),Setup!$C$5+COLUMN()-26),\"x\")","v":"x"},{"$f":"IF($E28=\"Y\",INDEX(OIQraw,ROW(),Setup!$C$5+COLUMN()-26),\"x\")","v":"x"},{"$f":"IF($E28=\"Y\",INDEX(OIQraw,ROW(),Setup!$C$5+COLUMN()-26),\"x\")","v":"x"},{"$f":"IF($E28=\"Y\",INDEX(OIQraw,ROW(),Setup!$C$5+COLUMN()-26),\"x\")","v":"x"},{"$f":"IF($E28=\"Y\",INDEX(OIQraw,ROW(),Setup!$C$5+COLUMN()-26),\"x\")","v":"x"},{"$f":"IF($E28=\"Y\",INDEX(OIQraw,ROW(),Setup!$C$5+COLUMN()-26),\"x\")","v":"x"},{"$f":"IF($E28=\"Y\",INDEX(OIQraw,ROW(),Setup!$C$5+COLUMN()-26),\"x\")","v":"x"},{"$f":"IF($E28=\"Y\",INDEX(OIQraw,ROW(),Setup!$C$5+COLUMN()-26),\"x\")","v":"x"},{"$f":"IF($E28=\"Y\",INDEX(OIQraw,ROW(),Setup!$C$5+COLUMN()-26),\"x\")","v":"x"},{"$f":"IF($E28=\"Y\",INDEX(OIQraw,ROW(),Setup!$C$5+COLUMN()-26),\"x\")","v":"x"},{"$f":"IF($E28=\"Y\",INDEX(OIQraw,ROW(),Setup!$C$5+COLUMN()-26),\"x\")","v":"x"},{"$f":"IF($E28=\"Y\",INDEX(OIQraw,ROW(),Setup!$C$5+COLUMN()-26),\"x\")","v":"x"},{"$f":"IF($E28=\"Y\",INDEX(OIQraw,ROW(),Setup!$C$5+COLUMN()-26),\"x\")","v":"x"},{"$f":"IF($E28=\"Y\",INDEX(OIQraw,ROW(),Setup!$C$5+COLUMN()-26),\"x\")","v":"x"},{"$f":"IF($E28=\"Y\",INDEX(OIQraw,ROW(),Setup!$C$5+COLUMN()-26),\"x\")","v":"x"},{"$f":"IF($E28=\"Y\",INDEX(OIQraw,ROW(),Setup!$C$5+COLUMN()-26),\"x\")","v":"x"},{"$f":"IF($E28=\"Y\",INDEX(OIQraw,ROW(),Setup!$C$5+COLUMN()-26),\"x\")","v":"x"},{"$f":"IF($E28=\"Y\",INDEX(OIQraw,ROW(),Setup!$C$5+COLUMN()-26),\"x\")","v":"x"},{"$f":"IF($E28=\"Y\",INDEX(OIQraw,ROW(),Setup!$C$5+COLUMN()-26),\"x\")","v":"x"},{"$f":"IF($E28=\"Y\",INDEX(OIQraw,ROW(),Setup!$C$5+COLUMN()-26),\"x\")","v":"x"},{"$f":"IF($E28=\"Y\",INDEX(OIQraw,ROW(),Setup!$C$5+COLUMN()-26),\"x\")","v":"x"},{"$f":"IF($E28=\"Y\",INDEX(OIQraw,ROW(),Setup!$C$5+COLUMN()-26),\"x\")","v":"x"},{"$f":"IF($E28=\"Y\",INDEX(OIQraw,ROW(),Setup!$C$5+COLUMN()-26),\"x\")","v":"x"},{"$f":"IF($E28=\"Y\",INDEX(OIQraw,ROW(),Setup!$C$5+COLUMN()-26),\"x\")","v":"x"},{"$f":"IF($E28=\"Y\",INDEX(OIQraw,ROW(),Setup!$C$5+COLUMN()-26),\"x\")","v":"x"},{"$f":"IF($E28=\"Y\",INDEX(OIQraw,ROW(),Setup!$C$5+COLUMN()-26),\"x\")","v":"x"},{"$f":"IF($E28=\"Y\",INDEX(OIQraw,ROW(),Setup!$C$5+COLUMN()-26),\"x\")","v":"x"},{"$f":"IF($E28=\"Y\",INDEX(OIQraw,ROW(),Setup!$C$5+COLUMN()-26),\"x\")","v":"x"},{"$f":"IF($E28=\"Y\",INDEX(OIQraw,ROW(),Setup!$C$5+COLUMN()-26),\"x\")","v":"x"},{"$f":"IF($E28=\"Y\",INDEX(OIQraw,ROW(),Setup!$C$5+COLUMN()-26),\"x\")","v":"x"},{"$f":"IF($E28=\"Y\",INDEX(OIQraw,ROW(),Setup!$C$5+COLUMN()-26),\"x\")","v":"x"},{"$f":"IF($E28=\"Y\",INDEX(OIQraw,ROW(),Setup!$C$5+COLUMN()-26),\"x\")","v":"x"},{"$f":"IF($E28=\"Y\",INDEX(OIQraw,ROW(),Setup!$C$5+COLUMN()-26),\"x\")","v":"x"},{"$f":"IF($E28=\"Y\",INDEX(OIQraw,ROW(),Setup!$C$5+COLUMN()-26),\"x\")","v":"x"},{"$f":"IF($E28=\"Y\",INDEX(OIQraw,ROW(),Setup!$C$5+COLUMN()-26),\"x\")","v":"x"},{"$f":"IF($E28=\"Y\",INDEX(OIQraw,ROW(),Setup!$C$5+COLUMN()-26),\"x\")","v":"x"},{"$f":"IF($E28=\"Y\",INDEX(OIQraw,ROW(),Setup!$C$5+COLUMN()-26),\"x\")","v":"x"},{"$f":"IF($E28=\"Y\",INDEX(OIQraw,ROW(),Setup!$C$5+COLUMN()-26),\"x\")","v":"x"},{"$f":"IF($E28=\"Y\",INDEX(OIQraw,ROW(),Setup!$C$5+COLUMN()-26),\"x\")","v":"x"},{"$f":"IF($E28=\"Y\",INDEX(OIQraw,ROW(),Setup!$C$5+COLUMN()-26),\"x\")","v":"x"},{"$f":"IF($E28=\"Y\",INDEX(OIQraw,ROW(),Setup!$C$5+COLUMN()-26),\"x\")","v":"x"},{"$f":"IF($E28=\"Y\",INDEX(OIQraw,ROW(),Setup!$C$5+COLUMN()-26),\"x\")","v":"x"},{"$f":"IF($E28=\"Y\",INDEX(OIQraw,ROW(),Setup!$C$5+COLUMN()-26),\"x\")","v":"x"},{"$f":"IF($E28=\"Y\",INDEX(OIQraw,ROW(),Setup!$C$5+COLUMN()-26),\"x\")","v":"x"},{"$f":"IF($E28=\"Y\",INDEX(OIQraw,ROW(),Setup!$C$5+COLUMN()-26),\"x\")","v":"x"},{"$f":"IF($E28=\"Y\",INDEX(OIQraw,ROW(),Setup!$C$5+COLUMN()-26),\"x\")","v":"x"},{"$f":"IF($E28=\"Y\",INDEX(OIQraw,ROW(),Setup!$C$5+COLUMN()-26),\"x\")","v":"x"},{"$f":"IF($E28=\"Y\",INDEX(OIQraw,ROW(),Setup!$C$5+COLUMN()-26),\"x\")","v":"x"},{"$f":"IF($E28=\"Y\",INDEX(OIQraw,ROW(),Setup!$C$5+COLUMN()-26),\"x\")","v":"x"},{"$f":"IF($E28=\"Y\",INDEX(OIQraw,ROW(),Setup!$C$5+COLUMN()-26),\"x\")","v":"x"},{"$f":"IF($E28=\"Y\",INDEX(OIQraw,ROW(),Setup!$C$5+COLUMN()-26),\"x\")","v":"x"},{"$f":"IF($E28=\"Y\",INDEX(OIQraw,ROW(),Setup!$C$5+COLUMN()-26),\"x\")","v":"x"},{"$f":"IF($E28=\"Y\",INDEX(OIQraw,ROW(),Setup!$C$5+COLUMN()-26),\"x\")","v":"x"},{"$f":"IF($E28=\"Y\",INDEX(OIQraw,ROW(),Setup!$C$5+COLUMN()-26),\"x\")","v":"x"},{"$f":"IF($E28=\"Y\",INDEX(OIQraw,ROW(),Setup!$C$5+COLUMN()-26),\"x\")","v":"x"},{"$f":"IF($E28=\"Y\",INDEX(OIQraw,ROW(),Setup!$C$5+COLUMN()-26),\"x\")","v":"x"},{"$f":"IF($E28=\"Y\",INDEX(OIQraw,ROW(),Setup!$C$5+COLUMN()-26),\"x\")","v":"x"},{"$f":"IF($E28=\"Y\",INDEX(OIQraw,ROW(),Setup!$C$5+COLUMN()-26),\"x\")","v":"x"},{"$f":"IF($E28=\"Y\",INDEX(OIQraw,ROW(),Setup!$C$5+COLUMN()-26),\"x\")","v":"x"},{"$f":"IF($E28=\"Y\",INDEX(OIQraw,ROW(),Setup!$C$5+COLUMN()-26),\"x\")","v":"x"},{"$f":"IF($E28=\"Y\",INDEX(OIQraw,ROW(),Setup!$C$5+COLUMN()-26),\"x\")","v":"x"},{"$f":"IF($E28=\"Y\",INDEX(OIQraw,ROW(),Setup!$C$5+COLUMN()-26),\"x\")","v":"x"},{"$f":"IF($E28=\"Y\",INDEX(OIQraw,ROW(),Setup!$C$5+COLUMN()-26),\"x\")","v":"x"},{"$f":"IF($E28=\"Y\",INDEX(OIQraw,ROW(),Setup!$C$5+COLUMN()-26),\"x\")","v":"x"},{"$f":"IF($E28=\"Y\",INDEX(OIQraw,ROW(),Setup!$C$5+COLUMN()-26),\"x\")","v":"x"},{"$f":"IF($E28=\"Y\",INDEX(OIQraw,ROW(),Setup!$C$5+COLUMN()-26),\"x\")","v":"x"},{"$f":"IF($E28=\"Y\",INDEX(OIQraw,ROW(),Setup!$C$5+COLUMN()-26),\"x\")","v":"x"},{"$f":"IF($E28=\"Y\",INDEX(OIQraw,ROW(),Setup!$C$5+COLUMN()-26),\"x\")","v":"x"},{"$f":"IF($E28=\"Y\",INDEX(OIQraw,ROW(),Setup!$C$5+COLUMN()-26),\"x\")","v":"x"},{"$f":"IF($E28=\"Y\",INDEX(OIQraw,ROW(),Setup!$C$5+COLUMN()-26),\"x\")","v":"x"},{"$f":"IF($E28=\"Y\",INDEX(OIQraw,ROW(),Setup!$C$5+COLUMN()-26),\"x\")","v":"x"},{"$f":"IF($E28=\"Y\",INDEX(OIQraw,ROW(),Setup!$C$5+COLUMN()-26),\"x\")","v":"x"},{"$f":"IF($E28=\"Y\",INDEX(OIQraw,ROW(),Setup!$C$5+COLUMN()-26),\"x\")","v":"x"},{"$f":"IF($E28=\"Y\",INDEX(OIQraw,ROW(),Setup!$C$5+COLUMN()-26),\"x\")","v":"x"},{"$f":"IF($E28=\"Y\",INDEX(OIQraw,ROW(),Setup!$C$5+COLUMN()-26),\"x\")","v":"x"},{"$f":"IF($E28=\"Y\",INDEX(OIQraw,ROW(),Setup!$C$5+COLUMN()-26),\"x\")","v":"x"},{"$f":"IF($E28=\"Y\",INDEX(OIQraw,ROW(),Setup!$C$5+COLUMN()-26),\"x\")","v":"x"},{"$f":"IF($E28=\"Y\",INDEX(OIQraw,ROW(),Setup!$C$5+COLUMN()-26),\"x\")","v":"x"},{"$f":"IF($E28=\"Y\",INDEX(OIQraw,ROW(),Setup!$C$5+COLUMN()-26),\"x\")","v":"x"},{"$f":"IF($E28=\"Y\",INDEX(OIQraw,ROW(),Setup!$C$5+COLUMN()-26),\"x\")","v":"x"},{"$f":"IF($E28=\"Y\",INDEX(OIQraw,ROW(),Setup!$C$5+COLUMN()-26),\"x\")","v":"x"},{"$f":"IF($E28=\"Y\",INDEX(OIQraw,ROW(),Setup!$C$5+COLUMN()-26),\"x\")","v":"x"},{"$f":"IF($E28=\"Y\",INDEX(OIQraw,ROW(),Setup!$C$5+COLUMN()-26),\"x\")","v":"x"},{"$f":"IF($E28=\"Y\",INDEX(OIQraw,ROW(),Setup!$C$5+COLUMN()-26),\"x\")","v":"x"},{"$f":"IF($E28=\"Y\",INDEX(OIQraw,ROW(),Setup!$C$5+COLUMN()-26),\"x\")","v":"x"},{"$f":"IF($E28=\"Y\",INDEX(OIQraw,ROW(),Setup!$C$5+COLUMN()-26),\"x\")","v":"x"},{"$f":"IF($E28=\"Y\",INDEX(OIQraw,ROW(),Setup!$C$5+COLUMN()-26),\"x\")","v":"x"},{"$f":"IF($E28=\"Y\",INDEX(OIQraw,ROW(),Setup!$C$5+COLUMN()-26),\"x\")","v":"x"},{"$f":"IF($E28=\"Y\",INDEX(OIQraw,ROW(),Setup!$C$5+COLUMN()-26),\"x\")","v":"x"},{"$f":"IF($E28=\"Y\",INDEX(OIQraw,ROW(),Setup!$C$5+COLUMN()-26),\"x\")","v":"x"},{"$f":"IF($E28=\"Y\",INDEX(OIQraw,ROW(),Setup!$C$5+COLUMN()-26),\"x\")","v":"x"},{"$f":"IF($E28=\"Y\",INDEX(OIQraw,ROW(),Setup!$C$5+COLUMN()-26),\"x\")","v":"x"},{"$f":"IF($E28=\"Y\",INDEX(OIQraw,ROW(),Setup!$C$5+COLUMN()-26),\"x\")","v":"x"},{"$f":"IF($E28=\"Y\",INDEX(OIQraw,ROW(),Setup!$C$5+COLUMN()-26),\"x\")","v":"x"},{"$f":"IF($E28=\"Y\",INDEX(OIQraw,ROW(),Setup!$C$5+COLUMN()-26),\"x\")","v":"x"},{"$f":"IF($E28=\"Y\",INDEX(OIQraw,ROW(),Setup!$C$5+COLUMN()-26),\"x\")","v":"x"},{"$f":"IF($E28=\"Y\",INDEX(OIQraw,ROW(),Setup!$C$5+COLUMN()-26),\"x\")","v":"x"},{"$f":"IF($E28=\"Y\",INDEX(OIQraw,ROW(),Setup!$C$5+COLUMN()-26),\"x\")","v":"x"},{"$f":"IF($E28=\"Y\",INDEX(OIQraw,ROW(),Setup!$C$5+COLUMN()-26),\"x\")","v":"x"},{"$f":"IF($E28=\"Y\",INDEX(OIQraw,ROW(),Setup!$C$5+COLUMN()-26),\"x\")","v":"x"},{"$f":"IF($E28=\"Y\",INDEX(OIQraw,ROW(),Setup!$C$5+COLUMN()-26),\"x\")","v":"x"},{"$f":"IF($E28=\"Y\",INDEX(OIQraw,ROW(),Setup!$C$5+COLUMN()-26),\"x\")","v":"x"},{"$f":"IF($E28=\"Y\",INDEX(OIQraw,ROW(),Setup!$C$5+COLUMN()-26),\"x\")","v":"x"},{"$f":"IF($E28=\"Y\",INDEX(OIQraw,ROW(),Setup!$C$5+COLUMN()-26),\"x\")","v":"x"},{"$f":"IF($E28=\"Y\",INDEX(OIQraw,ROW(),Setup!$C$5+COLUMN()-26),\"x\")","v":"x"},{"$f":"IF($E28=\"Y\",INDEX(OIQraw,ROW(),Setup!$C$5+COLUMN()-26),\"x\")","v":"x"},{"$f":"IF($E28=\"Y\",INDEX(OIQraw,ROW(),Setup!$C$5+COLUMN()-26),\"x\")","v":"x"},{"$f":"IF($E28=\"Y\",INDEX(OIQraw,ROW(),Setup!$C$5+COLUMN()-26),\"x\")","v":"x"},{"$f":"IF($E28=\"Y\",INDEX(OIQraw,ROW(),Setup!$C$5+COLUMN()-26),\"x\")","v":"x"},{"$f":"IF($E28=\"Y\",INDEX(OIQraw,ROW(),Setup!$C$5+COLUMN()-26),\"x\")","v":"x"},{"$f":"IF($E28=\"Y\",INDEX(OIQraw,ROW(),Setup!$C$5+COLUMN()-26),\"x\")","v":"x"},{"$f":"IF($E28=\"Y\",INDEX(OIQraw,ROW(),Setup!$C$5+COLUMN()-26),\"x\")","v":"x"},{"$f":"IF($E28=\"Y\",INDEX(OIQraw,ROW(),Setup!$C$5+COLUMN()-26),\"x\")","v":"x"},{"$f":"IF($E28=\"Y\",INDEX(OIQraw,ROW(),Setup!$C$5+COLUMN()-26),\"x\")","v":"x"},{"$f":"IF($E28=\"Y\",INDEX(OIQraw,ROW(),Setup!$C$5+COLUMN()-26),\"x\")","v":"x"},{"$f":"IF($E28=\"Y\",INDEX(OIQraw,ROW(),Setup!$C$5+COLUMN()-26),\"x\")","v":"x"},{"$f":"IF($E28=\"Y\",INDEX(OIQraw,ROW(),Setup!$C$5+COLUMN()-26),\"x\")","v":"x"},{"$f":"IF($E28=\"Y\",INDEX(OIQraw,ROW(),Setup!$C$5+COLUMN()-26),\"x\")","v":"x"},{"$f":"IF($E28=\"Y\",INDEX(OIQraw,ROW(),Setup!$C$5+COLUMN()-26),\"x\")","v":"x"},{"$f":"IF($E28=\"Y\",INDEX(OIQraw,ROW(),Setup!$C$5+COLUMN()-26),\"x\")","v":"x"},{"$f":"IF($E28=\"Y\",INDEX(OIQraw,ROW(),Setup!$C$5+COLUMN()-26),\"x\")","v":"x"},{"$f":"IF($E28=\"Y\",INDEX(OIQraw,ROW(),Setup!$C$5+COLUMN()-26),\"x\")","v":"x"},{"$f":"IF($E28=\"Y\",INDEX(OIQraw,ROW(),Setup!$C$5+COLUMN()-26),\"x\")","v":"x"},{"$f":"IF($E28=\"Y\",INDEX(OIQraw,ROW(),Setup!$C$5+COLUMN()-26),\"x\")","v":"x"},{"$f":"IF($E28=\"Y\",INDEX(OIQraw,ROW(),Setup!$C$5+COLUMN()-26),\"x\")","v":"x"},{"$f":"IF($E28=\"Y\",INDEX(OIQraw,ROW(),Setup!$C$5+COLUMN()-26),\"x\")","v":"x"},{"$f":"IF($E28=\"Y\",INDEX(OIQraw,ROW(),Setup!$C$5+COLUMN()-26),\"x\")","v":"x"},{"$f":"IF($E28=\"Y\",INDEX(OIQraw,ROW(),Setup!$C$5+COLUMN()-26),\"x\")","v":"x"},{"$f":"IF($E28=\"Y\",INDEX(OIQraw,ROW(),Setup!$C$5+COLUMN()-26),\"x\")","v":"x"},{"$f":"IF($E28=\"Y\",INDEX(OIQraw,ROW(),Setup!$C$5+COLUMN()-26),\"x\")","v":"x"},{"$f":"IF($E28=\"Y\",INDEX(OIQraw,ROW(),Setup!$C$5+COLUMN()-26),\"x\")","v":"x"},{"$f":"IF($E28=\"Y\",INDEX(OIQraw,ROW(),Setup!$C$5+COLUMN()-26),\"x\")","v":"x"},{"$f":"IF($E28=\"Y\",INDEX(OIQraw,ROW(),Setup!$C$5+COLUMN()-26),\"x\")","v":"x"},{"$f":"IF($E28=\"Y\",INDEX(OIQraw,ROW(),Setup!$C$5+COLUMN()-26),\"x\")","v":"x"},{"$f":"IF($E28=\"Y\",INDEX(OIQraw,ROW(),Setup!$C$5+COLUMN()-26),\"x\")","v":"x"},{"$f":"IF($E28=\"Y\",INDEX(OIQraw,ROW(),Setup!$C$5+COLUMN()-26),\"x\")","v":"x"},{"$f":"IF($E28=\"Y\",INDEX(OIQraw,ROW(),Setup!$C$5+COLUMN()-26),\"x\")","v":"x"}]
[1,"","",{"$f":"IF(ISERROR(FIND(\"Withdrew\",RawScores!B33)),RawScores!B33,RIGHT(RawScores!B33,LEN(RawScores!B33)-17))&\", \"&RawScores!C33","v":", "},{"$f":"IF(OR(ISERROR(FIND(\"Withdrew\",RawScores!B33))=FALSE,INDEX(OIQraw,ROW(),LastInputCol-3)=0),\"N\",IF(AND(Setup!$B$22=\"Yes\",INDEX(OIQraw,ROW(),LastInputCol)=1),\"N\",\"Y\"))","v":"N"},"X","X","X",{"$f":"IF(AND(ISNUMBER(F29),F29>Setup!$B$14-1),1,0)","v":0},{"$f":"IF(AND(F29>Setup!$B$14-1,Conv!H29<5),1,0)","v":0},{"$f":"IF(AND(F29>Setup!$B$14-1,Conv!G29=\"F\"),1,0)","v":0},"","","","","","","","","","","","","X","X",{"$f":"IF($E29=\"Y\",INDEX(OIQraw,ROW(),Setup!$C$5+COLUMN()-26),\"x\")","v":"x"},{"$f":"IF($E29=\"Y\",INDEX(OIQraw,ROW(),Setup!$C$5+COLUMN()-26),\"x\")","v":"x"},{"$f":"IF($E29=\"Y\",INDEX(OIQraw,ROW(),Setup!$C$5+COLUMN()-26),\"x\")","v":"x"},{"$f":"IF($E29=\"Y\",INDEX(OIQraw,ROW(),Setup!$C$5+COLUMN()-26),\"x\")","v":"x"},{"$f":"IF($E29=\"Y\",INDEX(OIQraw,ROW(),Setup!$C$5+COLUMN()-26),\"x\")","v":"x"},{"$f":"IF($E29=\"Y\",INDEX(OIQraw,ROW(),Setup!$C$5+COLUMN()-26),\"x\")","v":"x"},{"$f":"IF($E29=\"Y\",INDEX(OIQraw,ROW(),Setup!$C$5+COLUMN()-26),\"x\")","v":"x"},{"$f":"IF($E29=\"Y\",INDEX(OIQraw,ROW(),Setup!$C$5+COLUMN()-26),\"x\")","v":"x"},{"$f":"IF($E29=\"Y\",INDEX(OIQraw,ROW(),Setup!$C$5+COLUMN()-26),\"x\")","v":"x"},{"$f":"IF($E29=\"Y\",INDEX(OIQraw,ROW(),Setup!$C$5+COLUMN()-26),\"x\")","v":"x"},{"$f":"IF($E29=\"Y\",INDEX(OIQraw,ROW(),Setup!$C$5+COLUMN()-26),\"x\")","v":"x"},{"$f":"IF($E29=\"Y\",INDEX(OIQraw,ROW(),Setup!$C$5+COLUMN()-26),\"x\")","v":"x"},{"$f":"IF($E29=\"Y\",INDEX(OIQraw,ROW(),Setup!$C$5+COLUMN()-26),\"x\")","v":"x"},{"$f":"IF($E29=\"Y\",INDEX(OIQraw,ROW(),Setup!$C$5+COLUMN()-26),\"x\")","v":"x"},{"$f":"IF($E29=\"Y\",INDEX(OIQraw,ROW(),Setup!$C$5+COLUMN()-26),\"x\")","v":"x"},{"$f":"IF($E29=\"Y\",INDEX(OIQraw,ROW(),Setup!$C$5+COLUMN()-26),\"x\")","v":"x"},{"$f":"IF($E29=\"Y\",INDEX(OIQraw,ROW(),Setup!$C$5+COLUMN()-26),\"x\")","v":"x"},{"$f":"IF($E29=\"Y\",INDEX(OIQraw,ROW(),Setup!$C$5+COLUMN()-26),\"x\")","v":"x"},{"$f":"IF($E29=\"Y\",INDEX(OIQraw,ROW(),Setup!$C$5+COLUMN()-26),\"x\")","v":"x"},{"$f":"IF($E29=\"Y\",INDEX(OIQraw,ROW(),Setup!$C$5+COLUMN()-26),\"x\")","v":"x"},{"$f":"IF($E29=\"Y\",INDEX(OIQraw,ROW(),Setup!$C$5+COLUMN()-26),\"x\")","v":"x"},{"$f":"IF($E29=\"Y\",INDEX(OIQraw,ROW(),Setup!$C$5+COLUMN()-26),\"x\")","v":"x"},{"$f":"IF($E29=\"Y\",INDEX(OIQraw,ROW(),Setup!$C$5+COLUMN()-26),\"x\")","v":"x"},{"$f":"IF($E29=\"Y\",INDEX(OIQraw,ROW(),Setup!$C$5+COLUMN()-26),\"x\")","v":"x"},{"$f":"IF($E29=\"Y\",INDEX(OIQraw,ROW(),Setup!$C$5+COLUMN()-26),\"x\")","v":"x"},{"$f":"IF($E29=\"Y\",INDEX(OIQraw,ROW(),Setup!$C$5+COLUMN()-26),\"x\")","v":"x"},{"$f":"IF($E29=\"Y\",INDEX(OIQraw,ROW(),Setup!$C$5+COLUMN()-26),\"x\")","v":"x"},{"$f":"IF($E29=\"Y\",INDEX(OIQraw,ROW(),Setup!$C$5+COLUMN()-26),\"x\")","v":"x"},{"$f":"IF($E29=\"Y\",INDEX(OIQraw,ROW(),Setup!$C$5+COLUMN()-26),\"x\")","v":"x"},{"$f":"IF($E29=\"Y\",INDEX(OIQraw,ROW(),Setup!$C$5+COLUMN()-26),\"x\")","v":"x"},{"$f":"IF($E29=\"Y\",INDEX(OIQraw,ROW(),Setup!$C$5+COLUMN()-26),\"x\")","v":"x"},{"$f":"IF($E29=\"Y\",INDEX(OIQraw,ROW(),Setup!$C$5+COLUMN()-26),\"x\")","v":"x"},{"$f":"IF($E29=\"Y\",INDEX(OIQraw,ROW(),Setup!$C$5+COLUMN()-26),\"x\")","v":"x"},{"$f":"IF($E29=\"Y\",INDEX(OIQraw,ROW(),Setup!$C$5+COLUMN()-26),\"x\")","v":"x"},{"$f":"IF($E29=\"Y\",INDEX(OIQraw,ROW(),Setup!$C$5+COLUMN()-26),\"x\")","v":"x"},{"$f":"IF($E29=\"Y\",INDEX(OIQraw,ROW(),Setup!$C$5+COLUMN()-26),\"x\")","v":"x"},{"$f":"IF($E29=\"Y\",INDEX(OIQraw,ROW(),Setup!$C$5+COLUMN()-26),\"x\")","v":"x"},{"$f":"IF($E29=\"Y\",INDEX(OIQraw,ROW(),Setup!$C$5+COLUMN()-26),\"x\")","v":"x"},{"$f":"IF($E29=\"Y\",INDEX(OIQraw,ROW(),Setup!$C$5+COLUMN()-26),\"x\")","v":"x"},{"$f":"IF($E29=\"Y\",INDEX(OIQraw,ROW(),Setup!$C$5+COLUMN()-26),\"x\")","v":"x"},{"$f":"IF($E29=\"Y\",INDEX(OIQraw,ROW(),Setup!$C$5+COLUMN()-26),\"x\")","v":"x"},{"$f":"IF($E29=\"Y\",INDEX(OIQraw,ROW(),Setup!$C$5+COLUMN()-26),\"x\")","v":"x"},{"$f":"IF($E29=\"Y\",INDEX(OIQraw,ROW(),Setup!$C$5+COLUMN()-26),\"x\")","v":"x"},{"$f":"IF($E29=\"Y\",INDEX(OIQraw,ROW(),Setup!$C$5+COLUMN()-26),\"x\")","v":"x"},{"$f":"IF($E29=\"Y\",INDEX(OIQraw,ROW(),Setup!$C$5+COLUMN()-26),\"x\")","v":"x"},{"$f":"IF($E29=\"Y\",INDEX(OIQraw,ROW(),Setup!$C$5+COLUMN()-26),\"x\")","v":"x"},{"$f":"IF($E29=\"Y\",INDEX(OIQraw,ROW(),Setup!$C$5+COLUMN()-26),\"x\")","v":"x"},{"$f":"IF($E29=\"Y\",INDEX(OIQraw,ROW(),Setup!$C$5+COLUMN()-26),\"x\")","v":"x"},{"$f":"IF($E29=\"Y\",INDEX(OIQraw,ROW(),Setup!$C$5+COLUMN()-26),\"x\")","v":"x"},{"$f":"IF($E29=\"Y\",INDEX(OIQraw,ROW(),Setup!$C$5+COLUMN()-26),\"x\")","v":"x"},{"$f":"IF($E29=\"Y\",INDEX(OIQraw,ROW(),Setup!$C$5+COLUMN()-26),\"x\")","v":"x"},{"$f":"IF($E29=\"Y\",INDEX(OIQraw,ROW(),Setup!$C$5+COLUMN()-26),\"x\")","v":"x"},{"$f":"IF($E29=\"Y\",INDEX(OIQraw,ROW(),Setup!$C$5+COLUMN()-26),\"x\")","v":"x"},{"$f":"IF($E29=\"Y\",INDEX(OIQraw,ROW(),Setup!$C$5+COLUMN()-26),\"x\")","v":"x"},{"$f":"IF($E29=\"Y\",INDEX(OIQraw,ROW(),Setup!$C$5+COLUMN()-26),\"x\")","v":"x"},{"$f":"IF($E29=\"Y\",INDEX(OIQraw,ROW(),Setup!$C$5+COLUMN()-26),\"x\")","v":"x"},{"$f":"IF($E29=\"Y\",INDEX(OIQraw,ROW(),Setup!$C$5+COLUMN()-26),\"x\")","v":"x"},{"$f":"IF($E29=\"Y\",INDEX(OIQraw,ROW(),Setup!$C$5+COLUMN()-26),\"x\")","v":"x"},{"$f":"IF($E29=\"Y\",INDEX(OIQraw,ROW(),Setup!$C$5+COLUMN()-26),\"x\")","v":"x"},{"$f":"IF($E29=\"Y\",INDEX(OIQraw,ROW(),Setup!$C$5+COLUMN()-26),\"x\")","v":"x"},{"$f":"IF($E29=\"Y\",INDEX(OIQraw,ROW(),Setup!$C$5+COLUMN()-26),\"x\")","v":"x"},{"$f":"IF($E29=\"Y\",INDEX(OIQraw,ROW(),Setup!$C$5+COLUMN()-26),\"x\")","v":"x"},{"$f":"IF($E29=\"Y\",INDEX(OIQraw,ROW(),Setup!$C$5+COLUMN()-26),\"x\")","v":"x"},{"$f":"IF($E29=\"Y\",INDEX(OIQraw,ROW(),Setup!$C$5+COLUMN()-26),\"x\")","v":"x"},{"$f":"IF($E29=\"Y\",INDEX(OIQraw,ROW(),Setup!$C$5+COLUMN()-26),\"x\")","v":"x"},{"$f":"IF($E29=\"Y\",INDEX(OIQraw,ROW(),Setup!$C$5+COLUMN()-26),\"x\")","v":"x"},{"$f":"IF($E29=\"Y\",INDEX(OIQraw,ROW(),Setup!$C$5+COLUMN()-26),\"x\")","v":"x"},{"$f":"IF($E29=\"Y\",INDEX(OIQraw,ROW(),Setup!$C$5+COLUMN()-26),\"x\")","v":"x"},{"$f":"IF($E29=\"Y\",INDEX(OIQraw,ROW(),Setup!$C$5+COLUMN()-26),\"x\")","v":"x"},{"$f":"IF($E29=\"Y\",INDEX(OIQraw,ROW(),Setup!$C$5+COLUMN()-26),\"x\")","v":"x"},{"$f":"IF($E29=\"Y\",INDEX(OIQraw,ROW(),Setup!$C$5+COLUMN()-26),\"x\")","v":"x"},{"$f":"IF($E29=\"Y\",INDEX(OIQraw,ROW(),Setup!$C$5+COLUMN()-26),\"x\")","v":"x"},{"$f":"IF($E29=\"Y\",INDEX(OIQraw,ROW(),Setup!$C$5+COLUMN()-26),\"x\")","v":"x"},{"$f":"IF($E29=\"Y\",INDEX(OIQraw,ROW(),Setup!$C$5+COLUMN()-26),\"x\")","v":"x"},{"$f":"IF($E29=\"Y\",INDEX(OIQraw,ROW(),Setup!$C$5+COLUMN()-26),\"x\")","v":"x"},{"$f":"IF($E29=\"Y\",INDEX(OIQraw,ROW(),Setup!$C$5+COLUMN()-26),\"x\")","v":"x"},{"$f":"IF($E29=\"Y\",INDEX(OIQraw,ROW(),Setup!$C$5+COLUMN()-26),\"x\")","v":"x"},{"$f":"IF($E29=\"Y\",INDEX(OIQraw,ROW(),Setup!$C$5+COLUMN()-26),\"x\")","v":"x"},{"$f":"IF($E29=\"Y\",INDEX(OIQraw,ROW(),Setup!$C$5+COLUMN()-26),\"x\")","v":"x"},{"$f":"IF($E29=\"Y\",INDEX(OIQraw,ROW(),Setup!$C$5+COLUMN()-26),\"x\")","v":"x"},{"$f":"IF($E29=\"Y\",INDEX(OIQraw,ROW(),Setup!$C$5+COLUMN()-26),\"x\")","v":"x"},{"$f":"IF($E29=\"Y\",INDEX(OIQraw,ROW(),Setup!$C$5+COLUMN()-26),\"x\")","v":"x"},{"$f":"IF($E29=\"Y\",INDEX(OIQraw,ROW(),Setup!$C$5+COLUMN()-26),\"x\")","v":"x"},{"$f":"IF($E29=\"Y\",INDEX(OIQraw,ROW(),Setup!$C$5+COLUMN()-26),\"x\")","v":"x"},{"$f":"IF($E29=\"Y\",INDEX(OIQraw,ROW(),Setup!$C$5+COLUMN()-26),\"x\")","v":"x"},{"$f":"IF($E29=\"Y\",INDEX(OIQraw,ROW(),Setup!$C$5+COLUMN()-26),\"x\")","v":"x"},{"$f":"IF($E29=\"Y\",INDEX(OIQraw,ROW(),Setup!$C$5+COLUMN()-26),\"x\")","v":"x"},{"$f":"IF($E29=\"Y\",INDEX(OIQraw,ROW(),Setup!$C$5+COLUMN()-26),\"x\")","v":"x"},{"$f":"IF($E29=\"Y\",INDEX(OIQraw,ROW(),Setup!$C$5+COLUMN()-26),\"x\")","v":"x"},{"$f":"IF($E29=\"Y\",INDEX(OIQraw,ROW(),Setup!$C$5+COLUMN()-26),\"x\")","v":"x"},{"$f":"IF($E29=\"Y\",INDEX(OIQraw,ROW(),Setup!$C$5+COLUMN()-26),\"x\")","v":"x"},{"$f":"IF($E29=\"Y\",INDEX(OIQraw,ROW(),Setup!$C$5+COLUMN()-26),\"x\")","v":"x"},{"$f":"IF($E29=\"Y\",INDEX(OIQraw,ROW(),Setup!$C$5+COLUMN()-26),\"x\")","v":"x"},{"$f":"IF($E29=\"Y\",INDEX(OIQraw,ROW(),Setup!$C$5+COLUMN()-26),\"x\")","v":"x"},{"$f":"IF($E29=\"Y\",INDEX(OIQraw,ROW(),Setup!$C$5+COLUMN()-26),\"x\")","v":"x"},{"$f":"IF($E29=\"Y\",INDEX(OIQraw,ROW(),Setup!$C$5+COLUMN()-26),\"x\")","v":"x"},{"$f":"IF($E29=\"Y\",INDEX(OIQraw,ROW(),Setup!$C$5+COLUMN()-26),\"x\")","v":"x"},{"$f":"IF($E29=\"Y\",INDEX(OIQraw,ROW(),Setup!$C$5+COLUMN()-26),\"x\")","v":"x"},{"$f":"IF($E29=\"Y\",INDEX(OIQraw,ROW(),Setup!$C$5+COLUMN()-26),\"x\")","v":"x"},{"$f":"IF($E29=\"Y\",INDEX(OIQraw,ROW(),Setup!$C$5+COLUMN()-26),\"x\")","v":"x"},{"$f":"IF($E29=\"Y\",INDEX(OIQraw,ROW(),Setup!$C$5+COLUMN()-26),\"x\")","v":"x"},{"$f":"IF($E29=\"Y\",INDEX(OIQraw,ROW(),Setup!$C$5+COLUMN()-26),\"x\")","v":"x"},{"$f":"IF($E29=\"Y\",INDEX(OIQraw,ROW(),Setup!$C$5+COLUMN()-26),\"x\")","v":"x"},{"$f":"IF($E29=\"Y\",INDEX(OIQraw,ROW(),Setup!$C$5+COLUMN()-26),\"x\")","v":"x"},{"$f":"IF($E29=\"Y\",INDEX(OIQraw,ROW(),Setup!$C$5+COLUMN()-26),\"x\")","v":"x"},{"$f":"IF($E29=\"Y\",INDEX(OIQraw,ROW(),Setup!$C$5+COLUMN()-26),\"x\")","v":"x"},{"$f":"IF($E29=\"Y\",INDEX(OIQraw,ROW(),Setup!$C$5+COLUMN()-26),\"x\")","v":"x"},{"$f":"IF($E29=\"Y\",INDEX(OIQraw,ROW(),Setup!$C$5+COLUMN()-26),\"x\")","v":"x"},{"$f":"IF($E29=\"Y\",INDEX(OIQraw,ROW(),Setup!$C$5+COLUMN()-26),\"x\")","v":"x"},{"$f":"IF($E29=\"Y\",INDEX(OIQraw,ROW(),Setup!$C$5+COLUMN()-26),\"x\")","v":"x"},{"$f":"IF($E29=\"Y\",INDEX(OIQraw,ROW(),Setup!$C$5+COLUMN()-26),\"x\")","v":"x"},{"$f":"IF($E29=\"Y\",INDEX(OIQraw,ROW(),Setup!$C$5+COLUMN()-26),\"x\")","v":"x"},{"$f":"IF($E29=\"Y\",INDEX(OIQraw,ROW(),Setup!$C$5+COLUMN()-26),\"x\")","v":"x"},{"$f":"IF($E29=\"Y\",INDEX(OIQraw,ROW(),Setup!$C$5+COLUMN()-26),\"x\")","v":"x"},{"$f":"IF($E29=\"Y\",INDEX(OIQraw,ROW(),Setup!$C$5+COLUMN()-26),\"x\")","v":"x"},{"$f":"IF($E29=\"Y\",INDEX(OIQraw,ROW(),Setup!$C$5+COLUMN()-26),\"x\")","v":"x"},{"$f":"IF($E29=\"Y\",INDEX(OIQraw,ROW(),Setup!$C$5+COLUMN()-26),\"x\")","v":"x"},{"$f":"IF($E29=\"Y\",INDEX(OIQraw,ROW(),Setup!$C$5+COLUMN()-26),\"x\")","v":"x"},{"$f":"IF($E29=\"Y\",INDEX(OIQraw,ROW(),Setup!$C$5+COLUMN()-26),\"x\")","v":"x"},{"$f":"IF($E29=\"Y\",INDEX(OIQraw,ROW(),Setup!$C$5+COLUMN()-26),\"x\")","v":"x"},{"$f":"IF($E29=\"Y\",INDEX(OIQraw,ROW(),Setup!$C$5+COLUMN()-26),\"x\")","v":"x"},{"$f":"IF($E29=\"Y\",INDEX(OIQraw,ROW(),Setup!$C$5+COLUMN()-26),\"x\")","v":"x"},{"$f":"IF($E29=\"Y\",INDEX(OIQraw,ROW(),Setup!$C$5+COLUMN()-26),\"x\")","v":"x"},{"$f":"IF($E29=\"Y\",INDEX(OIQraw,ROW(),Setup!$C$5+COLUMN()-26),\"x\")","v":"x"},{"$f":"IF($E29=\"Y\",INDEX(OIQraw,ROW(),Setup!$C$5+COLUMN()-26),\"x\")","v":"x"},{"$f":"IF($E29=\"Y\",INDEX(OIQraw,ROW(),Setup!$C$5+COLUMN()-26),\"x\")","v":"x"},{"$f":"IF($E29=\"Y\",INDEX(OIQraw,ROW(),Setup!$C$5+COLUMN()-26),\"x\")","v":"x"},{"$f":"IF($E29=\"Y\",INDEX(OIQraw,ROW(),Setup!$C$5+COLUMN()-26),\"x\")","v":"x"},{"$f":"IF($E29=\"Y\",INDEX(OIQraw,ROW(),Setup!$C$5+COLUMN()-26),\"x\")","v":"x"},{"$f":"IF($E29=\"Y\",INDEX(OIQraw,ROW(),Setup!$C$5+COLUMN()-26),\"x\")","v":"x"},{"$f":"IF($E29=\"Y\",INDEX(OIQraw,ROW(),Setup!$C$5+COLUMN()-26),\"x\")","v":"x"},{"$f":"IF($E29=\"Y\",INDEX(OIQraw,ROW(),Setup!$C$5+COLUMN()-26),\"x\")","v":"x"},{"$f":"IF($E29=\"Y\",INDEX(OIQraw,ROW(),Setup!$C$5+COLUMN()-26),\"x\")","v":"x"},{"$f":"IF($E29=\"Y\",INDEX(OIQraw,ROW(),Setup!$C$5+COLUMN()-26),\"x\")","v":"x"},{"$f":"IF($E29=\"Y\",INDEX(OIQraw,ROW(),Setup!$C$5+COLUMN()-26),\"x\")","v":"x"},{"$f":"IF($E29=\"Y\",INDEX(OIQraw,ROW(),Setup!$C$5+COLUMN()-26),\"x\")","v":"x"},{"$f":"IF($E29=\"Y\",INDEX(OIQraw,ROW(),Setup!$C$5+COLUMN()-26),\"x\")","v":"x"},{"$f":"IF($E29=\"Y\",INDEX(OIQraw,ROW(),Setup!$C$5+COLUMN()-26),\"x\")","v":"x"},{"$f":"IF($E29=\"Y\",INDEX(OIQraw,ROW(),Setup!$C$5+COLUMN()-26),\"x\")","v":"x"},{"$f":"IF($E29=\"Y\",INDEX(OIQraw,ROW(),Setup!$C$5+COLUMN()-26),\"x\")","v":"x"},{"$f":"IF($E29=\"Y\",INDEX(OIQraw,ROW(),Setup!$C$5+COLUMN()-26),\"x\")","v":"x"},{"$f":"IF($E29=\"Y\",INDEX(OIQraw,ROW(),Setup!$C$5+COLUMN()-26),\"x\")","v":"x"},{"$f":"IF($E29=\"Y\",INDEX(OIQraw,ROW(),Setup!$C$5+COLUMN()-26),\"x\")","v":"x"},{"$f":"IF($E29=\"Y\",INDEX(OIQraw,ROW(),Setup!$C$5+COLUMN()-26),\"x\")","v":"x"},{"$f":"IF($E29=\"Y\",INDEX(OIQraw,ROW(),Setup!$C$5+COLUMN()-26),\"x\")","v":"x"},{"$f":"IF($E29=\"Y\",INDEX(OIQraw,ROW(),Setup!$C$5+COLUMN()-26),\"x\")","v":"x"},{"$f":"IF($E29=\"Y\",INDEX(OIQraw,ROW(),Setup!$C$5+COLUMN()-26),\"x\")","v":"x"},{"$f":"IF($E29=\"Y\",INDEX(OIQraw,ROW(),Setup!$C$5+COLUMN()-26),\"x\")","v":"x"},{"$f":"IF($E29=\"Y\",INDEX(OIQraw,ROW(),Setup!$C$5+COLUMN()-26),\"x\")","v":"x"},{"$f":"IF($E29=\"Y\",INDEX(OIQraw,ROW(),Setup!$C$5+COLUMN()-26),\"x\")","v":"x"},{"$f":"IF($E29=\"Y\",INDEX(OIQraw,ROW(),Setup!$C$5+COLUMN()-26),\"x\")","v":"x"},{"$f":"IF($E29=\"Y\",INDEX(OIQraw,ROW(),Setup!$C$5+COLUMN()-26),\"x\")","v":"x"},{"$f":"IF($E29=\"Y\",INDEX(OIQraw,ROW(),Setup!$C$5+COLUMN()-26),\"x\")","v":"x"},{"$f":"IF($E29=\"Y\",INDEX(OIQraw,ROW(),Setup!$C$5+COLUMN()-26),\"x\")","v":"x"},{"$f":"IF($E29=\"Y\",INDEX(OIQraw,ROW(),Setup!$C$5+COLUMN()-26),\"x\")","v":"x"},{"$f":"IF($E29=\"Y\",INDEX(OIQraw,ROW(),Setup!$C$5+COLUMN()-26),\"x\")","v":"x"},{"$f":"IF($E29=\"Y\",INDEX(OIQraw,ROW(),Setup!$C$5+COLUMN()-26),\"x\")","v":"x"},{"$f":"IF($E29=\"Y\",INDEX(OIQraw,ROW(),Setup!$C$5+COLUMN()-26),\"x\")","v":"x"},{"$f":"IF($E29=\"Y\",INDEX(OIQraw,ROW(),Setup!$C$5+COLUMN()-26),\"x\")","v":"x"},{"$f":"IF($E29=\"Y\",INDEX(OIQraw,ROW(),Setup!$C$5+COLUMN()-26),\"x\")","v":"x"},{"$f":"IF($E29=\"Y\",INDEX(OIQraw,ROW(),Setup!$C$5+COLUMN()-26),\"x\")","v":"x"},{"$f":"IF($E29=\"Y\",INDEX(OIQraw,ROW(),Setup!$C$5+COLUMN()-26),\"x\")","v":"x"},{"$f":"IF($E29=\"Y\",INDEX(OIQraw,ROW(),Setup!$C$5+COLUMN()-26),\"x\")","v":"x"},{"$f":"IF($E29=\"Y\",INDEX(OIQraw,ROW(),Setup!$C$5+COLUMN()-26),\"x\")","v":"x"},{"$f":"IF($E29=\"Y\",INDEX(OIQraw,ROW(),Setup!$C$5+COLUMN()-26),\"x\")","v":"x"},{"$f":"IF($E29=\"Y\",INDEX(OIQraw,ROW(),Setup!$C$5+COLUMN()-26),\"x\")","v":"x"},{"$f":"IF($E29=\"Y\",INDEX(OIQraw,ROW(),Setup!$C$5+COLUMN()-26),\"x\")","v":"x"},{"$f":"IF($E29=\"Y\",INDEX(OIQraw,ROW(),Setup!$C$5+COLUMN()-26),\"x\")","v":"x"},{"$f":"IF($E29=\"Y\",INDEX(OIQraw,ROW(),Setup!$C$5+COLUMN()-26),\"x\")","v":"x"},{"$f":"IF($E29=\"Y\",INDEX(OIQraw,ROW(),Setup!$C$5+COLUMN()-26),\"x\")","v":"x"},{"$f":"IF($E29=\"Y\",INDEX(OIQraw,ROW(),Setup!$C$5+COLUMN()-26),\"x\")","v":"x"},{"$f":"IF($E29=\"Y\",INDEX(OIQraw,ROW(),Setup!$C$5+COLUMN()-26),\"x\")","v":"x"},{"$f":"IF($E29=\"Y\",INDEX(OIQraw,ROW(),Setup!$C$5+COLUMN()-26),\"x\")","v":"x"},{"$f":"IF($E29=\"Y\",INDEX(OIQraw,ROW(),Setup!$C$5+COLUMN()-26),\"x\")","v":"x"},{"$f":"IF($E29=\"Y\",INDEX(OIQraw,ROW(),Setup!$C$5+COLUMN()-26),\"x\")","v":"x"},{"$f":"IF($E29=\"Y\",INDEX(OIQraw,ROW(),Setup!$C$5+COLUMN()-26),\"x\")","v":"x"},{"$f":"IF($E29=\"Y\",INDEX(OIQraw,ROW(),Setup!$C$5+COLUMN()-26),\"x\")","v":"x"},{"$f":"IF($E29=\"Y\",INDEX(OIQraw,ROW(),Setup!$C$5+COLUMN()-26),\"x\")","v":"x"},{"$f":"IF($E29=\"Y\",INDEX(OIQraw,ROW(),Setup!$C$5+COLUMN()-26),\"x\")","v":"x"},{"$f":"IF($E29=\"Y\",INDEX(OIQraw,ROW(),Setup!$C$5+COLUMN()-26),\"x\")","v":"x"},{"$f":"IF($E29=\"Y\",INDEX(OIQraw,ROW(),Setup!$C$5+COLUMN()-26),\"x\")","v":"x"},{"$f":"IF($E29=\"Y\",INDEX(OIQraw,ROW(),Setup!$C$5+COLUMN()-26),\"x\")","v":"x"},{"$f":"IF($E29=\"Y\",INDEX(OIQraw,ROW(),Setup!$C$5+COLUMN()-26),\"x\")","v":"x"},{"$f":"IF($E29=\"Y\",INDEX(OIQraw,ROW(),Setup!$C$5+COLUMN()-26),\"x\")","v":"x"},{"$f":"IF($E29=\"Y\",INDEX(OIQraw,ROW(),Setup!$C$5+COLUMN()-26),\"x\")","v":"x"},{"$f":"IF($E29=\"Y\",INDEX(OIQraw,ROW(),Setup!$C$5+COLUMN()-26),\"x\")","v":"x"},{"$f":"IF($E29=\"Y\",INDEX(OIQraw,ROW(),Setup!$C$5+COLUMN()-26),\"x\")","v":"x"},{"$f":"IF($E29=\"Y\",INDEX(OIQraw,ROW(),Setup!$C$5+COLUMN()-26),\"x\")","v":"x"},{"$f":"IF($E29=\"Y\",INDEX(OIQraw,ROW(),Setup!$C$5+COLUMN()-26),\"x\")","v":"x"},{"$f":"IF($E29=\"Y\",INDEX(OIQraw,ROW(),Setup!$C$5+COLUMN()-26),\"x\")","v":"x"},{"$f":"IF($E29=\"Y\",INDEX(OIQraw,ROW(),Setup!$C$5+COLUMN()-26),\"x\")","v":"x"},{"$f":"IF($E29=\"Y\",INDEX(OIQraw,ROW(),Setup!$C$5+COLUMN()-26),\"x\")","v":"x"},{"$f":"IF($E29=\"Y\",INDEX(OIQraw,ROW(),Setup!$C$5+COLUMN()-26),\"x\")","v":"x"},{"$f":"IF($E29=\"Y\",INDEX(OIQraw,ROW(),Setup!$C$5+COLUMN()-26),\"x\")","v":"x"},{"$f":"IF($E29=\"Y\",INDEX(OIQraw,ROW(),Setup!$C$5+COLUMN()-26),\"x\")","v":"x"},{"$f":"IF($E29=\"Y\",INDEX(OIQraw,ROW(),Setup!$C$5+COLUMN()-26),\"x\")","v":"x"},{"$f":"IF($E29=\"Y\",INDEX(OIQraw,ROW(),Setup!$C$5+COLUMN()-26),\"x\")","v":"x"},{"$f":"IF($E29=\"Y\",INDEX(OIQraw,ROW(),Setup!$C$5+COLUMN()-26),\"x\")","v":"x"},{"$f":"IF($E29=\"Y\",INDEX(OIQraw,ROW(),Setup!$C$5+COLUMN()-26),\"x\")","v":"x"},{"$f":"IF($E29=\"Y\",INDEX(OIQraw,ROW(),Setup!$C$5+COLUMN()-26),\"x\")","v":"x"},{"$f":"IF($E29=\"Y\",INDEX(OIQraw,ROW(),Setup!$C$5+COLUMN()-26),\"x\")","v":"x"},{"$f":"IF($E29=\"Y\",INDEX(OIQraw,ROW(),Setup!$C$5+COLUMN()-26),\"x\")","v":"x"},{"$f":"IF($E29=\"Y\",INDEX(OIQraw,ROW(),Setup!$C$5+COLUMN()-26),\"x\")","v":"x"},{"$f":"IF($E29=\"Y\",INDEX(OIQraw,ROW(),Setup!$C$5+COLUMN()-26),\"x\")","v":"x"},{"$f":"IF($E29=\"Y\",INDEX(OIQraw,ROW(),Setup!$C$5+COLUMN()-26),\"x\")","v":"x"},{"$f":"IF($E29=\"Y\",INDEX(OIQraw,ROW(),Setup!$C$5+COLUMN()-26),\"x\")","v":"x"},{"$f":"IF($E29=\"Y\",INDEX(OIQraw,ROW(),Setup!$C$5+COLUMN()-26),\"x\")","v":"x"},{"$f":"IF($E29=\"Y\",INDEX(OIQraw,ROW(),Setup!$C$5+COLUMN()-26),\"x\")","v":"x"},{"$f":"IF($E29=\"Y\",INDEX(OIQraw,ROW(),Setup!$C$5+COLUMN()-26),\"x\")","v":"x"},{"$f":"IF($E29=\"Y\",INDEX(OIQraw,ROW(),Setup!$C$5+COLUMN()-26),\"x\")","v":"x"},{"$f":"IF($E29=\"Y\",INDEX(OIQraw,ROW(),Setup!$C$5+COLUMN()-26),\"x\")","v":"x"},{"$f":"IF($E29=\"Y\",INDEX(OIQraw,ROW(),Setup!$C$5+COLUMN()-26),\"x\")","v":"x"},{"$f":"IF($E29=\"Y\",INDEX(OIQraw,ROW(),Setup!$C$5+COLUMN()-26),\"x\")","v":"x"},{"$f":"IF($E29=\"Y\",INDEX(OIQraw,ROW(),Setup!$C$5+COLUMN()-26),\"x\")","v":"x"},{"$f":"IF($E29=\"Y\",INDEX(OIQraw,ROW(),Setup!$C$5+COLUMN()-26),\"x\")","v":"x"},{"$f":"IF($E29=\"Y\",INDEX(OIQraw,ROW(),Setup!$C$5+COLUMN()-26),\"x\")","v":"x"},{"$f":"IF($E29=\"Y\",INDEX(OIQraw,ROW(),Setup!$C$5+COLUMN()-26),\"x\")","v":"x"},{"$f":"IF($E29=\"Y\",INDEX(OIQraw,ROW(),Setup!$C$5+COLUMN()-26),\"x\")","v":"x"},{"$f":"IF($E29=\"Y\",INDEX(OIQraw,ROW(),Setup!$C$5+COLUMN()-26),\"x\")","v":"x"},{"$f":"IF($E29=\"Y\",INDEX(OIQraw,ROW(),Setup!$C$5+COLUMN()-26),\"x\")","v":"x"},{"$f":"IF($E29=\"Y\",INDEX(OIQraw,ROW(),Setup!$C$5+COLUMN()-26),\"x\")","v":"x"},{"$f":"IF($E29=\"Y\",INDEX(OIQraw,ROW(),Setup!$C$5+COLUMN()-26),\"x\")","v":"x"},{"$f":"IF($E29=\"Y\",INDEX(OIQraw,ROW(),Setup!$C$5+COLUMN()-26),\"x\")","v":"x"},{"$f":"IF($E29=\"Y\",INDEX(OIQraw,ROW(),Setup!$C$5+COLUMN()-26),\"x\")","v":"x"},{"$f":"IF($E29=\"Y\",INDEX(OIQraw,ROW(),Setup!$C$5+COLUMN()-26),\"x\")","v":"x"},{"$f":"IF($E29=\"Y\",INDEX(OIQraw,ROW(),Setup!$C$5+COLUMN()-26),\"x\")","v":"x"},{"$f":"IF($E29=\"Y\",INDEX(OIQraw,ROW(),Setup!$C$5+COLUMN()-26),\"x\")","v":"x"},{"$f":"IF($E29=\"Y\",INDEX(OIQraw,ROW(),Setup!$C$5+COLUMN()-26),\"x\")","v":"x"},{"$f":"IF($E29=\"Y\",INDEX(OIQraw,ROW(),Setup!$C$5+COLUMN()-26),\"x\")","v":"x"},{"$f":"IF($E29=\"Y\",INDEX(OIQraw,ROW(),Setup!$C$5+COLUMN()-26),\"x\")","v":"x"},{"$f":"IF($E29=\"Y\",INDEX(OIQraw,ROW(),Setup!$C$5+COLUMN()-26),\"x\")","v":"x"},{"$f":"IF($E29=\"Y\",INDEX(OIQraw,ROW(),Setup!$C$5+COLUMN()-26),\"x\")","v":"x"},{"$f":"IF($E29=\"Y\",INDEX(OIQraw,ROW(),Setup!$C$5+COLUMN()-26),\"x\")","v":"x"},{"$f":"IF($E29=\"Y\",INDEX(OIQraw,ROW(),Setup!$C$5+COLUMN()-26),\"x\")","v":"x"},{"$f":"IF($E29=\"Y\",INDEX(OIQraw,ROW(),Setup!$C$5+COLUMN()-26),\"x\")","v":"x"},{"$f":"IF($E29=\"Y\",INDEX(OIQraw,ROW(),Setup!$C$5+COLUMN()-26),\"x\")","v":"x"},{"$f":"IF($E29=\"Y\",INDEX(OIQraw,ROW(),Setup!$C$5+COLUMN()-26),\"x\")","v":"x"},{"$f":"IF($E29=\"Y\",INDEX(OIQraw,ROW(),Setup!$C$5+COLUMN()-26),\"x\")","v":"x"},{"$f":"IF($E29=\"Y\",INDEX(OIQraw,ROW(),Setup!$C$5+COLUMN()-26),\"x\")","v":"x"},{"$f":"IF($E29=\"Y\",INDEX(OIQraw,ROW(),Setup!$C$5+COLUMN()-26),\"x\")","v":"x"},{"$f":"IF($E29=\"Y\",INDEX(OIQraw,ROW(),Setup!$C$5+COLUMN()-26),\"x\")","v":"x"},{"$f":"IF($E29=\"Y\",INDEX(OIQraw,ROW(),Setup!$C$5+COLUMN()-26),\"x\")","v":"x"},{"$f":"IF($E29=\"Y\",INDEX(OIQraw,ROW(),Setup!$C$5+COLUMN()-26),\"x\")","v":"x"},{"$f":"IF($E29=\"Y\",INDEX(OIQraw,ROW(),Setup!$C$5+COLUMN()-26),\"x\")","v":"x"},{"$f":"IF($E29=\"Y\",INDEX(OIQraw,ROW(),Setup!$C$5+COLUMN()-26),\"x\")","v":"x"},{"$f":"IF($E29=\"Y\",INDEX(OIQraw,ROW(),Setup!$C$5+COLUMN()-26),\"x\")","v":"x"},{"$f":"IF($E29=\"Y\",INDEX(OIQraw,ROW(),Setup!$C$5+COLUMN()-26),\"x\")","v":"x"},{"$f":"IF($E29=\"Y\",INDEX(OIQraw,ROW(),Setup!$C$5+COLUMN()-26),\"x\")","v":"x"},{"$f":"IF($E29=\"Y\",INDEX(OIQraw,ROW(),Setup!$C$5+COLUMN()-26),\"x\")","v":"x"},{"$f":"IF($E29=\"Y\",INDEX(OIQraw,ROW(),Setup!$C$5+COLUMN()-26),\"x\")","v":"x"},{"$f":"IF($E29=\"Y\",INDEX(OIQraw,ROW(),Setup!$C$5+COLUMN()-26),\"x\")","v":"x"},{"$f":"IF($E29=\"Y\",INDEX(OIQraw,ROW(),Setup!$C$5+COLUMN()-26),\"x\")","v":"x"},{"$f":"IF($E29=\"Y\",INDEX(OIQraw,ROW(),Setup!$C$5+COLUMN()-26),\"x\")","v":"x"}]
[1,"","",{"$f":"IF(ISERROR(FIND(\"Withdrew\",RawScores!B34)),RawScores!B34,RIGHT(RawScores!B34,LEN(RawScores!B34)-17))&\", \"&RawScores!C34","v":", "},{"$f":"IF(OR(ISERROR(FIND(\"Withdrew\",RawScores!B34))=FALSE,INDEX(OIQraw,ROW(),LastInputCol-3)=0),\"N\",IF(AND(Setup!$B$22=\"Yes\",INDEX(OIQraw,ROW(),LastInputCol)=1),\"N\",\"Y\"))","v":"N"},"X","X","X",{"$f":"IF(AND(ISNUMBER(F30),F30>Setup!$B$14-1),1,0)","v":0},{"$f":"IF(AND(F30>Setup!$B$14-1,Conv!H30<5),1,0)","v":0},{"$f":"IF(AND(F30>Setup!$B$14-1,Conv!G30=\"F\"),1,0)","v":0},"","","","","","","","","","","","","X","X",{"$f":"IF($E30=\"Y\",INDEX(OIQraw,ROW(),Setup!$C$5+COLUMN()-26),\"x\")","v":"x"},{"$f":"IF($E30=\"Y\",INDEX(OIQraw,ROW(),Setup!$C$5+COLUMN()-26),\"x\")","v":"x"},{"$f":"IF($E30=\"Y\",INDEX(OIQraw,ROW(),Setup!$C$5+COLUMN()-26),\"x\")","v":"x"},{"$f":"IF($E30=\"Y\",INDEX(OIQraw,ROW(),Setup!$C$5+COLUMN()-26),\"x\")","v":"x"},{"$f":"IF($E30=\"Y\",INDEX(OIQraw,ROW(),Setup!$C$5+COLUMN()-26),\"x\")","v":"x"},{"$f":"IF($E30=\"Y\",INDEX(OIQraw,ROW(),Setup!$C$5+COLUMN()-26),\"x\")","v":"x"},{"$f":"IF($E30=\"Y\",INDEX(OIQraw,ROW(),Setup!$C$5+COLUMN()-26),\"x\")","v":"x"},{"$f":"IF($E30=\"Y\",INDEX(OIQraw,ROW(),Setup!$C$5+COLUMN()-26),\"x\")","v":"x"},{"$f":"IF($E30=\"Y\",INDEX(OIQraw,ROW(),Setup!$C$5+COLUMN()-26),\"x\")","v":"x"},{"$f":"IF($E30=\"Y\",INDEX(OIQraw,ROW(),Setup!$C$5+COLUMN()-26),\"x\")","v":"x"},{"$f":"IF($E30=\"Y\",INDEX(OIQraw,ROW(),Setup!$C$5+COLUMN()-26),\"x\")","v":"x"},{"$f":"IF($E30=\"Y\",INDEX(OIQraw,ROW(),Setup!$C$5+COLUMN()-26),\"x\")","v":"x"},{"$f":"IF($E30=\"Y\",INDEX(OIQraw,ROW(),Setup!$C$5+COLUMN()-26),\"x\")","v":"x"},{"$f":"IF($E30=\"Y\",INDEX(OIQraw,ROW(),Setup!$C$5+COLUMN()-26),\"x\")","v":"x"},{"$f":"IF($E30=\"Y\",INDEX(OIQraw,ROW(),Setup!$C$5+COLUMN()-26),\"x\")","v":"x"},{"$f":"IF($E30=\"Y\",INDEX(OIQraw,ROW(),Setup!$C$5+COLUMN()-26),\"x\")","v":"x"},{"$f":"IF($E30=\"Y\",INDEX(OIQraw,ROW(),Setup!$C$5+COLUMN()-26),\"x\")","v":"x"},{"$f":"IF($E30=\"Y\",INDEX(OIQraw,ROW(),Setup!$C$5+COLUMN()-26),\"x\")","v":"x"},{"$f":"IF($E30=\"Y\",INDEX(OIQraw,ROW(),Setup!$C$5+COLUMN()-26),\"x\")","v":"x"},{"$f":"IF($E30=\"Y\",INDEX(OIQraw,ROW(),Setup!$C$5+COLUMN()-26),\"x\")","v":"x"},{"$f":"IF($E30=\"Y\",INDEX(OIQraw,ROW(),Setup!$C$5+COLUMN()-26),\"x\")","v":"x"},{"$f":"IF($E30=\"Y\",INDEX(OIQraw,ROW(),Setup!$C$5+COLUMN()-26),\"x\")","v":"x"},{"$f":"IF($E30=\"Y\",INDEX(OIQraw,ROW(),Setup!$C$5+COLUMN()-26),\"x\")","v":"x"},{"$f":"IF($E30=\"Y\",INDEX(OIQraw,ROW(),Setup!$C$5+COLUMN()-26),\"x\")","v":"x"},{"$f":"IF($E30=\"Y\",INDEX(OIQraw,ROW(),Setup!$C$5+COLUMN()-26),\"x\")","v":"x"},{"$f":"IF($E30=\"Y\",INDEX(OIQraw,ROW(),Setup!$C$5+COLUMN()-26),\"x\")","v":"x"},{"$f":"IF($E30=\"Y\",INDEX(OIQraw,ROW(),Setup!$C$5+COLUMN()-26),\"x\")","v":"x"},{"$f":"IF($E30=\"Y\",INDEX(OIQraw,ROW(),Setup!$C$5+COLUMN()-26),\"x\")","v":"x"},{"$f":"IF($E30=\"Y\",INDEX(OIQraw,ROW(),Setup!$C$5+COLUMN()-26),\"x\")","v":"x"},{"$f":"IF($E30=\"Y\",INDEX(OIQraw,ROW(),Setup!$C$5+COLUMN()-26),\"x\")","v":"x"},{"$f":"IF($E30=\"Y\",INDEX(OIQraw,ROW(),Setup!$C$5+COLUMN()-26),\"x\")","v":"x"},{"$f":"IF($E30=\"Y\",INDEX(OIQraw,ROW(),Setup!$C$5+COLUMN()-26),\"x\")","v":"x"},{"$f":"IF($E30=\"Y\",INDEX(OIQraw,ROW(),Setup!$C$5+COLUMN()-26),\"x\")","v":"x"},{"$f":"IF($E30=\"Y\",INDEX(OIQraw,ROW(),Setup!$C$5+COLUMN()-26),\"x\")","v":"x"},{"$f":"IF($E30=\"Y\",INDEX(OIQraw,ROW(),Setup!$C$5+COLUMN()-26),\"x\")","v":"x"},{"$f":"IF($E30=\"Y\",INDEX(OIQraw,ROW(),Setup!$C$5+COLUMN()-26),\"x\")","v":"x"},{"$f":"IF($E30=\"Y\",INDEX(OIQraw,ROW(),Setup!$C$5+COLUMN()-26),\"x\")","v":"x"},{"$f":"IF($E30=\"Y\",INDEX(OIQraw,ROW(),Setup!$C$5+COLUMN()-26),\"x\")","v":"x"},{"$f":"IF($E30=\"Y\",INDEX(OIQraw,ROW(),Setup!$C$5+COLUMN()-26),\"x\")","v":"x"},{"$f":"IF($E30=\"Y\",INDEX(OIQraw,ROW(),Setup!$C$5+COLUMN()-26),\"x\")","v":"x"},{"$f":"IF($E30=\"Y\",INDEX(OIQraw,ROW(),Setup!$C$5+COLUMN()-26),\"x\")","v":"x"},{"$f":"IF($E30=\"Y\",INDEX(OIQraw,ROW(),Setup!$C$5+COLUMN()-26),\"x\")","v":"x"},{"$f":"IF($E30=\"Y\",INDEX(OIQraw,ROW(),Setup!$C$5+COLUMN()-26),\"x\")","v":"x"},{"$f":"IF($E30=\"Y\",INDEX(OIQraw,ROW(),Setup!$C$5+COLUMN()-26),\"x\")","v":"x"},{"$f":"IF($E30=\"Y\",INDEX(OIQraw,ROW(),Setup!$C$5+COLUMN()-26),\"x\")","v":"x"},{"$f":"IF($E30=\"Y\",INDEX(OIQraw,ROW(),Setup!$C$5+COLUMN()-26),\"x\")","v":"x"},{"$f":"IF($E30=\"Y\",INDEX(OIQraw,ROW(),Setup!$C$5+COLUMN()-26),\"x\")","v":"x"},{"$f":"IF($E30=\"Y\",INDEX(OIQraw,ROW(),Setup!$C$5+COLUMN()-26),\"x\")","v":"x"},{"$f":"IF($E30=\"Y\",INDEX(OIQraw,ROW(),Setup!$C$5+COLUMN()-26),\"x\")","v":"x"},{"$f":"IF($E30=\"Y\",INDEX(OIQraw,ROW(),Setup!$C$5+COLUMN()-26),\"x\")","v":"x"},{"$f":"IF($E30=\"Y\",INDEX(OIQraw,ROW(),Setup!$C$5+COLUMN()-26),\"x\")","v":"x"},{"$f":"IF($E30=\"Y\",INDEX(OIQraw,ROW(),Setup!$C$5+COLUMN()-26),\"x\")","v":"x"},{"$f":"IF($E30=\"Y\",INDEX(OIQraw,ROW(),Setup!$C$5+COLUMN()-26),\"x\")","v":"x"},{"$f":"IF($E30=\"Y\",INDEX(OIQraw,ROW(),Setup!$C$5+COLUMN()-26),\"x\")","v":"x"},{"$f":"IF($E30=\"Y\",INDEX(OIQraw,ROW(),Setup!$C$5+COLUMN()-26),\"x\")","v":"x"},{"$f":"IF($E30=\"Y\",INDEX(OIQraw,ROW(),Setup!$C$5+COLUMN()-26),\"x\")","v":"x"},{"$f":"IF($E30=\"Y\",INDEX(OIQraw,ROW(),Setup!$C$5+COLUMN()-26),\"x\")","v":"x"},{"$f":"IF($E30=\"Y\",INDEX(OIQraw,ROW(),Setup!$C$5+COLUMN()-26),\"x\")","v":"x"},{"$f":"IF($E30=\"Y\",INDEX(OIQraw,ROW(),Setup!$C$5+COLUMN()-26),\"x\")","v":"x"},{"$f":"IF($E30=\"Y\",INDEX(OIQraw,ROW(),Setup!$C$5+COLUMN()-26),\"x\")","v":"x"},{"$f":"IF($E30=\"Y\",INDEX(OIQraw,ROW(),Setup!$C$5+COLUMN()-26),\"x\")","v":"x"},{"$f":"IF($E30=\"Y\",INDEX(OIQraw,ROW(),Setup!$C$5+COLUMN()-26),\"x\")","v":"x"},{"$f":"IF($E30=\"Y\",INDEX(OIQraw,ROW(),Setup!$C$5+COLUMN()-26),\"x\")","v":"x"},{"$f":"IF($E30=\"Y\",INDEX(OIQraw,ROW(),Setup!$C$5+COLUMN()-26),\"x\")","v":"x"},{"$f":"IF($E30=\"Y\",INDEX(OIQraw,ROW(),Setup!$C$5+COLUMN()-26),\"x\")","v":"x"},{"$f":"IF($E30=\"Y\",INDEX(OIQraw,ROW(),Setup!$C$5+COLUMN()-26),\"x\")","v":"x"},{"$f":"IF($E30=\"Y\",INDEX(OIQraw,ROW(),Setup!$C$5+COLUMN()-26),\"x\")","v":"x"},{"$f":"IF($E30=\"Y\",INDEX(OIQraw,ROW(),Setup!$C$5+COLUMN()-26),\"x\")","v":"x"},{"$f":"IF($E30=\"Y\",INDEX(OIQraw,ROW(),Setup!$C$5+COLUMN()-26),\"x\")","v":"x"},{"$f":"IF($E30=\"Y\",INDEX(OIQraw,ROW(),Setup!$C$5+COLUMN()-26),\"x\")","v":"x"},{"$f":"IF($E30=\"Y\",INDEX(OIQraw,ROW(),Setup!$C$5+COLUMN()-26),\"x\")","v":"x"},{"$f":"IF($E30=\"Y\",INDEX(OIQraw,ROW(),Setup!$C$5+COLUMN()-26),\"x\")","v":"x"},{"$f":"IF($E30=\"Y\",INDEX(OIQraw,ROW(),Setup!$C$5+COLUMN()-26),\"x\")","v":"x"},{"$f":"IF($E30=\"Y\",INDEX(OIQraw,ROW(),Setup!$C$5+COLUMN()-26),\"x\")","v":"x"},{"$f":"IF($E30=\"Y\",INDEX(OIQraw,ROW(),Setup!$C$5+COLUMN()-26),\"x\")","v":"x"},{"$f":"IF($E30=\"Y\",INDEX(OIQraw,ROW(),Setup!$C$5+COLUMN()-26),\"x\")","v":"x"},{"$f":"IF($E30=\"Y\",INDEX(OIQraw,ROW(),Setup!$C$5+COLUMN()-26),\"x\")","v":"x"},{"$f":"IF($E30=\"Y\",INDEX(OIQraw,ROW(),Setup!$C$5+COLUMN()-26),\"x\")","v":"x"},{"$f":"IF($E30=\"Y\",INDEX(OIQraw,ROW(),Setup!$C$5+COLUMN()-26),\"x\")","v":"x"},{"$f":"IF($E30=\"Y\",INDEX(OIQraw,ROW(),Setup!$C$5+COLUMN()-26),\"x\")","v":"x"},{"$f":"IF($E30=\"Y\",INDEX(OIQraw,ROW(),Setup!$C$5+COLUMN()-26),\"x\")","v":"x"},{"$f":"IF($E30=\"Y\",INDEX(OIQraw,ROW(),Setup!$C$5+COLUMN()-26),\"x\")","v":"x"},{"$f":"IF($E30=\"Y\",INDEX(OIQraw,ROW(),Setup!$C$5+COLUMN()-26),\"x\")","v":"x"},{"$f":"IF($E30=\"Y\",INDEX(OIQraw,ROW(),Setup!$C$5+COLUMN()-26),\"x\")","v":"x"},{"$f":"IF($E30=\"Y\",INDEX(OIQraw,ROW(),Setup!$C$5+COLUMN()-26),\"x\")","v":"x"},{"$f":"IF($E30=\"Y\",INDEX(OIQraw,ROW(),Setup!$C$5+COLUMN()-26),\"x\")","v":"x"},{"$f":"IF($E30=\"Y\",INDEX(OIQraw,ROW(),Setup!$C$5+COLUMN()-26),\"x\")","v":"x"},{"$f":"IF($E30=\"Y\",INDEX(OIQraw,ROW(),Setup!$C$5+COLUMN()-26),\"x\")","v":"x"},{"$f":"IF($E30=\"Y\",INDEX(OIQraw,ROW(),Setup!$C$5+COLUMN()-26),\"x\")","v":"x"},{"$f":"IF($E30=\"Y\",INDEX(OIQraw,ROW(),Setup!$C$5+COLUMN()-26),\"x\")","v":"x"},{"$f":"IF($E30=\"Y\",INDEX(OIQraw,ROW(),Setup!$C$5+COLUMN()-26),\"x\")","v":"x"},{"$f":"IF($E30=\"Y\",INDEX(OIQraw,ROW(),Setup!$C$5+COLUMN()-26),\"x\")","v":"x"},{"$f":"IF($E30=\"Y\",INDEX(OIQraw,ROW(),Setup!$C$5+COLUMN()-26),\"x\")","v":"x"},{"$f":"IF($E30=\"Y\",INDEX(OIQraw,ROW(),Setup!$C$5+COLUMN()-26),\"x\")","v":"x"},{"$f":"IF($E30=\"Y\",INDEX(OIQraw,ROW(),Setup!$C$5+COLUMN()-26),\"x\")","v":"x"},{"$f":"IF($E30=\"Y\",INDEX(OIQraw,ROW(),Setup!$C$5+COLUMN()-26),\"x\")","v":"x"},{"$f":"IF($E30=\"Y\",INDEX(OIQraw,ROW(),Setup!$C$5+COLUMN()-26),\"x\")","v":"x"},{"$f":"IF($E30=\"Y\",INDEX(OIQraw,ROW(),Setup!$C$5+COLUMN()-26),\"x\")","v":"x"},{"$f":"IF($E30=\"Y\",INDEX(OIQraw,ROW(),Setup!$C$5+COLUMN()-26),\"x\")","v":"x"},{"$f":"IF($E30=\"Y\",INDEX(OIQraw,ROW(),Setup!$C$5+COLUMN()-26),\"x\")","v":"x"},{"$f":"IF($E30=\"Y\",INDEX(OIQraw,ROW(),Setup!$C$5+COLUMN()-26),\"x\")","v":"x"},{"$f":"IF($E30=\"Y\",INDEX(OIQraw,ROW(),Setup!$C$5+COLUMN()-26),\"x\")","v":"x"},{"$f":"IF($E30=\"Y\",INDEX(OIQraw,ROW(),Setup!$C$5+COLUMN()-26),\"x\")","v":"x"},{"$f":"IF($E30=\"Y\",INDEX(OIQraw,ROW(),Setup!$C$5+COLUMN()-26),\"x\")","v":"x"},{"$f":"IF($E30=\"Y\",INDEX(OIQraw,ROW(),Setup!$C$5+COLUMN()-26),\"x\")","v":"x"},{"$f":"IF($E30=\"Y\",INDEX(OIQraw,ROW(),Setup!$C$5+COLUMN()-26),\"x\")","v":"x"},{"$f":"IF($E30=\"Y\",INDEX(OIQraw,ROW(),Setup!$C$5+COLUMN()-26),\"x\")","v":"x"},{"$f":"IF($E30=\"Y\",INDEX(OIQraw,ROW(),Setup!$C$5+COLUMN()-26),\"x\")","v":"x"},{"$f":"IF($E30=\"Y\",INDEX(OIQraw,ROW(),Setup!$C$5+COLUMN()-26),\"x\")","v":"x"},{"$f":"IF($E30=\"Y\",INDEX(OIQraw,ROW(),Setup!$C$5+COLUMN()-26),\"x\")","v":"x"},{"$f":"IF($E30=\"Y\",INDEX(OIQraw,ROW(),Setup!$C$5+COLUMN()-26),\"x\")","v":"x"},{"$f":"IF($E30=\"Y\",INDEX(OIQraw,ROW(),Setup!$C$5+COLUMN()-26),\"x\")","v":"x"},{"$f":"IF($E30=\"Y\",INDEX(OIQraw,ROW(),Setup!$C$5+COLUMN()-26),\"x\")","v":"x"},{"$f":"IF($E30=\"Y\",INDEX(OIQraw,ROW(),Setup!$C$5+COLUMN()-26),\"x\")","v":"x"},{"$f":"IF($E30=\"Y\",INDEX(OIQraw,ROW(),Setup!$C$5+COLUMN()-26),\"x\")","v":"x"},{"$f":"IF($E30=\"Y\",INDEX(OIQraw,ROW(),Setup!$C$5+COLUMN()-26),\"x\")","v":"x"},{"$f":"IF($E30=\"Y\",INDEX(OIQraw,ROW(),Setup!$C$5+COLUMN()-26),\"x\")","v":"x"},{"$f":"IF($E30=\"Y\",INDEX(OIQraw,ROW(),Setup!$C$5+COLUMN()-26),\"x\")","v":"x"},{"$f":"IF($E30=\"Y\",INDEX(OIQraw,ROW(),Setup!$C$5+COLUMN()-26),\"x\")","v":"x"},{"$f":"IF($E30=\"Y\",INDEX(OIQraw,ROW(),Setup!$C$5+COLUMN()-26),\"x\")","v":"x"},{"$f":"IF($E30=\"Y\",INDEX(OIQraw,ROW(),Setup!$C$5+COLUMN()-26),\"x\")","v":"x"},{"$f":"IF($E30=\"Y\",INDEX(OIQraw,ROW(),Setup!$C$5+COLUMN()-26),\"x\")","v":"x"},{"$f":"IF($E30=\"Y\",INDEX(OIQraw,ROW(),Setup!$C$5+COLUMN()-26),\"x\")","v":"x"},{"$f":"IF($E30=\"Y\",INDEX(OIQraw,ROW(),Setup!$C$5+COLUMN()-26),\"x\")","v":"x"},{"$f":"IF($E30=\"Y\",INDEX(OIQraw,ROW(),Setup!$C$5+COLUMN()-26),\"x\")","v":"x"},{"$f":"IF($E30=\"Y\",INDEX(OIQraw,ROW(),Setup!$C$5+COLUMN()-26),\"x\")","v":"x"},{"$f":"IF($E30=\"Y\",INDEX(OIQraw,ROW(),Setup!$C$5+COLUMN()-26),\"x\")","v":"x"},{"$f":"IF($E30=\"Y\",INDEX(OIQraw,ROW(),Setup!$C$5+COLUMN()-26),\"x\")","v":"x"},{"$f":"IF($E30=\"Y\",INDEX(OIQraw,ROW(),Setup!$C$5+COLUMN()-26),\"x\")","v":"x"},{"$f":"IF($E30=\"Y\",INDEX(OIQraw,ROW(),Setup!$C$5+COLUMN()-26),\"x\")","v":"x"},{"$f":"IF($E30=\"Y\",INDEX(OIQraw,ROW(),Setup!$C$5+COLUMN()-26),\"x\")","v":"x"},{"$f":"IF($E30=\"Y\",INDEX(OIQraw,ROW(),Setup!$C$5+COLUMN()-26),\"x\")","v":"x"},{"$f":"IF($E30=\"Y\",INDEX(OIQraw,ROW(),Setup!$C$5+COLUMN()-26),\"x\")","v":"x"},{"$f":"IF($E30=\"Y\",INDEX(OIQraw,ROW(),Setup!$C$5+COLUMN()-26),\"x\")","v":"x"},{"$f":"IF($E30=\"Y\",INDEX(OIQraw,ROW(),Setup!$C$5+COLUMN()-26),\"x\")","v":"x"},{"$f":"IF($E30=\"Y\",INDEX(OIQraw,ROW(),Setup!$C$5+COLUMN()-26),\"x\")","v":"x"},{"$f":"IF($E30=\"Y\",INDEX(OIQraw,ROW(),Setup!$C$5+COLUMN()-26),\"x\")","v":"x"},{"$f":"IF($E30=\"Y\",INDEX(OIQraw,ROW(),Setup!$C$5+COLUMN()-26),\"x\")","v":"x"},{"$f":"IF($E30=\"Y\",INDEX(OIQraw,ROW(),Setup!$C$5+COLUMN()-26),\"x\")","v":"x"},{"$f":"IF($E30=\"Y\",INDEX(OIQraw,ROW(),Setup!$C$5+COLUMN()-26),\"x\")","v":"x"},{"$f":"IF($E30=\"Y\",INDEX(OIQraw,ROW(),Setup!$C$5+COLUMN()-26),\"x\")","v":"x"},{"$f":"IF($E30=\"Y\",INDEX(OIQraw,ROW(),Setup!$C$5+COLUMN()-26),\"x\")","v":"x"},{"$f":"IF($E30=\"Y\",INDEX(OIQraw,ROW(),Setup!$C$5+COLUMN()-26),\"x\")","v":"x"},{"$f":"IF($E30=\"Y\",INDEX(OIQraw,ROW(),Setup!$C$5+COLUMN()-26),\"x\")","v":"x"},{"$f":"IF($E30=\"Y\",INDEX(OIQraw,ROW(),Setup!$C$5+COLUMN()-26),\"x\")","v":"x"},{"$f":"IF($E30=\"Y\",INDEX(OIQraw,ROW(),Setup!$C$5+COLUMN()-26),\"x\")","v":"x"},{"$f":"IF($E30=\"Y\",INDEX(OIQraw,ROW(),Setup!$C$5+COLUMN()-26),\"x\")","v":"x"},{"$f":"IF($E30=\"Y\",INDEX(OIQraw,ROW(),Setup!$C$5+COLUMN()-26),\"x\")","v":"x"},{"$f":"IF($E30=\"Y\",INDEX(OIQraw,ROW(),Setup!$C$5+COLUMN()-26),\"x\")","v":"x"},{"$f":"IF($E30=\"Y\",INDEX(OIQraw,ROW(),Setup!$C$5+COLUMN()-26),\"x\")","v":"x"},{"$f":"IF($E30=\"Y\",INDEX(OIQraw,ROW(),Setup!$C$5+COLUMN()-26),\"x\")","v":"x"},{"$f":"IF($E30=\"Y\",INDEX(OIQraw,ROW(),Setup!$C$5+COLUMN()-26),\"x\")","v":"x"},{"$f":"IF($E30=\"Y\",INDEX(OIQraw,ROW(),Setup!$C$5+COLUMN()-26),\"x\")","v":"x"},{"$f":"IF($E30=\"Y\",INDEX(OIQraw,ROW(),Setup!$C$5+COLUMN()-26),\"x\")","v":"x"},{"$f":"IF($E30=\"Y\",INDEX(OIQraw,ROW(),Setup!$C$5+COLUMN()-26),\"x\")","v":"x"},{"$f":"IF($E30=\"Y\",INDEX(OIQraw,ROW(),Setup!$C$5+COLUMN()-26),\"x\")","v":"x"},{"$f":"IF($E30=\"Y\",INDEX(OIQraw,ROW(),Setup!$C$5+COLUMN()-26),\"x\")","v":"x"},{"$f":"IF($E30=\"Y\",INDEX(OIQraw,ROW(),Setup!$C$5+COLUMN()-26),\"x\")","v":"x"},{"$f":"IF($E30=\"Y\",INDEX(OIQraw,ROW(),Setup!$C$5+COLUMN()-26),\"x\")","v":"x"},{"$f":"IF($E30=\"Y\",INDEX(OIQraw,ROW(),Setup!$C$5+COLUMN()-26),\"x\")","v":"x"},{"$f":"IF($E30=\"Y\",INDEX(OIQraw,ROW(),Setup!$C$5+COLUMN()-26),\"x\")","v":"x"},{"$f":"IF($E30=\"Y\",INDEX(OIQraw,ROW(),Setup!$C$5+COLUMN()-26),\"x\")","v":"x"},{"$f":"IF($E30=\"Y\",INDEX(OIQraw,ROW(),Setup!$C$5+COLUMN()-26),\"x\")","v":"x"},{"$f":"IF($E30=\"Y\",INDEX(OIQraw,ROW(),Setup!$C$5+COLUMN()-26),\"x\")","v":"x"},{"$f":"IF($E30=\"Y\",INDEX(OIQraw,ROW(),Setup!$C$5+COLUMN()-26),\"x\")","v":"x"},{"$f":"IF($E30=\"Y\",INDEX(OIQraw,ROW(),Setup!$C$5+COLUMN()-26),\"x\")","v":"x"},{"$f":"IF($E30=\"Y\",INDEX(OIQraw,ROW(),Setup!$C$5+COLUMN()-26),\"x\")","v":"x"},{"$f":"IF($E30=\"Y\",INDEX(OIQraw,ROW(),Setup!$C$5+COLUMN()-26),\"x\")","v":"x"},{"$f":"IF($E30=\"Y\",INDEX(OIQraw,ROW(),Setup!$C$5+COLUMN()-26),\"x\")","v":"x"},{"$f":"IF($E30=\"Y\",INDEX(OIQraw,ROW(),Setup!$C$5+COLUMN()-26),\"x\")","v":"x"},{"$f":"IF($E30=\"Y\",INDEX(OIQraw,ROW(),Setup!$C$5+COLUMN()-26),\"x\")","v":"x"},{"$f":"IF($E30=\"Y\",INDEX(OIQraw,ROW(),Setup!$C$5+COLUMN()-26),\"x\")","v":"x"},{"$f":"IF($E30=\"Y\",INDEX(OIQraw,ROW(),Setup!$C$5+COLUMN()-26),\"x\")","v":"x"},{"$f":"IF($E30=\"Y\",INDEX(OIQraw,ROW(),Setup!$C$5+COLUMN()-26),\"x\")","v":"x"},{"$f":"IF($E30=\"Y\",INDEX(OIQraw,ROW(),Setup!$C$5+COLUMN()-26),\"x\")","v":"x"},{"$f":"IF($E30=\"Y\",INDEX(OIQraw,ROW(),Setup!$C$5+COLUMN()-26),\"x\")","v":"x"},{"$f":"IF($E30=\"Y\",INDEX(OIQraw,ROW(),Setup!$C$5+COLUMN()-26),\"x\")","v":"x"},{"$f":"IF($E30=\"Y\",INDEX(OIQraw,ROW(),Setup!$C$5+COLUMN()-26),\"x\")","v":"x"},{"$f":"IF($E30=\"Y\",INDEX(OIQraw,ROW(),Setup!$C$5+COLUMN()-26),\"x\")","v":"x"},{"$f":"IF($E30=\"Y\",INDEX(OIQraw,ROW(),Setup!$C$5+COLUMN()-26),\"x\")","v":"x"},{"$f":"IF($E30=\"Y\",INDEX(OIQraw,ROW(),Setup!$C$5+COLUMN()-26),\"x\")","v":"x"},{"$f":"IF($E30=\"Y\",INDEX(OIQraw,ROW(),Setup!$C$5+COLUMN()-26),\"x\")","v":"x"},{"$f":"IF($E30=\"Y\",INDEX(OIQraw,ROW(),Setup!$C$5+COLUMN()-26),\"x\")","v":"x"},{"$f":"IF($E30=\"Y\",INDEX(OIQraw,ROW(),Setup!$C$5+COLUMN()-26),\"x\")","v":"x"},{"$f":"IF($E30=\"Y\",INDEX(OIQraw,ROW(),Setup!$C$5+COLUMN()-26),\"x\")","v":"x"},{"$f":"IF($E30=\"Y\",INDEX(OIQraw,ROW(),Setup!$C$5+COLUMN()-26),\"x\")","v":"x"},{"$f":"IF($E30=\"Y\",INDEX(OIQraw,ROW(),Setup!$C$5+COLUMN()-26),\"x\")","v":"x"},{"$f":"IF($E30=\"Y\",INDEX(OIQraw,ROW(),Setup!$C$5+COLUMN()-26),\"x\")","v":"x"},{"$f":"IF($E30=\"Y\",INDEX(OIQraw,ROW(),Setup!$C$5+COLUMN()-26),\"x\")","v":"x"},{"$f":"IF($E30=\"Y\",INDEX(OIQraw,ROW(),Setup!$C$5+COLUMN()-26),\"x\")","v":"x"},{"$f":"IF($E30=\"Y\",INDEX(OIQraw,ROW(),Setup!$C$5+COLUMN()-26),\"x\")","v":"x"},{"$f":"IF($E30=\"Y\",INDEX(OIQraw,ROW(),Setup!$C$5+COLUMN()-26),\"x\")","v":"x"},{"$f":"IF($E30=\"Y\",INDEX(OIQraw,ROW(),Setup!$C$5+COLUMN()-26),\"x\")","v":"x"},{"$f":"IF($E30=\"Y\",INDEX(OIQraw,ROW(),Setup!$C$5+COLUMN()-26),\"x\")","v":"x"},{"$f":"IF($E30=\"Y\",INDEX(OIQraw,ROW(),Setup!$C$5+COLUMN()-26),\"x\")","v":"x"},{"$f":"IF($E30=\"Y\",INDEX(OIQraw,ROW(),Setup!$C$5+COLUMN()-26),\"x\")","v":"x"},{"$f":"IF($E30=\"Y\",INDEX(OIQraw,ROW(),Setup!$C$5+COLUMN()-26),\"x\")","v":"x"},{"$f":"IF($E30=\"Y\",INDEX(OIQraw,ROW(),Setup!$C$5+COLUMN()-26),\"x\")","v":"x"},{"$f":"IF($E30=\"Y\",INDEX(OIQraw,ROW(),Setup!$C$5+COLUMN()-26),\"x\")","v":"x"},{"$f":"IF($E30=\"Y\",INDEX(OIQraw,ROW(),Setup!$C$5+COLUMN()-26),\"x\")","v":"x"},{"$f":"IF($E30=\"Y\",INDEX(OIQraw,ROW(),Setup!$C$5+COLUMN()-26),\"x\")","v":"x"},{"$f":"IF($E30=\"Y\",INDEX(OIQraw,ROW(),Setup!$C$5+COLUMN()-26),\"x\")","v":"x"},{"$f":"IF($E30=\"Y\",INDEX(OIQraw,ROW(),Setup!$C$5+COLUMN()-26),\"x\")","v":"x"},{"$f":"IF($E30=\"Y\",INDEX(OIQraw,ROW(),Setup!$C$5+COLUMN()-26),\"x\")","v":"x"},{"$f":"IF($E30=\"Y\",INDEX(OIQraw,ROW(),Setup!$C$5+COLUMN()-26),\"x\")","v":"x"},{"$f":"IF($E30=\"Y\",INDEX(OIQraw,ROW(),Setup!$C$5+COLUMN()-26),\"x\")","v":"x"},{"$f":"IF($E30=\"Y\",INDEX(OIQraw,ROW(),Setup!$C$5+COLUMN()-26),\"x\")","v":"x"},{"$f":"IF($E30=\"Y\",INDEX(OIQraw,ROW(),Setup!$C$5+COLUMN()-26),\"x\")","v":"x"},{"$f":"IF($E30=\"Y\",INDEX(OIQraw,ROW(),Setup!$C$5+COLUMN()-26),\"x\")","v":"x"},{"$f":"IF($E30=\"Y\",INDEX(OIQraw,ROW(),Setup!$C$5+COLUMN()-26),\"x\")","v":"x"},{"$f":"IF($E30=\"Y\",INDEX(OIQraw,ROW(),Setup!$C$5+COLUMN()-26),\"x\")","v":"x"},{"$f":"IF($E30=\"Y\",INDEX(OIQraw,ROW(),Setup!$C$5+COLUMN()-26),\"x\")","v":"x"},{"$f":"IF($E30=\"Y\",INDEX(OIQraw,ROW(),Setup!$C$5+COLUMN()-26),\"x\")","v":"x"},{"$f":"IF($E30=\"Y\",INDEX(OIQraw,ROW(),Setup!$C$5+COLUMN()-26),\"x\")","v":"x"},{"$f":"IF($E30=\"Y\",INDEX(OIQraw,ROW(),Setup!$C$5+COLUMN()-26),\"x\")","v":"x"},{"$f":"IF($E30=\"Y\",INDEX(OIQraw,ROW(),Setup!$C$5+COLUMN()-26),\"x\")","v":"x"},{"$f":"IF($E30=\"Y\",INDEX(OIQraw,ROW(),Setup!$C$5+COLUMN()-26),\"x\")","v":"x"},{"$f":"IF($E30=\"Y\",INDEX(OIQraw,ROW(),Setup!$C$5+COLUMN()-26),\"x\")","v":"x"},{"$f":"IF($E30=\"Y\",INDEX(OIQraw,ROW(),Setup!$C$5+COLUMN()-26),\"x\")","v":"x"},{"$f":"IF($E30=\"Y\",INDEX(OIQraw,ROW(),Setup!$C$5+COLUMN()-26),\"x\")","v":"x"},{"$f":"IF($E30=\"Y\",INDEX(OIQraw,ROW(),Setup!$C$5+COLUMN()-26),\"x\")","v":"x"},{"$f":"IF($E30=\"Y\",INDEX(OIQraw,ROW(),Setup!$C$5+COLUMN()-26),\"x\")","v":"x"},{"$f":"IF($E30=\"Y\",INDEX(OIQraw,ROW(),Setup!$C$5+COLUMN()-26),\"x\")","v":"x"},{"$f":"IF($E30=\"Y\",INDEX(OIQraw,ROW(),Setup!$C$5+COLUMN()-26),\"x\")","v":"x"},{"$f":"IF($E30=\"Y\",INDEX(OIQraw,ROW(),Setup!$C$5+COLUMN()-26),\"x\")","v":"x"},{"$f":"IF($E30=\"Y\",INDEX(OIQraw,ROW(),Setup!$C$5+COLUMN()-26),\"x\")","v":"x"},{"$f":"IF($E30=\"Y\",INDEX(OIQraw,ROW(),Setup!$C$5+COLUMN()-26),\"x\")","v":"x"},{"$f":"IF($E30=\"Y\",INDEX(OIQraw,ROW(),Setup!$C$5+COLUMN()-26),\"x\")","v":"x"},{"$f":"IF($E30=\"Y\",INDEX(OIQraw,ROW(),Setup!$C$5+COLUMN()-26),\"x\")","v":"x"},{"$f":"IF($E30=\"Y\",INDEX(OIQraw,ROW(),Setup!$C$5+COLUMN()-26),\"x\")","v":"x"},{"$f":"IF($E30=\"Y\",INDEX(OIQraw,ROW(),Setup!$C$5+COLUMN()-26),\"x\")","v":"x"},{"$f":"IF($E30=\"Y\",INDEX(OIQraw,ROW(),Setup!$C$5+COLUMN()-26),\"x\")","v":"x"},{"$f":"IF($E30=\"Y\",INDEX(OIQraw,ROW(),Setup!$C$5+COLUMN()-26),\"x\")","v":"x"},{"$f":"IF($E30=\"Y\",INDEX(OIQraw,ROW(),Setup!$C$5+COLUMN()-26),\"x\")","v":"x"},{"$f":"IF($E30=\"Y\",INDEX(OIQraw,ROW(),Setup!$C$5+COLUMN()-26),\"x\")","v":"x"},{"$f":"IF($E30=\"Y\",INDEX(OIQraw,ROW(),Setup!$C$5+COLUMN()-26),\"x\")","v":"x"},{"$f":"IF($E30=\"Y\",INDEX(OIQraw,ROW(),Setup!$C$5+COLUMN()-26),\"x\")","v":"x"},{"$f":"IF($E30=\"Y\",INDEX(OIQraw,ROW(),Setup!$C$5+COLUMN()-26),\"x\")","v":"x"},{"$f":"IF($E30=\"Y\",INDEX(OIQraw,ROW(),Setup!$C$5+COLUMN()-26),\"x\")","v":"x"},{"$f":"IF($E30=\"Y\",INDEX(OIQraw,ROW(),Setup!$C$5+COLUMN()-26),\"x\")","v":"x"},{"$f":"IF($E30=\"Y\",INDEX(OIQraw,ROW(),Setup!$C$5+COLUMN()-26),\"x\")","v":"x"},{"$f":"IF($E30=\"Y\",INDEX(OIQraw,ROW(),Setup!$C$5+COLUMN()-26),\"x\")","v":"x"},{"$f":"IF($E30=\"Y\",INDEX(OIQraw,ROW(),Setup!$C$5+COLUMN()-26),\"x\")","v":"x"},{"$f":"IF($E30=\"Y\",INDEX(OIQraw,ROW(),Setup!$C$5+COLUMN()-26),\"x\")","v":"x"},{"$f":"IF($E30=\"Y\",INDEX(OIQraw,ROW(),Setup!$C$5+COLUMN()-26),\"x\")","v":"x"},{"$f":"IF($E30=\"Y\",INDEX(OIQraw,ROW(),Setup!$C$5+COLUMN()-26),\"x\")","v":"x"},{"$f":"IF($E30=\"Y\",INDEX(OIQraw,ROW(),Setup!$C$5+COLUMN()-26),\"x\")","v":"x"},{"$f":"IF($E30=\"Y\",INDEX(OIQraw,ROW(),Setup!$C$5+COLUMN()-26),\"x\")","v":"x"},{"$f":"IF($E30=\"Y\",INDEX(OIQraw,ROW(),Setup!$C$5+COLUMN()-26),\"x\")","v":"x"},{"$f":"IF($E30=\"Y\",INDEX(OIQraw,ROW(),Setup!$C$5+COLUMN()-26),\"x\")","v":"x"},{"$f":"IF($E30=\"Y\",INDEX(OIQraw,ROW(),Setup!$C$5+COLUMN()-26),\"x\")","v":"x"},{"$f":"IF($E30=\"Y\",INDEX(OIQraw,ROW(),Setup!$C$5+COLUMN()-26),\"x\")","v":"x"},{"$f":"IF($E30=\"Y\",INDEX(OIQraw,ROW(),Setup!$C$5+COLUMN()-26),\"x\")","v":"x"}]
[1,"","",{"$f":"IF(ISERROR(FIND(\"Withdrew\",RawScores!B35)),RawScores!B35,RIGHT(RawScores!B35,LEN(RawScores!B35)-17))&\", \"&RawScores!C35","v":", "},{"$f":"IF(OR(ISERROR(FIND(\"Withdrew\",RawScores!B35))=FALSE,INDEX(OIQraw,ROW(),LastInputCol-3)=0),\"N\",IF(AND(Setup!$B$22=\"Yes\",INDEX(OIQraw,ROW(),LastInputCol)=1),\"N\",\"Y\"))","v":"N"},"X","X","X",{"$f":"IF(AND(ISNUMBER(F31),F31>Setup!$B$14-1),1,0)","v":0},{"$f":"IF(AND(F31>Setup!$B$14-1,Conv!H31<5),1,0)","v":0},{"$f":"IF(AND(F31>Setup!$B$14-1,Conv!G31=\"F\"),1,0)","v":0},"","","","","","","","","","","","","X","X",{"$f":"IF($E31=\"Y\",INDEX(OIQraw,ROW(),Setup!$C$5+COLUMN()-26),\"x\")","v":"x"},{"$f":"IF($E31=\"Y\",INDEX(OIQraw,ROW(),Setup!$C$5+COLUMN()-26),\"x\")","v":"x"},{"$f":"IF($E31=\"Y\",INDEX(OIQraw,ROW(),Setup!$C$5+COLUMN()-26),\"x\")","v":"x"},{"$f":"IF($E31=\"Y\",INDEX(OIQraw,ROW(),Setup!$C$5+COLUMN()-26),\"x\")","v":"x"},{"$f":"IF($E31=\"Y\",INDEX(OIQraw,ROW(),Setup!$C$5+COLUMN()-26),\"x\")","v":"x"},{"$f":"IF($E31=\"Y\",INDEX(OIQraw,ROW(),Setup!$C$5+COLUMN()-26),\"x\")","v":"x"},{"$f":"IF($E31=\"Y\",INDEX(OIQraw,ROW(),Setup!$C$5+COLUMN()-26),\"x\")","v":"x"},{"$f":"IF($E31=\"Y\",INDEX(OIQraw,ROW(),Setup!$C$5+COLUMN()-26),\"x\")","v":"x"},{"$f":"IF($E31=\"Y\",INDEX(OIQraw,ROW(),Setup!$C$5+COLUMN()-26),\"x\")","v":"x"},{"$f":"IF($E31=\"Y\",INDEX(OIQraw,ROW(),Setup!$C$5+COLUMN()-26),\"x\")","v":"x"},{"$f":"IF($E31=\"Y\",INDEX(OIQraw,ROW(),Setup!$C$5+COLUMN()-26),\"x\")","v":"x"},{"$f":"IF($E31=\"Y\",INDEX(OIQraw,ROW(),Setup!$C$5+COLUMN()-26),\"x\")","v":"x"},{"$f":"IF($E31=\"Y\",INDEX(OIQraw,ROW(),Setup!$C$5+COLUMN()-26),\"x\")","v":"x"},{"$f":"IF($E31=\"Y\",INDEX(OIQraw,ROW(),Setup!$C$5+COLUMN()-26),\"x\")","v":"x"},{"$f":"IF($E31=\"Y\",INDEX(OIQraw,ROW(),Setup!$C$5+COLUMN()-26),\"x\")","v":"x"},{"$f":"IF($E31=\"Y\",INDEX(OIQraw,ROW(),Setup!$C$5+COLUMN()-26),\"x\")","v":"x"},{"$f":"IF($E31=\"Y\",INDEX(OIQraw,ROW(),Setup!$C$5+COLUMN()-26),\"x\")","v":"x"},{"$f":"IF($E31=\"Y\",INDEX(OIQraw,ROW(),Setup!$C$5+COLUMN()-26),\"x\")","v":"x"},{"$f":"IF($E31=\"Y\",INDEX(OIQraw,ROW(),Setup!$C$5+COLUMN()-26),\"x\")","v":"x"},{"$f":"IF($E31=\"Y\",INDEX(OIQraw,ROW(),Setup!$C$5+COLUMN()-26),\"x\")","v":"x"},{"$f":"IF($E31=\"Y\",INDEX(OIQraw,ROW(),Setup!$C$5+COLUMN()-26),\"x\")","v":"x"},{"$f":"IF($E31=\"Y\",INDEX(OIQraw,ROW(),Setup!$C$5+COLUMN()-26),\"x\")","v":"x"},{"$f":"IF($E31=\"Y\",INDEX(OIQraw,ROW(),Setup!$C$5+COLUMN()-26),\"x\")","v":"x"},{"$f":"IF($E31=\"Y\",INDEX(OIQraw,ROW(),Setup!$C$5+COLUMN()-26),\"x\")","v":"x"},{"$f":"IF($E31=\"Y\",INDEX(OIQraw,ROW(),Setup!$C$5+COLUMN()-26),\"x\")","v":"x"},{"$f":"IF($E31=\"Y\",INDEX(OIQraw,ROW(),Setup!$C$5+COLUMN()-26),\"x\")","v":"x"},{"$f":"IF($E31=\"Y\",INDEX(OIQraw,ROW(),Setup!$C$5+COLUMN()-26),\"x\")","v":"x"},{"$f":"IF($E31=\"Y\",INDEX(OIQraw,ROW(),Setup!$C$5+COLUMN()-26),\"x\")","v":"x"},{"$f":"IF($E31=\"Y\",INDEX(OIQraw,ROW(),Setup!$C$5+COLUMN()-26),\"x\")","v":"x"},{"$f":"IF($E31=\"Y\",INDEX(OIQraw,ROW(),Setup!$C$5+COLUMN()-26),\"x\")","v":"x"},{"$f":"IF($E31=\"Y\",INDEX(OIQraw,ROW(),Setup!$C$5+COLUMN()-26),\"x\")","v":"x"},{"$f":"IF($E31=\"Y\",INDEX(OIQraw,ROW(),Setup!$C$5+COLUMN()-26),\"x\")","v":"x"},{"$f":"IF($E31=\"Y\",INDEX(OIQraw,ROW(),Setup!$C$5+COLUMN()-26),\"x\")","v":"x"},{"$f":"IF($E31=\"Y\",INDEX(OIQraw,ROW(),Setup!$C$5+COLUMN()-26),\"x\")","v":"x"},{"$f":"IF($E31=\"Y\",INDEX(OIQraw,ROW(),Setup!$C$5+COLUMN()-26),\"x\")","v":"x"},{"$f":"IF($E31=\"Y\",INDEX(OIQraw,ROW(),Setup!$C$5+COLUMN()-26),\"x\")","v":"x"},{"$f":"IF($E31=\"Y\",INDEX(OIQraw,ROW(),Setup!$C$5+COLUMN()-26),\"x\")","v":"x"},{"$f":"IF($E31=\"Y\",INDEX(OIQraw,ROW(),Setup!$C$5+COLUMN()-26),\"x\")","v":"x"},{"$f":"IF($E31=\"Y\",INDEX(OIQraw,ROW(),Setup!$C$5+COLUMN()-26),\"x\")","v":"x"},{"$f":"IF($E31=\"Y\",INDEX(OIQraw,ROW(),Setup!$C$5+COLUMN()-26),\"x\")","v":"x"},{"$f":"IF($E31=\"Y\",INDEX(OIQraw,ROW(),Setup!$C$5+COLUMN()-26),\"x\")","v":"x"},{"$f":"IF($E31=\"Y\",INDEX(OIQraw,ROW(),Setup!$C$5+COLUMN()-26),\"x\")","v":"x"},{"$f":"IF($E31=\"Y\",INDEX(OIQraw,ROW(),Setup!$C$5+COLUMN()-26),\"x\")","v":"x"},{"$f":"IF($E31=\"Y\",INDEX(OIQraw,ROW(),Setup!$C$5+COLUMN()-26),\"x\")","v":"x"},{"$f":"IF($E31=\"Y\",INDEX(OIQraw,ROW(),Setup!$C$5+COLUMN()-26),\"x\")","v":"x"},{"$f":"IF($E31=\"Y\",INDEX(OIQraw,ROW(),Setup!$C$5+COLUMN()-26),\"x\")","v":"x"},{"$f":"IF($E31=\"Y\",INDEX(OIQraw,ROW(),Setup!$C$5+COLUMN()-26),\"x\")","v":"x"},{"$f":"IF($E31=\"Y\",INDEX(OIQraw,ROW(),Setup!$C$5+COLUMN()-26),\"x\")","v":"x"},{"$f":"IF($E31=\"Y\",INDEX(OIQraw,ROW(),Setup!$C$5+COLUMN()-26),\"x\")","v":"x"},{"$f":"IF($E31=\"Y\",INDEX(OIQraw,ROW(),Setup!$C$5+COLUMN()-26),\"x\")","v":"x"},{"$f":"IF($E31=\"Y\",INDEX(OIQraw,ROW(),Setup!$C$5+COLUMN()-26),\"x\")","v":"x"},{"$f":"IF($E31=\"Y\",INDEX(OIQraw,ROW(),Setup!$C$5+COLUMN()-26),\"x\")","v":"x"},{"$f":"IF($E31=\"Y\",INDEX(OIQraw,ROW(),Setup!$C$5+COLUMN()-26),\"x\")","v":"x"},{"$f":"IF($E31=\"Y\",INDEX(OIQraw,ROW(),Setup!$C$5+COLUMN()-26),\"x\")","v":"x"},{"$f":"IF($E31=\"Y\",INDEX(OIQraw,ROW(),Setup!$C$5+COLUMN()-26),\"x\")","v":"x"},{"$f":"IF($E31=\"Y\",INDEX(OIQraw,ROW(),Setup!$C$5+COLUMN()-26),\"x\")","v":"x"},{"$f":"IF($E31=\"Y\",INDEX(OIQraw,ROW(),Setup!$C$5+COLUMN()-26),\"x\")","v":"x"},{"$f":"IF($E31=\"Y\",INDEX(OIQraw,ROW(),Setup!$C$5+COLUMN()-26),\"x\")","v":"x"},{"$f":"IF($E31=\"Y\",INDEX(OIQraw,ROW(),Setup!$C$5+COLUMN()-26),\"x\")","v":"x"},{"$f":"IF($E31=\"Y\",INDEX(OIQraw,ROW(),Setup!$C$5+COLUMN()-26),\"x\")","v":"x"},{"$f":"IF($E31=\"Y\",INDEX(OIQraw,ROW(),Setup!$C$5+COLUMN()-26),\"x\")","v":"x"},{"$f":"IF($E31=\"Y\",INDEX(OIQraw,ROW(),Setup!$C$5+COLUMN()-26),\"x\")","v":"x"},{"$f":"IF($E31=\"Y\",INDEX(OIQraw,ROW(),Setup!$C$5+COLUMN()-26),\"x\")","v":"x"},{"$f":"IF($E31=\"Y\",INDEX(OIQraw,ROW(),Setup!$C$5+COLUMN()-26),\"x\")","v":"x"},{"$f":"IF($E31=\"Y\",INDEX(OIQraw,ROW(),Setup!$C$5+COLUMN()-26),\"x\")","v":"x"},{"$f":"IF($E31=\"Y\",INDEX(OIQraw,ROW(),Setup!$C$5+COLUMN()-26),\"x\")","v":"x"},{"$f":"IF($E31=\"Y\",INDEX(OIQraw,ROW(),Setup!$C$5+COLUMN()-26),\"x\")","v":"x"},{"$f":"IF($E31=\"Y\",INDEX(OIQraw,ROW(),Setup!$C$5+COLUMN()-26),\"x\")","v":"x"},{"$f":"IF($E31=\"Y\",INDEX(OIQraw,ROW(),Setup!$C$5+COLUMN()-26),\"x\")","v":"x"},{"$f":"IF($E31=\"Y\",INDEX(OIQraw,ROW(),Setup!$C$5+COLUMN()-26),\"x\")","v":"x"},{"$f":"IF($E31=\"Y\",INDEX(OIQraw,ROW(),Setup!$C$5+COLUMN()-26),\"x\")","v":"x"},{"$f":"IF($E31=\"Y\",INDEX(OIQraw,ROW(),Setup!$C$5+COLUMN()-26),\"x\")","v":"x"},{"$f":"IF($E31=\"Y\",INDEX(OIQraw,ROW(),Setup!$C$5+COLUMN()-26),\"x\")","v":"x"},{"$f":"IF($E31=\"Y\",INDEX(OIQraw,ROW(),Setup!$C$5+COLUMN()-26),\"x\")","v":"x"},{"$f":"IF($E31=\"Y\",INDEX(OIQraw,ROW(),Setup!$C$5+COLUMN()-26),\"x\")","v":"x"},{"$f":"IF($E31=\"Y\",INDEX(OIQraw,ROW(),Setup!$C$5+COLUMN()-26),\"x\")","v":"x"},{"$f":"IF($E31=\"Y\",INDEX(OIQraw,ROW(),Setup!$C$5+COLUMN()-26),\"x\")","v":"x"},{"$f":"IF($E31=\"Y\",INDEX(OIQraw,ROW(),Setup!$C$5+COLUMN()-26),\"x\")","v":"x"},{"$f":"IF($E31=\"Y\",INDEX(OIQraw,ROW(),Setup!$C$5+COLUMN()-26),\"x\")","v":"x"},{"$f":"IF($E31=\"Y\",INDEX(OIQraw,ROW(),Setup!$C$5+COLUMN()-26),\"x\")","v":"x"},{"$f":"IF($E31=\"Y\",INDEX(OIQraw,ROW(),Setup!$C$5+COLUMN()-26),\"x\")","v":"x"},{"$f":"IF($E31=\"Y\",INDEX(OIQraw,ROW(),Setup!$C$5+COLUMN()-26),\"x\")","v":"x"},{"$f":"IF($E31=\"Y\",INDEX(OIQraw,ROW(),Setup!$C$5+COLUMN()-26),\"x\")","v":"x"},{"$f":"IF($E31=\"Y\",INDEX(OIQraw,ROW(),Setup!$C$5+COLUMN()-26),\"x\")","v":"x"},{"$f":"IF($E31=\"Y\",INDEX(OIQraw,ROW(),Setup!$C$5+COLUMN()-26),\"x\")","v":"x"},{"$f":"IF($E31=\"Y\",INDEX(OIQraw,ROW(),Setup!$C$5+COLUMN()-26),\"x\")","v":"x"},{"$f":"IF($E31=\"Y\",INDEX(OIQraw,ROW(),Setup!$C$5+COLUMN()-26),\"x\")","v":"x"},{"$f":"IF($E31=\"Y\",INDEX(OIQraw,ROW(),Setup!$C$5+COLUMN()-26),\"x\")","v":"x"},{"$f":"IF($E31=\"Y\",INDEX(OIQraw,ROW(),Setup!$C$5+COLUMN()-26),\"x\")","v":"x"},{"$f":"IF($E31=\"Y\",INDEX(OIQraw,ROW(),Setup!$C$5+COLUMN()-26),\"x\")","v":"x"},{"$f":"IF($E31=\"Y\",INDEX(OIQraw,ROW(),Setup!$C$5+COLUMN()-26),\"x\")","v":"x"},{"$f":"IF($E31=\"Y\",INDEX(OIQraw,ROW(),Setup!$C$5+COLUMN()-26),\"x\")","v":"x"},{"$f":"IF($E31=\"Y\",INDEX(OIQraw,ROW(),Setup!$C$5+COLUMN()-26),\"x\")","v":"x"},{"$f":"IF($E31=\"Y\",INDEX(OIQraw,ROW(),Setup!$C$5+COLUMN()-26),\"x\")","v":"x"},{"$f":"IF($E31=\"Y\",INDEX(OIQraw,ROW(),Setup!$C$5+COLUMN()-26),\"x\")","v":"x"},{"$f":"IF($E31=\"Y\",INDEX(OIQraw,ROW(),Setup!$C$5+COLUMN()-26),\"x\")","v":"x"},{"$f":"IF($E31=\"Y\",INDEX(OIQraw,ROW(),Setup!$C$5+COLUMN()-26),\"x\")","v":"x"},{"$f":"IF($E31=\"Y\",INDEX(OIQraw,ROW(),Setup!$C$5+COLUMN()-26),\"x\")","v":"x"},{"$f":"IF($E31=\"Y\",INDEX(OIQraw,ROW(),Setup!$C$5+COLUMN()-26),\"x\")","v":"x"},{"$f":"IF($E31=\"Y\",INDEX(OIQraw,ROW(),Setup!$C$5+COLUMN()-26),\"x\")","v":"x"},{"$f":"IF($E31=\"Y\",INDEX(OIQraw,ROW(),Setup!$C$5+COLUMN()-26),\"x\")","v":"x"},{"$f":"IF($E31=\"Y\",INDEX(OIQraw,ROW(),Setup!$C$5+COLUMN()-26),\"x\")","v":"x"},{"$f":"IF($E31=\"Y\",INDEX(OIQraw,ROW(),Setup!$C$5+COLUMN()-26),\"x\")","v":"x"},{"$f":"IF($E31=\"Y\",INDEX(OIQraw,ROW(),Setup!$C$5+COLUMN()-26),\"x\")","v":"x"},{"$f":"IF($E31=\"Y\",INDEX(OIQraw,ROW(),Setup!$C$5+COLUMN()-26),\"x\")","v":"x"},{"$f":"IF($E31=\"Y\",INDEX(OIQraw,ROW(),Setup!$C$5+COLUMN()-26),\"x\")","v":"x"},{"$f":"IF($E31=\"Y\",INDEX(OIQraw,ROW(),Setup!$C$5+COLUMN()-26),\"x\")","v":"x"},{"$f":"IF($E31=\"Y\",INDEX(OIQraw,ROW(),Setup!$C$5+COLUMN()-26),\"x\")","v":"x"},{"$f":"IF($E31=\"Y\",INDEX(OIQraw,ROW(),Setup!$C$5+COLUMN()-26),\"x\")","v":"x"},{"$f":"IF($E31=\"Y\",INDEX(OIQraw,ROW(),Setup!$C$5+COLUMN()-26),\"x\")","v":"x"},{"$f":"IF($E31=\"Y\",INDEX(OIQraw,ROW(),Setup!$C$5+COLUMN()-26),\"x\")","v":"x"},{"$f":"IF($E31=\"Y\",INDEX(OIQraw,ROW(),Setup!$C$5+COLUMN()-26),\"x\")","v":"x"},{"$f":"IF($E31=\"Y\",INDEX(OIQraw,ROW(),Setup!$C$5+COLUMN()-26),\"x\")","v":"x"},{"$f":"IF($E31=\"Y\",INDEX(OIQraw,ROW(),Setup!$C$5+COLUMN()-26),\"x\")","v":"x"},{"$f":"IF($E31=\"Y\",INDEX(OIQraw,ROW(),Setup!$C$5+COLUMN()-26),\"x\")","v":"x"},{"$f":"IF($E31=\"Y\",INDEX(OIQraw,ROW(),Setup!$C$5+COLUMN()-26),\"x\")","v":"x"},{"$f":"IF($E31=\"Y\",INDEX(OIQraw,ROW(),Setup!$C$5+COLUMN()-26),\"x\")","v":"x"},{"$f":"IF($E31=\"Y\",INDEX(OIQraw,ROW(),Setup!$C$5+COLUMN()-26),\"x\")","v":"x"},{"$f":"IF($E31=\"Y\",INDEX(OIQraw,ROW(),Setup!$C$5+COLUMN()-26),\"x\")","v":"x"},{"$f":"IF($E31=\"Y\",INDEX(OIQraw,ROW(),Setup!$C$5+COLUMN()-26),\"x\")","v":"x"},{"$f":"IF($E31=\"Y\",INDEX(OIQraw,ROW(),Setup!$C$5+COLUMN()-26),\"x\")","v":"x"},{"$f":"IF($E31=\"Y\",INDEX(OIQraw,ROW(),Setup!$C$5+COLUMN()-26),\"x\")","v":"x"},{"$f":"IF($E31=\"Y\",INDEX(OIQraw,ROW(),Setup!$C$5+COLUMN()-26),\"x\")","v":"x"},{"$f":"IF($E31=\"Y\",INDEX(OIQraw,ROW(),Setup!$C$5+COLUMN()-26),\"x\")","v":"x"},{"$f":"IF($E31=\"Y\",INDEX(OIQraw,ROW(),Setup!$C$5+COLUMN()-26),\"x\")","v":"x"},{"$f":"IF($E31=\"Y\",INDEX(OIQraw,ROW(),Setup!$C$5+COLUMN()-26),\"x\")","v":"x"},{"$f":"IF($E31=\"Y\",INDEX(OIQraw,ROW(),Setup!$C$5+COLUMN()-26),\"x\")","v":"x"},{"$f":"IF($E31=\"Y\",INDEX(OIQraw,ROW(),Setup!$C$5+COLUMN()-26),\"x\")","v":"x"},{"$f":"IF($E31=\"Y\",INDEX(OIQraw,ROW(),Setup!$C$5+COLUMN()-26),\"x\")","v":"x"},{"$f":"IF($E31=\"Y\",INDEX(OIQraw,ROW(),Setup!$C$5+COLUMN()-26),\"x\")","v":"x"},{"$f":"IF($E31=\"Y\",INDEX(OIQraw,ROW(),Setup!$C$5+COLUMN()-26),\"x\")","v":"x"},{"$f":"IF($E31=\"Y\",INDEX(OIQraw,ROW(),Setup!$C$5+COLUMN()-26),\"x\")","v":"x"},{"$f":"IF($E31=\"Y\",INDEX(OIQraw,ROW(),Setup!$C$5+COLUMN()-26),\"x\")","v":"x"},{"$f":"IF($E31=\"Y\",INDEX(OIQraw,ROW(),Setup!$C$5+COLUMN()-26),\"x\")","v":"x"},{"$f":"IF($E31=\"Y\",INDEX(OIQraw,ROW(),Setup!$C$5+COLUMN()-26),\"x\")","v":"x"},{"$f":"IF($E31=\"Y\",INDEX(OIQraw,ROW(),Setup!$C$5+COLUMN()-26),\"x\")","v":"x"},{"$f":"IF($E31=\"Y\",INDEX(OIQraw,ROW(),Setup!$C$5+COLUMN()-26),\"x\")","v":"x"},{"$f":"IF($E31=\"Y\",INDEX(OIQraw,ROW(),Setup!$C$5+COLUMN()-26),\"x\")","v":"x"},{"$f":"IF($E31=\"Y\",INDEX(OIQraw,ROW(),Setup!$C$5+COLUMN()-26),\"x\")","v":"x"},{"$f":"IF($E31=\"Y\",INDEX(OIQraw,ROW(),Setup!$C$5+COLUMN()-26),\"x\")","v":"x"},{"$f":"IF($E31=\"Y\",INDEX(OIQraw,ROW(),Setup!$C$5+COLUMN()-26),\"x\")","v":"x"},{"$f":"IF($E31=\"Y\",INDEX(OIQraw,ROW(),Setup!$C$5+COLUMN()-26),\"x\")","v":"x"},{"$f":"IF($E31=\"Y\",INDEX(OIQraw,ROW(),Setup!$C$5+COLUMN()-26),\"x\")","v":"x"},{"$f":"IF($E31=\"Y\",INDEX(OIQraw,ROW(),Setup!$C$5+COLUMN()-26),\"x\")","v":"x"},{"$f":"IF($E31=\"Y\",INDEX(OIQraw,ROW(),Setup!$C$5+COLUMN()-26),\"x\")","v":"x"},{"$f":"IF($E31=\"Y\",INDEX(OIQraw,ROW(),Setup!$C$5+COLUMN()-26),\"x\")","v":"x"},{"$f":"IF($E31=\"Y\",INDEX(OIQraw,ROW(),Setup!$C$5+COLUMN()-26),\"x\")","v":"x"},{"$f":"IF($E31=\"Y\",INDEX(OIQraw,ROW(),Setup!$C$5+COLUMN()-26),\"x\")","v":"x"},{"$f":"IF($E31=\"Y\",INDEX(OIQraw,ROW(),Setup!$C$5+COLUMN()-26),\"x\")","v":"x"},{"$f":"IF($E31=\"Y\",INDEX(OIQraw,ROW(),Setup!$C$5+COLUMN()-26),\"x\")","v":"x"},{"$f":"IF($E31=\"Y\",INDEX(OIQraw,ROW(),Setup!$C$5+COLUMN()-26),\"x\")","v":"x"},{"$f":"IF($E31=\"Y\",INDEX(OIQraw,ROW(),Setup!$C$5+COLUMN()-26),\"x\")","v":"x"},{"$f":"IF($E31=\"Y\",INDEX(OIQraw,ROW(),Setup!$C$5+COLUMN()-26),\"x\")","v":"x"},{"$f":"IF($E31=\"Y\",INDEX(OIQraw,ROW(),Setup!$C$5+COLUMN()-26),\"x\")","v":"x"},{"$f":"IF($E31=\"Y\",INDEX(OIQraw,ROW(),Setup!$C$5+COLUMN()-26),\"x\")","v":"x"},{"$f":"IF($E31=\"Y\",INDEX(OIQraw,ROW(),Setup!$C$5+COLUMN()-26),\"x\")","v":"x"},{"$f":"IF($E31=\"Y\",INDEX(OIQraw,ROW(),Setup!$C$5+COLUMN()-26),\"x\")","v":"x"},{"$f":"IF($E31=\"Y\",INDEX(OIQraw,ROW(),Setup!$C$5+COLUMN()-26),\"x\")","v":"x"},{"$f":"IF($E31=\"Y\",INDEX(OIQraw,ROW(),Setup!$C$5+COLUMN()-26),\"x\")","v":"x"},{"$f":"IF($E31=\"Y\",INDEX(OIQraw,ROW(),Setup!$C$5+COLUMN()-26),\"x\")","v":"x"},{"$f":"IF($E31=\"Y\",INDEX(OIQraw,ROW(),Setup!$C$5+COLUMN()-26),\"x\")","v":"x"},{"$f":"IF($E31=\"Y\",INDEX(OIQraw,ROW(),Setup!$C$5+COLUMN()-26),\"x\")","v":"x"},{"$f":"IF($E31=\"Y\",INDEX(OIQraw,ROW(),Setup!$C$5+COLUMN()-26),\"x\")","v":"x"},{"$f":"IF($E31=\"Y\",INDEX(OIQraw,ROW(),Setup!$C$5+COLUMN()-26),\"x\")","v":"x"},{"$f":"IF($E31=\"Y\",INDEX(OIQraw,ROW(),Setup!$C$5+COLUMN()-26),\"x\")","v":"x"},{"$f":"IF($E31=\"Y\",INDEX(OIQraw,ROW(),Setup!$C$5+COLUMN()-26),\"x\")","v":"x"},{"$f":"IF($E31=\"Y\",INDEX(OIQraw,ROW(),Setup!$C$5+COLUMN()-26),\"x\")","v":"x"},{"$f":"IF($E31=\"Y\",INDEX(OIQraw,ROW(),Setup!$C$5+COLUMN()-26),\"x\")","v":"x"},{"$f":"IF($E31=\"Y\",INDEX(OIQraw,ROW(),Setup!$C$5+COLUMN()-26),\"x\")","v":"x"},{"$f":"IF($E31=\"Y\",INDEX(OIQraw,ROW(),Setup!$C$5+COLUMN()-26),\"x\")","v":"x"},{"$f":"IF($E31=\"Y\",INDEX(OIQraw,ROW(),Setup!$C$5+COLUMN()-26),\"x\")","v":"x"},{"$f":"IF($E31=\"Y\",INDEX(OIQraw,ROW(),Setup!$C$5+COLUMN()-26),\"x\")","v":"x"},{"$f":"IF($E31=\"Y\",INDEX(OIQraw,ROW(),Setup!$C$5+COLUMN()-26),\"x\")","v":"x"},{"$f":"IF($E31=\"Y\",INDEX(OIQraw,ROW(),Setup!$C$5+COLUMN()-26),\"x\")","v":"x"},{"$f":"IF($E31=\"Y\",INDEX(OIQraw,ROW(),Setup!$C$5+COLUMN()-26),\"x\")","v":"x"},{"$f":"IF($E31=\"Y\",INDEX(OIQraw,ROW(),Setup!$C$5+COLUMN()-26),\"x\")","v":"x"},{"$f":"IF($E31=\"Y\",INDEX(OIQraw,ROW(),Setup!$C$5+COLUMN()-26),\"x\")","v":"x"},{"$f":"IF($E31=\"Y\",INDEX(OIQraw,ROW(),Setup!$C$5+COLUMN()-26),\"x\")","v":"x"},{"$f":"IF($E31=\"Y\",INDEX(OIQraw,ROW(),Setup!$C$5+COLUMN()-26),\"x\")","v":"x"},{"$f":"IF($E31=\"Y\",INDEX(OIQraw,ROW(),Setup!$C$5+COLUMN()-26),\"x\")","v":"x"},{"$f":"IF($E31=\"Y\",INDEX(OIQraw,ROW(),Setup!$C$5+COLUMN()-26),\"x\")","v":"x"},{"$f":"IF($E31=\"Y\",INDEX(OIQraw,ROW(),Setup!$C$5+COLUMN()-26),\"x\")","v":"x"},{"$f":"IF($E31=\"Y\",INDEX(OIQraw,ROW(),Setup!$C$5+COLUMN()-26),\"x\")","v":"x"},{"$f":"IF($E31=\"Y\",INDEX(OIQraw,ROW(),Setup!$C$5+COLUMN()-26),\"x\")","v":"x"},{"$f":"IF($E31=\"Y\",INDEX(OIQraw,ROW(),Setup!$C$5+COLUMN()-26),\"x\")","v":"x"},{"$f":"IF($E31=\"Y\",INDEX(OIQraw,ROW(),Setup!$C$5+COLUMN()-26),\"x\")","v":"x"},{"$f":"IF($E31=\"Y\",INDEX(OIQraw,ROW(),Setup!$C$5+COLUMN()-26),\"x\")","v":"x"},{"$f":"IF($E31=\"Y\",INDEX(OIQraw,ROW(),Setup!$C$5+COLUMN()-26),\"x\")","v":"x"},{"$f":"IF($E31=\"Y\",INDEX(OIQraw,ROW(),Setup!$C$5+COLUMN()-26),\"x\")","v":"x"},{"$f":"IF($E31=\"Y\",INDEX(OIQraw,ROW(),Setup!$C$5+COLUMN()-26),\"x\")","v":"x"},{"$f":"IF($E31=\"Y\",INDEX(OIQraw,ROW(),Setup!$C$5+COLUMN()-26),\"x\")","v":"x"},{"$f":"IF($E31=\"Y\",INDEX(OIQraw,ROW(),Setup!$C$5+COLUMN()-26),\"x\")","v":"x"},{"$f":"IF($E31=\"Y\",INDEX(OIQraw,ROW(),Setup!$C$5+COLUMN()-26),\"x\")","v":"x"},{"$f":"IF($E31=\"Y\",INDEX(OIQraw,ROW(),Setup!$C$5+COLUMN()-26),\"x\")","v":"x"},{"$f":"IF($E31=\"Y\",INDEX(OIQraw,ROW(),Setup!$C$5+COLUMN()-26),\"x\")","v":"x"},{"$f":"IF($E31=\"Y\",INDEX(OIQraw,ROW(),Setup!$C$5+COLUMN()-26),\"x\")","v":"x"},{"$f":"IF($E31=\"Y\",INDEX(OIQraw,ROW(),Setup!$C$5+COLUMN()-26),\"x\")","v":"x"},{"$f":"IF($E31=\"Y\",INDEX(OIQraw,ROW(),Setup!$C$5+COLUMN()-26),\"x\")","v":"x"},{"$f":"IF($E31=\"Y\",INDEX(OIQraw,ROW(),Setup!$C$5+COLUMN()-26),\"x\")","v":"x"},{"$f":"IF($E31=\"Y\",INDEX(OIQraw,ROW(),Setup!$C$5+COLUMN()-26),\"x\")","v":"x"},{"$f":"IF($E31=\"Y\",INDEX(OIQraw,ROW(),Setup!$C$5+COLUMN()-26),\"x\")","v":"x"},{"$f":"IF($E31=\"Y\",INDEX(OIQraw,ROW(),Setup!$C$5+COLUMN()-26),\"x\")","v":"x"},{"$f":"IF($E31=\"Y\",INDEX(OIQraw,ROW(),Setup!$C$5+COLUMN()-26),\"x\")","v":"x"},{"$f":"IF($E31=\"Y\",INDEX(OIQraw,ROW(),Setup!$C$5+COLUMN()-26),\"x\")","v":"x"},{"$f":"IF($E31=\"Y\",INDEX(OIQraw,ROW(),Setup!$C$5+COLUMN()-26),\"x\")","v":"x"},{"$f":"IF($E31=\"Y\",INDEX(OIQraw,ROW(),Setup!$C$5+COLUMN()-26),\"x\")","v":"x"},{"$f":"IF($E31=\"Y\",INDEX(OIQraw,ROW(),Setup!$C$5+COLUMN()-26),\"x\")","v":"x"},{"$f":"IF($E31=\"Y\",INDEX(OIQraw,ROW(),Setup!$C$5+COLUMN()-26),\"x\")","v":"x"},{"$f":"IF($E31=\"Y\",INDEX(OIQraw,ROW(),Setup!$C$5+COLUMN()-26),\"x\")","v":"x"},{"$f":"IF($E31=\"Y\",INDEX(OIQraw,ROW(),Setup!$C$5+COLUMN()-26),\"x\")","v":"x"},{"$f":"IF($E31=\"Y\",INDEX(OIQraw,ROW(),Setup!$C$5+COLUMN()-26),\"x\")","v":"x"},{"$f":"IF($E31=\"Y\",INDEX(OIQraw,ROW(),Setup!$C$5+COLUMN()-26),\"x\")","v":"x"},{"$f":"IF($E31=\"Y\",INDEX(OIQraw,ROW(),Setup!$C$5+COLUMN()-26),\"x\")","v":"x"},{"$f":"IF($E31=\"Y\",INDEX(OIQraw,ROW(),Setup!$C$5+COLUMN()-26),\"x\")","v":"x"},{"$f":"IF($E31=\"Y\",INDEX(OIQraw,ROW(),Setup!$C$5+COLUMN()-26),\"x\")","v":"x"},{"$f":"IF($E31=\"Y\",INDEX(OIQraw,ROW(),Setup!$C$5+COLUMN()-26),\"x\")","v":"x"},{"$f":"IF($E31=\"Y\",INDEX(OIQraw,ROW(),Setup!$C$5+COLUMN()-26),\"x\")","v":"x"},{"$f":"IF($E31=\"Y\",INDEX(OIQraw,ROW(),Setup!$C$5+COLUMN()-26),\"x\")","v":"x"},{"$f":"IF($E31=\"Y\",INDEX(OIQraw,ROW(),Setup!$C$5+COLUMN()-26),\"x\")","v":"x"},{"$f":"IF($E31=\"Y\",INDEX(OIQraw,ROW(),Setup!$C$5+COLUMN()-26),\"x\")","v":"x"},{"$f":"IF($E31=\"Y\",INDEX(OIQraw,ROW(),Setup!$C$5+COLUMN()-26),\"x\")","v":"x"},{"$f":"IF($E31=\"Y\",INDEX(OIQraw,ROW(),Setup!$C$5+COLUMN()-26),\"x\")","v":"x"},{"$f":"IF($E31=\"Y\",INDEX(OIQraw,ROW(),Setup!$C$5+COLUMN()-26),\"x\")","v":"x"},{"$f":"IF($E31=\"Y\",INDEX(OIQraw,ROW(),Setup!$C$5+COLUMN()-26),\"x\")","v":"x"},{"$f":"IF($E31=\"Y\",INDEX(OIQraw,ROW(),Setup!$C$5+COLUMN()-26),\"x\")","v":"x"},{"$f":"IF($E31=\"Y\",INDEX(OIQraw,ROW(),Setup!$C$5+COLUMN()-26),\"x\")","v":"x"},{"$f":"IF($E31=\"Y\",INDEX(OIQraw,ROW(),Setup!$C$5+COLUMN()-26),\"x\")","v":"x"},{"$f":"IF($E31=\"Y\",INDEX(OIQraw,ROW(),Setup!$C$5+COLUMN()-26),\"x\")","v":"x"},{"$f":"IF($E31=\"Y\",INDEX(OIQraw,ROW(),Setup!$C$5+COLUMN()-26),\"x\")","v":"x"},{"$f":"IF($E31=\"Y\",INDEX(OIQraw,ROW(),Setup!$C$5+COLUMN()-26),\"x\")","v":"x"},{"$f":"IF($E31=\"Y\",INDEX(OIQraw,ROW(),Setup!$C$5+COLUMN()-26),\"x\")","v":"x"},{"$f":"IF($E31=\"Y\",INDEX(OIQraw,ROW(),Setup!$C$5+COLUMN()-26),\"x\")","v":"x"},{"$f":"IF($E31=\"Y\",INDEX(OIQraw,ROW(),Setup!$C$5+COLUMN()-26),\"x\")","v":"x"},{"$f":"IF($E31=\"Y\",INDEX(OIQraw,ROW(),Setup!$C$5+COLUMN()-26),\"x\")","v":"x"},{"$f":"IF($E31=\"Y\",INDEX(OIQraw,ROW(),Setup!$C$5+COLUMN()-26),\"x\")","v":"x"},{"$f":"IF($E31=\"Y\",INDEX(OIQraw,ROW(),Setup!$C$5+COLUMN()-26),\"x\")","v":"x"},{"$f":"IF($E31=\"Y\",INDEX(OIQraw,ROW(),Setup!$C$5+COLUMN()-26),\"x\")","v":"x"},{"$f":"IF($E31=\"Y\",INDEX(OIQraw,ROW(),Setup!$C$5+COLUMN()-26),\"x\")","v":"x"},{"$f":"IF($E31=\"Y\",INDEX(OIQraw,ROW(),Setup!$C$5+COLUMN()-26),\"x\")","v":"x"},{"$f":"IF($E31=\"Y\",INDEX(OIQraw,ROW(),Setup!$C$5+COLUMN()-26),\"x\")","v":"x"},{"$f":"IF($E31=\"Y\",INDEX(OIQraw,ROW(),Setup!$C$5+COLUMN()-26),\"x\")","v":"x"},{"$f":"IF($E31=\"Y\",INDEX(OIQraw,ROW(),Setup!$C$5+COLUMN()-26),\"x\")","v":"x"},{"$f":"IF($E31=\"Y\",INDEX(OIQraw,ROW(),Setup!$C$5+COLUMN()-26),\"x\")","v":"x"},{"$f":"IF($E31=\"Y\",INDEX(OIQraw,ROW(),Setup!$C$5+COLUMN()-26),\"x\")","v":"x"},{"$f":"IF($E31=\"Y\",INDEX(OIQraw,ROW(),Setup!$C$5+COLUMN()-26),\"x\")","v":"x"},{"$f":"IF($E31=\"Y\",INDEX(OIQraw,ROW(),Setup!$C$5+COLUMN()-26),\"x\")","v":"x"},{"$f":"IF($E31=\"Y\",INDEX(OIQraw,ROW(),Setup!$C$5+COLUMN()-26),\"x\")","v":"x"},{"$f":"IF($E31=\"Y\",INDEX(OIQraw,ROW(),Setup!$C$5+COLUMN()-26),\"x\")","v":"x"},{"$f":"IF($E31=\"Y\",INDEX(OIQraw,ROW(),Setup!$C$5+COLUMN()-26),\"x\")","v":"x"},{"$f":"IF($E31=\"Y\",INDEX(OIQraw,ROW(),Setup!$C$5+COLUMN()-26),\"x\")","v":"x"},{"$f":"IF($E31=\"Y\",INDEX(OIQraw,ROW(),Setup!$C$5+COLUMN()-26),\"x\")","v":"x"},{"$f":"IF($E31=\"Y\",INDEX(OIQraw,ROW(),Setup!$C$5+COLUMN()-26),\"x\")","v":"x"},{"$f":"IF($E31=\"Y\",INDEX(OIQraw,ROW(),Setup!$C$5+COLUMN()-26),\"x\")","v":"x"}]
[1,"","",{"$f":"IF(ISERROR(FIND(\"Withdrew\",RawScores!B36)),RawScores!B36,RIGHT(RawScores!B36,LEN(RawScores!B36)-17))&\", \"&RawScores!C36","v":", "},{"$f":"IF(OR(ISERROR(FIND(\"Withdrew\",RawScores!B36))=FALSE,INDEX(OIQraw,ROW(),LastInputCol-3)=0),\"N\",IF(AND(Setup!$B$22=\"Yes\",INDEX(OIQraw,ROW(),LastInputCol)=1),\"N\",\"Y\"))","v":"N"},"X","X","X",{"$f":"IF(AND(ISNUMBER(F32),F32>Setup!$B$14-1),1,0)","v":0},{"$f":"IF(AND(F32>Setup!$B$14-1,Conv!H32<5),1,0)","v":0},{"$f":"IF(AND(F32>Setup!$B$14-1,Conv!G32=\"F\"),1,0)","v":0},"","","","","","","","","","","","","X","X",{"$f":"IF($E32=\"Y\",INDEX(OIQraw,ROW(),Setup!$C$5+COLUMN()-26),\"x\")","v":"x"},{"$f":"IF($E32=\"Y\",INDEX(OIQraw,ROW(),Setup!$C$5+COLUMN()-26),\"x\")","v":"x"},{"$f":"IF($E32=\"Y\",INDEX(OIQraw,ROW(),Setup!$C$5+COLUMN()-26),\"x\")","v":"x"},{"$f":"IF($E32=\"Y\",INDEX(OIQraw,ROW(),Setup!$C$5+COLUMN()-26),\"x\")","v":"x"},{"$f":"IF($E32=\"Y\",INDEX(OIQraw,ROW(),Setup!$C$5+COLUMN()-26),\"x\")","v":"x"},{"$f":"IF($E32=\"Y\",INDEX(OIQraw,ROW(),Setup!$C$5+COLUMN()-26),\"x\")","v":"x"},{"$f":"IF($E32=\"Y\",INDEX(OIQraw,ROW(),Setup!$C$5+COLUMN()-26),\"x\")","v":"x"},{"$f":"IF($E32=\"Y\",INDEX(OIQraw,ROW(),Setup!$C$5+COLUMN()-26),\"x\")","v":"x"},{"$f":"IF($E32=\"Y\",INDEX(OIQraw,ROW(),Setup!$C$5+COLUMN()-26),\"x\")","v":"x"},{"$f":"IF($E32=\"Y\",INDEX(OIQraw,ROW(),Setup!$C$5+COLUMN()-26),\"x\")","v":"x"},{"$f":"IF($E32=\"Y\",INDEX(OIQraw,ROW(),Setup!$C$5+COLUMN()-26),\"x\")","v":"x"},{"$f":"IF($E32=\"Y\",INDEX(OIQraw,ROW(),Setup!$C$5+COLUMN()-26),\"x\")","v":"x"},{"$f":"IF($E32=\"Y\",INDEX(OIQraw,ROW(),Setup!$C$5+COLUMN()-26),\"x\")","v":"x"},{"$f":"IF($E32=\"Y\",INDEX(OIQraw,ROW(),Setup!$C$5+COLUMN()-26),\"x\")","v":"x"},{"$f":"IF($E32=\"Y\",INDEX(OIQraw,ROW(),Setup!$C$5+COLUMN()-26),\"x\")","v":"x"},{"$f":"IF($E32=\"Y\",INDEX(OIQraw,ROW(),Setup!$C$5+COLUMN()-26),\"x\")","v":"x"},{"$f":"IF($E32=\"Y\",INDEX(OIQraw,ROW(),Setup!$C$5+COLUMN()-26),\"x\")","v":"x"},{"$f":"IF($E32=\"Y\",INDEX(OIQraw,ROW(),Setup!$C$5+COLUMN()-26),\"x\")","v":"x"},{"$f":"IF($E32=\"Y\",INDEX(OIQraw,ROW(),Setup!$C$5+COLUMN()-26),\"x\")","v":"x"},{"$f":"IF($E32=\"Y\",INDEX(OIQraw,ROW(),Setup!$C$5+COLUMN()-26),\"x\")","v":"x"},{"$f":"IF($E32=\"Y\",INDEX(OIQraw,ROW(),Setup!$C$5+COLUMN()-26),\"x\")","v":"x"},{"$f":"IF($E32=\"Y\",INDEX(OIQraw,ROW(),Setup!$C$5+COLUMN()-26),\"x\")","v":"x"},{"$f":"IF($E32=\"Y\",INDEX(OIQraw,ROW(),Setup!$C$5+COLUMN()-26),\"x\")","v":"x"},{"$f":"IF($E32=\"Y\",INDEX(OIQraw,ROW(),Setup!$C$5+COLUMN()-26),\"x\")","v":"x"},{"$f":"IF($E32=\"Y\",INDEX(OIQraw,ROW(),Setup!$C$5+COLUMN()-26),\"x\")","v":"x"},{"$f":"IF($E32=\"Y\",INDEX(OIQraw,ROW(),Setup!$C$5+COLUMN()-26),\"x\")","v":"x"},{"$f":"IF($E32=\"Y\",INDEX(OIQraw,ROW(),Setup!$C$5+COLUMN()-26),\"x\")","v":"x"},{"$f":"IF($E32=\"Y\",INDEX(OIQraw,ROW(),Setup!$C$5+COLUMN()-26),\"x\")","v":"x"},{"$f":"IF($E32=\"Y\",INDEX(OIQraw,ROW(),Setup!$C$5+COLUMN()-26),\"x\")","v":"x"},{"$f":"IF($E32=\"Y\",INDEX(OIQraw,ROW(),Setup!$C$5+COLUMN()-26),\"x\")","v":"x"},{"$f":"IF($E32=\"Y\",INDEX(OIQraw,ROW(),Setup!$C$5+COLUMN()-26),\"x\")","v":"x"},{"$f":"IF($E32=\"Y\",INDEX(OIQraw,ROW(),Setup!$C$5+COLUMN()-26),\"x\")","v":"x"},{"$f":"IF($E32=\"Y\",INDEX(OIQraw,ROW(),Setup!$C$5+COLUMN()-26),\"x\")","v":"x"},{"$f":"IF($E32=\"Y\",INDEX(OIQraw,ROW(),Setup!$C$5+COLUMN()-26),\"x\")","v":"x"},{"$f":"IF($E32=\"Y\",INDEX(OIQraw,ROW(),Setup!$C$5+COLUMN()-26),\"x\")","v":"x"},{"$f":"IF($E32=\"Y\",INDEX(OIQraw,ROW(),Setup!$C$5+COLUMN()-26),\"x\")","v":"x"},{"$f":"IF($E32=\"Y\",INDEX(OIQraw,ROW(),Setup!$C$5+COLUMN()-26),\"x\")","v":"x"},{"$f":"IF($E32=\"Y\",INDEX(OIQraw,ROW(),Setup!$C$5+COLUMN()-26),\"x\")","v":"x"},{"$f":"IF($E32=\"Y\",INDEX(OIQraw,ROW(),Setup!$C$5+COLUMN()-26),\"x\")","v":"x"},{"$f":"IF($E32=\"Y\",INDEX(OIQraw,ROW(),Setup!$C$5+COLUMN()-26),\"x\")","v":"x"},{"$f":"IF($E32=\"Y\",INDEX(OIQraw,ROW(),Setup!$C$5+COLUMN()-26),\"x\")","v":"x"},{"$f":"IF($E32=\"Y\",INDEX(OIQraw,ROW(),Setup!$C$5+COLUMN()-26),\"x\")","v":"x"},{"$f":"IF($E32=\"Y\",INDEX(OIQraw,ROW(),Setup!$C$5+COLUMN()-26),\"x\")","v":"x"},{"$f":"IF($E32=\"Y\",INDEX(OIQraw,ROW(),Setup!$C$5+COLUMN()-26),\"x\")","v":"x"},{"$f":"IF($E32=\"Y\",INDEX(OIQraw,ROW(),Setup!$C$5+COLUMN()-26),\"x\")","v":"x"},{"$f":"IF($E32=\"Y\",INDEX(OIQraw,ROW(),Setup!$C$5+COLUMN()-26),\"x\")","v":"x"},{"$f":"IF($E32=\"Y\",INDEX(OIQraw,ROW(),Setup!$C$5+COLUMN()-26),\"x\")","v":"x"},{"$f":"IF($E32=\"Y\",INDEX(OIQraw,ROW(),Setup!$C$5+COLUMN()-26),\"x\")","v":"x"},{"$f":"IF($E32=\"Y\",INDEX(OIQraw,ROW(),Setup!$C$5+COLUMN()-26),\"x\")","v":"x"},{"$f":"IF($E32=\"Y\",INDEX(OIQraw,ROW(),Setup!$C$5+COLUMN()-26),\"x\")","v":"x"},{"$f":"IF($E32=\"Y\",INDEX(OIQraw,ROW(),Setup!$C$5+COLUMN()-26),\"x\")","v":"x"},{"$f":"IF($E32=\"Y\",INDEX(OIQraw,ROW(),Setup!$C$5+COLUMN()-26),\"x\")","v":"x"},{"$f":"IF($E32=\"Y\",INDEX(OIQraw,ROW(),Setup!$C$5+COLUMN()-26),\"x\")","v":"x"},{"$f":"IF($E32=\"Y\",INDEX(OIQraw,ROW(),Setup!$C$5+COLUMN()-26),\"x\")","v":"x"},{"$f":"IF($E32=\"Y\",INDEX(OIQraw,ROW(),Setup!$C$5+COLUMN()-26),\"x\")","v":"x"},{"$f":"IF($E32=\"Y\",INDEX(OIQraw,ROW(),Setup!$C$5+COLUMN()-26),\"x\")","v":"x"},{"$f":"IF($E32=\"Y\",INDEX(OIQraw,ROW(),Setup!$C$5+COLUMN()-26),\"x\")","v":"x"},{"$f":"IF($E32=\"Y\",INDEX(OIQraw,ROW(),Setup!$C$5+COLUMN()-26),\"x\")","v":"x"},{"$f":"IF($E32=\"Y\",INDEX(OIQraw,ROW(),Setup!$C$5+COLUMN()-26),\"x\")","v":"x"},{"$f":"IF($E32=\"Y\",INDEX(OIQraw,ROW(),Setup!$C$5+COLUMN()-26),\"x\")","v":"x"},{"$f":"IF($E32=\"Y\",INDEX(OIQraw,ROW(),Setup!$C$5+COLUMN()-26),\"x\")","v":"x"},{"$f":"IF($E32=\"Y\",INDEX(OIQraw,ROW(),Setup!$C$5+COLUMN()-26),\"x\")","v":"x"},{"$f":"IF($E32=\"Y\",INDEX(OIQraw,ROW(),Setup!$C$5+COLUMN()-26),\"x\")","v":"x"},{"$f":"IF($E32=\"Y\",INDEX(OIQraw,ROW(),Setup!$C$5+COLUMN()-26),\"x\")","v":"x"},{"$f":"IF($E32=\"Y\",INDEX(OIQraw,ROW(),Setup!$C$5+COLUMN()-26),\"x\")","v":"x"},{"$f":"IF($E32=\"Y\",INDEX(OIQraw,ROW(),Setup!$C$5+COLUMN()-26),\"x\")","v":"x"},{"$f":"IF($E32=\"Y\",INDEX(OIQraw,ROW(),Setup!$C$5+COLUMN()-26),\"x\")","v":"x"},{"$f":"IF($E32=\"Y\",INDEX(OIQraw,ROW(),Setup!$C$5+COLUMN()-26),\"x\")","v":"x"},{"$f":"IF($E32=\"Y\",INDEX(OIQraw,ROW(),Setup!$C$5+COLUMN()-26),\"x\")","v":"x"},{"$f":"IF($E32=\"Y\",INDEX(OIQraw,ROW(),Setup!$C$5+COLUMN()-26),\"x\")","v":"x"},{"$f":"IF($E32=\"Y\",INDEX(OIQraw,ROW(),Setup!$C$5+COLUMN()-26),\"x\")","v":"x"},{"$f":"IF($E32=\"Y\",INDEX(OIQraw,ROW(),Setup!$C$5+COLUMN()-26),\"x\")","v":"x"},{"$f":"IF($E32=\"Y\",INDEX(OIQraw,ROW(),Setup!$C$5+COLUMN()-26),\"x\")","v":"x"},{"$f":"IF($E32=\"Y\",INDEX(OIQraw,ROW(),Setup!$C$5+COLUMN()-26),\"x\")","v":"x"},{"$f":"IF($E32=\"Y\",INDEX(OIQraw,ROW(),Setup!$C$5+COLUMN()-26),\"x\")","v":"x"},{"$f":"IF($E32=\"Y\",INDEX(OIQraw,ROW(),Setup!$C$5+COLUMN()-26),\"x\")","v":"x"},{"$f":"IF($E32=\"Y\",INDEX(OIQraw,ROW(),Setup!$C$5+COLUMN()-26),\"x\")","v":"x"},{"$f":"IF($E32=\"Y\",INDEX(OIQraw,ROW(),Setup!$C$5+COLUMN()-26),\"x\")","v":"x"},{"$f":"IF($E32=\"Y\",INDEX(OIQraw,ROW(),Setup!$C$5+COLUMN()-26),\"x\")","v":"x"},{"$f":"IF($E32=\"Y\",INDEX(OIQraw,ROW(),Setup!$C$5+COLUMN()-26),\"x\")","v":"x"},{"$f":"IF($E32=\"Y\",INDEX(OIQraw,ROW(),Setup!$C$5+COLUMN()-26),\"x\")","v":"x"},{"$f":"IF($E32=\"Y\",INDEX(OIQraw,ROW(),Setup!$C$5+COLUMN()-26),\"x\")","v":"x"},{"$f":"IF($E32=\"Y\",INDEX(OIQraw,ROW(),Setup!$C$5+COLUMN()-26),\"x\")","v":"x"},{"$f":"IF($E32=\"Y\",INDEX(OIQraw,ROW(),Setup!$C$5+COLUMN()-26),\"x\")","v":"x"},{"$f":"IF($E32=\"Y\",INDEX(OIQraw,ROW(),Setup!$C$5+COLUMN()-26),\"x\")","v":"x"},{"$f":"IF($E32=\"Y\",INDEX(OIQraw,ROW(),Setup!$C$5+COLUMN()-26),\"x\")","v":"x"},{"$f":"IF($E32=\"Y\",INDEX(OIQraw,ROW(),Setup!$C$5+COLUMN()-26),\"x\")","v":"x"},{"$f":"IF($E32=\"Y\",INDEX(OIQraw,ROW(),Setup!$C$5+COLUMN()-26),\"x\")","v":"x"},{"$f":"IF($E32=\"Y\",INDEX(OIQraw,ROW(),Setup!$C$5+COLUMN()-26),\"x\")","v":"x"},{"$f":"IF($E32=\"Y\",INDEX(OIQraw,ROW(),Setup!$C$5+COLUMN()-26),\"x\")","v":"x"},{"$f":"IF($E32=\"Y\",INDEX(OIQraw,ROW(),Setup!$C$5+COLUMN()-26),\"x\")","v":"x"},{"$f":"IF($E32=\"Y\",INDEX(OIQraw,ROW(),Setup!$C$5+COLUMN()-26),\"x\")","v":"x"},{"$f":"IF($E32=\"Y\",INDEX(OIQraw,ROW(),Setup!$C$5+COLUMN()-26),\"x\")","v":"x"},{"$f":"IF($E32=\"Y\",INDEX(OIQraw,ROW(),Setup!$C$5+COLUMN()-26),\"x\")","v":"x"},{"$f":"IF($E32=\"Y\",INDEX(OIQraw,ROW(),Setup!$C$5+COLUMN()-26),\"x\")","v":"x"},{"$f":"IF($E32=\"Y\",INDEX(OIQraw,ROW(),Setup!$C$5+COLUMN()-26),\"x\")","v":"x"},{"$f":"IF($E32=\"Y\",INDEX(OIQraw,ROW(),Setup!$C$5+COLUMN()-26),\"x\")","v":"x"},{"$f":"IF($E32=\"Y\",INDEX(OIQraw,ROW(),Setup!$C$5+COLUMN()-26),\"x\")","v":"x"},{"$f":"IF($E32=\"Y\",INDEX(OIQraw,ROW(),Setup!$C$5+COLUMN()-26),\"x\")","v":"x"},{"$f":"IF($E32=\"Y\",INDEX(OIQraw,ROW(),Setup!$C$5+COLUMN()-26),\"x\")","v":"x"},{"$f":"IF($E32=\"Y\",INDEX(OIQraw,ROW(),Setup!$C$5+COLUMN()-26),\"x\")","v":"x"},{"$f":"IF($E32=\"Y\",INDEX(OIQraw,ROW(),Setup!$C$5+COLUMN()-26),\"x\")","v":"x"},{"$f":"IF($E32=\"Y\",INDEX(OIQraw,ROW(),Setup!$C$5+COLUMN()-26),\"x\")","v":"x"},{"$f":"IF($E32=\"Y\",INDEX(OIQraw,ROW(),Setup!$C$5+COLUMN()-26),\"x\")","v":"x"},{"$f":"IF($E32=\"Y\",INDEX(OIQraw,ROW(),Setup!$C$5+COLUMN()-26),\"x\")","v":"x"},{"$f":"IF($E32=\"Y\",INDEX(OIQraw,ROW(),Setup!$C$5+COLUMN()-26),\"x\")","v":"x"},{"$f":"IF($E32=\"Y\",INDEX(OIQraw,ROW(),Setup!$C$5+COLUMN()-26),\"x\")","v":"x"},{"$f":"IF($E32=\"Y\",INDEX(OIQraw,ROW(),Setup!$C$5+COLUMN()-26),\"x\")","v":"x"},{"$f":"IF($E32=\"Y\",INDEX(OIQraw,ROW(),Setup!$C$5+COLUMN()-26),\"x\")","v":"x"},{"$f":"IF($E32=\"Y\",INDEX(OIQraw,ROW(),Setup!$C$5+COLUMN()-26),\"x\")","v":"x"},{"$f":"IF($E32=\"Y\",INDEX(OIQraw,ROW(),Setup!$C$5+COLUMN()-26),\"x\")","v":"x"},{"$f":"IF($E32=\"Y\",INDEX(OIQraw,ROW(),Setup!$C$5+COLUMN()-26),\"x\")","v":"x"},{"$f":"IF($E32=\"Y\",INDEX(OIQraw,ROW(),Setup!$C$5+COLUMN()-26),\"x\")","v":"x"},{"$f":"IF($E32=\"Y\",INDEX(OIQraw,ROW(),Setup!$C$5+COLUMN()-26),\"x\")","v":"x"},{"$f":"IF($E32=\"Y\",INDEX(OIQraw,ROW(),Setup!$C$5+COLUMN()-26),\"x\")","v":"x"},{"$f":"IF($E32=\"Y\",INDEX(OIQraw,ROW(),Setup!$C$5+COLUMN()-26),\"x\")","v":"x"},{"$f":"IF($E32=\"Y\",INDEX(OIQraw,ROW(),Setup!$C$5+COLUMN()-26),\"x\")","v":"x"},{"$f":"IF($E32=\"Y\",INDEX(OIQraw,ROW(),Setup!$C$5+COLUMN()-26),\"x\")","v":"x"},{"$f":"IF($E32=\"Y\",INDEX(OIQraw,ROW(),Setup!$C$5+COLUMN()-26),\"x\")","v":"x"},{"$f":"IF($E32=\"Y\",INDEX(OIQraw,ROW(),Setup!$C$5+COLUMN()-26),\"x\")","v":"x"},{"$f":"IF($E32=\"Y\",INDEX(OIQraw,ROW(),Setup!$C$5+COLUMN()-26),\"x\")","v":"x"},{"$f":"IF($E32=\"Y\",INDEX(OIQraw,ROW(),Setup!$C$5+COLUMN()-26),\"x\")","v":"x"},{"$f":"IF($E32=\"Y\",INDEX(OIQraw,ROW(),Setup!$C$5+COLUMN()-26),\"x\")","v":"x"},{"$f":"IF($E32=\"Y\",INDEX(OIQraw,ROW(),Setup!$C$5+COLUMN()-26),\"x\")","v":"x"},{"$f":"IF($E32=\"Y\",INDEX(OIQraw,ROW(),Setup!$C$5+COLUMN()-26),\"x\")","v":"x"},{"$f":"IF($E32=\"Y\",INDEX(OIQraw,ROW(),Setup!$C$5+COLUMN()-26),\"x\")","v":"x"},{"$f":"IF($E32=\"Y\",INDEX(OIQraw,ROW(),Setup!$C$5+COLUMN()-26),\"x\")","v":"x"},{"$f":"IF($E32=\"Y\",INDEX(OIQraw,ROW(),Setup!$C$5+COLUMN()-26),\"x\")","v":"x"},{"$f":"IF($E32=\"Y\",INDEX(OIQraw,ROW(),Setup!$C$5+COLUMN()-26),\"x\")","v":"x"},{"$f":"IF($E32=\"Y\",INDEX(OIQraw,ROW(),Setup!$C$5+COLUMN()-26),\"x\")","v":"x"},{"$f":"IF($E32=\"Y\",INDEX(OIQraw,ROW(),Setup!$C$5+COLUMN()-26),\"x\")","v":"x"},{"$f":"IF($E32=\"Y\",INDEX(OIQraw,ROW(),Setup!$C$5+COLUMN()-26),\"x\")","v":"x"},{"$f":"IF($E32=\"Y\",INDEX(OIQraw,ROW(),Setup!$C$5+COLUMN()-26),\"x\")","v":"x"},{"$f":"IF($E32=\"Y\",INDEX(OIQraw,ROW(),Setup!$C$5+COLUMN()-26),\"x\")","v":"x"},{"$f":"IF($E32=\"Y\",INDEX(OIQraw,ROW(),Setup!$C$5+COLUMN()-26),\"x\")","v":"x"},{"$f":"IF($E32=\"Y\",INDEX(OIQraw,ROW(),Setup!$C$5+COLUMN()-26),\"x\")","v":"x"},{"$f":"IF($E32=\"Y\",INDEX(OIQraw,ROW(),Setup!$C$5+COLUMN()-26),\"x\")","v":"x"},{"$f":"IF($E32=\"Y\",INDEX(OIQraw,ROW(),Setup!$C$5+COLUMN()-26),\"x\")","v":"x"},{"$f":"IF($E32=\"Y\",INDEX(OIQraw,ROW(),Setup!$C$5+COLUMN()-26),\"x\")","v":"x"},{"$f":"IF($E32=\"Y\",INDEX(OIQraw,ROW(),Setup!$C$5+COLUMN()-26),\"x\")","v":"x"},{"$f":"IF($E32=\"Y\",INDEX(OIQraw,ROW(),Setup!$C$5+COLUMN()-26),\"x\")","v":"x"},{"$f":"IF($E32=\"Y\",INDEX(OIQraw,ROW(),Setup!$C$5+COLUMN()-26),\"x\")","v":"x"},{"$f":"IF($E32=\"Y\",INDEX(OIQraw,ROW(),Setup!$C$5+COLUMN()-26),\"x\")","v":"x"},{"$f":"IF($E32=\"Y\",INDEX(OIQraw,ROW(),Setup!$C$5+COLUMN()-26),\"x\")","v":"x"},{"$f":"IF($E32=\"Y\",INDEX(OIQraw,ROW(),Setup!$C$5+COLUMN()-26),\"x\")","v":"x"},{"$f":"IF($E32=\"Y\",INDEX(OIQraw,ROW(),Setup!$C$5+COLUMN()-26),\"x\")","v":"x"},{"$f":"IF($E32=\"Y\",INDEX(OIQraw,ROW(),Setup!$C$5+COLUMN()-26),\"x\")","v":"x"},{"$f":"IF($E32=\"Y\",INDEX(OIQraw,ROW(),Setup!$C$5+COLUMN()-26),\"x\")","v":"x"},{"$f":"IF($E32=\"Y\",INDEX(OIQraw,ROW(),Setup!$C$5+COLUMN()-26),\"x\")","v":"x"},{"$f":"IF($E32=\"Y\",INDEX(OIQraw,ROW(),Setup!$C$5+COLUMN()-26),\"x\")","v":"x"},{"$f":"IF($E32=\"Y\",INDEX(OIQraw,ROW(),Setup!$C$5+COLUMN()-26),\"x\")","v":"x"},{"$f":"IF($E32=\"Y\",INDEX(OIQraw,ROW(),Setup!$C$5+COLUMN()-26),\"x\")","v":"x"},{"$f":"IF($E32=\"Y\",INDEX(OIQraw,ROW(),Setup!$C$5+COLUMN()-26),\"x\")","v":"x"},{"$f":"IF($E32=\"Y\",INDEX(OIQraw,ROW(),Setup!$C$5+COLUMN()-26),\"x\")","v":"x"},{"$f":"IF($E32=\"Y\",INDEX(OIQraw,ROW(),Setup!$C$5+COLUMN()-26),\"x\")","v":"x"},{"$f":"IF($E32=\"Y\",INDEX(OIQraw,ROW(),Setup!$C$5+COLUMN()-26),\"x\")","v":"x"},{"$f":"IF($E32=\"Y\",INDEX(OIQraw,ROW(),Setup!$C$5+COLUMN()-26),\"x\")","v":"x"},{"$f":"IF($E32=\"Y\",INDEX(OIQraw,ROW(),Setup!$C$5+COLUMN()-26),\"x\")","v":"x"},{"$f":"IF($E32=\"Y\",INDEX(OIQraw,ROW(),Setup!$C$5+COLUMN()-26),\"x\")","v":"x"},{"$f":"IF($E32=\"Y\",INDEX(OIQraw,ROW(),Setup!$C$5+COLUMN()-26),\"x\")","v":"x"},{"$f":"IF($E32=\"Y\",INDEX(OIQraw,ROW(),Setup!$C$5+COLUMN()-26),\"x\")","v":"x"},{"$f":"IF($E32=\"Y\",INDEX(OIQraw,ROW(),Setup!$C$5+COLUMN()-26),\"x\")","v":"x"},{"$f":"IF($E32=\"Y\",INDEX(OIQraw,ROW(),Setup!$C$5+COLUMN()-26),\"x\")","v":"x"},{"$f":"IF($E32=\"Y\",INDEX(OIQraw,ROW(),Setup!$C$5+COLUMN()-26),\"x\")","v":"x"},{"$f":"IF($E32=\"Y\",INDEX(OIQraw,ROW(),Setup!$C$5+COLUMN()-26),\"x\")","v":"x"},{"$f":"IF($E32=\"Y\",INDEX(OIQraw,ROW(),Setup!$C$5+COLUMN()-26),\"x\")","v":"x"},{"$f":"IF($E32=\"Y\",INDEX(OIQraw,ROW(),Setup!$C$5+COLUMN()-26),\"x\")","v":"x"},{"$f":"IF($E32=\"Y\",INDEX(OIQraw,ROW(),Setup!$C$5+COLUMN()-26),\"x\")","v":"x"},{"$f":"IF($E32=\"Y\",INDEX(OIQraw,ROW(),Setup!$C$5+COLUMN()-26),\"x\")","v":"x"},{"$f":"IF($E32=\"Y\",INDEX(OIQraw,ROW(),Setup!$C$5+COLUMN()-26),\"x\")","v":"x"},{"$f":"IF($E32=\"Y\",INDEX(OIQraw,ROW(),Setup!$C$5+COLUMN()-26),\"x\")","v":"x"},{"$f":"IF($E32=\"Y\",INDEX(OIQraw,ROW(),Setup!$C$5+COLUMN()-26),\"x\")","v":"x"},{"$f":"IF($E32=\"Y\",INDEX(OIQraw,ROW(),Setup!$C$5+COLUMN()-26),\"x\")","v":"x"},{"$f":"IF($E32=\"Y\",INDEX(OIQraw,ROW(),Setup!$C$5+COLUMN()-26),\"x\")","v":"x"},{"$f":"IF($E32=\"Y\",INDEX(OIQraw,ROW(),Setup!$C$5+COLUMN()-26),\"x\")","v":"x"},{"$f":"IF($E32=\"Y\",INDEX(OIQraw,ROW(),Setup!$C$5+COLUMN()-26),\"x\")","v":"x"},{"$f":"IF($E32=\"Y\",INDEX(OIQraw,ROW(),Setup!$C$5+COLUMN()-26),\"x\")","v":"x"},{"$f":"IF($E32=\"Y\",INDEX(OIQraw,ROW(),Setup!$C$5+COLUMN()-26),\"x\")","v":"x"},{"$f":"IF($E32=\"Y\",INDEX(OIQraw,ROW(),Setup!$C$5+COLUMN()-26),\"x\")","v":"x"},{"$f":"IF($E32=\"Y\",INDEX(OIQraw,ROW(),Setup!$C$5+COLUMN()-26),\"x\")","v":"x"},{"$f":"IF($E32=\"Y\",INDEX(OIQraw,ROW(),Setup!$C$5+COLUMN()-26),\"x\")","v":"x"},{"$f":"IF($E32=\"Y\",INDEX(OIQraw,ROW(),Setup!$C$5+COLUMN()-26),\"x\")","v":"x"},{"$f":"IF($E32=\"Y\",INDEX(OIQraw,ROW(),Setup!$C$5+COLUMN()-26),\"x\")","v":"x"},{"$f":"IF($E32=\"Y\",INDEX(OIQraw,ROW(),Setup!$C$5+COLUMN()-26),\"x\")","v":"x"},{"$f":"IF($E32=\"Y\",INDEX(OIQraw,ROW(),Setup!$C$5+COLUMN()-26),\"x\")","v":"x"},{"$f":"IF($E32=\"Y\",INDEX(OIQraw,ROW(),Setup!$C$5+COLUMN()-26),\"x\")","v":"x"},{"$f":"IF($E32=\"Y\",INDEX(OIQraw,ROW(),Setup!$C$5+COLUMN()-26),\"x\")","v":"x"},{"$f":"IF($E32=\"Y\",INDEX(OIQraw,ROW(),Setup!$C$5+COLUMN()-26),\"x\")","v":"x"},{"$f":"IF($E32=\"Y\",INDEX(OIQraw,ROW(),Setup!$C$5+COLUMN()-26),\"x\")","v":"x"},{"$f":"IF($E32=\"Y\",INDEX(OIQraw,ROW(),Setup!$C$5+COLUMN()-26),\"x\")","v":"x"},{"$f":"IF($E32=\"Y\",INDEX(OIQraw,ROW(),Setup!$C$5+COLUMN()-26),\"x\")","v":"x"},{"$f":"IF($E32=\"Y\",INDEX(OIQraw,ROW(),Setup!$C$5+COLUMN()-26),\"x\")","v":"x"},{"$f":"IF($E32=\"Y\",INDEX(OIQraw,ROW(),Setup!$C$5+COLUMN()-26),\"x\")","v":"x"},{"$f":"IF($E32=\"Y\",INDEX(OIQraw,ROW(),Setup!$C$5+COLUMN()-26),\"x\")","v":"x"},{"$f":"IF($E32=\"Y\",INDEX(OIQraw,ROW(),Setup!$C$5+COLUMN()-26),\"x\")","v":"x"},{"$f":"IF($E32=\"Y\",INDEX(OIQraw,ROW(),Setup!$C$5+COLUMN()-26),\"x\")","v":"x"},{"$f":"IF($E32=\"Y\",INDEX(OIQraw,ROW(),Setup!$C$5+COLUMN()-26),\"x\")","v":"x"},{"$f":"IF($E32=\"Y\",INDEX(OIQraw,ROW(),Setup!$C$5+COLUMN()-26),\"x\")","v":"x"},{"$f":"IF($E32=\"Y\",INDEX(OIQraw,ROW(),Setup!$C$5+COLUMN()-26),\"x\")","v":"x"},{"$f":"IF($E32=\"Y\",INDEX(OIQraw,ROW(),Setup!$C$5+COLUMN()-26),\"x\")","v":"x"},{"$f":"IF($E32=\"Y\",INDEX(OIQraw,ROW(),Setup!$C$5+COLUMN()-26),\"x\")","v":"x"},{"$f":"IF($E32=\"Y\",INDEX(OIQraw,ROW(),Setup!$C$5+COLUMN()-26),\"x\")","v":"x"},{"$f":"IF($E32=\"Y\",INDEX(OIQraw,ROW(),Setup!$C$5+COLUMN()-26),\"x\")","v":"x"},{"$f":"IF($E32=\"Y\",INDEX(OIQraw,ROW(),Setup!$C$5+COLUMN()-26),\"x\")","v":"x"},{"$f":"IF($E32=\"Y\",INDEX(OIQraw,ROW(),Setup!$C$5+COLUMN()-26),\"x\")","v":"x"},{"$f":"IF($E32=\"Y\",INDEX(OIQraw,ROW(),Setup!$C$5+COLUMN()-26),\"x\")","v":"x"},{"$f":"IF($E32=\"Y\",INDEX(OIQraw,ROW(),Setup!$C$5+COLUMN()-26),\"x\")","v":"x"},{"$f":"IF($E32=\"Y\",INDEX(OIQraw,ROW(),Setup!$C$5+COLUMN()-26),\"x\")","v":"x"},{"$f":"IF($E32=\"Y\",INDEX(OIQraw,ROW(),Setup!$C$5+COLUMN()-26),\"x\")","v":"x"},{"$f":"IF($E32=\"Y\",INDEX(OIQraw,ROW(),Setup!$C$5+COLUMN()-26),\"x\")","v":"x"},{"$f":"IF($E32=\"Y\",INDEX(OIQraw,ROW(),Setup!$C$5+COLUMN()-26),\"x\")","v":"x"},{"$f":"IF($E32=\"Y\",INDEX(OIQraw,ROW(),Setup!$C$5+COLUMN()-26),\"x\")","v":"x"},{"$f":"IF($E32=\"Y\",INDEX(OIQraw,ROW(),Setup!$C$5+COLUMN()-26),\"x\")","v":"x"},{"$f":"IF($E32=\"Y\",INDEX(OIQraw,ROW(),Setup!$C$5+COLUMN()-26),\"x\")","v":"x"},{"$f":"IF($E32=\"Y\",INDEX(OIQraw,ROW(),Setup!$C$5+COLUMN()-26),\"x\")","v":"x"},{"$f":"IF($E32=\"Y\",INDEX(OIQraw,ROW(),Setup!$C$5+COLUMN()-26),\"x\")","v":"x"},{"$f":"IF($E32=\"Y\",INDEX(OIQraw,ROW(),Setup!$C$5+COLUMN()-26),\"x\")","v":"x"},{"$f":"IF($E32=\"Y\",INDEX(OIQraw,ROW(),Setup!$C$5+COLUMN()-26),\"x\")","v":"x"},{"$f":"IF($E32=\"Y\",INDEX(OIQraw,ROW(),Setup!$C$5+COLUMN()-26),\"x\")","v":"x"},{"$f":"IF($E32=\"Y\",INDEX(OIQraw,ROW(),Setup!$C$5+COLUMN()-26),\"x\")","v":"x"},{"$f":"IF($E32=\"Y\",INDEX(OIQraw,ROW(),Setup!$C$5+COLUMN()-26),\"x\")","v":"x"},{"$f":"IF($E32=\"Y\",INDEX(OIQraw,ROW(),Setup!$C$5+COLUMN()-26),\"x\")","v":"x"},{"$f":"IF($E32=\"Y\",INDEX(OIQraw,ROW(),Setup!$C$5+COLUMN()-26),\"x\")","v":"x"},{"$f":"IF($E32=\"Y\",INDEX(OIQraw,ROW(),Setup!$C$5+COLUMN()-26),\"x\")","v":"x"},{"$f":"IF($E32=\"Y\",INDEX(OIQraw,ROW(),Setup!$C$5+COLUMN()-26),\"x\")","v":"x"},{"$f":"IF($E32=\"Y\",INDEX(OIQraw,ROW(),Setup!$C$5+COLUMN()-26),\"x\")","v":"x"},{"$f":"IF($E32=\"Y\",INDEX(OIQraw,ROW(),Setup!$C$5+COLUMN()-26),\"x\")","v":"x"},{"$f":"IF($E32=\"Y\",INDEX(OIQraw,ROW(),Setup!$C$5+COLUMN()-26),\"x\")","v":"x"},{"$f":"IF($E32=\"Y\",INDEX(OIQraw,ROW(),Setup!$C$5+COLUMN()-26),\"x\")","v":"x"},{"$f":"IF($E32=\"Y\",INDEX(OIQraw,ROW(),Setup!$C$5+COLUMN()-26),\"x\")","v":"x"},{"$f":"IF($E32=\"Y\",INDEX(OIQraw,ROW(),Setup!$C$5+COLUMN()-26),\"x\")","v":"x"},{"$f":"IF($E32=\"Y\",INDEX(OIQraw,ROW(),Setup!$C$5+COLUMN()-26),\"x\")","v":"x"},{"$f":"IF($E32=\"Y\",INDEX(OIQraw,ROW(),Setup!$C$5+COLUMN()-26),\"x\")","v":"x"},{"$f":"IF($E32=\"Y\",INDEX(OIQraw,ROW(),Setup!$C$5+COLUMN()-26),\"x\")","v":"x"},{"$f":"IF($E32=\"Y\",INDEX(OIQraw,ROW(),Setup!$C$5+COLUMN()-26),\"x\")","v":"x"},{"$f":"IF($E32=\"Y\",INDEX(OIQraw,ROW(),Setup!$C$5+COLUMN()-26),\"x\")","v":"x"},{"$f":"IF($E32=\"Y\",INDEX(OIQraw,ROW(),Setup!$C$5+COLUMN()-26),\"x\")","v":"x"},{"$f":"IF($E32=\"Y\",INDEX(OIQraw,ROW(),Setup!$C$5+COLUMN()-26),\"x\")","v":"x"},{"$f":"IF($E32=\"Y\",INDEX(OIQraw,ROW(),Setup!$C$5+COLUMN()-26),\"x\")","v":"x"},{"$f":"IF($E32=\"Y\",INDEX(OIQraw,ROW(),Setup!$C$5+COLUMN()-26),\"x\")","v":"x"},{"$f":"IF($E32=\"Y\",INDEX(OIQraw,ROW(),Setup!$C$5+COLUMN()-26),\"x\")","v":"x"},{"$f":"IF($E32=\"Y\",INDEX(OIQraw,ROW(),Setup!$C$5+COLUMN()-26),\"x\")","v":"x"},{"$f":"IF($E32=\"Y\",INDEX(OIQraw,ROW(),Setup!$C$5+COLUMN()-26),\"x\")","v":"x"},{"$f":"IF($E32=\"Y\",INDEX(OIQraw,ROW(),Setup!$C$5+COLUMN()-26),\"x\")","v":"x"},{"$f":"IF($E32=\"Y\",INDEX(OIQraw,ROW(),Setup!$C$5+COLUMN()-26),\"x\")","v":"x"},{"$f":"IF($E32=\"Y\",INDEX(OIQraw,ROW(),Setup!$C$5+COLUMN()-26),\"x\")","v":"x"},{"$f":"IF($E32=\"Y\",INDEX(OIQraw,ROW(),Setup!$C$5+COLUMN()-26),\"x\")","v":"x"},{"$f":"IF($E32=\"Y\",INDEX(OIQraw,ROW(),Setup!$C$5+COLUMN()-26),\"x\")","v":"x"},{"$f":"IF($E32=\"Y\",INDEX(OIQraw,ROW(),Setup!$C$5+COLUMN()-26),\"x\")","v":"x"},{"$f":"IF($E32=\"Y\",INDEX(OIQraw,ROW(),Setup!$C$5+COLUMN()-26),\"x\")","v":"x"},{"$f":"IF($E32=\"Y\",INDEX(OIQraw,ROW(),Setup!$C$5+COLUMN()-26),\"x\")","v":"x"},{"$f":"IF($E32=\"Y\",INDEX(OIQraw,ROW(),Setup!$C$5+COLUMN()-26),\"x\")","v":"x"},{"$f":"IF($E32=\"Y\",INDEX(OIQraw,ROW(),Setup!$C$5+COLUMN()-26),\"x\")","v":"x"}]
[1,"","",{"$f":"IF(ISERROR(FIND(\"Withdrew\",RawScores!B37)),RawScores!B37,RIGHT(RawScores!B37,LEN(RawScores!B37)-17))&\", \"&RawScores!C37","v":", "},{"$f":"IF(OR(ISERROR(FIND(\"Withdrew\",RawScores!B37))=FALSE,INDEX(OIQraw,ROW(),LastInputCol-3)=0),\"N\",IF(AND(Setup!$B$22=\"Yes\",INDEX(OIQraw,ROW(),LastInputCol)=1),\"N\",\"Y\"))","v":"N"},"X","X","X",{"$f":"IF(AND(ISNUMBER(F33),F33>Setup!$B$14-1),1,0)","v":0},{"$f":"IF(AND(F33>Setup!$B$14-1,Conv!H33<5),1,0)","v":0},{"$f":"IF(AND(F33>Setup!$B$14-1,Conv!G33=\"F\"),1,0)","v":0},"","","","","","","","","","","","","X","X",{"$f":"IF($E33=\"Y\",INDEX(OIQraw,ROW(),Setup!$C$5+COLUMN()-26),\"x\")","v":"x"},{"$f":"IF($E33=\"Y\",INDEX(OIQraw,ROW(),Setup!$C$5+COLUMN()-26),\"x\")","v":"x"},{"$f":"IF($E33=\"Y\",INDEX(OIQraw,ROW(),Setup!$C$5+COLUMN()-26),\"x\")","v":"x"},{"$f":"IF($E33=\"Y\",INDEX(OIQraw,ROW(),Setup!$C$5+COLUMN()-26),\"x\")","v":"x"},{"$f":"IF($E33=\"Y\",INDEX(OIQraw,ROW(),Setup!$C$5+COLUMN()-26),\"x\")","v":"x"},{"$f":"IF($E33=\"Y\",INDEX(OIQraw,ROW(),Setup!$C$5+COLUMN()-26),\"x\")","v":"x"},{"$f":"IF($E33=\"Y\",INDEX(OIQraw,ROW(),Setup!$C$5+COLUMN()-26),\"x\")","v":"x"},{"$f":"IF($E33=\"Y\",INDEX(OIQraw,ROW(),Setup!$C$5+COLUMN()-26),\"x\")","v":"x"},{"$f":"IF($E33=\"Y\",INDEX(OIQraw,ROW(),Setup!$C$5+COLUMN()-26),\"x\")","v":"x"},{"$f":"IF($E33=\"Y\",INDEX(OIQraw,ROW(),Setup!$C$5+COLUMN()-26),\"x\")","v":"x"},{"$f":"IF($E33=\"Y\",INDEX(OIQraw,ROW(),Setup!$C$5+COLUMN()-26),\"x\")","v":"x"},{"$f":"IF($E33=\"Y\",INDEX(OIQraw,ROW(),Setup!$C$5+COLUMN()-26),\"x\")","v":"x"},{"$f":"IF($E33=\"Y\",INDEX(OIQraw,ROW(),Setup!$C$5+COLUMN()-26),\"x\")","v":"x"},{"$f":"IF($E33=\"Y\",INDEX(OIQraw,ROW(),Setup!$C$5+COLUMN()-26),\"x\")","v":"x"},{"$f":"IF($E33=\"Y\",INDEX(OIQraw,ROW(),Setup!$C$5+COLUMN()-26),\"x\")","v":"x"},{"$f":"IF($E33=\"Y\",INDEX(OIQraw,ROW(),Setup!$C$5+COLUMN()-26),\"x\")","v":"x"},{"$f":"IF($E33=\"Y\",INDEX(OIQraw,ROW(),Setup!$C$5+COLUMN()-26),\"x\")","v":"x"},{"$f":"IF($E33=\"Y\",INDEX(OIQraw,ROW(),Setup!$C$5+COLUMN()-26),\"x\")","v":"x"},{"$f":"IF($E33=\"Y\",INDEX(OIQraw,ROW(),Setup!$C$5+COLUMN()-26),\"x\")","v":"x"},{"$f":"IF($E33=\"Y\",INDEX(OIQraw,ROW(),Setup!$C$5+COLUMN()-26),\"x\")","v":"x"},{"$f":"IF($E33=\"Y\",INDEX(OIQraw,ROW(),Setup!$C$5+COLUMN()-26),\"x\")","v":"x"},{"$f":"IF($E33=\"Y\",INDEX(OIQraw,ROW(),Setup!$C$5+COLUMN()-26),\"x\")","v":"x"},{"$f":"IF($E33=\"Y\",INDEX(OIQraw,ROW(),Setup!$C$5+COLUMN()-26),\"x\")","v":"x"},{"$f":"IF($E33=\"Y\",INDEX(OIQraw,ROW(),Setup!$C$5+COLUMN()-26),\"x\")","v":"x"},{"$f":"IF($E33=\"Y\",INDEX(OIQraw,ROW(),Setup!$C$5+COLUMN()-26),\"x\")","v":"x"},{"$f":"IF($E33=\"Y\",INDEX(OIQraw,ROW(),Setup!$C$5+COLUMN()-26),\"x\")","v":"x"},{"$f":"IF($E33=\"Y\",INDEX(OIQraw,ROW(),Setup!$C$5+COLUMN()-26),\"x\")","v":"x"},{"$f":"IF($E33=\"Y\",INDEX(OIQraw,ROW(),Setup!$C$5+COLUMN()-26),\"x\")","v":"x"},{"$f":"IF($E33=\"Y\",INDEX(OIQraw,ROW(),Setup!$C$5+COLUMN()-26),\"x\")","v":"x"},{"$f":"IF($E33=\"Y\",INDEX(OIQraw,ROW(),Setup!$C$5+COLUMN()-26),\"x\")","v":"x"},{"$f":"IF($E33=\"Y\",INDEX(OIQraw,ROW(),Setup!$C$5+COLUMN()-26),\"x\")","v":"x"},{"$f":"IF($E33=\"Y\",INDEX(OIQraw,ROW(),Setup!$C$5+COLUMN()-26),\"x\")","v":"x"},{"$f":"IF($E33=\"Y\",INDEX(OIQraw,ROW(),Setup!$C$5+COLUMN()-26),\"x\")","v":"x"},{"$f":"IF($E33=\"Y\",INDEX(OIQraw,ROW(),Setup!$C$5+COLUMN()-26),\"x\")","v":"x"},{"$f":"IF($E33=\"Y\",INDEX(OIQraw,ROW(),Setup!$C$5+COLUMN()-26),\"x\")","v":"x"},{"$f":"IF($E33=\"Y\",INDEX(OIQraw,ROW(),Setup!$C$5+COLUMN()-26),\"x\")","v":"x"},{"$f":"IF($E33=\"Y\",INDEX(OIQraw,ROW(),Setup!$C$5+COLUMN()-26),\"x\")","v":"x"},{"$f":"IF($E33=\"Y\",INDEX(OIQraw,ROW(),Setup!$C$5+COLUMN()-26),\"x\")","v":"x"},{"$f":"IF($E33=\"Y\",INDEX(OIQraw,ROW(),Setup!$C$5+COLUMN()-26),\"x\")","v":"x"},{"$f":"IF($E33=\"Y\",INDEX(OIQraw,ROW(),Setup!$C$5+COLUMN()-26),\"x\")","v":"x"},{"$f":"IF($E33=\"Y\",INDEX(OIQraw,ROW(),Setup!$C$5+COLUMN()-26),\"x\")","v":"x"},{"$f":"IF($E33=\"Y\",INDEX(OIQraw,ROW(),Setup!$C$5+COLUMN()-26),\"x\")","v":"x"},{"$f":"IF($E33=\"Y\",INDEX(OIQraw,ROW(),Setup!$C$5+COLUMN()-26),\"x\")","v":"x"},{"$f":"IF($E33=\"Y\",INDEX(OIQraw,ROW(),Setup!$C$5+COLUMN()-26),\"x\")","v":"x"},{"$f":"IF($E33=\"Y\",INDEX(OIQraw,ROW(),Setup!$C$5+COLUMN()-26),\"x\")","v":"x"},{"$f":"IF($E33=\"Y\",INDEX(OIQraw,ROW(),Setup!$C$5+COLUMN()-26),\"x\")","v":"x"},{"$f":"IF($E33=\"Y\",INDEX(OIQraw,ROW(),Setup!$C$5+COLUMN()-26),\"x\")","v":"x"},{"$f":"IF($E33=\"Y\",INDEX(OIQraw,ROW(),Setup!$C$5+COLUMN()-26),\"x\")","v":"x"},{"$f":"IF($E33=\"Y\",INDEX(OIQraw,ROW(),Setup!$C$5+COLUMN()-26),\"x\")","v":"x"},{"$f":"IF($E33=\"Y\",INDEX(OIQraw,ROW(),Setup!$C$5+COLUMN()-26),\"x\")","v":"x"},{"$f":"IF($E33=\"Y\",INDEX(OIQraw,ROW(),Setup!$C$5+COLUMN()-26),\"x\")","v":"x"},{"$f":"IF($E33=\"Y\",INDEX(OIQraw,ROW(),Setup!$C$5+COLUMN()-26),\"x\")","v":"x"},{"$f":"IF($E33=\"Y\",INDEX(OIQraw,ROW(),Setup!$C$5+COLUMN()-26),\"x\")","v":"x"},{"$f":"IF($E33=\"Y\",INDEX(OIQraw,ROW(),Setup!$C$5+COLUMN()-26),\"x\")","v":"x"},{"$f":"IF($E33=\"Y\",INDEX(OIQraw,ROW(),Setup!$C$5+COLUMN()-26),\"x\")","v":"x"},{"$f":"IF($E33=\"Y\",INDEX(OIQraw,ROW(),Setup!$C$5+COLUMN()-26),\"x\")","v":"x"},{"$f":"IF($E33=\"Y\",INDEX(OIQraw,ROW(),Setup!$C$5+COLUMN()-26),\"x\")","v":"x"},{"$f":"IF($E33=\"Y\",INDEX(OIQraw,ROW(),Setup!$C$5+COLUMN()-26),\"x\")","v":"x"},{"$f":"IF($E33=\"Y\",INDEX(OIQraw,ROW(),Setup!$C$5+COLUMN()-26),\"x\")","v":"x"},{"$f":"IF($E33=\"Y\",INDEX(OIQraw,ROW(),Setup!$C$5+COLUMN()-26),\"x\")","v":"x"},{"$f":"IF($E33=\"Y\",INDEX(OIQraw,ROW(),Setup!$C$5+COLUMN()-26),\"x\")","v":"x"},{"$f":"IF($E33=\"Y\",INDEX(OIQraw,ROW(),Setup!$C$5+COLUMN()-26),\"x\")","v":"x"},{"$f":"IF($E33=\"Y\",INDEX(OIQraw,ROW(),Setup!$C$5+COLUMN()-26),\"x\")","v":"x"},{"$f":"IF($E33=\"Y\",INDEX(OIQraw,ROW(),Setup!$C$5+COLUMN()-26),\"x\")","v":"x"},{"$f":"IF($E33=\"Y\",INDEX(OIQraw,ROW(),Setup!$C$5+COLUMN()-26),\"x\")","v":"x"},{"$f":"IF($E33=\"Y\",INDEX(OIQraw,ROW(),Setup!$C$5+COLUMN()-26),\"x\")","v":"x"},{"$f":"IF($E33=\"Y\",INDEX(OIQraw,ROW(),Setup!$C$5+COLUMN()-26),\"x\")","v":"x"},{"$f":"IF($E33=\"Y\",INDEX(OIQraw,ROW(),Setup!$C$5+COLUMN()-26),\"x\")","v":"x"},{"$f":"IF($E33=\"Y\",INDEX(OIQraw,ROW(),Setup!$C$5+COLUMN()-26),\"x\")","v":"x"},{"$f":"IF($E33=\"Y\",INDEX(OIQraw,ROW(),Setup!$C$5+COLUMN()-26),\"x\")","v":"x"},{"$f":"IF($E33=\"Y\",INDEX(OIQraw,ROW(),Setup!$C$5+COLUMN()-26),\"x\")","v":"x"},{"$f":"IF($E33=\"Y\",INDEX(OIQraw,ROW(),Setup!$C$5+COLUMN()-26),\"x\")","v":"x"},{"$f":"IF($E33=\"Y\",INDEX(OIQraw,ROW(),Setup!$C$5+COLUMN()-26),\"x\")","v":"x"},{"$f":"IF($E33=\"Y\",INDEX(OIQraw,ROW(),Setup!$C$5+COLUMN()-26),\"x\")","v":"x"},{"$f":"IF($E33=\"Y\",INDEX(OIQraw,ROW(),Setup!$C$5+COLUMN()-26),\"x\")","v":"x"},{"$f":"IF($E33=\"Y\",INDEX(OIQraw,ROW(),Setup!$C$5+COLUMN()-26),\"x\")","v":"x"},{"$f":"IF($E33=\"Y\",INDEX(OIQraw,ROW(),Setup!$C$5+COLUMN()-26),\"x\")","v":"x"},{"$f":"IF($E33=\"Y\",INDEX(OIQraw,ROW(),Setup!$C$5+COLUMN()-26),\"x\")","v":"x"},{"$f":"IF($E33=\"Y\",INDEX(OIQraw,ROW(),Setup!$C$5+COLUMN()-26),\"x\")","v":"x"},{"$f":"IF($E33=\"Y\",INDEX(OIQraw,ROW(),Setup!$C$5+COLUMN()-26),\"x\")","v":"x"},{"$f":"IF($E33=\"Y\",INDEX(OIQraw,ROW(),Setup!$C$5+COLUMN()-26),\"x\")","v":"x"},{"$f":"IF($E33=\"Y\",INDEX(OIQraw,ROW(),Setup!$C$5+COLUMN()-26),\"x\")","v":"x"},{"$f":"IF($E33=\"Y\",INDEX(OIQraw,ROW(),Setup!$C$5+COLUMN()-26),\"x\")","v":"x"},{"$f":"IF($E33=\"Y\",INDEX(OIQraw,ROW(),Setup!$C$5+COLUMN()-26),\"x\")","v":"x"},{"$f":"IF($E33=\"Y\",INDEX(OIQraw,ROW(),Setup!$C$5+COLUMN()-26),\"x\")","v":"x"},{"$f":"IF($E33=\"Y\",INDEX(OIQraw,ROW(),Setup!$C$5+COLUMN()-26),\"x\")","v":"x"},{"$f":"IF($E33=\"Y\",INDEX(OIQraw,ROW(),Setup!$C$5+COLUMN()-26),\"x\")","v":"x"},{"$f":"IF($E33=\"Y\",INDEX(OIQraw,ROW(),Setup!$C$5+COLUMN()-26),\"x\")","v":"x"},{"$f":"IF($E33=\"Y\",INDEX(OIQraw,ROW(),Setup!$C$5+COLUMN()-26),\"x\")","v":"x"},{"$f":"IF($E33=\"Y\",INDEX(OIQraw,ROW(),Setup!$C$5+COLUMN()-26),\"x\")","v":"x"},{"$f":"IF($E33=\"Y\",INDEX(OIQraw,ROW(),Setup!$C$5+COLUMN()-26),\"x\")","v":"x"},{"$f":"IF($E33=\"Y\",INDEX(OIQraw,ROW(),Setup!$C$5+COLUMN()-26),\"x\")","v":"x"},{"$f":"IF($E33=\"Y\",INDEX(OIQraw,ROW(),Setup!$C$5+COLUMN()-26),\"x\")","v":"x"},{"$f":"IF($E33=\"Y\",INDEX(OIQraw,ROW(),Setup!$C$5+COLUMN()-26),\"x\")","v":"x"},{"$f":"IF($E33=\"Y\",INDEX(OIQraw,ROW(),Setup!$C$5+COLUMN()-26),\"x\")","v":"x"},{"$f":"IF($E33=\"Y\",INDEX(OIQraw,ROW(),Setup!$C$5+COLUMN()-26),\"x\")","v":"x"},{"$f":"IF($E33=\"Y\",INDEX(OIQraw,ROW(),Setup!$C$5+COLUMN()-26),\"x\")","v":"x"},{"$f":"IF($E33=\"Y\",INDEX(OIQraw,ROW(),Setup!$C$5+COLUMN()-26),\"x\")","v":"x"},{"$f":"IF($E33=\"Y\",INDEX(OIQraw,ROW(),Setup!$C$5+COLUMN()-26),\"x\")","v":"x"},{"$f":"IF($E33=\"Y\",INDEX(OIQraw,ROW(),Setup!$C$5+COLUMN()-26),\"x\")","v":"x"},{"$f":"IF($E33=\"Y\",INDEX(OIQraw,ROW(),Setup!$C$5+COLUMN()-26),\"x\")","v":"x"},{"$f":"IF($E33=\"Y\",INDEX(OIQraw,ROW(),Setup!$C$5+COLUMN()-26),\"x\")","v":"x"},{"$f":"IF($E33=\"Y\",INDEX(OIQraw,ROW(),Setup!$C$5+COLUMN()-26),\"x\")","v":"x"},{"$f":"IF($E33=\"Y\",INDEX(OIQraw,ROW(),Setup!$C$5+COLUMN()-26),\"x\")","v":"x"},{"$f":"IF($E33=\"Y\",INDEX(OIQraw,ROW(),Setup!$C$5+COLUMN()-26),\"x\")","v":"x"},{"$f":"IF($E33=\"Y\",INDEX(OIQraw,ROW(),Setup!$C$5+COLUMN()-26),\"x\")","v":"x"},{"$f":"IF($E33=\"Y\",INDEX(OIQraw,ROW(),Setup!$C$5+COLUMN()-26),\"x\")","v":"x"},{"$f":"IF($E33=\"Y\",INDEX(OIQraw,ROW(),Setup!$C$5+COLUMN()-26),\"x\")","v":"x"},{"$f":"IF($E33=\"Y\",INDEX(OIQraw,ROW(),Setup!$C$5+COLUMN()-26),\"x\")","v":"x"},{"$f":"IF($E33=\"Y\",INDEX(OIQraw,ROW(),Setup!$C$5+COLUMN()-26),\"x\")","v":"x"},{"$f":"IF($E33=\"Y\",INDEX(OIQraw,ROW(),Setup!$C$5+COLUMN()-26),\"x\")","v":"x"},{"$f":"IF($E33=\"Y\",INDEX(OIQraw,ROW(),Setup!$C$5+COLUMN()-26),\"x\")","v":"x"},{"$f":"IF($E33=\"Y\",INDEX(OIQraw,ROW(),Setup!$C$5+COLUMN()-26),\"x\")","v":"x"},{"$f":"IF($E33=\"Y\",INDEX(OIQraw,ROW(),Setup!$C$5+COLUMN()-26),\"x\")","v":"x"},{"$f":"IF($E33=\"Y\",INDEX(OIQraw,ROW(),Setup!$C$5+COLUMN()-26),\"x\")","v":"x"},{"$f":"IF($E33=\"Y\",INDEX(OIQraw,ROW(),Setup!$C$5+COLUMN()-26),\"x\")","v":"x"},{"$f":"IF($E33=\"Y\",INDEX(OIQraw,ROW(),Setup!$C$5+COLUMN()-26),\"x\")","v":"x"},{"$f":"IF($E33=\"Y\",INDEX(OIQraw,ROW(),Setup!$C$5+COLUMN()-26),\"x\")","v":"x"},{"$f":"IF($E33=\"Y\",INDEX(OIQraw,ROW(),Setup!$C$5+COLUMN()-26),\"x\")","v":"x"},{"$f":"IF($E33=\"Y\",INDEX(OIQraw,ROW(),Setup!$C$5+COLUMN()-26),\"x\")","v":"x"},{"$f":"IF($E33=\"Y\",INDEX(OIQraw,ROW(),Setup!$C$5+COLUMN()-26),\"x\")","v":"x"},{"$f":"IF($E33=\"Y\",INDEX(OIQraw,ROW(),Setup!$C$5+COLUMN()-26),\"x\")","v":"x"},{"$f":"IF($E33=\"Y\",INDEX(OIQraw,ROW(),Setup!$C$5+COLUMN()-26),\"x\")","v":"x"},{"$f":"IF($E33=\"Y\",INDEX(OIQraw,ROW(),Setup!$C$5+COLUMN()-26),\"x\")","v":"x"},{"$f":"IF($E33=\"Y\",INDEX(OIQraw,ROW(),Setup!$C$5+COLUMN()-26),\"x\")","v":"x"},{"$f":"IF($E33=\"Y\",INDEX(OIQraw,ROW(),Setup!$C$5+COLUMN()-26),\"x\")","v":"x"},{"$f":"IF($E33=\"Y\",INDEX(OIQraw,ROW(),Setup!$C$5+COLUMN()-26),\"x\")","v":"x"},{"$f":"IF($E33=\"Y\",INDEX(OIQraw,ROW(),Setup!$C$5+COLUMN()-26),\"x\")","v":"x"},{"$f":"IF($E33=\"Y\",INDEX(OIQraw,ROW(),Setup!$C$5+COLUMN()-26),\"x\")","v":"x"},{"$f":"IF($E33=\"Y\",INDEX(OIQraw,ROW(),Setup!$C$5+COLUMN()-26),\"x\")","v":"x"},{"$f":"IF($E33=\"Y\",INDEX(OIQraw,ROW(),Setup!$C$5+COLUMN()-26),\"x\")","v":"x"},{"$f":"IF($E33=\"Y\",INDEX(OIQraw,ROW(),Setup!$C$5+COLUMN()-26),\"x\")","v":"x"},{"$f":"IF($E33=\"Y\",INDEX(OIQraw,ROW(),Setup!$C$5+COLUMN()-26),\"x\")","v":"x"},{"$f":"IF($E33=\"Y\",INDEX(OIQraw,ROW(),Setup!$C$5+COLUMN()-26),\"x\")","v":"x"},{"$f":"IF($E33=\"Y\",INDEX(OIQraw,ROW(),Setup!$C$5+COLUMN()-26),\"x\")","v":"x"},{"$f":"IF($E33=\"Y\",INDEX(OIQraw,ROW(),Setup!$C$5+COLUMN()-26),\"x\")","v":"x"},{"$f":"IF($E33=\"Y\",INDEX(OIQraw,ROW(),Setup!$C$5+COLUMN()-26),\"x\")","v":"x"},{"$f":"IF($E33=\"Y\",INDEX(OIQraw,ROW(),Setup!$C$5+COLUMN()-26),\"x\")","v":"x"},{"$f":"IF($E33=\"Y\",INDEX(OIQraw,ROW(),Setup!$C$5+COLUMN()-26),\"x\")","v":"x"},{"$f":"IF($E33=\"Y\",INDEX(OIQraw,ROW(),Setup!$C$5+COLUMN()-26),\"x\")","v":"x"},{"$f":"IF($E33=\"Y\",INDEX(OIQraw,ROW(),Setup!$C$5+COLUMN()-26),\"x\")","v":"x"},{"$f":"IF($E33=\"Y\",INDEX(OIQraw,ROW(),Setup!$C$5+COLUMN()-26),\"x\")","v":"x"},{"$f":"IF($E33=\"Y\",INDEX(OIQraw,ROW(),Setup!$C$5+COLUMN()-26),\"x\")","v":"x"},{"$f":"IF($E33=\"Y\",INDEX(OIQraw,ROW(),Setup!$C$5+COLUMN()-26),\"x\")","v":"x"},{"$f":"IF($E33=\"Y\",INDEX(OIQraw,ROW(),Setup!$C$5+COLUMN()-26),\"x\")","v":"x"},{"$f":"IF($E33=\"Y\",INDEX(OIQraw,ROW(),Setup!$C$5+COLUMN()-26),\"x\")","v":"x"},{"$f":"IF($E33=\"Y\",INDEX(OIQraw,ROW(),Setup!$C$5+COLUMN()-26),\"x\")","v":"x"},{"$f":"IF($E33=\"Y\",INDEX(OIQraw,ROW(),Setup!$C$5+COLUMN()-26),\"x\")","v":"x"},{"$f":"IF($E33=\"Y\",INDEX(OIQraw,ROW(),Setup!$C$5+COLUMN()-26),\"x\")","v":"x"},{"$f":"IF($E33=\"Y\",INDEX(OIQraw,ROW(),Setup!$C$5+COLUMN()-26),\"x\")","v":"x"},{"$f":"IF($E33=\"Y\",INDEX(OIQraw,ROW(),Setup!$C$5+COLUMN()-26),\"x\")","v":"x"},{"$f":"IF($E33=\"Y\",INDEX(OIQraw,ROW(),Setup!$C$5+COLUMN()-26),\"x\")","v":"x"},{"$f":"IF($E33=\"Y\",INDEX(OIQraw,ROW(),Setup!$C$5+COLUMN()-26),\"x\")","v":"x"},{"$f":"IF($E33=\"Y\",INDEX(OIQraw,ROW(),Setup!$C$5+COLUMN()-26),\"x\")","v":"x"},{"$f":"IF($E33=\"Y\",INDEX(OIQraw,ROW(),Setup!$C$5+COLUMN()-26),\"x\")","v":"x"},{"$f":"IF($E33=\"Y\",INDEX(OIQraw,ROW(),Setup!$C$5+COLUMN()-26),\"x\")","v":"x"},{"$f":"IF($E33=\"Y\",INDEX(OIQraw,ROW(),Setup!$C$5+COLUMN()-26),\"x\")","v":"x"},{"$f":"IF($E33=\"Y\",INDEX(OIQraw,ROW(),Setup!$C$5+COLUMN()-26),\"x\")","v":"x"},{"$f":"IF($E33=\"Y\",INDEX(OIQraw,ROW(),Setup!$C$5+COLUMN()-26),\"x\")","v":"x"},{"$f":"IF($E33=\"Y\",INDEX(OIQraw,ROW(),Setup!$C$5+COLUMN()-26),\"x\")","v":"x"},{"$f":"IF($E33=\"Y\",INDEX(OIQraw,ROW(),Setup!$C$5+COLUMN()-26),\"x\")","v":"x"},{"$f":"IF($E33=\"Y\",INDEX(OIQraw,ROW(),Setup!$C$5+COLUMN()-26),\"x\")","v":"x"},{"$f":"IF($E33=\"Y\",INDEX(OIQraw,ROW(),Setup!$C$5+COLUMN()-26),\"x\")","v":"x"},{"$f":"IF($E33=\"Y\",INDEX(OIQraw,ROW(),Setup!$C$5+COLUMN()-26),\"x\")","v":"x"},{"$f":"IF($E33=\"Y\",INDEX(OIQraw,ROW(),Setup!$C$5+COLUMN()-26),\"x\")","v":"x"},{"$f":"IF($E33=\"Y\",INDEX(OIQraw,ROW(),Setup!$C$5+COLUMN()-26),\"x\")","v":"x"},{"$f":"IF($E33=\"Y\",INDEX(OIQraw,ROW(),Setup!$C$5+COLUMN()-26),\"x\")","v":"x"},{"$f":"IF($E33=\"Y\",INDEX(OIQraw,ROW(),Setup!$C$5+COLUMN()-26),\"x\")","v":"x"},{"$f":"IF($E33=\"Y\",INDEX(OIQraw,ROW(),Setup!$C$5+COLUMN()-26),\"x\")","v":"x"},{"$f":"IF($E33=\"Y\",INDEX(OIQraw,ROW(),Setup!$C$5+COLUMN()-26),\"x\")","v":"x"},{"$f":"IF($E33=\"Y\",INDEX(OIQraw,ROW(),Setup!$C$5+COLUMN()-26),\"x\")","v":"x"},{"$f":"IF($E33=\"Y\",INDEX(OIQraw,ROW(),Setup!$C$5+COLUMN()-26),\"x\")","v":"x"},{"$f":"IF($E33=\"Y\",INDEX(OIQraw,ROW(),Setup!$C$5+COLUMN()-26),\"x\")","v":"x"},{"$f":"IF($E33=\"Y\",INDEX(OIQraw,ROW(),Setup!$C$5+COLUMN()-26),\"x\")","v":"x"},{"$f":"IF($E33=\"Y\",INDEX(OIQraw,ROW(),Setup!$C$5+COLUMN()-26),\"x\")","v":"x"},{"$f":"IF($E33=\"Y\",INDEX(OIQraw,ROW(),Setup!$C$5+COLUMN()-26),\"x\")","v":"x"},{"$f":"IF($E33=\"Y\",INDEX(OIQraw,ROW(),Setup!$C$5+COLUMN()-26),\"x\")","v":"x"},{"$f":"IF($E33=\"Y\",INDEX(OIQraw,ROW(),Setup!$C$5+COLUMN()-26),\"x\")","v":"x"},{"$f":"IF($E33=\"Y\",INDEX(OIQraw,ROW(),Setup!$C$5+COLUMN()-26),\"x\")","v":"x"},{"$f":"IF($E33=\"Y\",INDEX(OIQraw,ROW(),Setup!$C$5+COLUMN()-26),\"x\")","v":"x"},{"$f":"IF($E33=\"Y\",INDEX(OIQraw,ROW(),Setup!$C$5+COLUMN()-26),\"x\")","v":"x"},{"$f":"IF($E33=\"Y\",INDEX(OIQraw,ROW(),Setup!$C$5+COLUMN()-26),\"x\")","v":"x"},{"$f":"IF($E33=\"Y\",INDEX(OIQraw,ROW(),Setup!$C$5+COLUMN()-26),\"x\")","v":"x"},{"$f":"IF($E33=\"Y\",INDEX(OIQraw,ROW(),Setup!$C$5+COLUMN()-26),\"x\")","v":"x"},{"$f":"IF($E33=\"Y\",INDEX(OIQraw,ROW(),Setup!$C$5+COLUMN()-26),\"x\")","v":"x"},{"$f":"IF($E33=\"Y\",INDEX(OIQraw,ROW(),Setup!$C$5+COLUMN()-26),\"x\")","v":"x"},{"$f":"IF($E33=\"Y\",INDEX(OIQraw,ROW(),Setup!$C$5+COLUMN()-26),\"x\")","v":"x"},{"$f":"IF($E33=\"Y\",INDEX(OIQraw,ROW(),Setup!$C$5+COLUMN()-26),\"x\")","v":"x"},{"$f":"IF($E33=\"Y\",INDEX(OIQraw,ROW(),Setup!$C$5+COLUMN()-26),\"x\")","v":"x"},{"$f":"IF($E33=\"Y\",INDEX(OIQraw,ROW(),Setup!$C$5+COLUMN()-26),\"x\")","v":"x"},{"$f":"IF($E33=\"Y\",INDEX(OIQraw,ROW(),Setup!$C$5+COLUMN()-26),\"x\")","v":"x"},{"$f":"IF($E33=\"Y\",INDEX(OIQraw,ROW(),Setup!$C$5+COLUMN()-26),\"x\")","v":"x"},{"$f":"IF($E33=\"Y\",INDEX(OIQraw,ROW(),Setup!$C$5+COLUMN()-26),\"x\")","v":"x"},{"$f":"IF($E33=\"Y\",INDEX(OIQraw,ROW(),Setup!$C$5+COLUMN()-26),\"x\")","v":"x"},{"$f":"IF($E33=\"Y\",INDEX(OIQraw,ROW(),Setup!$C$5+COLUMN()-26),\"x\")","v":"x"},{"$f":"IF($E33=\"Y\",INDEX(OIQraw,ROW(),Setup!$C$5+COLUMN()-26),\"x\")","v":"x"},{"$f":"IF($E33=\"Y\",INDEX(OIQraw,ROW(),Setup!$C$5+COLUMN()-26),\"x\")","v":"x"},{"$f":"IF($E33=\"Y\",INDEX(OIQraw,ROW(),Setup!$C$5+COLUMN()-26),\"x\")","v":"x"},{"$f":"IF($E33=\"Y\",INDEX(OIQraw,ROW(),Setup!$C$5+COLUMN()-26),\"x\")","v":"x"},{"$f":"IF($E33=\"Y\",INDEX(OIQraw,ROW(),Setup!$C$5+COLUMN()-26),\"x\")","v":"x"},{"$f":"IF($E33=\"Y\",INDEX(OIQraw,ROW(),Setup!$C$5+COLUMN()-26),\"x\")","v":"x"},{"$f":"IF($E33=\"Y\",INDEX(OIQraw,ROW(),Setup!$C$5+COLUMN()-26),\"x\")","v":"x"},{"$f":"IF($E33=\"Y\",INDEX(OIQraw,ROW(),Setup!$C$5+COLUMN()-26),\"x\")","v":"x"},{"$f":"IF($E33=\"Y\",INDEX(OIQraw,ROW(),Setup!$C$5+COLUMN()-26),\"x\")","v":"x"},{"$f":"IF($E33=\"Y\",INDEX(OIQraw,ROW(),Setup!$C$5+COLUMN()-26),\"x\")","v":"x"},{"$f":"IF($E33=\"Y\",INDEX(OIQraw,ROW(),Setup!$C$5+COLUMN()-26),\"x\")","v":"x"},{"$f":"IF($E33=\"Y\",INDEX(OIQraw,ROW(),Setup!$C$5+COLUMN()-26),\"x\")","v":"x"},{"$f":"IF($E33=\"Y\",INDEX(OIQraw,ROW(),Setup!$C$5+COLUMN()-26),\"x\")","v":"x"},{"$f":"IF($E33=\"Y\",INDEX(OIQraw,ROW(),Setup!$C$5+COLUMN()-26),\"x\")","v":"x"},{"$f":"IF($E33=\"Y\",INDEX(OIQraw,ROW(),Setup!$C$5+COLUMN()-26),\"x\")","v":"x"},{"$f":"IF($E33=\"Y\",INDEX(OIQraw,ROW(),Setup!$C$5+COLUMN()-26),\"x\")","v":"x"},{"$f":"IF($E33=\"Y\",INDEX(OIQraw,ROW(),Setup!$C$5+COLUMN()-26),\"x\")","v":"x"},{"$f":"IF($E33=\"Y\",INDEX(OIQraw,ROW(),Setup!$C$5+COLUMN()-26),\"x\")","v":"x"},{"$f":"IF($E33=\"Y\",INDEX(OIQraw,ROW(),Setup!$C$5+COLUMN()-26),\"x\")","v":"x"},{"$f":"IF($E33=\"Y\",INDEX(OIQraw,ROW(),Setup!$C$5+COLUMN()-26),\"x\")","v":"x"},{"$f":"IF($E33=\"Y\",INDEX(OIQraw,ROW(),Setup!$C$5+COLUMN()-26),\"x\")","v":"x"},{"$f":"IF($E33=\"Y\",INDEX(OIQraw,ROW(),Setup!$C$5+COLUMN()-26),\"x\")","v":"x"},{"$f":"IF($E33=\"Y\",INDEX(OIQraw,ROW(),Setup!$C$5+COLUMN()-26),\"x\")","v":"x"},{"$f":"IF($E33=\"Y\",INDEX(OIQraw,ROW(),Setup!$C$5+COLUMN()-26),\"x\")","v":"x"},{"$f":"IF($E33=\"Y\",INDEX(OIQraw,ROW(),Setup!$C$5+COLUMN()-26),\"x\")","v":"x"},{"$f":"IF($E33=\"Y\",INDEX(OIQraw,ROW(),Setup!$C$5+COLUMN()-26),\"x\")","v":"x"},{"$f":"IF($E33=\"Y\",INDEX(OIQraw,ROW(),Setup!$C$5+COLUMN()-26),\"x\")","v":"x"},{"$f":"IF($E33=\"Y\",INDEX(OIQraw,ROW(),Setup!$C$5+COLUMN()-26),\"x\")","v":"x"},{"$f":"IF($E33=\"Y\",INDEX(OIQraw,ROW(),Setup!$C$5+COLUMN()-26),\"x\")","v":"x"},{"$f":"IF($E33=\"Y\",INDEX(OIQraw,ROW(),Setup!$C$5+COLUMN()-26),\"x\")","v":"x"},{"$f":"IF($E33=\"Y\",INDEX(OIQraw,ROW(),Setup!$C$5+COLUMN()-26),\"x\")","v":"x"},{"$f":"IF($E33=\"Y\",INDEX(OIQraw,ROW(),Setup!$C$5+COLUMN()-26),\"x\")","v":"x"},{"$f":"IF($E33=\"Y\",INDEX(OIQraw,ROW(),Setup!$C$5+COLUMN()-26),\"x\")","v":"x"},{"$f":"IF($E33=\"Y\",INDEX(OIQraw,ROW(),Setup!$C$5+COLUMN()-26),\"x\")","v":"x"},{"$f":"IF($E33=\"Y\",INDEX(OIQraw,ROW(),Setup!$C$5+COLUMN()-26),\"x\")","v":"x"},{"$f":"IF($E33=\"Y\",INDEX(OIQraw,ROW(),Setup!$C$5+COLUMN()-26),\"x\")","v":"x"},{"$f":"IF($E33=\"Y\",INDEX(OIQraw,ROW(),Setup!$C$5+COLUMN()-26),\"x\")","v":"x"},{"$f":"IF($E33=\"Y\",INDEX(OIQraw,ROW(),Setup!$C$5+COLUMN()-26),\"x\")","v":"x"},{"$f":"IF($E33=\"Y\",INDEX(OIQraw,ROW(),Setup!$C$5+COLUMN()-26),\"x\")","v":"x"},{"$f":"IF($E33=\"Y\",INDEX(OIQraw,ROW(),Setup!$C$5+COLUMN()-26),\"x\")","v":"x"},{"$f":"IF($E33=\"Y\",INDEX(OIQraw,ROW(),Setup!$C$5+COLUMN()-26),\"x\")","v":"x"},{"$f":"IF($E33=\"Y\",INDEX(OIQraw,ROW(),Setup!$C$5+COLUMN()-26),\"x\")","v":"x"},{"$f":"IF($E33=\"Y\",INDEX(OIQraw,ROW(),Setup!$C$5+COLUMN()-26),\"x\")","v":"x"},{"$f":"IF($E33=\"Y\",INDEX(OIQraw,ROW(),Setup!$C$5+COLUMN()-26),\"x\")","v":"x"},{"$f":"IF($E33=\"Y\",INDEX(OIQraw,ROW(),Setup!$C$5+COLUMN()-26),\"x\")","v":"x"},{"$f":"IF($E33=\"Y\",INDEX(OIQraw,ROW(),Setup!$C$5+COLUMN()-26),\"x\")","v":"x"},{"$f":"IF($E33=\"Y\",INDEX(OIQraw,ROW(),Setup!$C$5+COLUMN()-26),\"x\")","v":"x"},{"$f":"IF($E33=\"Y\",INDEX(OIQraw,ROW(),Setup!$C$5+COLUMN()-26),\"x\")","v":"x"},{"$f":"IF($E33=\"Y\",INDEX(OIQraw,ROW(),Setup!$C$5+COLUMN()-26),\"x\")","v":"x"},{"$f":"IF($E33=\"Y\",INDEX(OIQraw,ROW(),Setup!$C$5+COLUMN()-26),\"x\")","v":"x"},{"$f":"IF($E33=\"Y\",INDEX(OIQraw,ROW(),Setup!$C$5+COLUMN()-26),\"x\")","v":"x"},{"$f":"IF($E33=\"Y\",INDEX(OIQraw,ROW(),Setup!$C$5+COLUMN()-26),\"x\")","v":"x"},{"$f":"IF($E33=\"Y\",INDEX(OIQraw,ROW(),Setup!$C$5+COLUMN()-26),\"x\")","v":"x"},{"$f":"IF($E33=\"Y\",INDEX(OIQraw,ROW(),Setup!$C$5+COLUMN()-26),\"x\")","v":"x"},{"$f":"IF($E33=\"Y\",INDEX(OIQraw,ROW(),Setup!$C$5+COLUMN()-26),\"x\")","v":"x"},{"$f":"IF($E33=\"Y\",INDEX(OIQraw,ROW(),Setup!$C$5+COLUMN()-26),\"x\")","v":"x"},{"$f":"IF($E33=\"Y\",INDEX(OIQraw,ROW(),Setup!$C$5+COLUMN()-26),\"x\")","v":"x"},{"$f":"IF($E33=\"Y\",INDEX(OIQraw,ROW(),Setup!$C$5+COLUMN()-26),\"x\")","v":"x"}]
[1,"","",{"$f":"IF(ISERROR(FIND(\"Withdrew\",RawScores!B38)),RawScores!B38,RIGHT(RawScores!B38,LEN(RawScores!B38)-17))&\", \"&RawScores!C38","v":", "},{"$f":"IF(OR(ISERROR(FIND(\"Withdrew\",RawScores!B38))=FALSE,INDEX(OIQraw,ROW(),LastInputCol-3)=0),\"N\",IF(AND(Setup!$B$22=\"Yes\",INDEX(OIQraw,ROW(),LastInputCol)=1),\"N\",\"Y\"))","v":"N"},"X","X","X",{"$f":"IF(AND(ISNUMBER(F34),F34>Setup!$B$14-1),1,0)","v":0},{"$f":"IF(AND(F34>Setup!$B$14-1,Conv!H34<5),1,0)","v":0},{"$f":"IF(AND(F34>Setup!$B$14-1,Conv!G34=\"F\"),1,0)","v":0},"","","","","","","","","","","","","X","X",{"$f":"IF($E34=\"Y\",INDEX(OIQraw,ROW(),Setup!$C$5+COLUMN()-26),\"x\")","v":"x"},{"$f":"IF($E34=\"Y\",INDEX(OIQraw,ROW(),Setup!$C$5+COLUMN()-26),\"x\")","v":"x"},{"$f":"IF($E34=\"Y\",INDEX(OIQraw,ROW(),Setup!$C$5+COLUMN()-26),\"x\")","v":"x"},{"$f":"IF($E34=\"Y\",INDEX(OIQraw,ROW(),Setup!$C$5+COLUMN()-26),\"x\")","v":"x"},{"$f":"IF($E34=\"Y\",INDEX(OIQraw,ROW(),Setup!$C$5+COLUMN()-26),\"x\")","v":"x"},{"$f":"IF($E34=\"Y\",INDEX(OIQraw,ROW(),Setup!$C$5+COLUMN()-26),\"x\")","v":"x"},{"$f":"IF($E34=\"Y\",INDEX(OIQraw,ROW(),Setup!$C$5+COLUMN()-26),\"x\")","v":"x"},{"$f":"IF($E34=\"Y\",INDEX(OIQraw,ROW(),Setup!$C$5+COLUMN()-26),\"x\")","v":"x"},{"$f":"IF($E34=\"Y\",INDEX(OIQraw,ROW(),Setup!$C$5+COLUMN()-26),\"x\")","v":"x"},{"$f":"IF($E34=\"Y\",INDEX(OIQraw,ROW(),Setup!$C$5+COLUMN()-26),\"x\")","v":"x"},{"$f":"IF($E34=\"Y\",INDEX(OIQraw,ROW(),Setup!$C$5+COLUMN()-26),\"x\")","v":"x"},{"$f":"IF($E34=\"Y\",INDEX(OIQraw,ROW(),Setup!$C$5+COLUMN()-26),\"x\")","v":"x"},{"$f":"IF($E34=\"Y\",INDEX(OIQraw,ROW(),Setup!$C$5+COLUMN()-26),\"x\")","v":"x"},{"$f":"IF($E34=\"Y\",INDEX(OIQraw,ROW(),Setup!$C$5+COLUMN()-26),\"x\")","v":"x"},{"$f":"IF($E34=\"Y\",INDEX(OIQraw,ROW(),Setup!$C$5+COLUMN()-26),\"x\")","v":"x"},{"$f":"IF($E34=\"Y\",INDEX(OIQraw,ROW(),Setup!$C$5+COLUMN()-26),\"x\")","v":"x"},{"$f":"IF($E34=\"Y\",INDEX(OIQraw,ROW(),Setup!$C$5+COLUMN()-26),\"x\")","v":"x"},{"$f":"IF($E34=\"Y\",INDEX(OIQraw,ROW(),Setup!$C$5+COLUMN()-26),\"x\")","v":"x"},{"$f":"IF($E34=\"Y\",INDEX(OIQraw,ROW(),Setup!$C$5+COLUMN()-26),\"x\")","v":"x"},{"$f":"IF($E34=\"Y\",INDEX(OIQraw,ROW(),Setup!$C$5+COLUMN()-26),\"x\")","v":"x"},{"$f":"IF($E34=\"Y\",INDEX(OIQraw,ROW(),Setup!$C$5+COLUMN()-26),\"x\")","v":"x"},{"$f":"IF($E34=\"Y\",INDEX(OIQraw,ROW(),Setup!$C$5+COLUMN()-26),\"x\")","v":"x"},{"$f":"IF($E34=\"Y\",INDEX(OIQraw,ROW(),Setup!$C$5+COLUMN()-26),\"x\")","v":"x"},{"$f":"IF($E34=\"Y\",INDEX(OIQraw,ROW(),Setup!$C$5+COLUMN()-26),\"x\")","v":"x"},{"$f":"IF($E34=\"Y\",INDEX(OIQraw,ROW(),Setup!$C$5+COLUMN()-26),\"x\")","v":"x"},{"$f":"IF($E34=\"Y\",INDEX(OIQraw,ROW(),Setup!$C$5+COLUMN()-26),\"x\")","v":"x"},{"$f":"IF($E34=\"Y\",INDEX(OIQraw,ROW(),Setup!$C$5+COLUMN()-26),\"x\")","v":"x"},{"$f":"IF($E34=\"Y\",INDEX(OIQraw,ROW(),Setup!$C$5+COLUMN()-26),\"x\")","v":"x"},{"$f":"IF($E34=\"Y\",INDEX(OIQraw,ROW(),Setup!$C$5+COLUMN()-26),\"x\")","v":"x"},{"$f":"IF($E34=\"Y\",INDEX(OIQraw,ROW(),Setup!$C$5+COLUMN()-26),\"x\")","v":"x"},{"$f":"IF($E34=\"Y\",INDEX(OIQraw,ROW(),Setup!$C$5+COLUMN()-26),\"x\")","v":"x"},{"$f":"IF($E34=\"Y\",INDEX(OIQraw,ROW(),Setup!$C$5+COLUMN()-26),\"x\")","v":"x"},{"$f":"IF($E34=\"Y\",INDEX(OIQraw,ROW(),Setup!$C$5+COLUMN()-26),\"x\")","v":"x"},{"$f":"IF($E34=\"Y\",INDEX(OIQraw,ROW(),Setup!$C$5+COLUMN()-26),\"x\")","v":"x"},{"$f":"IF($E34=\"Y\",INDEX(OIQraw,ROW(),Setup!$C$5+COLUMN()-26),\"x\")","v":"x"},{"$f":"IF($E34=\"Y\",INDEX(OIQraw,ROW(),Setup!$C$5+COLUMN()-26),\"x\")","v":"x"},{"$f":"IF($E34=\"Y\",INDEX(OIQraw,ROW(),Setup!$C$5+COLUMN()-26),\"x\")","v":"x"},{"$f":"IF($E34=\"Y\",INDEX(OIQraw,ROW(),Setup!$C$5+COLUMN()-26),\"x\")","v":"x"},{"$f":"IF($E34=\"Y\",INDEX(OIQraw,ROW(),Setup!$C$5+COLUMN()-26),\"x\")","v":"x"},{"$f":"IF($E34=\"Y\",INDEX(OIQraw,ROW(),Setup!$C$5+COLUMN()-26),\"x\")","v":"x"},{"$f":"IF($E34=\"Y\",INDEX(OIQraw,ROW(),Setup!$C$5+COLUMN()-26),\"x\")","v":"x"},{"$f":"IF($E34=\"Y\",INDEX(OIQraw,ROW(),Setup!$C$5+COLUMN()-26),\"x\")","v":"x"},{"$f":"IF($E34=\"Y\",INDEX(OIQraw,ROW(),Setup!$C$5+COLUMN()-26),\"x\")","v":"x"},{"$f":"IF($E34=\"Y\",INDEX(OIQraw,ROW(),Setup!$C$5+COLUMN()-26),\"x\")","v":"x"},{"$f":"IF($E34=\"Y\",INDEX(OIQraw,ROW(),Setup!$C$5+COLUMN()-26),\"x\")","v":"x"},{"$f":"IF($E34=\"Y\",INDEX(OIQraw,ROW(),Setup!$C$5+COLUMN()-26),\"x\")","v":"x"},{"$f":"IF($E34=\"Y\",INDEX(OIQraw,ROW(),Setup!$C$5+COLUMN()-26),\"x\")","v":"x"},{"$f":"IF($E34=\"Y\",INDEX(OIQraw,ROW(),Setup!$C$5+COLUMN()-26),\"x\")","v":"x"},{"$f":"IF($E34=\"Y\",INDEX(OIQraw,ROW(),Setup!$C$5+COLUMN()-26),\"x\")","v":"x"},{"$f":"IF($E34=\"Y\",INDEX(OIQraw,ROW(),Setup!$C$5+COLUMN()-26),\"x\")","v":"x"},{"$f":"IF($E34=\"Y\",INDEX(OIQraw,ROW(),Setup!$C$5+COLUMN()-26),\"x\")","v":"x"},{"$f":"IF($E34=\"Y\",INDEX(OIQraw,ROW(),Setup!$C$5+COLUMN()-26),\"x\")","v":"x"},{"$f":"IF($E34=\"Y\",INDEX(OIQraw,ROW(),Setup!$C$5+COLUMN()-26),\"x\")","v":"x"},{"$f":"IF($E34=\"Y\",INDEX(OIQraw,ROW(),Setup!$C$5+COLUMN()-26),\"x\")","v":"x"},{"$f":"IF($E34=\"Y\",INDEX(OIQraw,ROW(),Setup!$C$5+COLUMN()-26),\"x\")","v":"x"},{"$f":"IF($E34=\"Y\",INDEX(OIQraw,ROW(),Setup!$C$5+COLUMN()-26),\"x\")","v":"x"},{"$f":"IF($E34=\"Y\",INDEX(OIQraw,ROW(),Setup!$C$5+COLUMN()-26),\"x\")","v":"x"},{"$f":"IF($E34=\"Y\",INDEX(OIQraw,ROW(),Setup!$C$5+COLUMN()-26),\"x\")","v":"x"},{"$f":"IF($E34=\"Y\",INDEX(OIQraw,ROW(),Setup!$C$5+COLUMN()-26),\"x\")","v":"x"},{"$f":"IF($E34=\"Y\",INDEX(OIQraw,ROW(),Setup!$C$5+COLUMN()-26),\"x\")","v":"x"},{"$f":"IF($E34=\"Y\",INDEX(OIQraw,ROW(),Setup!$C$5+COLUMN()-26),\"x\")","v":"x"},{"$f":"IF($E34=\"Y\",INDEX(OIQraw,ROW(),Setup!$C$5+COLUMN()-26),\"x\")","v":"x"},{"$f":"IF($E34=\"Y\",INDEX(OIQraw,ROW(),Setup!$C$5+COLUMN()-26),\"x\")","v":"x"},{"$f":"IF($E34=\"Y\",INDEX(OIQraw,ROW(),Setup!$C$5+COLUMN()-26),\"x\")","v":"x"},{"$f":"IF($E34=\"Y\",INDEX(OIQraw,ROW(),Setup!$C$5+COLUMN()-26),\"x\")","v":"x"},{"$f":"IF($E34=\"Y\",INDEX(OIQraw,ROW(),Setup!$C$5+COLUMN()-26),\"x\")","v":"x"},{"$f":"IF($E34=\"Y\",INDEX(OIQraw,ROW(),Setup!$C$5+COLUMN()-26),\"x\")","v":"x"},{"$f":"IF($E34=\"Y\",INDEX(OIQraw,ROW(),Setup!$C$5+COLUMN()-26),\"x\")","v":"x"},{"$f":"IF($E34=\"Y\",INDEX(OIQraw,ROW(),Setup!$C$5+COLUMN()-26),\"x\")","v":"x"},{"$f":"IF($E34=\"Y\",INDEX(OIQraw,ROW(),Setup!$C$5+COLUMN()-26),\"x\")","v":"x"},{"$f":"IF($E34=\"Y\",INDEX(OIQraw,ROW(),Setup!$C$5+COLUMN()-26),\"x\")","v":"x"},{"$f":"IF($E34=\"Y\",INDEX(OIQraw,ROW(),Setup!$C$5+COLUMN()-26),\"x\")","v":"x"},{"$f":"IF($E34=\"Y\",INDEX(OIQraw,ROW(),Setup!$C$5+COLUMN()-26),\"x\")","v":"x"},{"$f":"IF($E34=\"Y\",INDEX(OIQraw,ROW(),Setup!$C$5+COLUMN()-26),\"x\")","v":"x"},{"$f":"IF($E34=\"Y\",INDEX(OIQraw,ROW(),Setup!$C$5+COLUMN()-26),\"x\")","v":"x"},{"$f":"IF($E34=\"Y\",INDEX(OIQraw,ROW(),Setup!$C$5+COLUMN()-26),\"x\")","v":"x"},{"$f":"IF($E34=\"Y\",INDEX(OIQraw,ROW(),Setup!$C$5+COLUMN()-26),\"x\")","v":"x"},{"$f":"IF($E34=\"Y\",INDEX(OIQraw,ROW(),Setup!$C$5+COLUMN()-26),\"x\")","v":"x"},{"$f":"IF($E34=\"Y\",INDEX(OIQraw,ROW(),Setup!$C$5+COLUMN()-26),\"x\")","v":"x"},{"$f":"IF($E34=\"Y\",INDEX(OIQraw,ROW(),Setup!$C$5+COLUMN()-26),\"x\")","v":"x"},{"$f":"IF($E34=\"Y\",INDEX(OIQraw,ROW(),Setup!$C$5+COLUMN()-26),\"x\")","v":"x"},{"$f":"IF($E34=\"Y\",INDEX(OIQraw,ROW(),Setup!$C$5+COLUMN()-26),\"x\")","v":"x"},{"$f":"IF($E34=\"Y\",INDEX(OIQraw,ROW(),Setup!$C$5+COLUMN()-26),\"x\")","v":"x"},{"$f":"IF($E34=\"Y\",INDEX(OIQraw,ROW(),Setup!$C$5+COLUMN()-26),\"x\")","v":"x"},{"$f":"IF($E34=\"Y\",INDEX(OIQraw,ROW(),Setup!$C$5+COLUMN()-26),\"x\")","v":"x"},{"$f":"IF($E34=\"Y\",INDEX(OIQraw,ROW(),Setup!$C$5+COLUMN()-26),\"x\")","v":"x"},{"$f":"IF($E34=\"Y\",INDEX(OIQraw,ROW(),Setup!$C$5+COLUMN()-26),\"x\")","v":"x"},{"$f":"IF($E34=\"Y\",INDEX(OIQraw,ROW(),Setup!$C$5+COLUMN()-26),\"x\")","v":"x"},{"$f":"IF($E34=\"Y\",INDEX(OIQraw,ROW(),Setup!$C$5+COLUMN()-26),\"x\")","v":"x"},{"$f":"IF($E34=\"Y\",INDEX(OIQraw,ROW(),Setup!$C$5+COLUMN()-26),\"x\")","v":"x"},{"$f":"IF($E34=\"Y\",INDEX(OIQraw,ROW(),Setup!$C$5+COLUMN()-26),\"x\")","v":"x"},{"$f":"IF($E34=\"Y\",INDEX(OIQraw,ROW(),Setup!$C$5+COLUMN()-26),\"x\")","v":"x"},{"$f":"IF($E34=\"Y\",INDEX(OIQraw,ROW(),Setup!$C$5+COLUMN()-26),\"x\")","v":"x"},{"$f":"IF($E34=\"Y\",INDEX(OIQraw,ROW(),Setup!$C$5+COLUMN()-26),\"x\")","v":"x"},{"$f":"IF($E34=\"Y\",INDEX(OIQraw,ROW(),Setup!$C$5+COLUMN()-26),\"x\")","v":"x"},{"$f":"IF($E34=\"Y\",INDEX(OIQraw,ROW(),Setup!$C$5+COLUMN()-26),\"x\")","v":"x"},{"$f":"IF($E34=\"Y\",INDEX(OIQraw,ROW(),Setup!$C$5+COLUMN()-26),\"x\")","v":"x"},{"$f":"IF($E34=\"Y\",INDEX(OIQraw,ROW(),Setup!$C$5+COLUMN()-26),\"x\")","v":"x"},{"$f":"IF($E34=\"Y\",INDEX(OIQraw,ROW(),Setup!$C$5+COLUMN()-26),\"x\")","v":"x"},{"$f":"IF($E34=\"Y\",INDEX(OIQraw,ROW(),Setup!$C$5+COLUMN()-26),\"x\")","v":"x"},{"$f":"IF($E34=\"Y\",INDEX(OIQraw,ROW(),Setup!$C$5+COLUMN()-26),\"x\")","v":"x"},{"$f":"IF($E34=\"Y\",INDEX(OIQraw,ROW(),Setup!$C$5+COLUMN()-26),\"x\")","v":"x"},{"$f":"IF($E34=\"Y\",INDEX(OIQraw,ROW(),Setup!$C$5+COLUMN()-26),\"x\")","v":"x"},{"$f":"IF($E34=\"Y\",INDEX(OIQraw,ROW(),Setup!$C$5+COLUMN()-26),\"x\")","v":"x"},{"$f":"IF($E34=\"Y\",INDEX(OIQraw,ROW(),Setup!$C$5+COLUMN()-26),\"x\")","v":"x"},{"$f":"IF($E34=\"Y\",INDEX(OIQraw,ROW(),Setup!$C$5+COLUMN()-26),\"x\")","v":"x"},{"$f":"IF($E34=\"Y\",INDEX(OIQraw,ROW(),Setup!$C$5+COLUMN()-26),\"x\")","v":"x"},{"$f":"IF($E34=\"Y\",INDEX(OIQraw,ROW(),Setup!$C$5+COLUMN()-26),\"x\")","v":"x"},{"$f":"IF($E34=\"Y\",INDEX(OIQraw,ROW(),Setup!$C$5+COLUMN()-26),\"x\")","v":"x"},{"$f":"IF($E34=\"Y\",INDEX(OIQraw,ROW(),Setup!$C$5+COLUMN()-26),\"x\")","v":"x"},{"$f":"IF($E34=\"Y\",INDEX(OIQraw,ROW(),Setup!$C$5+COLUMN()-26),\"x\")","v":"x"},{"$f":"IF($E34=\"Y\",INDEX(OIQraw,ROW(),Setup!$C$5+COLUMN()-26),\"x\")","v":"x"},{"$f":"IF($E34=\"Y\",INDEX(OIQraw,ROW(),Setup!$C$5+COLUMN()-26),\"x\")","v":"x"},{"$f":"IF($E34=\"Y\",INDEX(OIQraw,ROW(),Setup!$C$5+COLUMN()-26),\"x\")","v":"x"},{"$f":"IF($E34=\"Y\",INDEX(OIQraw,ROW(),Setup!$C$5+COLUMN()-26),\"x\")","v":"x"},{"$f":"IF($E34=\"Y\",INDEX(OIQraw,ROW(),Setup!$C$5+COLUMN()-26),\"x\")","v":"x"},{"$f":"IF($E34=\"Y\",INDEX(OIQraw,ROW(),Setup!$C$5+COLUMN()-26),\"x\")","v":"x"},{"$f":"IF($E34=\"Y\",INDEX(OIQraw,ROW(),Setup!$C$5+COLUMN()-26),\"x\")","v":"x"},{"$f":"IF($E34=\"Y\",INDEX(OIQraw,ROW(),Setup!$C$5+COLUMN()-26),\"x\")","v":"x"},{"$f":"IF($E34=\"Y\",INDEX(OIQraw,ROW(),Setup!$C$5+COLUMN()-26),\"x\")","v":"x"},{"$f":"IF($E34=\"Y\",INDEX(OIQraw,ROW(),Setup!$C$5+COLUMN()-26),\"x\")","v":"x"},{"$f":"IF($E34=\"Y\",INDEX(OIQraw,ROW(),Setup!$C$5+COLUMN()-26),\"x\")","v":"x"},{"$f":"IF($E34=\"Y\",INDEX(OIQraw,ROW(),Setup!$C$5+COLUMN()-26),\"x\")","v":"x"},{"$f":"IF($E34=\"Y\",INDEX(OIQraw,ROW(),Setup!$C$5+COLUMN()-26),\"x\")","v":"x"},{"$f":"IF($E34=\"Y\",INDEX(OIQraw,ROW(),Setup!$C$5+COLUMN()-26),\"x\")","v":"x"},{"$f":"IF($E34=\"Y\",INDEX(OIQraw,ROW(),Setup!$C$5+COLUMN()-26),\"x\")","v":"x"},{"$f":"IF($E34=\"Y\",INDEX(OIQraw,ROW(),Setup!$C$5+COLUMN()-26),\"x\")","v":"x"},{"$f":"IF($E34=\"Y\",INDEX(OIQraw,ROW(),Setup!$C$5+COLUMN()-26),\"x\")","v":"x"},{"$f":"IF($E34=\"Y\",INDEX(OIQraw,ROW(),Setup!$C$5+COLUMN()-26),\"x\")","v":"x"},{"$f":"IF($E34=\"Y\",INDEX(OIQraw,ROW(),Setup!$C$5+COLUMN()-26),\"x\")","v":"x"},{"$f":"IF($E34=\"Y\",INDEX(OIQraw,ROW(),Setup!$C$5+COLUMN()-26),\"x\")","v":"x"},{"$f":"IF($E34=\"Y\",INDEX(OIQraw,ROW(),Setup!$C$5+COLUMN()-26),\"x\")","v":"x"},{"$f":"IF($E34=\"Y\",INDEX(OIQraw,ROW(),Setup!$C$5+COLUMN()-26),\"x\")","v":"x"},{"$f":"IF($E34=\"Y\",INDEX(OIQraw,ROW(),Setup!$C$5+COLUMN()-26),\"x\")","v":"x"},{"$f":"IF($E34=\"Y\",INDEX(OIQraw,ROW(),Setup!$C$5+COLUMN()-26),\"x\")","v":"x"},{"$f":"IF($E34=\"Y\",INDEX(OIQraw,ROW(),Setup!$C$5+COLUMN()-26),\"x\")","v":"x"},{"$f":"IF($E34=\"Y\",INDEX(OIQraw,ROW(),Setup!$C$5+COLUMN()-26),\"x\")","v":"x"},{"$f":"IF($E34=\"Y\",INDEX(OIQraw,ROW(),Setup!$C$5+COLUMN()-26),\"x\")","v":"x"},{"$f":"IF($E34=\"Y\",INDEX(OIQraw,ROW(),Setup!$C$5+COLUMN()-26),\"x\")","v":"x"},{"$f":"IF($E34=\"Y\",INDEX(OIQraw,ROW(),Setup!$C$5+COLUMN()-26),\"x\")","v":"x"},{"$f":"IF($E34=\"Y\",INDEX(OIQraw,ROW(),Setup!$C$5+COLUMN()-26),\"x\")","v":"x"},{"$f":"IF($E34=\"Y\",INDEX(OIQraw,ROW(),Setup!$C$5+COLUMN()-26),\"x\")","v":"x"},{"$f":"IF($E34=\"Y\",INDEX(OIQraw,ROW(),Setup!$C$5+COLUMN()-26),\"x\")","v":"x"},{"$f":"IF($E34=\"Y\",INDEX(OIQraw,ROW(),Setup!$C$5+COLUMN()-26),\"x\")","v":"x"},{"$f":"IF($E34=\"Y\",INDEX(OIQraw,ROW(),Setup!$C$5+COLUMN()-26),\"x\")","v":"x"},{"$f":"IF($E34=\"Y\",INDEX(OIQraw,ROW(),Setup!$C$5+COLUMN()-26),\"x\")","v":"x"},{"$f":"IF($E34=\"Y\",INDEX(OIQraw,ROW(),Setup!$C$5+COLUMN()-26),\"x\")","v":"x"},{"$f":"IF($E34=\"Y\",INDEX(OIQraw,ROW(),Setup!$C$5+COLUMN()-26),\"x\")","v":"x"},{"$f":"IF($E34=\"Y\",INDEX(OIQraw,ROW(),Setup!$C$5+COLUMN()-26),\"x\")","v":"x"},{"$f":"IF($E34=\"Y\",INDEX(OIQraw,ROW(),Setup!$C$5+COLUMN()-26),\"x\")","v":"x"},{"$f":"IF($E34=\"Y\",INDEX(OIQraw,ROW(),Setup!$C$5+COLUMN()-26),\"x\")","v":"x"},{"$f":"IF($E34=\"Y\",INDEX(OIQraw,ROW(),Setup!$C$5+COLUMN()-26),\"x\")","v":"x"},{"$f":"IF($E34=\"Y\",INDEX(OIQraw,ROW(),Setup!$C$5+COLUMN()-26),\"x\")","v":"x"},{"$f":"IF($E34=\"Y\",INDEX(OIQraw,ROW(),Setup!$C$5+COLUMN()-26),\"x\")","v":"x"},{"$f":"IF($E34=\"Y\",INDEX(OIQraw,ROW(),Setup!$C$5+COLUMN()-26),\"x\")","v":"x"},{"$f":"IF($E34=\"Y\",INDEX(OIQraw,ROW(),Setup!$C$5+COLUMN()-26),\"x\")","v":"x"},{"$f":"IF($E34=\"Y\",INDEX(OIQraw,ROW(),Setup!$C$5+COLUMN()-26),\"x\")","v":"x"},{"$f":"IF($E34=\"Y\",INDEX(OIQraw,ROW(),Setup!$C$5+COLUMN()-26),\"x\")","v":"x"},{"$f":"IF($E34=\"Y\",INDEX(OIQraw,ROW(),Setup!$C$5+COLUMN()-26),\"x\")","v":"x"},{"$f":"IF($E34=\"Y\",INDEX(OIQraw,ROW(),Setup!$C$5+COLUMN()-26),\"x\")","v":"x"},{"$f":"IF($E34=\"Y\",INDEX(OIQraw,ROW(),Setup!$C$5+COLUMN()-26),\"x\")","v":"x"},{"$f":"IF($E34=\"Y\",INDEX(OIQraw,ROW(),Setup!$C$5+COLUMN()-26),\"x\")","v":"x"},{"$f":"IF($E34=\"Y\",INDEX(OIQraw,ROW(),Setup!$C$5+COLUMN()-26),\"x\")","v":"x"},{"$f":"IF($E34=\"Y\",INDEX(OIQraw,ROW(),Setup!$C$5+COLUMN()-26),\"x\")","v":"x"},{"$f":"IF($E34=\"Y\",INDEX(OIQraw,ROW(),Setup!$C$5+COLUMN()-26),\"x\")","v":"x"},{"$f":"IF($E34=\"Y\",INDEX(OIQraw,ROW(),Setup!$C$5+COLUMN()-26),\"x\")","v":"x"},{"$f":"IF($E34=\"Y\",INDEX(OIQraw,ROW(),Setup!$C$5+COLUMN()-26),\"x\")","v":"x"},{"$f":"IF($E34=\"Y\",INDEX(OIQraw,ROW(),Setup!$C$5+COLUMN()-26),\"x\")","v":"x"},{"$f":"IF($E34=\"Y\",INDEX(OIQraw,ROW(),Setup!$C$5+COLUMN()-26),\"x\")","v":"x"},{"$f":"IF($E34=\"Y\",INDEX(OIQraw,ROW(),Setup!$C$5+COLUMN()-26),\"x\")","v":"x"},{"$f":"IF($E34=\"Y\",INDEX(OIQraw,ROW(),Setup!$C$5+COLUMN()-26),\"x\")","v":"x"},{"$f":"IF($E34=\"Y\",INDEX(OIQraw,ROW(),Setup!$C$5+COLUMN()-26),\"x\")","v":"x"},{"$f":"IF($E34=\"Y\",INDEX(OIQraw,ROW(),Setup!$C$5+COLUMN()-26),\"x\")","v":"x"},{"$f":"IF($E34=\"Y\",INDEX(OIQraw,ROW(),Setup!$C$5+COLUMN()-26),\"x\")","v":"x"},{"$f":"IF($E34=\"Y\",INDEX(OIQraw,ROW(),Setup!$C$5+COLUMN()-26),\"x\")","v":"x"},{"$f":"IF($E34=\"Y\",INDEX(OIQraw,ROW(),Setup!$C$5+COLUMN()-26),\"x\")","v":"x"},{"$f":"IF($E34=\"Y\",INDEX(OIQraw,ROW(),Setup!$C$5+COLUMN()-26),\"x\")","v":"x"},{"$f":"IF($E34=\"Y\",INDEX(OIQraw,ROW(),Setup!$C$5+COLUMN()-26),\"x\")","v":"x"},{"$f":"IF($E34=\"Y\",INDEX(OIQraw,ROW(),Setup!$C$5+COLUMN()-26),\"x\")","v":"x"},{"$f":"IF($E34=\"Y\",INDEX(OIQraw,ROW(),Setup!$C$5+COLUMN()-26),\"x\")","v":"x"},{"$f":"IF($E34=\"Y\",INDEX(OIQraw,ROW(),Setup!$C$5+COLUMN()-26),\"x\")","v":"x"},{"$f":"IF($E34=\"Y\",INDEX(OIQraw,ROW(),Setup!$C$5+COLUMN()-26),\"x\")","v":"x"},{"$f":"IF($E34=\"Y\",INDEX(OIQraw,ROW(),Setup!$C$5+COLUMN()-26),\"x\")","v":"x"},{"$f":"IF($E34=\"Y\",INDEX(OIQraw,ROW(),Setup!$C$5+COLUMN()-26),\"x\")","v":"x"},{"$f":"IF($E34=\"Y\",INDEX(OIQraw,ROW(),Setup!$C$5+COLUMN()-26),\"x\")","v":"x"},{"$f":"IF($E34=\"Y\",INDEX(OIQraw,ROW(),Setup!$C$5+COLUMN()-26),\"x\")","v":"x"},{"$f":"IF($E34=\"Y\",INDEX(OIQraw,ROW(),Setup!$C$5+COLUMN()-26),\"x\")","v":"x"},{"$f":"IF($E34=\"Y\",INDEX(OIQraw,ROW(),Setup!$C$5+COLUMN()-26),\"x\")","v":"x"},{"$f":"IF($E34=\"Y\",INDEX(OIQraw,ROW(),Setup!$C$5+COLUMN()-26),\"x\")","v":"x"},{"$f":"IF($E34=\"Y\",INDEX(OIQraw,ROW(),Setup!$C$5+COLUMN()-26),\"x\")","v":"x"},{"$f":"IF($E34=\"Y\",INDEX(OIQraw,ROW(),Setup!$C$5+COLUMN()-26),\"x\")","v":"x"},{"$f":"IF($E34=\"Y\",INDEX(OIQraw,ROW(),Setup!$C$5+COLUMN()-26),\"x\")","v":"x"},{"$f":"IF($E34=\"Y\",INDEX(OIQraw,ROW(),Setup!$C$5+COLUMN()-26),\"x\")","v":"x"},{"$f":"IF($E34=\"Y\",INDEX(OIQraw,ROW(),Setup!$C$5+COLUMN()-26),\"x\")","v":"x"},{"$f":"IF($E34=\"Y\",INDEX(OIQraw,ROW(),Setup!$C$5+COLUMN()-26),\"x\")","v":"x"},{"$f":"IF($E34=\"Y\",INDEX(OIQraw,ROW(),Setup!$C$5+COLUMN()-26),\"x\")","v":"x"},{"$f":"IF($E34=\"Y\",INDEX(OIQraw,ROW(),Setup!$C$5+COLUMN()-26),\"x\")","v":"x"},{"$f":"IF($E34=\"Y\",INDEX(OIQraw,ROW(),Setup!$C$5+COLUMN()-26),\"x\")","v":"x"},{"$f":"IF($E34=\"Y\",INDEX(OIQraw,ROW(),Setup!$C$5+COLUMN()-26),\"x\")","v":"x"},{"$f":"IF($E34=\"Y\",INDEX(OIQraw,ROW(),Setup!$C$5+COLUMN()-26),\"x\")","v":"x"},{"$f":"IF($E34=\"Y\",INDEX(OIQraw,ROW(),Setup!$C$5+COLUMN()-26),\"x\")","v":"x"},{"$f":"IF($E34=\"Y\",INDEX(OIQraw,ROW(),Setup!$C$5+COLUMN()-26),\"x\")","v":"x"},{"$f":"IF($E34=\"Y\",INDEX(OIQraw,ROW(),Setup!$C$5+COLUMN()-26),\"x\")","v":"x"},{"$f":"IF($E34=\"Y\",INDEX(OIQraw,ROW(),Setup!$C$5+COLUMN()-26),\"x\")","v":"x"},{"$f":"IF($E34=\"Y\",INDEX(OIQraw,ROW(),Setup!$C$5+COLUMN()-26),\"x\")","v":"x"},{"$f":"IF($E34=\"Y\",INDEX(OIQraw,ROW(),Setup!$C$5+COLUMN()-26),\"x\")","v":"x"},{"$f":"IF($E34=\"Y\",INDEX(OIQraw,ROW(),Setup!$C$5+COLUMN()-26),\"x\")","v":"x"},{"$f":"IF($E34=\"Y\",INDEX(OIQraw,ROW(),Setup!$C$5+COLUMN()-26),\"x\")","v":"x"},{"$f":"IF($E34=\"Y\",INDEX(OIQraw,ROW(),Setup!$C$5+COLUMN()-26),\"x\")","v":"x"},{"$f":"IF($E34=\"Y\",INDEX(OIQraw,ROW(),Setup!$C$5+COLUMN()-26),\"x\")","v":"x"},{"$f":"IF($E34=\"Y\",INDEX(OIQraw,ROW(),Setup!$C$5+COLUMN()-26),\"x\")","v":"x"},{"$f":"IF($E34=\"Y\",INDEX(OIQraw,ROW(),Setup!$C$5+COLUMN()-26),\"x\")","v":"x"},{"$f":"IF($E34=\"Y\",INDEX(OIQraw,ROW(),Setup!$C$5+COLUMN()-26),\"x\")","v":"x"},{"$f":"IF($E34=\"Y\",INDEX(OIQraw,ROW(),Setup!$C$5+COLUMN()-26),\"x\")","v":"x"},{"$f":"IF($E34=\"Y\",INDEX(OIQraw,ROW(),Setup!$C$5+COLUMN()-26),\"x\")","v":"x"},{"$f":"IF($E34=\"Y\",INDEX(OIQraw,ROW(),Setup!$C$5+COLUMN()-26),\"x\")","v":"x"},{"$f":"IF($E34=\"Y\",INDEX(OIQraw,ROW(),Setup!$C$5+COLUMN()-26),\"x\")","v":"x"},{"$f":"IF($E34=\"Y\",INDEX(OIQraw,ROW(),Setup!$C$5+COLUMN()-26),\"x\")","v":"x"},{"$f":"IF($E34=\"Y\",INDEX(OIQraw,ROW(),Setup!$C$5+COLUMN()-26),\"x\")","v":"x"},{"$f":"IF($E34=\"Y\",INDEX(OIQraw,ROW(),Setup!$C$5+COLUMN()-26),\"x\")","v":"x"},{"$f":"IF($E34=\"Y\",INDEX(OIQraw,ROW(),Setup!$C$5+COLUMN()-26),\"x\")","v":"x"},{"$f":"IF($E34=\"Y\",INDEX(OIQraw,ROW(),Setup!$C$5+COLUMN()-26),\"x\")","v":"x"},{"$f":"IF($E34=\"Y\",INDEX(OIQraw,ROW(),Setup!$C$5+COLUMN()-26),\"x\")","v":"x"},{"$f":"IF($E34=\"Y\",INDEX(OIQraw,ROW(),Setup!$C$5+COLUMN()-26),\"x\")","v":"x"},{"$f":"IF($E34=\"Y\",INDEX(OIQraw,ROW(),Setup!$C$5+COLUMN()-26),\"x\")","v":"x"},{"$f":"IF($E34=\"Y\",INDEX(OIQraw,ROW(),Setup!$C$5+COLUMN()-26),\"x\")","v":"x"},{"$f":"IF($E34=\"Y\",INDEX(OIQraw,ROW(),Setup!$C$5+COLUMN()-26),\"x\")","v":"x"},{"$f":"IF($E34=\"Y\",INDEX(OIQraw,ROW(),Setup!$C$5+COLUMN()-26),\"x\")","v":"x"},{"$f":"IF($E34=\"Y\",INDEX(OIQraw,ROW(),Setup!$C$5+COLUMN()-26),\"x\")","v":"x"},{"$f":"IF($E34=\"Y\",INDEX(OIQraw,ROW(),Setup!$C$5+COLUMN()-26),\"x\")","v":"x"},{"$f":"IF($E34=\"Y\",INDEX(OIQraw,ROW(),Setup!$C$5+COLUMN()-26),\"x\")","v":"x"},{"$f":"IF($E34=\"Y\",INDEX(OIQraw,ROW(),Setup!$C$5+COLUMN()-26),\"x\")","v":"x"},{"$f":"IF($E34=\"Y\",INDEX(OIQraw,ROW(),Setup!$C$5+COLUMN()-26),\"x\")","v":"x"},{"$f":"IF($E34=\"Y\",INDEX(OIQraw,ROW(),Setup!$C$5+COLUMN()-26),\"x\")","v":"x"},{"$f":"IF($E34=\"Y\",INDEX(OIQraw,ROW(),Setup!$C$5+COLUMN()-26),\"x\")","v":"x"},{"$f":"IF($E34=\"Y\",INDEX(OIQraw,ROW(),Setup!$C$5+COLUMN()-26),\"x\")","v":"x"},{"$f":"IF($E34=\"Y\",INDEX(OIQraw,ROW(),Setup!$C$5+COLUMN()-26),\"x\")","v":"x"},{"$f":"IF($E34=\"Y\",INDEX(OIQraw,ROW(),Setup!$C$5+COLUMN()-26),\"x\")","v":"x"},{"$f":"IF($E34=\"Y\",INDEX(OIQraw,ROW(),Setup!$C$5+COLUMN()-26),\"x\")","v":"x"},{"$f":"IF($E34=\"Y\",INDEX(OIQraw,ROW(),Setup!$C$5+COLUMN()-26),\"x\")","v":"x"},{"$f":"IF($E34=\"Y\",INDEX(OIQraw,ROW(),Setup!$C$5+COLUMN()-26),\"x\")","v":"x"},{"$f":"IF($E34=\"Y\",INDEX(OIQraw,ROW(),Setup!$C$5+COLUMN()-26),\"x\")","v":"x"},{"$f":"IF($E34=\"Y\",INDEX(OIQraw,ROW(),Setup!$C$5+COLUMN()-26),\"x\")","v":"x"},{"$f":"IF($E34=\"Y\",INDEX(OIQraw,ROW(),Setup!$C$5+COLUMN()-26),\"x\")","v":"x"},{"$f":"IF($E34=\"Y\",INDEX(OIQraw,ROW(),Setup!$C$5+COLUMN()-26),\"x\")","v":"x"},{"$f":"IF($E34=\"Y\",INDEX(OIQraw,ROW(),Setup!$C$5+COLUMN()-26),\"x\")","v":"x"},{"$f":"IF($E34=\"Y\",INDEX(OIQraw,ROW(),Setup!$C$5+COLUMN()-26),\"x\")","v":"x"},{"$f":"IF($E34=\"Y\",INDEX(OIQraw,ROW(),Setup!$C$5+COLUMN()-26),\"x\")","v":"x"},{"$f":"IF($E34=\"Y\",INDEX(OIQraw,ROW(),Setup!$C$5+COLUMN()-26),\"x\")","v":"x"},{"$f":"IF($E34=\"Y\",INDEX(OIQraw,ROW(),Setup!$C$5+COLUMN()-26),\"x\")","v":"x"},{"$f":"IF($E34=\"Y\",INDEX(OIQraw,ROW(),Setup!$C$5+COLUMN()-26),\"x\")","v":"x"},{"$f":"IF($E34=\"Y\",INDEX(OIQraw,ROW(),Setup!$C$5+COLUMN()-26),\"x\")","v":"x"},{"$f":"IF($E34=\"Y\",INDEX(OIQraw,ROW(),Setup!$C$5+COLUMN()-26),\"x\")","v":"x"}]
[1,"","",{"$f":"IF(ISERROR(FIND(\"Withdrew\",RawScores!B39)),RawScores!B39,RIGHT(RawScores!B39,LEN(RawScores!B39)-17))&\", \"&RawScores!C39","v":", "},{"$f":"IF(OR(ISERROR(FIND(\"Withdrew\",RawScores!B39))=FALSE,INDEX(OIQraw,ROW(),LastInputCol-3)=0),\"N\",IF(AND(Setup!$B$22=\"Yes\",INDEX(OIQraw,ROW(),LastInputCol)=1),\"N\",\"Y\"))","v":"N"},"X","X","X",{"$f":"IF(AND(ISNUMBER(F35),F35>Setup!$B$14-1),1,0)","v":0},{"$f":"IF(AND(F35>Setup!$B$14-1,Conv!H35<5),1,0)","v":0},{"$f":"IF(AND(F35>Setup!$B$14-1,Conv!G35=\"F\"),1,0)","v":0},"","","","","","","","","","","","","X","X",{"$f":"IF($E35=\"Y\",INDEX(OIQraw,ROW(),Setup!$C$5+COLUMN()-26),\"x\")","v":"x"},{"$f":"IF($E35=\"Y\",INDEX(OIQraw,ROW(),Setup!$C$5+COLUMN()-26),\"x\")","v":"x"},{"$f":"IF($E35=\"Y\",INDEX(OIQraw,ROW(),Setup!$C$5+COLUMN()-26),\"x\")","v":"x"},{"$f":"IF($E35=\"Y\",INDEX(OIQraw,ROW(),Setup!$C$5+COLUMN()-26),\"x\")","v":"x"},{"$f":"IF($E35=\"Y\",INDEX(OIQraw,ROW(),Setup!$C$5+COLUMN()-26),\"x\")","v":"x"},{"$f":"IF($E35=\"Y\",INDEX(OIQraw,ROW(),Setup!$C$5+COLUMN()-26),\"x\")","v":"x"},{"$f":"IF($E35=\"Y\",INDEX(OIQraw,ROW(),Setup!$C$5+COLUMN()-26),\"x\")","v":"x"},{"$f":"IF($E35=\"Y\",INDEX(OIQraw,ROW(),Setup!$C$5+COLUMN()-26),\"x\")","v":"x"},{"$f":"IF($E35=\"Y\",INDEX(OIQraw,ROW(),Setup!$C$5+COLUMN()-26),\"x\")","v":"x"},{"$f":"IF($E35=\"Y\",INDEX(OIQraw,ROW(),Setup!$C$5+COLUMN()-26),\"x\")","v":"x"},{"$f":"IF($E35=\"Y\",INDEX(OIQraw,ROW(),Setup!$C$5+COLUMN()-26),\"x\")","v":"x"},{"$f":"IF($E35=\"Y\",INDEX(OIQraw,ROW(),Setup!$C$5+COLUMN()-26),\"x\")","v":"x"},{"$f":"IF($E35=\"Y\",INDEX(OIQraw,ROW(),Setup!$C$5+COLUMN()-26),\"x\")","v":"x"},{"$f":"IF($E35=\"Y\",INDEX(OIQraw,ROW(),Setup!$C$5+COLUMN()-26),\"x\")","v":"x"},{"$f":"IF($E35=\"Y\",INDEX(OIQraw,ROW(),Setup!$C$5+COLUMN()-26),\"x\")","v":"x"},{"$f":"IF($E35=\"Y\",INDEX(OIQraw,ROW(),Setup!$C$5+COLUMN()-26),\"x\")","v":"x"},{"$f":"IF($E35=\"Y\",INDEX(OIQraw,ROW(),Setup!$C$5+COLUMN()-26),\"x\")","v":"x"},{"$f":"IF($E35=\"Y\",INDEX(OIQraw,ROW(),Setup!$C$5+COLUMN()-26),\"x\")","v":"x"},{"$f":"IF($E35=\"Y\",INDEX(OIQraw,ROW(),Setup!$C$5+COLUMN()-26),\"x\")","v":"x"},{"$f":"IF($E35=\"Y\",INDEX(OIQraw,ROW(),Setup!$C$5+COLUMN()-26),\"x\")","v":"x"},{"$f":"IF($E35=\"Y\",INDEX(OIQraw,ROW(),Setup!$C$5+COLUMN()-26),\"x\")","v":"x"},{"$f":"IF($E35=\"Y\",INDEX(OIQraw,ROW(),Setup!$C$5+COLUMN()-26),\"x\")","v":"x"},{"$f":"IF($E35=\"Y\",INDEX(OIQraw,ROW(),Setup!$C$5+COLUMN()-26),\"x\")","v":"x"},{"$f":"IF($E35=\"Y\",INDEX(OIQraw,ROW(),Setup!$C$5+COLUMN()-26),\"x\")","v":"x"},{"$f":"IF($E35=\"Y\",INDEX(OIQraw,ROW(),Setup!$C$5+COLUMN()-26),\"x\")","v":"x"},{"$f":"IF($E35=\"Y\",INDEX(OIQraw,ROW(),Setup!$C$5+COLUMN()-26),\"x\")","v":"x"},{"$f":"IF($E35=\"Y\",INDEX(OIQraw,ROW(),Setup!$C$5+COLUMN()-26),\"x\")","v":"x"},{"$f":"IF($E35=\"Y\",INDEX(OIQraw,ROW(),Setup!$C$5+COLUMN()-26),\"x\")","v":"x"},{"$f":"IF($E35=\"Y\",INDEX(OIQraw,ROW(),Setup!$C$5+COLUMN()-26),\"x\")","v":"x"},{"$f":"IF($E35=\"Y\",INDEX(OIQraw,ROW(),Setup!$C$5+COLUMN()-26),\"x\")","v":"x"},{"$f":"IF($E35=\"Y\",INDEX(OIQraw,ROW(),Setup!$C$5+COLUMN()-26),\"x\")","v":"x"},{"$f":"IF($E35=\"Y\",INDEX(OIQraw,ROW(),Setup!$C$5+COLUMN()-26),\"x\")","v":"x"},{"$f":"IF($E35=\"Y\",INDEX(OIQraw,ROW(),Setup!$C$5+COLUMN()-26),\"x\")","v":"x"},{"$f":"IF($E35=\"Y\",INDEX(OIQraw,ROW(),Setup!$C$5+COLUMN()-26),\"x\")","v":"x"},{"$f":"IF($E35=\"Y\",INDEX(OIQraw,ROW(),Setup!$C$5+COLUMN()-26),\"x\")","v":"x"},{"$f":"IF($E35=\"Y\",INDEX(OIQraw,ROW(),Setup!$C$5+COLUMN()-26),\"x\")","v":"x"},{"$f":"IF($E35=\"Y\",INDEX(OIQraw,ROW(),Setup!$C$5+COLUMN()-26),\"x\")","v":"x"},{"$f":"IF($E35=\"Y\",INDEX(OIQraw,ROW(),Setup!$C$5+COLUMN()-26),\"x\")","v":"x"},{"$f":"IF($E35=\"Y\",INDEX(OIQraw,ROW(),Setup!$C$5+COLUMN()-26),\"x\")","v":"x"},{"$f":"IF($E35=\"Y\",INDEX(OIQraw,ROW(),Setup!$C$5+COLUMN()-26),\"x\")","v":"x"},{"$f":"IF($E35=\"Y\",INDEX(OIQraw,ROW(),Setup!$C$5+COLUMN()-26),\"x\")","v":"x"},{"$f":"IF($E35=\"Y\",INDEX(OIQraw,ROW(),Setup!$C$5+COLUMN()-26),\"x\")","v":"x"},{"$f":"IF($E35=\"Y\",INDEX(OIQraw,ROW(),Setup!$C$5+COLUMN()-26),\"x\")","v":"x"},{"$f":"IF($E35=\"Y\",INDEX(OIQraw,ROW(),Setup!$C$5+COLUMN()-26),\"x\")","v":"x"},{"$f":"IF($E35=\"Y\",INDEX(OIQraw,ROW(),Setup!$C$5+COLUMN()-26),\"x\")","v":"x"},{"$f":"IF($E35=\"Y\",INDEX(OIQraw,ROW(),Setup!$C$5+COLUMN()-26),\"x\")","v":"x"},{"$f":"IF($E35=\"Y\",INDEX(OIQraw,ROW(),Setup!$C$5+COLUMN()-26),\"x\")","v":"x"},{"$f":"IF($E35=\"Y\",INDEX(OIQraw,ROW(),Setup!$C$5+COLUMN()-26),\"x\")","v":"x"},{"$f":"IF($E35=\"Y\",INDEX(OIQraw,ROW(),Setup!$C$5+COLUMN()-26),\"x\")","v":"x"},{"$f":"IF($E35=\"Y\",INDEX(OIQraw,ROW(),Setup!$C$5+COLUMN()-26),\"x\")","v":"x"},{"$f":"IF($E35=\"Y\",INDEX(OIQraw,ROW(),Setup!$C$5+COLUMN()-26),\"x\")","v":"x"},{"$f":"IF($E35=\"Y\",INDEX(OIQraw,ROW(),Setup!$C$5+COLUMN()-26),\"x\")","v":"x"},{"$f":"IF($E35=\"Y\",INDEX(OIQraw,ROW(),Setup!$C$5+COLUMN()-26),\"x\")","v":"x"},{"$f":"IF($E35=\"Y\",INDEX(OIQraw,ROW(),Setup!$C$5+COLUMN()-26),\"x\")","v":"x"},{"$f":"IF($E35=\"Y\",INDEX(OIQraw,ROW(),Setup!$C$5+COLUMN()-26),\"x\")","v":"x"},{"$f":"IF($E35=\"Y\",INDEX(OIQraw,ROW(),Setup!$C$5+COLUMN()-26),\"x\")","v":"x"},{"$f":"IF($E35=\"Y\",INDEX(OIQraw,ROW(),Setup!$C$5+COLUMN()-26),\"x\")","v":"x"},{"$f":"IF($E35=\"Y\",INDEX(OIQraw,ROW(),Setup!$C$5+COLUMN()-26),\"x\")","v":"x"},{"$f":"IF($E35=\"Y\",INDEX(OIQraw,ROW(),Setup!$C$5+COLUMN()-26),\"x\")","v":"x"},{"$f":"IF($E35=\"Y\",INDEX(OIQraw,ROW(),Setup!$C$5+COLUMN()-26),\"x\")","v":"x"},{"$f":"IF($E35=\"Y\",INDEX(OIQraw,ROW(),Setup!$C$5+COLUMN()-26),\"x\")","v":"x"},{"$f":"IF($E35=\"Y\",INDEX(OIQraw,ROW(),Setup!$C$5+COLUMN()-26),\"x\")","v":"x"},{"$f":"IF($E35=\"Y\",INDEX(OIQraw,ROW(),Setup!$C$5+COLUMN()-26),\"x\")","v":"x"},{"$f":"IF($E35=\"Y\",INDEX(OIQraw,ROW(),Setup!$C$5+COLUMN()-26),\"x\")","v":"x"},{"$f":"IF($E35=\"Y\",INDEX(OIQraw,ROW(),Setup!$C$5+COLUMN()-26),\"x\")","v":"x"},{"$f":"IF($E35=\"Y\",INDEX(OIQraw,ROW(),Setup!$C$5+COLUMN()-26),\"x\")","v":"x"},{"$f":"IF($E35=\"Y\",INDEX(OIQraw,ROW(),Setup!$C$5+COLUMN()-26),\"x\")","v":"x"},{"$f":"IF($E35=\"Y\",INDEX(OIQraw,ROW(),Setup!$C$5+COLUMN()-26),\"x\")","v":"x"},{"$f":"IF($E35=\"Y\",INDEX(OIQraw,ROW(),Setup!$C$5+COLUMN()-26),\"x\")","v":"x"},{"$f":"IF($E35=\"Y\",INDEX(OIQraw,ROW(),Setup!$C$5+COLUMN()-26),\"x\")","v":"x"},{"$f":"IF($E35=\"Y\",INDEX(OIQraw,ROW(),Setup!$C$5+COLUMN()-26),\"x\")","v":"x"},{"$f":"IF($E35=\"Y\",INDEX(OIQraw,ROW(),Setup!$C$5+COLUMN()-26),\"x\")","v":"x"},{"$f":"IF($E35=\"Y\",INDEX(OIQraw,ROW(),Setup!$C$5+COLUMN()-26),\"x\")","v":"x"},{"$f":"IF($E35=\"Y\",INDEX(OIQraw,ROW(),Setup!$C$5+COLUMN()-26),\"x\")","v":"x"},{"$f":"IF($E35=\"Y\",INDEX(OIQraw,ROW(),Setup!$C$5+COLUMN()-26),\"x\")","v":"x"},{"$f":"IF($E35=\"Y\",INDEX(OIQraw,ROW(),Setup!$C$5+COLUMN()-26),\"x\")","v":"x"},{"$f":"IF($E35=\"Y\",INDEX(OIQraw,ROW(),Setup!$C$5+COLUMN()-26),\"x\")","v":"x"},{"$f":"IF($E35=\"Y\",INDEX(OIQraw,ROW(),Setup!$C$5+COLUMN()-26),\"x\")","v":"x"},{"$f":"IF($E35=\"Y\",INDEX(OIQraw,ROW(),Setup!$C$5+COLUMN()-26),\"x\")","v":"x"},{"$f":"IF($E35=\"Y\",INDEX(OIQraw,ROW(),Setup!$C$5+COLUMN()-26),\"x\")","v":"x"},{"$f":"IF($E35=\"Y\",INDEX(OIQraw,ROW(),Setup!$C$5+COLUMN()-26),\"x\")","v":"x"},{"$f":"IF($E35=\"Y\",INDEX(OIQraw,ROW(),Setup!$C$5+COLUMN()-26),\"x\")","v":"x"},{"$f":"IF($E35=\"Y\",INDEX(OIQraw,ROW(),Setup!$C$5+COLUMN()-26),\"x\")","v":"x"},{"$f":"IF($E35=\"Y\",INDEX(OIQraw,ROW(),Setup!$C$5+COLUMN()-26),\"x\")","v":"x"},{"$f":"IF($E35=\"Y\",INDEX(OIQraw,ROW(),Setup!$C$5+COLUMN()-26),\"x\")","v":"x"},{"$f":"IF($E35=\"Y\",INDEX(OIQraw,ROW(),Setup!$C$5+COLUMN()-26),\"x\")","v":"x"},{"$f":"IF($E35=\"Y\",INDEX(OIQraw,ROW(),Setup!$C$5+COLUMN()-26),\"x\")","v":"x"},{"$f":"IF($E35=\"Y\",INDEX(OIQraw,ROW(),Setup!$C$5+COLUMN()-26),\"x\")","v":"x"},{"$f":"IF($E35=\"Y\",INDEX(OIQraw,ROW(),Setup!$C$5+COLUMN()-26),\"x\")","v":"x"},{"$f":"IF($E35=\"Y\",INDEX(OIQraw,ROW(),Setup!$C$5+COLUMN()-26),\"x\")","v":"x"},{"$f":"IF($E35=\"Y\",INDEX(OIQraw,ROW(),Setup!$C$5+COLUMN()-26),\"x\")","v":"x"},{"$f":"IF($E35=\"Y\",INDEX(OIQraw,ROW(),Setup!$C$5+COLUMN()-26),\"x\")","v":"x"},{"$f":"IF($E35=\"Y\",INDEX(OIQraw,ROW(),Setup!$C$5+COLUMN()-26),\"x\")","v":"x"},{"$f":"IF($E35=\"Y\",INDEX(OIQraw,ROW(),Setup!$C$5+COLUMN()-26),\"x\")","v":"x"},{"$f":"IF($E35=\"Y\",INDEX(OIQraw,ROW(),Setup!$C$5+COLUMN()-26),\"x\")","v":"x"},{"$f":"IF($E35=\"Y\",INDEX(OIQraw,ROW(),Setup!$C$5+COLUMN()-26),\"x\")","v":"x"},{"$f":"IF($E35=\"Y\",INDEX(OIQraw,ROW(),Setup!$C$5+COLUMN()-26),\"x\")","v":"x"},{"$f":"IF($E35=\"Y\",INDEX(OIQraw,ROW(),Setup!$C$5+COLUMN()-26),\"x\")","v":"x"},{"$f":"IF($E35=\"Y\",INDEX(OIQraw,ROW(),Setup!$C$5+COLUMN()-26),\"x\")","v":"x"},{"$f":"IF($E35=\"Y\",INDEX(OIQraw,ROW(),Setup!$C$5+COLUMN()-26),\"x\")","v":"x"},{"$f":"IF($E35=\"Y\",INDEX(OIQraw,ROW(),Setup!$C$5+COLUMN()-26),\"x\")","v":"x"},{"$f":"IF($E35=\"Y\",INDEX(OIQraw,ROW(),Setup!$C$5+COLUMN()-26),\"x\")","v":"x"},{"$f":"IF($E35=\"Y\",INDEX(OIQraw,ROW(),Setup!$C$5+COLUMN()-26),\"x\")","v":"x"},{"$f":"IF($E35=\"Y\",INDEX(OIQraw,ROW(),Setup!$C$5+COLUMN()-26),\"x\")","v":"x"},{"$f":"IF($E35=\"Y\",INDEX(OIQraw,ROW(),Setup!$C$5+COLUMN()-26),\"x\")","v":"x"},{"$f":"IF($E35=\"Y\",INDEX(OIQraw,ROW(),Setup!$C$5+COLUMN()-26),\"x\")","v":"x"},{"$f":"IF($E35=\"Y\",INDEX(OIQraw,ROW(),Setup!$C$5+COLUMN()-26),\"x\")","v":"x"},{"$f":"IF($E35=\"Y\",INDEX(OIQraw,ROW(),Setup!$C$5+COLUMN()-26),\"x\")","v":"x"},{"$f":"IF($E35=\"Y\",INDEX(OIQraw,ROW(),Setup!$C$5+COLUMN()-26),\"x\")","v":"x"},{"$f":"IF($E35=\"Y\",INDEX(OIQraw,ROW(),Setup!$C$5+COLUMN()-26),\"x\")","v":"x"},{"$f":"IF($E35=\"Y\",INDEX(OIQraw,ROW(),Setup!$C$5+COLUMN()-26),\"x\")","v":"x"},{"$f":"IF($E35=\"Y\",INDEX(OIQraw,ROW(),Setup!$C$5+COLUMN()-26),\"x\")","v":"x"},{"$f":"IF($E35=\"Y\",INDEX(OIQraw,ROW(),Setup!$C$5+COLUMN()-26),\"x\")","v":"x"},{"$f":"IF($E35=\"Y\",INDEX(OIQraw,ROW(),Setup!$C$5+COLUMN()-26),\"x\")","v":"x"},{"$f":"IF($E35=\"Y\",INDEX(OIQraw,ROW(),Setup!$C$5+COLUMN()-26),\"x\")","v":"x"},{"$f":"IF($E35=\"Y\",INDEX(OIQraw,ROW(),Setup!$C$5+COLUMN()-26),\"x\")","v":"x"},{"$f":"IF($E35=\"Y\",INDEX(OIQraw,ROW(),Setup!$C$5+COLUMN()-26),\"x\")","v":"x"},{"$f":"IF($E35=\"Y\",INDEX(OIQraw,ROW(),Setup!$C$5+COLUMN()-26),\"x\")","v":"x"},{"$f":"IF($E35=\"Y\",INDEX(OIQraw,ROW(),Setup!$C$5+COLUMN()-26),\"x\")","v":"x"},{"$f":"IF($E35=\"Y\",INDEX(OIQraw,ROW(),Setup!$C$5+COLUMN()-26),\"x\")","v":"x"},{"$f":"IF($E35=\"Y\",INDEX(OIQraw,ROW(),Setup!$C$5+COLUMN()-26),\"x\")","v":"x"},{"$f":"IF($E35=\"Y\",INDEX(OIQraw,ROW(),Setup!$C$5+COLUMN()-26),\"x\")","v":"x"},{"$f":"IF($E35=\"Y\",INDEX(OIQraw,ROW(),Setup!$C$5+COLUMN()-26),\"x\")","v":"x"},{"$f":"IF($E35=\"Y\",INDEX(OIQraw,ROW(),Setup!$C$5+COLUMN()-26),\"x\")","v":"x"},{"$f":"IF($E35=\"Y\",INDEX(OIQraw,ROW(),Setup!$C$5+COLUMN()-26),\"x\")","v":"x"},{"$f":"IF($E35=\"Y\",INDEX(OIQraw,ROW(),Setup!$C$5+COLUMN()-26),\"x\")","v":"x"},{"$f":"IF($E35=\"Y\",INDEX(OIQraw,ROW(),Setup!$C$5+COLUMN()-26),\"x\")","v":"x"},{"$f":"IF($E35=\"Y\",INDEX(OIQraw,ROW(),Setup!$C$5+COLUMN()-26),\"x\")","v":"x"},{"$f":"IF($E35=\"Y\",INDEX(OIQraw,ROW(),Setup!$C$5+COLUMN()-26),\"x\")","v":"x"},{"$f":"IF($E35=\"Y\",INDEX(OIQraw,ROW(),Setup!$C$5+COLUMN()-26),\"x\")","v":"x"},{"$f":"IF($E35=\"Y\",INDEX(OIQraw,ROW(),Setup!$C$5+COLUMN()-26),\"x\")","v":"x"},{"$f":"IF($E35=\"Y\",INDEX(OIQraw,ROW(),Setup!$C$5+COLUMN()-26),\"x\")","v":"x"},{"$f":"IF($E35=\"Y\",INDEX(OIQraw,ROW(),Setup!$C$5+COLUMN()-26),\"x\")","v":"x"},{"$f":"IF($E35=\"Y\",INDEX(OIQraw,ROW(),Setup!$C$5+COLUMN()-26),\"x\")","v":"x"},{"$f":"IF($E35=\"Y\",INDEX(OIQraw,ROW(),Setup!$C$5+COLUMN()-26),\"x\")","v":"x"},{"$f":"IF($E35=\"Y\",INDEX(OIQraw,ROW(),Setup!$C$5+COLUMN()-26),\"x\")","v":"x"},{"$f":"IF($E35=\"Y\",INDEX(OIQraw,ROW(),Setup!$C$5+COLUMN()-26),\"x\")","v":"x"},{"$f":"IF($E35=\"Y\",INDEX(OIQraw,ROW(),Setup!$C$5+COLUMN()-26),\"x\")","v":"x"},{"$f":"IF($E35=\"Y\",INDEX(OIQraw,ROW(),Setup!$C$5+COLUMN()-26),\"x\")","v":"x"},{"$f":"IF($E35=\"Y\",INDEX(OIQraw,ROW(),Setup!$C$5+COLUMN()-26),\"x\")","v":"x"},{"$f":"IF($E35=\"Y\",INDEX(OIQraw,ROW(),Setup!$C$5+COLUMN()-26),\"x\")","v":"x"},{"$f":"IF($E35=\"Y\",INDEX(OIQraw,ROW(),Setup!$C$5+COLUMN()-26),\"x\")","v":"x"},{"$f":"IF($E35=\"Y\",INDEX(OIQraw,ROW(),Setup!$C$5+COLUMN()-26),\"x\")","v":"x"},{"$f":"IF($E35=\"Y\",INDEX(OIQraw,ROW(),Setup!$C$5+COLUMN()-26),\"x\")","v":"x"},{"$f":"IF($E35=\"Y\",INDEX(OIQraw,ROW(),Setup!$C$5+COLUMN()-26),\"x\")","v":"x"},{"$f":"IF($E35=\"Y\",INDEX(OIQraw,ROW(),Setup!$C$5+COLUMN()-26),\"x\")","v":"x"},{"$f":"IF($E35=\"Y\",INDEX(OIQraw,ROW(),Setup!$C$5+COLUMN()-26),\"x\")","v":"x"},{"$f":"IF($E35=\"Y\",INDEX(OIQraw,ROW(),Setup!$C$5+COLUMN()-26),\"x\")","v":"x"},{"$f":"IF($E35=\"Y\",INDEX(OIQraw,ROW(),Setup!$C$5+COLUMN()-26),\"x\")","v":"x"},{"$f":"IF($E35=\"Y\",INDEX(OIQraw,ROW(),Setup!$C$5+COLUMN()-26),\"x\")","v":"x"},{"$f":"IF($E35=\"Y\",INDEX(OIQraw,ROW(),Setup!$C$5+COLUMN()-26),\"x\")","v":"x"},{"$f":"IF($E35=\"Y\",INDEX(OIQraw,ROW(),Setup!$C$5+COLUMN()-26),\"x\")","v":"x"},{"$f":"IF($E35=\"Y\",INDEX(OIQraw,ROW(),Setup!$C$5+COLUMN()-26),\"x\")","v":"x"},{"$f":"IF($E35=\"Y\",INDEX(OIQraw,ROW(),Setup!$C$5+COLUMN()-26),\"x\")","v":"x"},{"$f":"IF($E35=\"Y\",INDEX(OIQraw,ROW(),Setup!$C$5+COLUMN()-26),\"x\")","v":"x"},{"$f":"IF($E35=\"Y\",INDEX(OIQraw,ROW(),Setup!$C$5+COLUMN()-26),\"x\")","v":"x"},{"$f":"IF($E35=\"Y\",INDEX(OIQraw,ROW(),Setup!$C$5+COLUMN()-26),\"x\")","v":"x"},{"$f":"IF($E35=\"Y\",INDEX(OIQraw,ROW(),Setup!$C$5+COLUMN()-26),\"x\")","v":"x"},{"$f":"IF($E35=\"Y\",INDEX(OIQraw,ROW(),Setup!$C$5+COLUMN()-26),\"x\")","v":"x"},{"$f":"IF($E35=\"Y\",INDEX(OIQraw,ROW(),Setup!$C$5+COLUMN()-26),\"x\")","v":"x"},{"$f":"IF($E35=\"Y\",INDEX(OIQraw,ROW(),Setup!$C$5+COLUMN()-26),\"x\")","v":"x"},{"$f":"IF($E35=\"Y\",INDEX(OIQraw,ROW(),Setup!$C$5+COLUMN()-26),\"x\")","v":"x"},{"$f":"IF($E35=\"Y\",INDEX(OIQraw,ROW(),Setup!$C$5+COLUMN()-26),\"x\")","v":"x"},{"$f":"IF($E35=\"Y\",INDEX(OIQraw,ROW(),Setup!$C$5+COLUMN()-26),\"x\")","v":"x"},{"$f":"IF($E35=\"Y\",INDEX(OIQraw,ROW(),Setup!$C$5+COLUMN()-26),\"x\")","v":"x"},{"$f":"IF($E35=\"Y\",INDEX(OIQraw,ROW(),Setup!$C$5+COLUMN()-26),\"x\")","v":"x"},{"$f":"IF($E35=\"Y\",INDEX(OIQraw,ROW(),Setup!$C$5+COLUMN()-26),\"x\")","v":"x"},{"$f":"IF($E35=\"Y\",INDEX(OIQraw,ROW(),Setup!$C$5+COLUMN()-26),\"x\")","v":"x"},{"$f":"IF($E35=\"Y\",INDEX(OIQraw,ROW(),Setup!$C$5+COLUMN()-26),\"x\")","v":"x"},{"$f":"IF($E35=\"Y\",INDEX(OIQraw,ROW(),Setup!$C$5+COLUMN()-26),\"x\")","v":"x"},{"$f":"IF($E35=\"Y\",INDEX(OIQraw,ROW(),Setup!$C$5+COLUMN()-26),\"x\")","v":"x"},{"$f":"IF($E35=\"Y\",INDEX(OIQraw,ROW(),Setup!$C$5+COLUMN()-26),\"x\")","v":"x"},{"$f":"IF($E35=\"Y\",INDEX(OIQraw,ROW(),Setup!$C$5+COLUMN()-26),\"x\")","v":"x"},{"$f":"IF($E35=\"Y\",INDEX(OIQraw,ROW(),Setup!$C$5+COLUMN()-26),\"x\")","v":"x"},{"$f":"IF($E35=\"Y\",INDEX(OIQraw,ROW(),Setup!$C$5+COLUMN()-26),\"x\")","v":"x"},{"$f":"IF($E35=\"Y\",INDEX(OIQraw,ROW(),Setup!$C$5+COLUMN()-26),\"x\")","v":"x"},{"$f":"IF($E35=\"Y\",INDEX(OIQraw,ROW(),Setup!$C$5+COLUMN()-26),\"x\")","v":"x"},{"$f":"IF($E35=\"Y\",INDEX(OIQraw,ROW(),Setup!$C$5+COLUMN()-26),\"x\")","v":"x"},{"$f":"IF($E35=\"Y\",INDEX(OIQraw,ROW(),Setup!$C$5+COLUMN()-26),\"x\")","v":"x"},{"$f":"IF($E35=\"Y\",INDEX(OIQraw,ROW(),Setup!$C$5+COLUMN()-26),\"x\")","v":"x"},{"$f":"IF($E35=\"Y\",INDEX(OIQraw,ROW(),Setup!$C$5+COLUMN()-26),\"x\")","v":"x"},{"$f":"IF($E35=\"Y\",INDEX(OIQraw,ROW(),Setup!$C$5+COLUMN()-26),\"x\")","v":"x"},{"$f":"IF($E35=\"Y\",INDEX(OIQraw,ROW(),Setup!$C$5+COLUMN()-26),\"x\")","v":"x"},{"$f":"IF($E35=\"Y\",INDEX(OIQraw,ROW(),Setup!$C$5+COLUMN()-26),\"x\")","v":"x"},{"$f":"IF($E35=\"Y\",INDEX(OIQraw,ROW(),Setup!$C$5+COLUMN()-26),\"x\")","v":"x"},{"$f":"IF($E35=\"Y\",INDEX(OIQraw,ROW(),Setup!$C$5+COLUMN()-26),\"x\")","v":"x"},{"$f":"IF($E35=\"Y\",INDEX(OIQraw,ROW(),Setup!$C$5+COLUMN()-26),\"x\")","v":"x"},{"$f":"IF($E35=\"Y\",INDEX(OIQraw,ROW(),Setup!$C$5+COLUMN()-26),\"x\")","v":"x"},{"$f":"IF($E35=\"Y\",INDEX(OIQraw,ROW(),Setup!$C$5+COLUMN()-26),\"x\")","v":"x"},{"$f":"IF($E35=\"Y\",INDEX(OIQraw,ROW(),Setup!$C$5+COLUMN()-26),\"x\")","v":"x"},{"$f":"IF($E35=\"Y\",INDEX(OIQraw,ROW(),Setup!$C$5+COLUMN()-26),\"x\")","v":"x"},{"$f":"IF($E35=\"Y\",INDEX(OIQraw,ROW(),Setup!$C$5+COLUMN()-26),\"x\")","v":"x"},{"$f":"IF($E35=\"Y\",INDEX(OIQraw,ROW(),Setup!$C$5+COLUMN()-26),\"x\")","v":"x"},{"$f":"IF($E35=\"Y\",INDEX(OIQraw,ROW(),Setup!$C$5+COLUMN()-26),\"x\")","v":"x"},{"$f":"IF($E35=\"Y\",INDEX(OIQraw,ROW(),Setup!$C$5+COLUMN()-26),\"x\")","v":"x"},{"$f":"IF($E35=\"Y\",INDEX(OIQraw,ROW(),Setup!$C$5+COLUMN()-26),\"x\")","v":"x"},{"$f":"IF($E35=\"Y\",INDEX(OIQraw,ROW(),Setup!$C$5+COLUMN()-26),\"x\")","v":"x"},{"$f":"IF($E35=\"Y\",INDEX(OIQraw,ROW(),Setup!$C$5+COLUMN()-26),\"x\")","v":"x"},{"$f":"IF($E35=\"Y\",INDEX(OIQraw,ROW(),Setup!$C$5+COLUMN()-26),\"x\")","v":"x"},{"$f":"IF($E35=\"Y\",INDEX(OIQraw,ROW(),Setup!$C$5+COLUMN()-26),\"x\")","v":"x"},{"$f":"IF($E35=\"Y\",INDEX(OIQraw,ROW(),Setup!$C$5+COLUMN()-26),\"x\")","v":"x"},{"$f":"IF($E35=\"Y\",INDEX(OIQraw,ROW(),Setup!$C$5+COLUMN()-26),\"x\")","v":"x"},{"$f":"IF($E35=\"Y\",INDEX(OIQraw,ROW(),Setup!$C$5+COLUMN()-26),\"x\")","v":"x"},{"$f":"IF($E35=\"Y\",INDEX(OIQraw,ROW(),Setup!$C$5+COLUMN()-26),\"x\")","v":"x"},{"$f":"IF($E35=\"Y\",INDEX(OIQraw,ROW(),Setup!$C$5+COLUMN()-26),\"x\")","v":"x"},{"$f":"IF($E35=\"Y\",INDEX(OIQraw,ROW(),Setup!$C$5+COLUMN()-26),\"x\")","v":"x"},{"$f":"IF($E35=\"Y\",INDEX(OIQraw,ROW(),Setup!$C$5+COLUMN()-26),\"x\")","v":"x"},{"$f":"IF($E35=\"Y\",INDEX(OIQraw,ROW(),Setup!$C$5+COLUMN()-26),\"x\")","v":"x"},{"$f":"IF($E35=\"Y\",INDEX(OIQraw,ROW(),Setup!$C$5+COLUMN()-26),\"x\")","v":"x"},{"$f":"IF($E35=\"Y\",INDEX(OIQraw,ROW(),Setup!$C$5+COLUMN()-26),\"x\")","v":"x"},{"$f":"IF($E35=\"Y\",INDEX(OIQraw,ROW(),Setup!$C$5+COLUMN()-26),\"x\")","v":"x"},{"$f":"IF($E35=\"Y\",INDEX(OIQraw,ROW(),Setup!$C$5+COLUMN()-26),\"x\")","v":"x"},{"$f":"IF($E35=\"Y\",INDEX(OIQraw,ROW(),Setup!$C$5+COLUMN()-26),\"x\")","v":"x"},{"$f":"IF($E35=\"Y\",INDEX(OIQraw,ROW(),Setup!$C$5+COLUMN()-26),\"x\")","v":"x"},{"$f":"IF($E35=\"Y\",INDEX(OIQraw,ROW(),Setup!$C$5+COLUMN()-26),\"x\")","v":"x"},{"$f":"IF($E35=\"Y\",INDEX(OIQraw,ROW(),Setup!$C$5+COLUMN()-26),\"x\")","v":"x"},{"$f":"IF($E35=\"Y\",INDEX(OIQraw,ROW(),Setup!$C$5+COLUMN()-26),\"x\")","v":"x"},{"$f":"IF($E35=\"Y\",INDEX(OIQraw,ROW(),Setup!$C$5+COLUMN()-26),\"x\")","v":"x"},{"$f":"IF($E35=\"Y\",INDEX(OIQraw,ROW(),Setup!$C$5+COLUMN()-26),\"x\")","v":"x"},{"$f":"IF($E35=\"Y\",INDEX(OIQraw,ROW(),Setup!$C$5+COLUMN()-26),\"x\")","v":"x"},{"$f":"IF($E35=\"Y\",INDEX(OIQraw,ROW(),Setup!$C$5+COLUMN()-26),\"x\")","v":"x"},{"$f":"IF($E35=\"Y\",INDEX(OIQraw,ROW(),Setup!$C$5+COLUMN()-26),\"x\")","v":"x"},{"$f":"IF($E35=\"Y\",INDEX(OIQraw,ROW(),Setup!$C$5+COLUMN()-26),\"x\")","v":"x"},{"$f":"IF($E35=\"Y\",INDEX(OIQraw,ROW(),Setup!$C$5+COLUMN()-26),\"x\")","v":"x"},{"$f":"IF($E35=\"Y\",INDEX(OIQraw,ROW(),Setup!$C$5+COLUMN()-26),\"x\")","v":"x"},{"$f":"IF($E35=\"Y\",INDEX(OIQraw,ROW(),Setup!$C$5+COLUMN()-26),\"x\")","v":"x"},{"$f":"IF($E35=\"Y\",INDEX(OIQraw,ROW(),Setup!$C$5+COLUMN()-26),\"x\")","v":"x"},{"$f":"IF($E35=\"Y\",INDEX(OIQraw,ROW(),Setup!$C$5+COLUMN()-26),\"x\")","v":"x"},{"$f":"IF($E35=\"Y\",INDEX(OIQraw,ROW(),Setup!$C$5+COLUMN()-26),\"x\")","v":"x"},{"$f":"IF($E35=\"Y\",INDEX(OIQraw,ROW(),Setup!$C$5+COLUMN()-26),\"x\")","v":"x"},{"$f":"IF($E35=\"Y\",INDEX(OIQraw,ROW(),Setup!$C$5+COLUMN()-26),\"x\")","v":"x"},{"$f":"IF($E35=\"Y\",INDEX(OIQraw,ROW(),Setup!$C$5+COLUMN()-26),\"x\")","v":"x"},{"$f":"IF($E35=\"Y\",INDEX(OIQraw,ROW(),Setup!$C$5+COLUMN()-26),\"x\")","v":"x"},{"$f":"IF($E35=\"Y\",INDEX(OIQraw,ROW(),Setup!$C$5+COLUMN()-26),\"x\")","v":"x"},{"$f":"IF($E35=\"Y\",INDEX(OIQraw,ROW(),Setup!$C$5+COLUMN()-26),\"x\")","v":"x"},{"$f":"IF($E35=\"Y\",INDEX(OIQraw,ROW(),Setup!$C$5+COLUMN()-26),\"x\")","v":"x"},{"$f":"IF($E35=\"Y\",INDEX(OIQraw,ROW(),Setup!$C$5+COLUMN()-26),\"x\")","v":"x"},{"$f":"IF($E35=\"Y\",INDEX(OIQraw,ROW(),Setup!$C$5+COLUMN()-26),\"x\")","v":"x"},{"$f":"IF($E35=\"Y\",INDEX(OIQraw,ROW(),Setup!$C$5+COLUMN()-26),\"x\")","v":"x"},{"$f":"IF($E35=\"Y\",INDEX(OIQraw,ROW(),Setup!$C$5+COLUMN()-26),\"x\")","v":"x"},{"$f":"IF($E35=\"Y\",INDEX(OIQraw,ROW(),Setup!$C$5+COLUMN()-26),\"x\")","v":"x"},{"$f":"IF($E35=\"Y\",INDEX(OIQraw,ROW(),Setup!$C$5+COLUMN()-26),\"x\")","v":"x"},{"$f":"IF($E35=\"Y\",INDEX(OIQraw,ROW(),Setup!$C$5+COLUMN()-26),\"x\")","v":"x"},{"$f":"IF($E35=\"Y\",INDEX(OIQraw,ROW(),Setup!$C$5+COLUMN()-26),\"x\")","v":"x"},{"$f":"IF($E35=\"Y\",INDEX(OIQraw,ROW(),Setup!$C$5+COLUMN()-26),\"x\")","v":"x"},{"$f":"IF($E35=\"Y\",INDEX(OIQraw,ROW(),Setup!$C$5+COLUMN()-26),\"x\")","v":"x"},{"$f":"IF($E35=\"Y\",INDEX(OIQraw,ROW(),Setup!$C$5+COLUMN()-26),\"x\")","v":"x"},{"$f":"IF($E35=\"Y\",INDEX(OIQraw,ROW(),Setup!$C$5+COLUMN()-26),\"x\")","v":"x"},{"$f":"IF($E35=\"Y\",INDEX(OIQraw,ROW(),Setup!$C$5+COLUMN()-26),\"x\")","v":"x"},{"$f":"IF($E35=\"Y\",INDEX(OIQraw,ROW(),Setup!$C$5+COLUMN()-26),\"x\")","v":"x"},{"$f":"IF($E35=\"Y\",INDEX(OIQraw,ROW(),Setup!$C$5+COLUMN()-26),\"x\")","v":"x"},{"$f":"IF($E35=\"Y\",INDEX(OIQraw,ROW(),Setup!$C$5+COLUMN()-26),\"x\")","v":"x"},{"$f":"IF($E35=\"Y\",INDEX(OIQraw,ROW(),Setup!$C$5+COLUMN()-26),\"x\")","v":"x"}]
[1,"","",{"$f":"IF(ISERROR(FIND(\"Withdrew\",RawScores!B40)),RawScores!B40,RIGHT(RawScores!B40,LEN(RawScores!B40)-17))&\", \"&RawScores!C40","v":", "},{"$f":"IF(OR(ISERROR(FIND(\"Withdrew\",RawScores!B40))=FALSE,INDEX(OIQraw,ROW(),LastInputCol-3)=0),\"N\",IF(AND(Setup!$B$22=\"Yes\",INDEX(OIQraw,ROW(),LastInputCol)=1),\"N\",\"Y\"))","v":"N"},"X","X","X",{"$f":"IF(AND(ISNUMBER(F36),F36>Setup!$B$14-1),1,0)","v":0},{"$f":"IF(AND(F36>Setup!$B$14-1,Conv!H36<5),1,0)","v":0},{"$f":"IF(AND(F36>Setup!$B$14-1,Conv!G36=\"F\"),1,0)","v":0},"","","","","","","","","","","","","X","X",{"$f":"IF($E36=\"Y\",INDEX(OIQraw,ROW(),Setup!$C$5+COLUMN()-26),\"x\")","v":"x"},{"$f":"IF($E36=\"Y\",INDEX(OIQraw,ROW(),Setup!$C$5+COLUMN()-26),\"x\")","v":"x"},{"$f":"IF($E36=\"Y\",INDEX(OIQraw,ROW(),Setup!$C$5+COLUMN()-26),\"x\")","v":"x"},{"$f":"IF($E36=\"Y\",INDEX(OIQraw,ROW(),Setup!$C$5+COLUMN()-26),\"x\")","v":"x"},{"$f":"IF($E36=\"Y\",INDEX(OIQraw,ROW(),Setup!$C$5+COLUMN()-26),\"x\")","v":"x"},{"$f":"IF($E36=\"Y\",INDEX(OIQraw,ROW(),Setup!$C$5+COLUMN()-26),\"x\")","v":"x"},{"$f":"IF($E36=\"Y\",INDEX(OIQraw,ROW(),Setup!$C$5+COLUMN()-26),\"x\")","v":"x"},{"$f":"IF($E36=\"Y\",INDEX(OIQraw,ROW(),Setup!$C$5+COLUMN()-26),\"x\")","v":"x"},{"$f":"IF($E36=\"Y\",INDEX(OIQraw,ROW(),Setup!$C$5+COLUMN()-26),\"x\")","v":"x"},{"$f":"IF($E36=\"Y\",INDEX(OIQraw,ROW(),Setup!$C$5+COLUMN()-26),\"x\")","v":"x"},{"$f":"IF($E36=\"Y\",INDEX(OIQraw,ROW(),Setup!$C$5+COLUMN()-26),\"x\")","v":"x"},{"$f":"IF($E36=\"Y\",INDEX(OIQraw,ROW(),Setup!$C$5+COLUMN()-26),\"x\")","v":"x"},{"$f":"IF($E36=\"Y\",INDEX(OIQraw,ROW(),Setup!$C$5+COLUMN()-26),\"x\")","v":"x"},{"$f":"IF($E36=\"Y\",INDEX(OIQraw,ROW(),Setup!$C$5+COLUMN()-26),\"x\")","v":"x"},{"$f":"IF($E36=\"Y\",INDEX(OIQraw,ROW(),Setup!$C$5+COLUMN()-26),\"x\")","v":"x"},{"$f":"IF($E36=\"Y\",INDEX(OIQraw,ROW(),Setup!$C$5+COLUMN()-26),\"x\")","v":"x"},{"$f":"IF($E36=\"Y\",INDEX(OIQraw,ROW(),Setup!$C$5+COLUMN()-26),\"x\")","v":"x"},{"$f":"IF($E36=\"Y\",INDEX(OIQraw,ROW(),Setup!$C$5+COLUMN()-26),\"x\")","v":"x"},{"$f":"IF($E36=\"Y\",INDEX(OIQraw,ROW(),Setup!$C$5+COLUMN()-26),\"x\")","v":"x"},{"$f":"IF($E36=\"Y\",INDEX(OIQraw,ROW(),Setup!$C$5+COLUMN()-26),\"x\")","v":"x"},{"$f":"IF($E36=\"Y\",INDEX(OIQraw,ROW(),Setup!$C$5+COLUMN()-26),\"x\")","v":"x"},{"$f":"IF($E36=\"Y\",INDEX(OIQraw,ROW(),Setup!$C$5+COLUMN()-26),\"x\")","v":"x"},{"$f":"IF($E36=\"Y\",INDEX(OIQraw,ROW(),Setup!$C$5+COLUMN()-26),\"x\")","v":"x"},{"$f":"IF($E36=\"Y\",INDEX(OIQraw,ROW(),Setup!$C$5+COLUMN()-26),\"x\")","v":"x"},{"$f":"IF($E36=\"Y\",INDEX(OIQraw,ROW(),Setup!$C$5+COLUMN()-26),\"x\")","v":"x"},{"$f":"IF($E36=\"Y\",INDEX(OIQraw,ROW(),Setup!$C$5+COLUMN()-26),\"x\")","v":"x"},{"$f":"IF($E36=\"Y\",INDEX(OIQraw,ROW(),Setup!$C$5+COLUMN()-26),\"x\")","v":"x"},{"$f":"IF($E36=\"Y\",INDEX(OIQraw,ROW(),Setup!$C$5+COLUMN()-26),\"x\")","v":"x"},{"$f":"IF($E36=\"Y\",INDEX(OIQraw,ROW(),Setup!$C$5+COLUMN()-26),\"x\")","v":"x"},{"$f":"IF($E36=\"Y\",INDEX(OIQraw,ROW(),Setup!$C$5+COLUMN()-26),\"x\")","v":"x"},{"$f":"IF($E36=\"Y\",INDEX(OIQraw,ROW(),Setup!$C$5+COLUMN()-26),\"x\")","v":"x"},{"$f":"IF($E36=\"Y\",INDEX(OIQraw,ROW(),Setup!$C$5+COLUMN()-26),\"x\")","v":"x"},{"$f":"IF($E36=\"Y\",INDEX(OIQraw,ROW(),Setup!$C$5+COLUMN()-26),\"x\")","v":"x"},{"$f":"IF($E36=\"Y\",INDEX(OIQraw,ROW(),Setup!$C$5+COLUMN()-26),\"x\")","v":"x"},{"$f":"IF($E36=\"Y\",INDEX(OIQraw,ROW(),Setup!$C$5+COLUMN()-26),\"x\")","v":"x"},{"$f":"IF($E36=\"Y\",INDEX(OIQraw,ROW(),Setup!$C$5+COLUMN()-26),\"x\")","v":"x"},{"$f":"IF($E36=\"Y\",INDEX(OIQraw,ROW(),Setup!$C$5+COLUMN()-26),\"x\")","v":"x"},{"$f":"IF($E36=\"Y\",INDEX(OIQraw,ROW(),Setup!$C$5+COLUMN()-26),\"x\")","v":"x"},{"$f":"IF($E36=\"Y\",INDEX(OIQraw,ROW(),Setup!$C$5+COLUMN()-26),\"x\")","v":"x"},{"$f":"IF($E36=\"Y\",INDEX(OIQraw,ROW(),Setup!$C$5+COLUMN()-26),\"x\")","v":"x"},{"$f":"IF($E36=\"Y\",INDEX(OIQraw,ROW(),Setup!$C$5+COLUMN()-26),\"x\")","v":"x"},{"$f":"IF($E36=\"Y\",INDEX(OIQraw,ROW(),Setup!$C$5+COLUMN()-26),\"x\")","v":"x"},{"$f":"IF($E36=\"Y\",INDEX(OIQraw,ROW(),Setup!$C$5+COLUMN()-26),\"x\")","v":"x"},{"$f":"IF($E36=\"Y\",INDEX(OIQraw,ROW(),Setup!$C$5+COLUMN()-26),\"x\")","v":"x"},{"$f":"IF($E36=\"Y\",INDEX(OIQraw,ROW(),Setup!$C$5+COLUMN()-26),\"x\")","v":"x"},{"$f":"IF($E36=\"Y\",INDEX(OIQraw,ROW(),Setup!$C$5+COLUMN()-26),\"x\")","v":"x"},{"$f":"IF($E36=\"Y\",INDEX(OIQraw,ROW(),Setup!$C$5+COLUMN()-26),\"x\")","v":"x"},{"$f":"IF($E36=\"Y\",INDEX(OIQraw,ROW(),Setup!$C$5+COLUMN()-26),\"x\")","v":"x"},{"$f":"IF($E36=\"Y\",INDEX(OIQraw,ROW(),Setup!$C$5+COLUMN()-26),\"x\")","v":"x"},{"$f":"IF($E36=\"Y\",INDEX(OIQraw,ROW(),Setup!$C$5+COLUMN()-26),\"x\")","v":"x"},{"$f":"IF($E36=\"Y\",INDEX(OIQraw,ROW(),Setup!$C$5+COLUMN()-26),\"x\")","v":"x"},{"$f":"IF($E36=\"Y\",INDEX(OIQraw,ROW(),Setup!$C$5+COLUMN()-26),\"x\")","v":"x"},{"$f":"IF($E36=\"Y\",INDEX(OIQraw,ROW(),Setup!$C$5+COLUMN()-26),\"x\")","v":"x"},{"$f":"IF($E36=\"Y\",INDEX(OIQraw,ROW(),Setup!$C$5+COLUMN()-26),\"x\")","v":"x"},{"$f":"IF($E36=\"Y\",INDEX(OIQraw,ROW(),Setup!$C$5+COLUMN()-26),\"x\")","v":"x"},{"$f":"IF($E36=\"Y\",INDEX(OIQraw,ROW(),Setup!$C$5+COLUMN()-26),\"x\")","v":"x"},{"$f":"IF($E36=\"Y\",INDEX(OIQraw,ROW(),Setup!$C$5+COLUMN()-26),\"x\")","v":"x"},{"$f":"IF($E36=\"Y\",INDEX(OIQraw,ROW(),Setup!$C$5+COLUMN()-26),\"x\")","v":"x"},{"$f":"IF($E36=\"Y\",INDEX(OIQraw,ROW(),Setup!$C$5+COLUMN()-26),\"x\")","v":"x"},{"$f":"IF($E36=\"Y\",INDEX(OIQraw,ROW(),Setup!$C$5+COLUMN()-26),\"x\")","v":"x"},{"$f":"IF($E36=\"Y\",INDEX(OIQraw,ROW(),Setup!$C$5+COLUMN()-26),\"x\")","v":"x"},{"$f":"IF($E36=\"Y\",INDEX(OIQraw,ROW(),Setup!$C$5+COLUMN()-26),\"x\")","v":"x"},{"$f":"IF($E36=\"Y\",INDEX(OIQraw,ROW(),Setup!$C$5+COLUMN()-26),\"x\")","v":"x"},{"$f":"IF($E36=\"Y\",INDEX(OIQraw,ROW(),Setup!$C$5+COLUMN()-26),\"x\")","v":"x"},{"$f":"IF($E36=\"Y\",INDEX(OIQraw,ROW(),Setup!$C$5+COLUMN()-26),\"x\")","v":"x"},{"$f":"IF($E36=\"Y\",INDEX(OIQraw,ROW(),Setup!$C$5+COLUMN()-26),\"x\")","v":"x"},{"$f":"IF($E36=\"Y\",INDEX(OIQraw,ROW(),Setup!$C$5+COLUMN()-26),\"x\")","v":"x"},{"$f":"IF($E36=\"Y\",INDEX(OIQraw,ROW(),Setup!$C$5+COLUMN()-26),\"x\")","v":"x"},{"$f":"IF($E36=\"Y\",INDEX(OIQraw,ROW(),Setup!$C$5+COLUMN()-26),\"x\")","v":"x"},{"$f":"IF($E36=\"Y\",INDEX(OIQraw,ROW(),Setup!$C$5+COLUMN()-26),\"x\")","v":"x"},{"$f":"IF($E36=\"Y\",INDEX(OIQraw,ROW(),Setup!$C$5+COLUMN()-26),\"x\")","v":"x"},{"$f":"IF($E36=\"Y\",INDEX(OIQraw,ROW(),Setup!$C$5+COLUMN()-26),\"x\")","v":"x"},{"$f":"IF($E36=\"Y\",INDEX(OIQraw,ROW(),Setup!$C$5+COLUMN()-26),\"x\")","v":"x"},{"$f":"IF($E36=\"Y\",INDEX(OIQraw,ROW(),Setup!$C$5+COLUMN()-26),\"x\")","v":"x"},{"$f":"IF($E36=\"Y\",INDEX(OIQraw,ROW(),Setup!$C$5+COLUMN()-26),\"x\")","v":"x"},{"$f":"IF($E36=\"Y\",INDEX(OIQraw,ROW(),Setup!$C$5+COLUMN()-26),\"x\")","v":"x"},{"$f":"IF($E36=\"Y\",INDEX(OIQraw,ROW(),Setup!$C$5+COLUMN()-26),\"x\")","v":"x"},{"$f":"IF($E36=\"Y\",INDEX(OIQraw,ROW(),Setup!$C$5+COLUMN()-26),\"x\")","v":"x"},{"$f":"IF($E36=\"Y\",INDEX(OIQraw,ROW(),Setup!$C$5+COLUMN()-26),\"x\")","v":"x"},{"$f":"IF($E36=\"Y\",INDEX(OIQraw,ROW(),Setup!$C$5+COLUMN()-26),\"x\")","v":"x"},{"$f":"IF($E36=\"Y\",INDEX(OIQraw,ROW(),Setup!$C$5+COLUMN()-26),\"x\")","v":"x"},{"$f":"IF($E36=\"Y\",INDEX(OIQraw,ROW(),Setup!$C$5+COLUMN()-26),\"x\")","v":"x"},{"$f":"IF($E36=\"Y\",INDEX(OIQraw,ROW(),Setup!$C$5+COLUMN()-26),\"x\")","v":"x"},{"$f":"IF($E36=\"Y\",INDEX(OIQraw,ROW(),Setup!$C$5+COLUMN()-26),\"x\")","v":"x"},{"$f":"IF($E36=\"Y\",INDEX(OIQraw,ROW(),Setup!$C$5+COLUMN()-26),\"x\")","v":"x"},{"$f":"IF($E36=\"Y\",INDEX(OIQraw,ROW(),Setup!$C$5+COLUMN()-26),\"x\")","v":"x"},{"$f":"IF($E36=\"Y\",INDEX(OIQraw,ROW(),Setup!$C$5+COLUMN()-26),\"x\")","v":"x"},{"$f":"IF($E36=\"Y\",INDEX(OIQraw,ROW(),Setup!$C$5+COLUMN()-26),\"x\")","v":"x"},{"$f":"IF($E36=\"Y\",INDEX(OIQraw,ROW(),Setup!$C$5+COLUMN()-26),\"x\")","v":"x"},{"$f":"IF($E36=\"Y\",INDEX(OIQraw,ROW(),Setup!$C$5+COLUMN()-26),\"x\")","v":"x"},{"$f":"IF($E36=\"Y\",INDEX(OIQraw,ROW(),Setup!$C$5+COLUMN()-26),\"x\")","v":"x"},{"$f":"IF($E36=\"Y\",INDEX(OIQraw,ROW(),Setup!$C$5+COLUMN()-26),\"x\")","v":"x"},{"$f":"IF($E36=\"Y\",INDEX(OIQraw,ROW(),Setup!$C$5+COLUMN()-26),\"x\")","v":"x"},{"$f":"IF($E36=\"Y\",INDEX(OIQraw,ROW(),Setup!$C$5+COLUMN()-26),\"x\")","v":"x"},{"$f":"IF($E36=\"Y\",INDEX(OIQraw,ROW(),Setup!$C$5+COLUMN()-26),\"x\")","v":"x"},{"$f":"IF($E36=\"Y\",INDEX(OIQraw,ROW(),Setup!$C$5+COLUMN()-26),\"x\")","v":"x"},{"$f":"IF($E36=\"Y\",INDEX(OIQraw,ROW(),Setup!$C$5+COLUMN()-26),\"x\")","v":"x"},{"$f":"IF($E36=\"Y\",INDEX(OIQraw,ROW(),Setup!$C$5+COLUMN()-26),\"x\")","v":"x"},{"$f":"IF($E36=\"Y\",INDEX(OIQraw,ROW(),Setup!$C$5+COLUMN()-26),\"x\")","v":"x"},{"$f":"IF($E36=\"Y\",INDEX(OIQraw,ROW(),Setup!$C$5+COLUMN()-26),\"x\")","v":"x"},{"$f":"IF($E36=\"Y\",INDEX(OIQraw,ROW(),Setup!$C$5+COLUMN()-26),\"x\")","v":"x"},{"$f":"IF($E36=\"Y\",INDEX(OIQraw,ROW(),Setup!$C$5+COLUMN()-26),\"x\")","v":"x"},{"$f":"IF($E36=\"Y\",INDEX(OIQraw,ROW(),Setup!$C$5+COLUMN()-26),\"x\")","v":"x"},{"$f":"IF($E36=\"Y\",INDEX(OIQraw,ROW(),Setup!$C$5+COLUMN()-26),\"x\")","v":"x"},{"$f":"IF($E36=\"Y\",INDEX(OIQraw,ROW(),Setup!$C$5+COLUMN()-26),\"x\")","v":"x"},{"$f":"IF($E36=\"Y\",INDEX(OIQraw,ROW(),Setup!$C$5+COLUMN()-26),\"x\")","v":"x"},{"$f":"IF($E36=\"Y\",INDEX(OIQraw,ROW(),Setup!$C$5+COLUMN()-26),\"x\")","v":"x"},{"$f":"IF($E36=\"Y\",INDEX(OIQraw,ROW(),Setup!$C$5+COLUMN()-26),\"x\")","v":"x"},{"$f":"IF($E36=\"Y\",INDEX(OIQraw,ROW(),Setup!$C$5+COLUMN()-26),\"x\")","v":"x"},{"$f":"IF($E36=\"Y\",INDEX(OIQraw,ROW(),Setup!$C$5+COLUMN()-26),\"x\")","v":"x"},{"$f":"IF($E36=\"Y\",INDEX(OIQraw,ROW(),Setup!$C$5+COLUMN()-26),\"x\")","v":"x"},{"$f":"IF($E36=\"Y\",INDEX(OIQraw,ROW(),Setup!$C$5+COLUMN()-26),\"x\")","v":"x"},{"$f":"IF($E36=\"Y\",INDEX(OIQraw,ROW(),Setup!$C$5+COLUMN()-26),\"x\")","v":"x"},{"$f":"IF($E36=\"Y\",INDEX(OIQraw,ROW(),Setup!$C$5+COLUMN()-26),\"x\")","v":"x"},{"$f":"IF($E36=\"Y\",INDEX(OIQraw,ROW(),Setup!$C$5+COLUMN()-26),\"x\")","v":"x"},{"$f":"IF($E36=\"Y\",INDEX(OIQraw,ROW(),Setup!$C$5+COLUMN()-26),\"x\")","v":"x"},{"$f":"IF($E36=\"Y\",INDEX(OIQraw,ROW(),Setup!$C$5+COLUMN()-26),\"x\")","v":"x"},{"$f":"IF($E36=\"Y\",INDEX(OIQraw,ROW(),Setup!$C$5+COLUMN()-26),\"x\")","v":"x"},{"$f":"IF($E36=\"Y\",INDEX(OIQraw,ROW(),Setup!$C$5+COLUMN()-26),\"x\")","v":"x"},{"$f":"IF($E36=\"Y\",INDEX(OIQraw,ROW(),Setup!$C$5+COLUMN()-26),\"x\")","v":"x"},{"$f":"IF($E36=\"Y\",INDEX(OIQraw,ROW(),Setup!$C$5+COLUMN()-26),\"x\")","v":"x"},{"$f":"IF($E36=\"Y\",INDEX(OIQraw,ROW(),Setup!$C$5+COLUMN()-26),\"x\")","v":"x"},{"$f":"IF($E36=\"Y\",INDEX(OIQraw,ROW(),Setup!$C$5+COLUMN()-26),\"x\")","v":"x"},{"$f":"IF($E36=\"Y\",INDEX(OIQraw,ROW(),Setup!$C$5+COLUMN()-26),\"x\")","v":"x"},{"$f":"IF($E36=\"Y\",INDEX(OIQraw,ROW(),Setup!$C$5+COLUMN()-26),\"x\")","v":"x"},{"$f":"IF($E36=\"Y\",INDEX(OIQraw,ROW(),Setup!$C$5+COLUMN()-26),\"x\")","v":"x"},{"$f":"IF($E36=\"Y\",INDEX(OIQraw,ROW(),Setup!$C$5+COLUMN()-26),\"x\")","v":"x"},{"$f":"IF($E36=\"Y\",INDEX(OIQraw,ROW(),Setup!$C$5+COLUMN()-26),\"x\")","v":"x"},{"$f":"IF($E36=\"Y\",INDEX(OIQraw,ROW(),Setup!$C$5+COLUMN()-26),\"x\")","v":"x"},{"$f":"IF($E36=\"Y\",INDEX(OIQraw,ROW(),Setup!$C$5+COLUMN()-26),\"x\")","v":"x"},{"$f":"IF($E36=\"Y\",INDEX(OIQraw,ROW(),Setup!$C$5+COLUMN()-26),\"x\")","v":"x"},{"$f":"IF($E36=\"Y\",INDEX(OIQraw,ROW(),Setup!$C$5+COLUMN()-26),\"x\")","v":"x"},{"$f":"IF($E36=\"Y\",INDEX(OIQraw,ROW(),Setup!$C$5+COLUMN()-26),\"x\")","v":"x"},{"$f":"IF($E36=\"Y\",INDEX(OIQraw,ROW(),Setup!$C$5+COLUMN()-26),\"x\")","v":"x"},{"$f":"IF($E36=\"Y\",INDEX(OIQraw,ROW(),Setup!$C$5+COLUMN()-26),\"x\")","v":"x"},{"$f":"IF($E36=\"Y\",INDEX(OIQraw,ROW(),Setup!$C$5+COLUMN()-26),\"x\")","v":"x"},{"$f":"IF($E36=\"Y\",INDEX(OIQraw,ROW(),Setup!$C$5+COLUMN()-26),\"x\")","v":"x"},{"$f":"IF($E36=\"Y\",INDEX(OIQraw,ROW(),Setup!$C$5+COLUMN()-26),\"x\")","v":"x"},{"$f":"IF($E36=\"Y\",INDEX(OIQraw,ROW(),Setup!$C$5+COLUMN()-26),\"x\")","v":"x"},{"$f":"IF($E36=\"Y\",INDEX(OIQraw,ROW(),Setup!$C$5+COLUMN()-26),\"x\")","v":"x"},{"$f":"IF($E36=\"Y\",INDEX(OIQraw,ROW(),Setup!$C$5+COLUMN()-26),\"x\")","v":"x"},{"$f":"IF($E36=\"Y\",INDEX(OIQraw,ROW(),Setup!$C$5+COLUMN()-26),\"x\")","v":"x"},{"$f":"IF($E36=\"Y\",INDEX(OIQraw,ROW(),Setup!$C$5+COLUMN()-26),\"x\")","v":"x"},{"$f":"IF($E36=\"Y\",INDEX(OIQraw,ROW(),Setup!$C$5+COLUMN()-26),\"x\")","v":"x"},{"$f":"IF($E36=\"Y\",INDEX(OIQraw,ROW(),Setup!$C$5+COLUMN()-26),\"x\")","v":"x"},{"$f":"IF($E36=\"Y\",INDEX(OIQraw,ROW(),Setup!$C$5+COLUMN()-26),\"x\")","v":"x"},{"$f":"IF($E36=\"Y\",INDEX(OIQraw,ROW(),Setup!$C$5+COLUMN()-26),\"x\")","v":"x"},{"$f":"IF($E36=\"Y\",INDEX(OIQraw,ROW(),Setup!$C$5+COLUMN()-26),\"x\")","v":"x"},{"$f":"IF($E36=\"Y\",INDEX(OIQraw,ROW(),Setup!$C$5+COLUMN()-26),\"x\")","v":"x"},{"$f":"IF($E36=\"Y\",INDEX(OIQraw,ROW(),Setup!$C$5+COLUMN()-26),\"x\")","v":"x"},{"$f":"IF($E36=\"Y\",INDEX(OIQraw,ROW(),Setup!$C$5+COLUMN()-26),\"x\")","v":"x"},{"$f":"IF($E36=\"Y\",INDEX(OIQraw,ROW(),Setup!$C$5+COLUMN()-26),\"x\")","v":"x"},{"$f":"IF($E36=\"Y\",INDEX(OIQraw,ROW(),Setup!$C$5+COLUMN()-26),\"x\")","v":"x"},{"$f":"IF($E36=\"Y\",INDEX(OIQraw,ROW(),Setup!$C$5+COLUMN()-26),\"x\")","v":"x"},{"$f":"IF($E36=\"Y\",INDEX(OIQraw,ROW(),Setup!$C$5+COLUMN()-26),\"x\")","v":"x"},{"$f":"IF($E36=\"Y\",INDEX(OIQraw,ROW(),Setup!$C$5+COLUMN()-26),\"x\")","v":"x"},{"$f":"IF($E36=\"Y\",INDEX(OIQraw,ROW(),Setup!$C$5+COLUMN()-26),\"x\")","v":"x"},{"$f":"IF($E36=\"Y\",INDEX(OIQraw,ROW(),Setup!$C$5+COLUMN()-26),\"x\")","v":"x"},{"$f":"IF($E36=\"Y\",INDEX(OIQraw,ROW(),Setup!$C$5+COLUMN()-26),\"x\")","v":"x"},{"$f":"IF($E36=\"Y\",INDEX(OIQraw,ROW(),Setup!$C$5+COLUMN()-26),\"x\")","v":"x"},{"$f":"IF($E36=\"Y\",INDEX(OIQraw,ROW(),Setup!$C$5+COLUMN()-26),\"x\")","v":"x"},{"$f":"IF($E36=\"Y\",INDEX(OIQraw,ROW(),Setup!$C$5+COLUMN()-26),\"x\")","v":"x"},{"$f":"IF($E36=\"Y\",INDEX(OIQraw,ROW(),Setup!$C$5+COLUMN()-26),\"x\")","v":"x"},{"$f":"IF($E36=\"Y\",INDEX(OIQraw,ROW(),Setup!$C$5+COLUMN()-26),\"x\")","v":"x"},{"$f":"IF($E36=\"Y\",INDEX(OIQraw,ROW(),Setup!$C$5+COLUMN()-26),\"x\")","v":"x"},{"$f":"IF($E36=\"Y\",INDEX(OIQraw,ROW(),Setup!$C$5+COLUMN()-26),\"x\")","v":"x"},{"$f":"IF($E36=\"Y\",INDEX(OIQraw,ROW(),Setup!$C$5+COLUMN()-26),\"x\")","v":"x"},{"$f":"IF($E36=\"Y\",INDEX(OIQraw,ROW(),Setup!$C$5+COLUMN()-26),\"x\")","v":"x"},{"$f":"IF($E36=\"Y\",INDEX(OIQraw,ROW(),Setup!$C$5+COLUMN()-26),\"x\")","v":"x"},{"$f":"IF($E36=\"Y\",INDEX(OIQraw,ROW(),Setup!$C$5+COLUMN()-26),\"x\")","v":"x"},{"$f":"IF($E36=\"Y\",INDEX(OIQraw,ROW(),Setup!$C$5+COLUMN()-26),\"x\")","v":"x"},{"$f":"IF($E36=\"Y\",INDEX(OIQraw,ROW(),Setup!$C$5+COLUMN()-26),\"x\")","v":"x"},{"$f":"IF($E36=\"Y\",INDEX(OIQraw,ROW(),Setup!$C$5+COLUMN()-26),\"x\")","v":"x"},{"$f":"IF($E36=\"Y\",INDEX(OIQraw,ROW(),Setup!$C$5+COLUMN()-26),\"x\")","v":"x"},{"$f":"IF($E36=\"Y\",INDEX(OIQraw,ROW(),Setup!$C$5+COLUMN()-26),\"x\")","v":"x"},{"$f":"IF($E36=\"Y\",INDEX(OIQraw,ROW(),Setup!$C$5+COLUMN()-26),\"x\")","v":"x"},{"$f":"IF($E36=\"Y\",INDEX(OIQraw,ROW(),Setup!$C$5+COLUMN()-26),\"x\")","v":"x"},{"$f":"IF($E36=\"Y\",INDEX(OIQraw,ROW(),Setup!$C$5+COLUMN()-26),\"x\")","v":"x"},{"$f":"IF($E36=\"Y\",INDEX(OIQraw,ROW(),Setup!$C$5+COLUMN()-26),\"x\")","v":"x"},{"$f":"IF($E36=\"Y\",INDEX(OIQraw,ROW(),Setup!$C$5+COLUMN()-26),\"x\")","v":"x"},{"$f":"IF($E36=\"Y\",INDEX(OIQraw,ROW(),Setup!$C$5+COLUMN()-26),\"x\")","v":"x"},{"$f":"IF($E36=\"Y\",INDEX(OIQraw,ROW(),Setup!$C$5+COLUMN()-26),\"x\")","v":"x"},{"$f":"IF($E36=\"Y\",INDEX(OIQraw,ROW(),Setup!$C$5+COLUMN()-26),\"x\")","v":"x"},{"$f":"IF($E36=\"Y\",INDEX(OIQraw,ROW(),Setup!$C$5+COLUMN()-26),\"x\")","v":"x"},{"$f":"IF($E36=\"Y\",INDEX(OIQraw,ROW(),Setup!$C$5+COLUMN()-26),\"x\")","v":"x"},{"$f":"IF($E36=\"Y\",INDEX(OIQraw,ROW(),Setup!$C$5+COLUMN()-26),\"x\")","v":"x"},{"$f":"IF($E36=\"Y\",INDEX(OIQraw,ROW(),Setup!$C$5+COLUMN()-26),\"x\")","v":"x"},{"$f":"IF($E36=\"Y\",INDEX(OIQraw,ROW(),Setup!$C$5+COLUMN()-26),\"x\")","v":"x"},{"$f":"IF($E36=\"Y\",INDEX(OIQraw,ROW(),Setup!$C$5+COLUMN()-26),\"x\")","v":"x"},{"$f":"IF($E36=\"Y\",INDEX(OIQraw,ROW(),Setup!$C$5+COLUMN()-26),\"x\")","v":"x"},{"$f":"IF($E36=\"Y\",INDEX(OIQraw,ROW(),Setup!$C$5+COLUMN()-26),\"x\")","v":"x"},{"$f":"IF($E36=\"Y\",INDEX(OIQraw,ROW(),Setup!$C$5+COLUMN()-26),\"x\")","v":"x"},{"$f":"IF($E36=\"Y\",INDEX(OIQraw,ROW(),Setup!$C$5+COLUMN()-26),\"x\")","v":"x"},{"$f":"IF($E36=\"Y\",INDEX(OIQraw,ROW(),Setup!$C$5+COLUMN()-26),\"x\")","v":"x"},{"$f":"IF($E36=\"Y\",INDEX(OIQraw,ROW(),Setup!$C$5+COLUMN()-26),\"x\")","v":"x"},{"$f":"IF($E36=\"Y\",INDEX(OIQraw,ROW(),Setup!$C$5+COLUMN()-26),\"x\")","v":"x"},{"$f":"IF($E36=\"Y\",INDEX(OIQraw,ROW(),Setup!$C$5+COLUMN()-26),\"x\")","v":"x"},{"$f":"IF($E36=\"Y\",INDEX(OIQraw,ROW(),Setup!$C$5+COLUMN()-26),\"x\")","v":"x"},{"$f":"IF($E36=\"Y\",INDEX(OIQraw,ROW(),Setup!$C$5+COLUMN()-26),\"x\")","v":"x"},{"$f":"IF($E36=\"Y\",INDEX(OIQraw,ROW(),Setup!$C$5+COLUMN()-26),\"x\")","v":"x"},{"$f":"IF($E36=\"Y\",INDEX(OIQraw,ROW(),Setup!$C$5+COLUMN()-26),\"x\")","v":"x"},{"$f":"IF($E36=\"Y\",INDEX(OIQraw,ROW(),Setup!$C$5+COLUMN()-26),\"x\")","v":"x"},{"$f":"IF($E36=\"Y\",INDEX(OIQraw,ROW(),Setup!$C$5+COLUMN()-26),\"x\")","v":"x"},{"$f":"IF($E36=\"Y\",INDEX(OIQraw,ROW(),Setup!$C$5+COLUMN()-26),\"x\")","v":"x"},{"$f":"IF($E36=\"Y\",INDEX(OIQraw,ROW(),Setup!$C$5+COLUMN()-26),\"x\")","v":"x"},{"$f":"IF($E36=\"Y\",INDEX(OIQraw,ROW(),Setup!$C$5+COLUMN()-26),\"x\")","v":"x"},{"$f":"IF($E36=\"Y\",INDEX(OIQraw,ROW(),Setup!$C$5+COLUMN()-26),\"x\")","v":"x"},{"$f":"IF($E36=\"Y\",INDEX(OIQraw,ROW(),Setup!$C$5+COLUMN()-26),\"x\")","v":"x"},{"$f":"IF($E36=\"Y\",INDEX(OIQraw,ROW(),Setup!$C$5+COLUMN()-26),\"x\")","v":"x"},{"$f":"IF($E36=\"Y\",INDEX(OIQraw,ROW(),Setup!$C$5+COLUMN()-26),\"x\")","v":"x"},{"$f":"IF($E36=\"Y\",INDEX(OIQraw,ROW(),Setup!$C$5+COLUMN()-26),\"x\")","v":"x"},{"$f":"IF($E36=\"Y\",INDEX(OIQraw,ROW(),Setup!$C$5+COLUMN()-26),\"x\")","v":"x"},{"$f":"IF($E36=\"Y\",INDEX(OIQraw,ROW(),Setup!$C$5+COLUMN()-26),\"x\")","v":"x"},{"$f":"IF($E36=\"Y\",INDEX(OIQraw,ROW(),Setup!$C$5+COLUMN()-26),\"x\")","v":"x"},{"$f":"IF($E36=\"Y\",INDEX(OIQraw,ROW(),Setup!$C$5+COLUMN()-26),\"x\")","v":"x"},{"$f":"IF($E36=\"Y\",INDEX(OIQraw,ROW(),Setup!$C$5+COLUMN()-26),\"x\")","v":"x"},{"$f":"IF($E36=\"Y\",INDEX(OIQraw,ROW(),Setup!$C$5+COLUMN()-26),\"x\")","v":"x"},{"$f":"IF($E36=\"Y\",INDEX(OIQraw,ROW(),Setup!$C$5+COLUMN()-26),\"x\")","v":"x"},{"$f":"IF($E36=\"Y\",INDEX(OIQraw,ROW(),Setup!$C$5+COLUMN()-26),\"x\")","v":"x"},{"$f":"IF($E36=\"Y\",INDEX(OIQraw,ROW(),Setup!$C$5+COLUMN()-26),\"x\")","v":"x"},{"$f":"IF($E36=\"Y\",INDEX(OIQraw,ROW(),Setup!$C$5+COLUMN()-26),\"x\")","v":"x"},{"$f":"IF($E36=\"Y\",INDEX(OIQraw,ROW(),Setup!$C$5+COLUMN()-26),\"x\")","v":"x"},{"$f":"IF($E36=\"Y\",INDEX(OIQraw,ROW(),Setup!$C$5+COLUMN()-26),\"x\")","v":"x"},{"$f":"IF($E36=\"Y\",INDEX(OIQraw,ROW(),Setup!$C$5+COLUMN()-26),\"x\")","v":"x"},{"$f":"IF($E36=\"Y\",INDEX(OIQraw,ROW(),Setup!$C$5+COLUMN()-26),\"x\")","v":"x"},{"$f":"IF($E36=\"Y\",INDEX(OIQraw,ROW(),Setup!$C$5+COLUMN()-26),\"x\")","v":"x"},{"$f":"IF($E36=\"Y\",INDEX(OIQraw,ROW(),Setup!$C$5+COLUMN()-26),\"x\")","v":"x"},{"$f":"IF($E36=\"Y\",INDEX(OIQraw,ROW(),Setup!$C$5+COLUMN()-26),\"x\")","v":"x"},{"$f":"IF($E36=\"Y\",INDEX(OIQraw,ROW(),Setup!$C$5+COLUMN()-26),\"x\")","v":"x"},{"$f":"IF($E36=\"Y\",INDEX(OIQraw,ROW(),Setup!$C$5+COLUMN()-26),\"x\")","v":"x"},{"$f":"IF($E36=\"Y\",INDEX(OIQraw,ROW(),Setup!$C$5+COLUMN()-26),\"x\")","v":"x"},{"$f":"IF($E36=\"Y\",INDEX(OIQraw,ROW(),Setup!$C$5+COLUMN()-26),\"x\")","v":"x"},{"$f":"IF($E36=\"Y\",INDEX(OIQraw,ROW(),Setup!$C$5+COLUMN()-26),\"x\")","v":"x"},{"$f":"IF($E36=\"Y\",INDEX(OIQraw,ROW(),Setup!$C$5+COLUMN()-26),\"x\")","v":"x"},{"$f":"IF($E36=\"Y\",INDEX(OIQraw,ROW(),Setup!$C$5+COLUMN()-26),\"x\")","v":"x"},{"$f":"IF($E36=\"Y\",INDEX(OIQraw,ROW(),Setup!$C$5+COLUMN()-26),\"x\")","v":"x"},{"$f":"IF($E36=\"Y\",INDEX(OIQraw,ROW(),Setup!$C$5+COLUMN()-26),\"x\")","v":"x"},{"$f":"IF($E36=\"Y\",INDEX(OIQraw,ROW(),Setup!$C$5+COLUMN()-26),\"x\")","v":"x"},{"$f":"IF($E36=\"Y\",INDEX(OIQraw,ROW(),Setup!$C$5+COLUMN()-26),\"x\")","v":"x"},{"$f":"IF($E36=\"Y\",INDEX(OIQraw,ROW(),Setup!$C$5+COLUMN()-26),\"x\")","v":"x"},{"$f":"IF($E36=\"Y\",INDEX(OIQraw,ROW(),Setup!$C$5+COLUMN()-26),\"x\")","v":"x"},{"$f":"IF($E36=\"Y\",INDEX(OIQraw,ROW(),Setup!$C$5+COLUMN()-26),\"x\")","v":"x"},{"$f":"IF($E36=\"Y\",INDEX(OIQraw,ROW(),Setup!$C$5+COLUMN()-26),\"x\")","v":"x"},{"$f":"IF($E36=\"Y\",INDEX(OIQraw,ROW(),Setup!$C$5+COLUMN()-26),\"x\")","v":"x"},{"$f":"IF($E36=\"Y\",INDEX(OIQraw,ROW(),Setup!$C$5+COLUMN()-26),\"x\")","v":"x"},{"$f":"IF($E36=\"Y\",INDEX(OIQraw,ROW(),Setup!$C$5+COLUMN()-26),\"x\")","v":"x"},{"$f":"IF($E36=\"Y\",INDEX(OIQraw,ROW(),Setup!$C$5+COLUMN()-26),\"x\")","v":"x"},{"$f":"IF($E36=\"Y\",INDEX(OIQraw,ROW(),Setup!$C$5+COLUMN()-26),\"x\")","v":"x"},{"$f":"IF($E36=\"Y\",INDEX(OIQraw,ROW(),Setup!$C$5+COLUMN()-26),\"x\")","v":"x"},{"$f":"IF($E36=\"Y\",INDEX(OIQraw,ROW(),Setup!$C$5+COLUMN()-26),\"x\")","v":"x"},{"$f":"IF($E36=\"Y\",INDEX(OIQraw,ROW(),Setup!$C$5+COLUMN()-26),\"x\")","v":"x"},{"$f":"IF($E36=\"Y\",INDEX(OIQraw,ROW(),Setup!$C$5+COLUMN()-26),\"x\")","v":"x"},{"$f":"IF($E36=\"Y\",INDEX(OIQraw,ROW(),Setup!$C$5+COLUMN()-26),\"x\")","v":"x"}]
[1,"","",{"$f":"IF(ISERROR(FIND(\"Withdrew\",RawScores!B41)),RawScores!B41,RIGHT(RawScores!B41,LEN(RawScores!B41)-17))&\", \"&RawScores!C41","v":", "},{"$f":"IF(OR(ISERROR(FIND(\"Withdrew\",RawScores!B41))=FALSE,INDEX(OIQraw,ROW(),LastInputCol-3)=0),\"N\",IF(AND(Setup!$B$22=\"Yes\",INDEX(OIQraw,ROW(),LastInputCol)=1),\"N\",\"Y\"))","v":"N"},"X","X","X",{"$f":"IF(AND(ISNUMBER(F37),F37>Setup!$B$14-1),1,0)","v":0},{"$f":"IF(AND(F37>Setup!$B$14-1,Conv!H37<5),1,0)","v":0},{"$f":"IF(AND(F37>Setup!$B$14-1,Conv!G37=\"F\"),1,0)","v":0},"","","","","","","","","","","","","X","X",{"$f":"IF($E37=\"Y\",INDEX(OIQraw,ROW(),Setup!$C$5+COLUMN()-26),\"x\")","v":"x"},{"$f":"IF($E37=\"Y\",INDEX(OIQraw,ROW(),Setup!$C$5+COLUMN()-26),\"x\")","v":"x"},{"$f":"IF($E37=\"Y\",INDEX(OIQraw,ROW(),Setup!$C$5+COLUMN()-26),\"x\")","v":"x"},{"$f":"IF($E37=\"Y\",INDEX(OIQraw,ROW(),Setup!$C$5+COLUMN()-26),\"x\")","v":"x"},{"$f":"IF($E37=\"Y\",INDEX(OIQraw,ROW(),Setup!$C$5+COLUMN()-26),\"x\")","v":"x"},{"$f":"IF($E37=\"Y\",INDEX(OIQraw,ROW(),Setup!$C$5+COLUMN()-26),\"x\")","v":"x"},{"$f":"IF($E37=\"Y\",INDEX(OIQraw,ROW(),Setup!$C$5+COLUMN()-26),\"x\")","v":"x"},{"$f":"IF($E37=\"Y\",INDEX(OIQraw,ROW(),Setup!$C$5+COLUMN()-26),\"x\")","v":"x"},{"$f":"IF($E37=\"Y\",INDEX(OIQraw,ROW(),Setup!$C$5+COLUMN()-26),\"x\")","v":"x"},{"$f":"IF($E37=\"Y\",INDEX(OIQraw,ROW(),Setup!$C$5+COLUMN()-26),\"x\")","v":"x"},{"$f":"IF($E37=\"Y\",INDEX(OIQraw,ROW(),Setup!$C$5+COLUMN()-26),\"x\")","v":"x"},{"$f":"IF($E37=\"Y\",INDEX(OIQraw,ROW(),Setup!$C$5+COLUMN()-26),\"x\")","v":"x"},{"$f":"IF($E37=\"Y\",INDEX(OIQraw,ROW(),Setup!$C$5+COLUMN()-26),\"x\")","v":"x"},{"$f":"IF($E37=\"Y\",INDEX(OIQraw,ROW(),Setup!$C$5+COLUMN()-26),\"x\")","v":"x"},{"$f":"IF($E37=\"Y\",INDEX(OIQraw,ROW(),Setup!$C$5+COLUMN()-26),\"x\")","v":"x"},{"$f":"IF($E37=\"Y\",INDEX(OIQraw,ROW(),Setup!$C$5+COLUMN()-26),\"x\")","v":"x"},{"$f":"IF($E37=\"Y\",INDEX(OIQraw,ROW(),Setup!$C$5+COLUMN()-26),\"x\")","v":"x"},{"$f":"IF($E37=\"Y\",INDEX(OIQraw,ROW(),Setup!$C$5+COLUMN()-26),\"x\")","v":"x"},{"$f":"IF($E37=\"Y\",INDEX(OIQraw,ROW(),Setup!$C$5+COLUMN()-26),\"x\")","v":"x"},{"$f":"IF($E37=\"Y\",INDEX(OIQraw,ROW(),Setup!$C$5+COLUMN()-26),\"x\")","v":"x"},{"$f":"IF($E37=\"Y\",INDEX(OIQraw,ROW(),Setup!$C$5+COLUMN()-26),\"x\")","v":"x"},{"$f":"IF($E37=\"Y\",INDEX(OIQraw,ROW(),Setup!$C$5+COLUMN()-26),\"x\")","v":"x"},{"$f":"IF($E37=\"Y\",INDEX(OIQraw,ROW(),Setup!$C$5+COLUMN()-26),\"x\")","v":"x"},{"$f":"IF($E37=\"Y\",INDEX(OIQraw,ROW(),Setup!$C$5+COLUMN()-26),\"x\")","v":"x"},{"$f":"IF($E37=\"Y\",INDEX(OIQraw,ROW(),Setup!$C$5+COLUMN()-26),\"x\")","v":"x"},{"$f":"IF($E37=\"Y\",INDEX(OIQraw,ROW(),Setup!$C$5+COLUMN()-26),\"x\")","v":"x"},{"$f":"IF($E37=\"Y\",INDEX(OIQraw,ROW(),Setup!$C$5+COLUMN()-26),\"x\")","v":"x"},{"$f":"IF($E37=\"Y\",INDEX(OIQraw,ROW(),Setup!$C$5+COLUMN()-26),\"x\")","v":"x"},{"$f":"IF($E37=\"Y\",INDEX(OIQraw,ROW(),Setup!$C$5+COLUMN()-26),\"x\")","v":"x"},{"$f":"IF($E37=\"Y\",INDEX(OIQraw,ROW(),Setup!$C$5+COLUMN()-26),\"x\")","v":"x"},{"$f":"IF($E37=\"Y\",INDEX(OIQraw,ROW(),Setup!$C$5+COLUMN()-26),\"x\")","v":"x"},{"$f":"IF($E37=\"Y\",INDEX(OIQraw,ROW(),Setup!$C$5+COLUMN()-26),\"x\")","v":"x"},{"$f":"IF($E37=\"Y\",INDEX(OIQraw,ROW(),Setup!$C$5+COLUMN()-26),\"x\")","v":"x"},{"$f":"IF($E37=\"Y\",INDEX(OIQraw,ROW(),Setup!$C$5+COLUMN()-26),\"x\")","v":"x"},{"$f":"IF($E37=\"Y\",INDEX(OIQraw,ROW(),Setup!$C$5+COLUMN()-26),\"x\")","v":"x"},{"$f":"IF($E37=\"Y\",INDEX(OIQraw,ROW(),Setup!$C$5+COLUMN()-26),\"x\")","v":"x"},{"$f":"IF($E37=\"Y\",INDEX(OIQraw,ROW(),Setup!$C$5+COLUMN()-26),\"x\")","v":"x"},{"$f":"IF($E37=\"Y\",INDEX(OIQraw,ROW(),Setup!$C$5+COLUMN()-26),\"x\")","v":"x"},{"$f":"IF($E37=\"Y\",INDEX(OIQraw,ROW(),Setup!$C$5+COLUMN()-26),\"x\")","v":"x"},{"$f":"IF($E37=\"Y\",INDEX(OIQraw,ROW(),Setup!$C$5+COLUMN()-26),\"x\")","v":"x"},{"$f":"IF($E37=\"Y\",INDEX(OIQraw,ROW(),Setup!$C$5+COLUMN()-26),\"x\")","v":"x"},{"$f":"IF($E37=\"Y\",INDEX(OIQraw,ROW(),Setup!$C$5+COLUMN()-26),\"x\")","v":"x"},{"$f":"IF($E37=\"Y\",INDEX(OIQraw,ROW(),Setup!$C$5+COLUMN()-26),\"x\")","v":"x"},{"$f":"IF($E37=\"Y\",INDEX(OIQraw,ROW(),Setup!$C$5+COLUMN()-26),\"x\")","v":"x"},{"$f":"IF($E37=\"Y\",INDEX(OIQraw,ROW(),Setup!$C$5+COLUMN()-26),\"x\")","v":"x"},{"$f":"IF($E37=\"Y\",INDEX(OIQraw,ROW(),Setup!$C$5+COLUMN()-26),\"x\")","v":"x"},{"$f":"IF($E37=\"Y\",INDEX(OIQraw,ROW(),Setup!$C$5+COLUMN()-26),\"x\")","v":"x"},{"$f":"IF($E37=\"Y\",INDEX(OIQraw,ROW(),Setup!$C$5+COLUMN()-26),\"x\")","v":"x"},{"$f":"IF($E37=\"Y\",INDEX(OIQraw,ROW(),Setup!$C$5+COLUMN()-26),\"x\")","v":"x"},{"$f":"IF($E37=\"Y\",INDEX(OIQraw,ROW(),Setup!$C$5+COLUMN()-26),\"x\")","v":"x"},{"$f":"IF($E37=\"Y\",INDEX(OIQraw,ROW(),Setup!$C$5+COLUMN()-26),\"x\")","v":"x"},{"$f":"IF($E37=\"Y\",INDEX(OIQraw,ROW(),Setup!$C$5+COLUMN()-26),\"x\")","v":"x"},{"$f":"IF($E37=\"Y\",INDEX(OIQraw,ROW(),Setup!$C$5+COLUMN()-26),\"x\")","v":"x"},{"$f":"IF($E37=\"Y\",INDEX(OIQraw,ROW(),Setup!$C$5+COLUMN()-26),\"x\")","v":"x"},{"$f":"IF($E37=\"Y\",INDEX(OIQraw,ROW(),Setup!$C$5+COLUMN()-26),\"x\")","v":"x"},{"$f":"IF($E37=\"Y\",INDEX(OIQraw,ROW(),Setup!$C$5+COLUMN()-26),\"x\")","v":"x"},{"$f":"IF($E37=\"Y\",INDEX(OIQraw,ROW(),Setup!$C$5+COLUMN()-26),\"x\")","v":"x"},{"$f":"IF($E37=\"Y\",INDEX(OIQraw,ROW(),Setup!$C$5+COLUMN()-26),\"x\")","v":"x"},{"$f":"IF($E37=\"Y\",INDEX(OIQraw,ROW(),Setup!$C$5+COLUMN()-26),\"x\")","v":"x"},{"$f":"IF($E37=\"Y\",INDEX(OIQraw,ROW(),Setup!$C$5+COLUMN()-26),\"x\")","v":"x"},{"$f":"IF($E37=\"Y\",INDEX(OIQraw,ROW(),Setup!$C$5+COLUMN()-26),\"x\")","v":"x"},{"$f":"IF($E37=\"Y\",INDEX(OIQraw,ROW(),Setup!$C$5+COLUMN()-26),\"x\")","v":"x"},{"$f":"IF($E37=\"Y\",INDEX(OIQraw,ROW(),Setup!$C$5+COLUMN()-26),\"x\")","v":"x"},{"$f":"IF($E37=\"Y\",INDEX(OIQraw,ROW(),Setup!$C$5+COLUMN()-26),\"x\")","v":"x"},{"$f":"IF($E37=\"Y\",INDEX(OIQraw,ROW(),Setup!$C$5+COLUMN()-26),\"x\")","v":"x"},{"$f":"IF($E37=\"Y\",INDEX(OIQraw,ROW(),Setup!$C$5+COLUMN()-26),\"x\")","v":"x"},{"$f":"IF($E37=\"Y\",INDEX(OIQraw,ROW(),Setup!$C$5+COLUMN()-26),\"x\")","v":"x"},{"$f":"IF($E37=\"Y\",INDEX(OIQraw,ROW(),Setup!$C$5+COLUMN()-26),\"x\")","v":"x"},{"$f":"IF($E37=\"Y\",INDEX(OIQraw,ROW(),Setup!$C$5+COLUMN()-26),\"x\")","v":"x"},{"$f":"IF($E37=\"Y\",INDEX(OIQraw,ROW(),Setup!$C$5+COLUMN()-26),\"x\")","v":"x"},{"$f":"IF($E37=\"Y\",INDEX(OIQraw,ROW(),Setup!$C$5+COLUMN()-26),\"x\")","v":"x"},{"$f":"IF($E37=\"Y\",INDEX(OIQraw,ROW(),Setup!$C$5+COLUMN()-26),\"x\")","v":"x"},{"$f":"IF($E37=\"Y\",INDEX(OIQraw,ROW(),Setup!$C$5+COLUMN()-26),\"x\")","v":"x"},{"$f":"IF($E37=\"Y\",INDEX(OIQraw,ROW(),Setup!$C$5+COLUMN()-26),\"x\")","v":"x"},{"$f":"IF($E37=\"Y\",INDEX(OIQraw,ROW(),Setup!$C$5+COLUMN()-26),\"x\")","v":"x"},{"$f":"IF($E37=\"Y\",INDEX(OIQraw,ROW(),Setup!$C$5+COLUMN()-26),\"x\")","v":"x"},{"$f":"IF($E37=\"Y\",INDEX(OIQraw,ROW(),Setup!$C$5+COLUMN()-26),\"x\")","v":"x"},{"$f":"IF($E37=\"Y\",INDEX(OIQraw,ROW(),Setup!$C$5+COLUMN()-26),\"x\")","v":"x"},{"$f":"IF($E37=\"Y\",INDEX(OIQraw,ROW(),Setup!$C$5+COLUMN()-26),\"x\")","v":"x"},{"$f":"IF($E37=\"Y\",INDEX(OIQraw,ROW(),Setup!$C$5+COLUMN()-26),\"x\")","v":"x"},{"$f":"IF($E37=\"Y\",INDEX(OIQraw,ROW(),Setup!$C$5+COLUMN()-26),\"x\")","v":"x"},{"$f":"IF($E37=\"Y\",INDEX(OIQraw,ROW(),Setup!$C$5+COLUMN()-26),\"x\")","v":"x"},{"$f":"IF($E37=\"Y\",INDEX(OIQraw,ROW(),Setup!$C$5+COLUMN()-26),\"x\")","v":"x"},{"$f":"IF($E37=\"Y\",INDEX(OIQraw,ROW(),Setup!$C$5+COLUMN()-26),\"x\")","v":"x"},{"$f":"IF($E37=\"Y\",INDEX(OIQraw,ROW(),Setup!$C$5+COLUMN()-26),\"x\")","v":"x"},{"$f":"IF($E37=\"Y\",INDEX(OIQraw,ROW(),Setup!$C$5+COLUMN()-26),\"x\")","v":"x"},{"$f":"IF($E37=\"Y\",INDEX(OIQraw,ROW(),Setup!$C$5+COLUMN()-26),\"x\")","v":"x"},{"$f":"IF($E37=\"Y\",INDEX(OIQraw,ROW(),Setup!$C$5+COLUMN()-26),\"x\")","v":"x"},{"$f":"IF($E37=\"Y\",INDEX(OIQraw,ROW(),Setup!$C$5+COLUMN()-26),\"x\")","v":"x"},{"$f":"IF($E37=\"Y\",INDEX(OIQraw,ROW(),Setup!$C$5+COLUMN()-26),\"x\")","v":"x"},{"$f":"IF($E37=\"Y\",INDEX(OIQraw,ROW(),Setup!$C$5+COLUMN()-26),\"x\")","v":"x"},{"$f":"IF($E37=\"Y\",INDEX(OIQraw,ROW(),Setup!$C$5+COLUMN()-26),\"x\")","v":"x"},{"$f":"IF($E37=\"Y\",INDEX(OIQraw,ROW(),Setup!$C$5+COLUMN()-26),\"x\")","v":"x"},{"$f":"IF($E37=\"Y\",INDEX(OIQraw,ROW(),Setup!$C$5+COLUMN()-26),\"x\")","v":"x"},{"$f":"IF($E37=\"Y\",INDEX(OIQraw,ROW(),Setup!$C$5+COLUMN()-26),\"x\")","v":"x"},{"$f":"IF($E37=\"Y\",INDEX(OIQraw,ROW(),Setup!$C$5+COLUMN()-26),\"x\")","v":"x"},{"$f":"IF($E37=\"Y\",INDEX(OIQraw,ROW(),Setup!$C$5+COLUMN()-26),\"x\")","v":"x"},{"$f":"IF($E37=\"Y\",INDEX(OIQraw,ROW(),Setup!$C$5+COLUMN()-26),\"x\")","v":"x"},{"$f":"IF($E37=\"Y\",INDEX(OIQraw,ROW(),Setup!$C$5+COLUMN()-26),\"x\")","v":"x"},{"$f":"IF($E37=\"Y\",INDEX(OIQraw,ROW(),Setup!$C$5+COLUMN()-26),\"x\")","v":"x"},{"$f":"IF($E37=\"Y\",INDEX(OIQraw,ROW(),Setup!$C$5+COLUMN()-26),\"x\")","v":"x"},{"$f":"IF($E37=\"Y\",INDEX(OIQraw,ROW(),Setup!$C$5+COLUMN()-26),\"x\")","v":"x"},{"$f":"IF($E37=\"Y\",INDEX(OIQraw,ROW(),Setup!$C$5+COLUMN()-26),\"x\")","v":"x"},{"$f":"IF($E37=\"Y\",INDEX(OIQraw,ROW(),Setup!$C$5+COLUMN()-26),\"x\")","v":"x"},{"$f":"IF($E37=\"Y\",INDEX(OIQraw,ROW(),Setup!$C$5+COLUMN()-26),\"x\")","v":"x"},{"$f":"IF($E37=\"Y\",INDEX(OIQraw,ROW(),Setup!$C$5+COLUMN()-26),\"x\")","v":"x"},{"$f":"IF($E37=\"Y\",INDEX(OIQraw,ROW(),Setup!$C$5+COLUMN()-26),\"x\")","v":"x"},{"$f":"IF($E37=\"Y\",INDEX(OIQraw,ROW(),Setup!$C$5+COLUMN()-26),\"x\")","v":"x"},{"$f":"IF($E37=\"Y\",INDEX(OIQraw,ROW(),Setup!$C$5+COLUMN()-26),\"x\")","v":"x"},{"$f":"IF($E37=\"Y\",INDEX(OIQraw,ROW(),Setup!$C$5+COLUMN()-26),\"x\")","v":"x"},{"$f":"IF($E37=\"Y\",INDEX(OIQraw,ROW(),Setup!$C$5+COLUMN()-26),\"x\")","v":"x"},{"$f":"IF($E37=\"Y\",INDEX(OIQraw,ROW(),Setup!$C$5+COLUMN()-26),\"x\")","v":"x"},{"$f":"IF($E37=\"Y\",INDEX(OIQraw,ROW(),Setup!$C$5+COLUMN()-26),\"x\")","v":"x"},{"$f":"IF($E37=\"Y\",INDEX(OIQraw,ROW(),Setup!$C$5+COLUMN()-26),\"x\")","v":"x"},{"$f":"IF($E37=\"Y\",INDEX(OIQraw,ROW(),Setup!$C$5+COLUMN()-26),\"x\")","v":"x"},{"$f":"IF($E37=\"Y\",INDEX(OIQraw,ROW(),Setup!$C$5+COLUMN()-26),\"x\")","v":"x"},{"$f":"IF($E37=\"Y\",INDEX(OIQraw,ROW(),Setup!$C$5+COLUMN()-26),\"x\")","v":"x"},{"$f":"IF($E37=\"Y\",INDEX(OIQraw,ROW(),Setup!$C$5+COLUMN()-26),\"x\")","v":"x"},{"$f":"IF($E37=\"Y\",INDEX(OIQraw,ROW(),Setup!$C$5+COLUMN()-26),\"x\")","v":"x"},{"$f":"IF($E37=\"Y\",INDEX(OIQraw,ROW(),Setup!$C$5+COLUMN()-26),\"x\")","v":"x"},{"$f":"IF($E37=\"Y\",INDEX(OIQraw,ROW(),Setup!$C$5+COLUMN()-26),\"x\")","v":"x"},{"$f":"IF($E37=\"Y\",INDEX(OIQraw,ROW(),Setup!$C$5+COLUMN()-26),\"x\")","v":"x"},{"$f":"IF($E37=\"Y\",INDEX(OIQraw,ROW(),Setup!$C$5+COLUMN()-26),\"x\")","v":"x"},{"$f":"IF($E37=\"Y\",INDEX(OIQraw,ROW(),Setup!$C$5+COLUMN()-26),\"x\")","v":"x"},{"$f":"IF($E37=\"Y\",INDEX(OIQraw,ROW(),Setup!$C$5+COLUMN()-26),\"x\")","v":"x"},{"$f":"IF($E37=\"Y\",INDEX(OIQraw,ROW(),Setup!$C$5+COLUMN()-26),\"x\")","v":"x"},{"$f":"IF($E37=\"Y\",INDEX(OIQraw,ROW(),Setup!$C$5+COLUMN()-26),\"x\")","v":"x"},{"$f":"IF($E37=\"Y\",INDEX(OIQraw,ROW(),Setup!$C$5+COLUMN()-26),\"x\")","v":"x"},{"$f":"IF($E37=\"Y\",INDEX(OIQraw,ROW(),Setup!$C$5+COLUMN()-26),\"x\")","v":"x"},{"$f":"IF($E37=\"Y\",INDEX(OIQraw,ROW(),Setup!$C$5+COLUMN()-26),\"x\")","v":"x"},{"$f":"IF($E37=\"Y\",INDEX(OIQraw,ROW(),Setup!$C$5+COLUMN()-26),\"x\")","v":"x"},{"$f":"IF($E37=\"Y\",INDEX(OIQraw,ROW(),Setup!$C$5+COLUMN()-26),\"x\")","v":"x"},{"$f":"IF($E37=\"Y\",INDEX(OIQraw,ROW(),Setup!$C$5+COLUMN()-26),\"x\")","v":"x"},{"$f":"IF($E37=\"Y\",INDEX(OIQraw,ROW(),Setup!$C$5+COLUMN()-26),\"x\")","v":"x"},{"$f":"IF($E37=\"Y\",INDEX(OIQraw,ROW(),Setup!$C$5+COLUMN()-26),\"x\")","v":"x"},{"$f":"IF($E37=\"Y\",INDEX(OIQraw,ROW(),Setup!$C$5+COLUMN()-26),\"x\")","v":"x"},{"$f":"IF($E37=\"Y\",INDEX(OIQraw,ROW(),Setup!$C$5+COLUMN()-26),\"x\")","v":"x"},{"$f":"IF($E37=\"Y\",INDEX(OIQraw,ROW(),Setup!$C$5+COLUMN()-26),\"x\")","v":"x"},{"$f":"IF($E37=\"Y\",INDEX(OIQraw,ROW(),Setup!$C$5+COLUMN()-26),\"x\")","v":"x"},{"$f":"IF($E37=\"Y\",INDEX(OIQraw,ROW(),Setup!$C$5+COLUMN()-26),\"x\")","v":"x"},{"$f":"IF($E37=\"Y\",INDEX(OIQraw,ROW(),Setup!$C$5+COLUMN()-26),\"x\")","v":"x"},{"$f":"IF($E37=\"Y\",INDEX(OIQraw,ROW(),Setup!$C$5+COLUMN()-26),\"x\")","v":"x"},{"$f":"IF($E37=\"Y\",INDEX(OIQraw,ROW(),Setup!$C$5+COLUMN()-26),\"x\")","v":"x"},{"$f":"IF($E37=\"Y\",INDEX(OIQraw,ROW(),Setup!$C$5+COLUMN()-26),\"x\")","v":"x"},{"$f":"IF($E37=\"Y\",INDEX(OIQraw,ROW(),Setup!$C$5+COLUMN()-26),\"x\")","v":"x"},{"$f":"IF($E37=\"Y\",INDEX(OIQraw,ROW(),Setup!$C$5+COLUMN()-26),\"x\")","v":"x"},{"$f":"IF($E37=\"Y\",INDEX(OIQraw,ROW(),Setup!$C$5+COLUMN()-26),\"x\")","v":"x"},{"$f":"IF($E37=\"Y\",INDEX(OIQraw,ROW(),Setup!$C$5+COLUMN()-26),\"x\")","v":"x"},{"$f":"IF($E37=\"Y\",INDEX(OIQraw,ROW(),Setup!$C$5+COLUMN()-26),\"x\")","v":"x"},{"$f":"IF($E37=\"Y\",INDEX(OIQraw,ROW(),Setup!$C$5+COLUMN()-26),\"x\")","v":"x"},{"$f":"IF($E37=\"Y\",INDEX(OIQraw,ROW(),Setup!$C$5+COLUMN()-26),\"x\")","v":"x"},{"$f":"IF($E37=\"Y\",INDEX(OIQraw,ROW(),Setup!$C$5+COLUMN()-26),\"x\")","v":"x"},{"$f":"IF($E37=\"Y\",INDEX(OIQraw,ROW(),Setup!$C$5+COLUMN()-26),\"x\")","v":"x"},{"$f":"IF($E37=\"Y\",INDEX(OIQraw,ROW(),Setup!$C$5+COLUMN()-26),\"x\")","v":"x"},{"$f":"IF($E37=\"Y\",INDEX(OIQraw,ROW(),Setup!$C$5+COLUMN()-26),\"x\")","v":"x"},{"$f":"IF($E37=\"Y\",INDEX(OIQraw,ROW(),Setup!$C$5+COLUMN()-26),\"x\")","v":"x"},{"$f":"IF($E37=\"Y\",INDEX(OIQraw,ROW(),Setup!$C$5+COLUMN()-26),\"x\")","v":"x"},{"$f":"IF($E37=\"Y\",INDEX(OIQraw,ROW(),Setup!$C$5+COLUMN()-26),\"x\")","v":"x"},{"$f":"IF($E37=\"Y\",INDEX(OIQraw,ROW(),Setup!$C$5+COLUMN()-26),\"x\")","v":"x"},{"$f":"IF($E37=\"Y\",INDEX(OIQraw,ROW(),Setup!$C$5+COLUMN()-26),\"x\")","v":"x"},{"$f":"IF($E37=\"Y\",INDEX(OIQraw,ROW(),Setup!$C$5+COLUMN()-26),\"x\")","v":"x"},{"$f":"IF($E37=\"Y\",INDEX(OIQraw,ROW(),Setup!$C$5+COLUMN()-26),\"x\")","v":"x"},{"$f":"IF($E37=\"Y\",INDEX(OIQraw,ROW(),Setup!$C$5+COLUMN()-26),\"x\")","v":"x"},{"$f":"IF($E37=\"Y\",INDEX(OIQraw,ROW(),Setup!$C$5+COLUMN()-26),\"x\")","v":"x"},{"$f":"IF($E37=\"Y\",INDEX(OIQraw,ROW(),Setup!$C$5+COLUMN()-26),\"x\")","v":"x"},{"$f":"IF($E37=\"Y\",INDEX(OIQraw,ROW(),Setup!$C$5+COLUMN()-26),\"x\")","v":"x"},{"$f":"IF($E37=\"Y\",INDEX(OIQraw,ROW(),Setup!$C$5+COLUMN()-26),\"x\")","v":"x"},{"$f":"IF($E37=\"Y\",INDEX(OIQraw,ROW(),Setup!$C$5+COLUMN()-26),\"x\")","v":"x"},{"$f":"IF($E37=\"Y\",INDEX(OIQraw,ROW(),Setup!$C$5+COLUMN()-26),\"x\")","v":"x"},{"$f":"IF($E37=\"Y\",INDEX(OIQraw,ROW(),Setup!$C$5+COLUMN()-26),\"x\")","v":"x"},{"$f":"IF($E37=\"Y\",INDEX(OIQraw,ROW(),Setup!$C$5+COLUMN()-26),\"x\")","v":"x"},{"$f":"IF($E37=\"Y\",INDEX(OIQraw,ROW(),Setup!$C$5+COLUMN()-26),\"x\")","v":"x"},{"$f":"IF($E37=\"Y\",INDEX(OIQraw,ROW(),Setup!$C$5+COLUMN()-26),\"x\")","v":"x"},{"$f":"IF($E37=\"Y\",INDEX(OIQraw,ROW(),Setup!$C$5+COLUMN()-26),\"x\")","v":"x"},{"$f":"IF($E37=\"Y\",INDEX(OIQraw,ROW(),Setup!$C$5+COLUMN()-26),\"x\")","v":"x"},{"$f":"IF($E37=\"Y\",INDEX(OIQraw,ROW(),Setup!$C$5+COLUMN()-26),\"x\")","v":"x"},{"$f":"IF($E37=\"Y\",INDEX(OIQraw,ROW(),Setup!$C$5+COLUMN()-26),\"x\")","v":"x"},{"$f":"IF($E37=\"Y\",INDEX(OIQraw,ROW(),Setup!$C$5+COLUMN()-26),\"x\")","v":"x"},{"$f":"IF($E37=\"Y\",INDEX(OIQraw,ROW(),Setup!$C$5+COLUMN()-26),\"x\")","v":"x"},{"$f":"IF($E37=\"Y\",INDEX(OIQraw,ROW(),Setup!$C$5+COLUMN()-26),\"x\")","v":"x"},{"$f":"IF($E37=\"Y\",INDEX(OIQraw,ROW(),Setup!$C$5+COLUMN()-26),\"x\")","v":"x"},{"$f":"IF($E37=\"Y\",INDEX(OIQraw,ROW(),Setup!$C$5+COLUMN()-26),\"x\")","v":"x"},{"$f":"IF($E37=\"Y\",INDEX(OIQraw,ROW(),Setup!$C$5+COLUMN()-26),\"x\")","v":"x"},{"$f":"IF($E37=\"Y\",INDEX(OIQraw,ROW(),Setup!$C$5+COLUMN()-26),\"x\")","v":"x"},{"$f":"IF($E37=\"Y\",INDEX(OIQraw,ROW(),Setup!$C$5+COLUMN()-26),\"x\")","v":"x"},{"$f":"IF($E37=\"Y\",INDEX(OIQraw,ROW(),Setup!$C$5+COLUMN()-26),\"x\")","v":"x"},{"$f":"IF($E37=\"Y\",INDEX(OIQraw,ROW(),Setup!$C$5+COLUMN()-26),\"x\")","v":"x"},{"$f":"IF($E37=\"Y\",INDEX(OIQraw,ROW(),Setup!$C$5+COLUMN()-26),\"x\")","v":"x"},{"$f":"IF($E37=\"Y\",INDEX(OIQraw,ROW(),Setup!$C$5+COLUMN()-26),\"x\")","v":"x"},{"$f":"IF($E37=\"Y\",INDEX(OIQraw,ROW(),Setup!$C$5+COLUMN()-26),\"x\")","v":"x"},{"$f":"IF($E37=\"Y\",INDEX(OIQraw,ROW(),Setup!$C$5+COLUMN()-26),\"x\")","v":"x"},{"$f":"IF($E37=\"Y\",INDEX(OIQraw,ROW(),Setup!$C$5+COLUMN()-26),\"x\")","v":"x"},{"$f":"IF($E37=\"Y\",INDEX(OIQraw,ROW(),Setup!$C$5+COLUMN()-26),\"x\")","v":"x"},{"$f":"IF($E37=\"Y\",INDEX(OIQraw,ROW(),Setup!$C$5+COLUMN()-26),\"x\")","v":"x"},{"$f":"IF($E37=\"Y\",INDEX(OIQraw,ROW(),Setup!$C$5+COLUMN()-26),\"x\")","v":"x"},{"$f":"IF($E37=\"Y\",INDEX(OIQraw,ROW(),Setup!$C$5+COLUMN()-26),\"x\")","v":"x"},{"$f":"IF($E37=\"Y\",INDEX(OIQraw,ROW(),Setup!$C$5+COLUMN()-26),\"x\")","v":"x"},{"$f":"IF($E37=\"Y\",INDEX(OIQraw,ROW(),Setup!$C$5+COLUMN()-26),\"x\")","v":"x"},{"$f":"IF($E37=\"Y\",INDEX(OIQraw,ROW(),Setup!$C$5+COLUMN()-26),\"x\")","v":"x"},{"$f":"IF($E37=\"Y\",INDEX(OIQraw,ROW(),Setup!$C$5+COLUMN()-26),\"x\")","v":"x"},{"$f":"IF($E37=\"Y\",INDEX(OIQraw,ROW(),Setup!$C$5+COLUMN()-26),\"x\")","v":"x"},{"$f":"IF($E37=\"Y\",INDEX(OIQraw,ROW(),Setup!$C$5+COLUMN()-26),\"x\")","v":"x"},{"$f":"IF($E37=\"Y\",INDEX(OIQraw,ROW(),Setup!$C$5+COLUMN()-26),\"x\")","v":"x"},{"$f":"IF($E37=\"Y\",INDEX(OIQraw,ROW(),Setup!$C$5+COLUMN()-26),\"x\")","v":"x"},{"$f":"IF($E37=\"Y\",INDEX(OIQraw,ROW(),Setup!$C$5+COLUMN()-26),\"x\")","v":"x"},{"$f":"IF($E37=\"Y\",INDEX(OIQraw,ROW(),Setup!$C$5+COLUMN()-26),\"x\")","v":"x"},{"$f":"IF($E37=\"Y\",INDEX(OIQraw,ROW(),Setup!$C$5+COLUMN()-26),\"x\")","v":"x"},{"$f":"IF($E37=\"Y\",INDEX(OIQraw,ROW(),Setup!$C$5+COLUMN()-26),\"x\")","v":"x"},{"$f":"IF($E37=\"Y\",INDEX(OIQraw,ROW(),Setup!$C$5+COLUMN()-26),\"x\")","v":"x"},{"$f":"IF($E37=\"Y\",INDEX(OIQraw,ROW(),Setup!$C$5+COLUMN()-26),\"x\")","v":"x"},{"$f":"IF($E37=\"Y\",INDEX(OIQraw,ROW(),Setup!$C$5+COLUMN()-26),\"x\")","v":"x"},{"$f":"IF($E37=\"Y\",INDEX(OIQraw,ROW(),Setup!$C$5+COLUMN()-26),\"x\")","v":"x"},{"$f":"IF($E37=\"Y\",INDEX(OIQraw,ROW(),Setup!$C$5+COLUMN()-26),\"x\")","v":"x"},{"$f":"IF($E37=\"Y\",INDEX(OIQraw,ROW(),Setup!$C$5+COLUMN()-26),\"x\")","v":"x"},{"$f":"IF($E37=\"Y\",INDEX(OIQraw,ROW(),Setup!$C$5+COLUMN()-26),\"x\")","v":"x"},{"$f":"IF($E37=\"Y\",INDEX(OIQraw,ROW(),Setup!$C$5+COLUMN()-26),\"x\")","v":"x"},{"$f":"IF($E37=\"Y\",INDEX(OIQraw,ROW(),Setup!$C$5+COLUMN()-26),\"x\")","v":"x"},{"$f":"IF($E37=\"Y\",INDEX(OIQraw,ROW(),Setup!$C$5+COLUMN()-26),\"x\")","v":"x"},{"$f":"IF($E37=\"Y\",INDEX(OIQraw,ROW(),Setup!$C$5+COLUMN()-26),\"x\")","v":"x"},{"$f":"IF($E37=\"Y\",INDEX(OIQraw,ROW(),Setup!$C$5+COLUMN()-26),\"x\")","v":"x"},{"$f":"IF($E37=\"Y\",INDEX(OIQraw,ROW(),Setup!$C$5+COLUMN()-26),\"x\")","v":"x"},{"$f":"IF($E37=\"Y\",INDEX(OIQraw,ROW(),Setup!$C$5+COLUMN()-26),\"x\")","v":"x"},{"$f":"IF($E37=\"Y\",INDEX(OIQraw,ROW(),Setup!$C$5+COLUMN()-26),\"x\")","v":"x"},{"$f":"IF($E37=\"Y\",INDEX(OIQraw,ROW(),Setup!$C$5+COLUMN()-26),\"x\")","v":"x"},{"$f":"IF($E37=\"Y\",INDEX(OIQraw,ROW(),Setup!$C$5+COLUMN()-26),\"x\")","v":"x"},{"$f":"IF($E37=\"Y\",INDEX(OIQraw,ROW(),Setup!$C$5+COLUMN()-26),\"x\")","v":"x"},{"$f":"IF($E37=\"Y\",INDEX(OIQraw,ROW(),Setup!$C$5+COLUMN()-26),\"x\")","v":"x"},{"$f":"IF($E37=\"Y\",INDEX(OIQraw,ROW(),Setup!$C$5+COLUMN()-26),\"x\")","v":"x"},{"$f":"IF($E37=\"Y\",INDEX(OIQraw,ROW(),Setup!$C$5+COLUMN()-26),\"x\")","v":"x"},{"$f":"IF($E37=\"Y\",INDEX(OIQraw,ROW(),Setup!$C$5+COLUMN()-26),\"x\")","v":"x"},{"$f":"IF($E37=\"Y\",INDEX(OIQraw,ROW(),Setup!$C$5+COLUMN()-26),\"x\")","v":"x"},{"$f":"IF($E37=\"Y\",INDEX(OIQraw,ROW(),Setup!$C$5+COLUMN()-26),\"x\")","v":"x"},{"$f":"IF($E37=\"Y\",INDEX(OIQraw,ROW(),Setup!$C$5+COLUMN()-26),\"x\")","v":"x"},{"$f":"IF($E37=\"Y\",INDEX(OIQraw,ROW(),Setup!$C$5+COLUMN()-26),\"x\")","v":"x"},{"$f":"IF($E37=\"Y\",INDEX(OIQraw,ROW(),Setup!$C$5+COLUMN()-26),\"x\")","v":"x"},{"$f":"IF($E37=\"Y\",INDEX(OIQraw,ROW(),Setup!$C$5+COLUMN()-26),\"x\")","v":"x"},{"$f":"IF($E37=\"Y\",INDEX(OIQraw,ROW(),Setup!$C$5+COLUMN()-26),\"x\")","v":"x"},{"$f":"IF($E37=\"Y\",INDEX(OIQraw,ROW(),Setup!$C$5+COLUMN()-26),\"x\")","v":"x"},{"$f":"IF($E37=\"Y\",INDEX(OIQraw,ROW(),Setup!$C$5+COLUMN()-26),\"x\")","v":"x"},{"$f":"IF($E37=\"Y\",INDEX(OIQraw,ROW(),Setup!$C$5+COLUMN()-26),\"x\")","v":"x"},{"$f":"IF($E37=\"Y\",INDEX(OIQraw,ROW(),Setup!$C$5+COLUMN()-26),\"x\")","v":"x"},{"$f":"IF($E37=\"Y\",INDEX(OIQraw,ROW(),Setup!$C$5+COLUMN()-26),\"x\")","v":"x"},{"$f":"IF($E37=\"Y\",INDEX(OIQraw,ROW(),Setup!$C$5+COLUMN()-26),\"x\")","v":"x"},{"$f":"IF($E37=\"Y\",INDEX(OIQraw,ROW(),Setup!$C$5+COLUMN()-26),\"x\")","v":"x"},{"$f":"IF($E37=\"Y\",INDEX(OIQraw,ROW(),Setup!$C$5+COLUMN()-26),\"x\")","v":"x"},{"$f":"IF($E37=\"Y\",INDEX(OIQraw,ROW(),Setup!$C$5+COLUMN()-26),\"x\")","v":"x"},{"$f":"IF($E37=\"Y\",INDEX(OIQraw,ROW(),Setup!$C$5+COLUMN()-26),\"x\")","v":"x"},{"$f":"IF($E37=\"Y\",INDEX(OIQraw,ROW(),Setup!$C$5+COLUMN()-26),\"x\")","v":"x"},{"$f":"IF($E37=\"Y\",INDEX(OIQraw,ROW(),Setup!$C$5+COLUMN()-26),\"x\")","v":"x"},{"$f":"IF($E37=\"Y\",INDEX(OIQraw,ROW(),Setup!$C$5+COLUMN()-26),\"x\")","v":"x"},{"$f":"IF($E37=\"Y\",INDEX(OIQraw,ROW(),Setup!$C$5+COLUMN()-26),\"x\")","v":"x"},{"$f":"IF($E37=\"Y\",INDEX(OIQraw,ROW(),Setup!$C$5+COLUMN()-26),\"x\")","v":"x"},{"$f":"IF($E37=\"Y\",INDEX(OIQraw,ROW(),Setup!$C$5+COLUMN()-26),\"x\")","v":"x"}]
[1,"","",{"$f":"IF(ISERROR(FIND(\"Withdrew\",RawScores!B42)),RawScores!B42,RIGHT(RawScores!B42,LEN(RawScores!B42)-17))&\", \"&RawScores!C42","v":", "},{"$f":"IF(OR(ISERROR(FIND(\"Withdrew\",RawScores!B42))=FALSE,INDEX(OIQraw,ROW(),LastInputCol-3)=0),\"N\",IF(AND(Setup!$B$22=\"Yes\",INDEX(OIQraw,ROW(),LastInputCol)=1),\"N\",\"Y\"))","v":"N"},"X","X","X",{"$f":"IF(AND(ISNUMBER(F38),F38>Setup!$B$14-1),1,0)","v":0},{"$f":"IF(AND(F38>Setup!$B$14-1,Conv!H38<5),1,0)","v":0},{"$f":"IF(AND(F38>Setup!$B$14-1,Conv!G38=\"F\"),1,0)","v":0},"","","","","","","","","","","","","X","X",{"$f":"IF($E38=\"Y\",INDEX(OIQraw,ROW(),Setup!$C$5+COLUMN()-26),\"x\")","v":"x"},{"$f":"IF($E38=\"Y\",INDEX(OIQraw,ROW(),Setup!$C$5+COLUMN()-26),\"x\")","v":"x"},{"$f":"IF($E38=\"Y\",INDEX(OIQraw,ROW(),Setup!$C$5+COLUMN()-26),\"x\")","v":"x"},{"$f":"IF($E38=\"Y\",INDEX(OIQraw,ROW(),Setup!$C$5+COLUMN()-26),\"x\")","v":"x"},{"$f":"IF($E38=\"Y\",INDEX(OIQraw,ROW(),Setup!$C$5+COLUMN()-26),\"x\")","v":"x"},{"$f":"IF($E38=\"Y\",INDEX(OIQraw,ROW(),Setup!$C$5+COLUMN()-26),\"x\")","v":"x"},{"$f":"IF($E38=\"Y\",INDEX(OIQraw,ROW(),Setup!$C$5+COLUMN()-26),\"x\")","v":"x"},{"$f":"IF($E38=\"Y\",INDEX(OIQraw,ROW(),Setup!$C$5+COLUMN()-26),\"x\")","v":"x"},{"$f":"IF($E38=\"Y\",INDEX(OIQraw,ROW(),Setup!$C$5+COLUMN()-26),\"x\")","v":"x"},{"$f":"IF($E38=\"Y\",INDEX(OIQraw,ROW(),Setup!$C$5+COLUMN()-26),\"x\")","v":"x"},{"$f":"IF($E38=\"Y\",INDEX(OIQraw,ROW(),Setup!$C$5+COLUMN()-26),\"x\")","v":"x"},{"$f":"IF($E38=\"Y\",INDEX(OIQraw,ROW(),Setup!$C$5+COLUMN()-26),\"x\")","v":"x"},{"$f":"IF($E38=\"Y\",INDEX(OIQraw,ROW(),Setup!$C$5+COLUMN()-26),\"x\")","v":"x"},{"$f":"IF($E38=\"Y\",INDEX(OIQraw,ROW(),Setup!$C$5+COLUMN()-26),\"x\")","v":"x"},{"$f":"IF($E38=\"Y\",INDEX(OIQraw,ROW(),Setup!$C$5+COLUMN()-26),\"x\")","v":"x"},{"$f":"IF($E38=\"Y\",INDEX(OIQraw,ROW(),Setup!$C$5+COLUMN()-26),\"x\")","v":"x"},{"$f":"IF($E38=\"Y\",INDEX(OIQraw,ROW(),Setup!$C$5+COLUMN()-26),\"x\")","v":"x"},{"$f":"IF($E38=\"Y\",INDEX(OIQraw,ROW(),Setup!$C$5+COLUMN()-26),\"x\")","v":"x"},{"$f":"IF($E38=\"Y\",INDEX(OIQraw,ROW(),Setup!$C$5+COLUMN()-26),\"x\")","v":"x"},{"$f":"IF($E38=\"Y\",INDEX(OIQraw,ROW(),Setup!$C$5+COLUMN()-26),\"x\")","v":"x"},{"$f":"IF($E38=\"Y\",INDEX(OIQraw,ROW(),Setup!$C$5+COLUMN()-26),\"x\")","v":"x"},{"$f":"IF($E38=\"Y\",INDEX(OIQraw,ROW(),Setup!$C$5+COLUMN()-26),\"x\")","v":"x"},{"$f":"IF($E38=\"Y\",INDEX(OIQraw,ROW(),Setup!$C$5+COLUMN()-26),\"x\")","v":"x"},{"$f":"IF($E38=\"Y\",INDEX(OIQraw,ROW(),Setup!$C$5+COLUMN()-26),\"x\")","v":"x"},{"$f":"IF($E38=\"Y\",INDEX(OIQraw,ROW(),Setup!$C$5+COLUMN()-26),\"x\")","v":"x"},{"$f":"IF($E38=\"Y\",INDEX(OIQraw,ROW(),Setup!$C$5+COLUMN()-26),\"x\")","v":"x"},{"$f":"IF($E38=\"Y\",INDEX(OIQraw,ROW(),Setup!$C$5+COLUMN()-26),\"x\")","v":"x"},{"$f":"IF($E38=\"Y\",INDEX(OIQraw,ROW(),Setup!$C$5+COLUMN()-26),\"x\")","v":"x"},{"$f":"IF($E38=\"Y\",INDEX(OIQraw,ROW(),Setup!$C$5+COLUMN()-26),\"x\")","v":"x"},{"$f":"IF($E38=\"Y\",INDEX(OIQraw,ROW(),Setup!$C$5+COLUMN()-26),\"x\")","v":"x"},{"$f":"IF($E38=\"Y\",INDEX(OIQraw,ROW(),Setup!$C$5+COLUMN()-26),\"x\")","v":"x"},{"$f":"IF($E38=\"Y\",INDEX(OIQraw,ROW(),Setup!$C$5+COLUMN()-26),\"x\")","v":"x"},{"$f":"IF($E38=\"Y\",INDEX(OIQraw,ROW(),Setup!$C$5+COLUMN()-26),\"x\")","v":"x"},{"$f":"IF($E38=\"Y\",INDEX(OIQraw,ROW(),Setup!$C$5+COLUMN()-26),\"x\")","v":"x"},{"$f":"IF($E38=\"Y\",INDEX(OIQraw,ROW(),Setup!$C$5+COLUMN()-26),\"x\")","v":"x"},{"$f":"IF($E38=\"Y\",INDEX(OIQraw,ROW(),Setup!$C$5+COLUMN()-26),\"x\")","v":"x"},{"$f":"IF($E38=\"Y\",INDEX(OIQraw,ROW(),Setup!$C$5+COLUMN()-26),\"x\")","v":"x"},{"$f":"IF($E38=\"Y\",INDEX(OIQraw,ROW(),Setup!$C$5+COLUMN()-26),\"x\")","v":"x"},{"$f":"IF($E38=\"Y\",INDEX(OIQraw,ROW(),Setup!$C$5+COLUMN()-26),\"x\")","v":"x"},{"$f":"IF($E38=\"Y\",INDEX(OIQraw,ROW(),Setup!$C$5+COLUMN()-26),\"x\")","v":"x"},{"$f":"IF($E38=\"Y\",INDEX(OIQraw,ROW(),Setup!$C$5+COLUMN()-26),\"x\")","v":"x"},{"$f":"IF($E38=\"Y\",INDEX(OIQraw,ROW(),Setup!$C$5+COLUMN()-26),\"x\")","v":"x"},{"$f":"IF($E38=\"Y\",INDEX(OIQraw,ROW(),Setup!$C$5+COLUMN()-26),\"x\")","v":"x"},{"$f":"IF($E38=\"Y\",INDEX(OIQraw,ROW(),Setup!$C$5+COLUMN()-26),\"x\")","v":"x"},{"$f":"IF($E38=\"Y\",INDEX(OIQraw,ROW(),Setup!$C$5+COLUMN()-26),\"x\")","v":"x"},{"$f":"IF($E38=\"Y\",INDEX(OIQraw,ROW(),Setup!$C$5+COLUMN()-26),\"x\")","v":"x"},{"$f":"IF($E38=\"Y\",INDEX(OIQraw,ROW(),Setup!$C$5+COLUMN()-26),\"x\")","v":"x"},{"$f":"IF($E38=\"Y\",INDEX(OIQraw,ROW(),Setup!$C$5+COLUMN()-26),\"x\")","v":"x"},{"$f":"IF($E38=\"Y\",INDEX(OIQraw,ROW(),Setup!$C$5+COLUMN()-26),\"x\")","v":"x"},{"$f":"IF($E38=\"Y\",INDEX(OIQraw,ROW(),Setup!$C$5+COLUMN()-26),\"x\")","v":"x"},{"$f":"IF($E38=\"Y\",INDEX(OIQraw,ROW(),Setup!$C$5+COLUMN()-26),\"x\")","v":"x"},{"$f":"IF($E38=\"Y\",INDEX(OIQraw,ROW(),Setup!$C$5+COLUMN()-26),\"x\")","v":"x"},{"$f":"IF($E38=\"Y\",INDEX(OIQraw,ROW(),Setup!$C$5+COLUMN()-26),\"x\")","v":"x"},{"$f":"IF($E38=\"Y\",INDEX(OIQraw,ROW(),Setup!$C$5+COLUMN()-26),\"x\")","v":"x"},{"$f":"IF($E38=\"Y\",INDEX(OIQraw,ROW(),Setup!$C$5+COLUMN()-26),\"x\")","v":"x"},{"$f":"IF($E38=\"Y\",INDEX(OIQraw,ROW(),Setup!$C$5+COLUMN()-26),\"x\")","v":"x"},{"$f":"IF($E38=\"Y\",INDEX(OIQraw,ROW(),Setup!$C$5+COLUMN()-26),\"x\")","v":"x"},{"$f":"IF($E38=\"Y\",INDEX(OIQraw,ROW(),Setup!$C$5+COLUMN()-26),\"x\")","v":"x"},{"$f":"IF($E38=\"Y\",INDEX(OIQraw,ROW(),Setup!$C$5+COLUMN()-26),\"x\")","v":"x"},{"$f":"IF($E38=\"Y\",INDEX(OIQraw,ROW(),Setup!$C$5+COLUMN()-26),\"x\")","v":"x"},{"$f":"IF($E38=\"Y\",INDEX(OIQraw,ROW(),Setup!$C$5+COLUMN()-26),\"x\")","v":"x"},{"$f":"IF($E38=\"Y\",INDEX(OIQraw,ROW(),Setup!$C$5+COLUMN()-26),\"x\")","v":"x"},{"$f":"IF($E38=\"Y\",INDEX(OIQraw,ROW(),Setup!$C$5+COLUMN()-26),\"x\")","v":"x"},{"$f":"IF($E38=\"Y\",INDEX(OIQraw,ROW(),Setup!$C$5+COLUMN()-26),\"x\")","v":"x"},{"$f":"IF($E38=\"Y\",INDEX(OIQraw,ROW(),Setup!$C$5+COLUMN()-26),\"x\")","v":"x"},{"$f":"IF($E38=\"Y\",INDEX(OIQraw,ROW(),Setup!$C$5+COLUMN()-26),\"x\")","v":"x"},{"$f":"IF($E38=\"Y\",INDEX(OIQraw,ROW(),Setup!$C$5+COLUMN()-26),\"x\")","v":"x"},{"$f":"IF($E38=\"Y\",INDEX(OIQraw,ROW(),Setup!$C$5+COLUMN()-26),\"x\")","v":"x"},{"$f":"IF($E38=\"Y\",INDEX(OIQraw,ROW(),Setup!$C$5+COLUMN()-26),\"x\")","v":"x"},{"$f":"IF($E38=\"Y\",INDEX(OIQraw,ROW(),Setup!$C$5+COLUMN()-26),\"x\")","v":"x"},{"$f":"IF($E38=\"Y\",INDEX(OIQraw,ROW(),Setup!$C$5+COLUMN()-26),\"x\")","v":"x"},{"$f":"IF($E38=\"Y\",INDEX(OIQraw,ROW(),Setup!$C$5+COLUMN()-26),\"x\")","v":"x"},{"$f":"IF($E38=\"Y\",INDEX(OIQraw,ROW(),Setup!$C$5+COLUMN()-26),\"x\")","v":"x"},{"$f":"IF($E38=\"Y\",INDEX(OIQraw,ROW(),Setup!$C$5+COLUMN()-26),\"x\")","v":"x"},{"$f":"IF($E38=\"Y\",INDEX(OIQraw,ROW(),Setup!$C$5+COLUMN()-26),\"x\")","v":"x"},{"$f":"IF($E38=\"Y\",INDEX(OIQraw,ROW(),Setup!$C$5+COLUMN()-26),\"x\")","v":"x"},{"$f":"IF($E38=\"Y\",INDEX(OIQraw,ROW(),Setup!$C$5+COLUMN()-26),\"x\")","v":"x"},{"$f":"IF($E38=\"Y\",INDEX(OIQraw,ROW(),Setup!$C$5+COLUMN()-26),\"x\")","v":"x"},{"$f":"IF($E38=\"Y\",INDEX(OIQraw,ROW(),Setup!$C$5+COLUMN()-26),\"x\")","v":"x"},{"$f":"IF($E38=\"Y\",INDEX(OIQraw,ROW(),Setup!$C$5+COLUMN()-26),\"x\")","v":"x"},{"$f":"IF($E38=\"Y\",INDEX(OIQraw,ROW(),Setup!$C$5+COLUMN()-26),\"x\")","v":"x"},{"$f":"IF($E38=\"Y\",INDEX(OIQraw,ROW(),Setup!$C$5+COLUMN()-26),\"x\")","v":"x"},{"$f":"IF($E38=\"Y\",INDEX(OIQraw,ROW(),Setup!$C$5+COLUMN()-26),\"x\")","v":"x"},{"$f":"IF($E38=\"Y\",INDEX(OIQraw,ROW(),Setup!$C$5+COLUMN()-26),\"x\")","v":"x"},{"$f":"IF($E38=\"Y\",INDEX(OIQraw,ROW(),Setup!$C$5+COLUMN()-26),\"x\")","v":"x"},{"$f":"IF($E38=\"Y\",INDEX(OIQraw,ROW(),Setup!$C$5+COLUMN()-26),\"x\")","v":"x"},{"$f":"IF($E38=\"Y\",INDEX(OIQraw,ROW(),Setup!$C$5+COLUMN()-26),\"x\")","v":"x"},{"$f":"IF($E38=\"Y\",INDEX(OIQraw,ROW(),Setup!$C$5+COLUMN()-26),\"x\")","v":"x"},{"$f":"IF($E38=\"Y\",INDEX(OIQraw,ROW(),Setup!$C$5+COLUMN()-26),\"x\")","v":"x"},{"$f":"IF($E38=\"Y\",INDEX(OIQraw,ROW(),Setup!$C$5+COLUMN()-26),\"x\")","v":"x"},{"$f":"IF($E38=\"Y\",INDEX(OIQraw,ROW(),Setup!$C$5+COLUMN()-26),\"x\")","v":"x"},{"$f":"IF($E38=\"Y\",INDEX(OIQraw,ROW(),Setup!$C$5+COLUMN()-26),\"x\")","v":"x"},{"$f":"IF($E38=\"Y\",INDEX(OIQraw,ROW(),Setup!$C$5+COLUMN()-26),\"x\")","v":"x"},{"$f":"IF($E38=\"Y\",INDEX(OIQraw,ROW(),Setup!$C$5+COLUMN()-26),\"x\")","v":"x"},{"$f":"IF($E38=\"Y\",INDEX(OIQraw,ROW(),Setup!$C$5+COLUMN()-26),\"x\")","v":"x"},{"$f":"IF($E38=\"Y\",INDEX(OIQraw,ROW(),Setup!$C$5+COLUMN()-26),\"x\")","v":"x"},{"$f":"IF($E38=\"Y\",INDEX(OIQraw,ROW(),Setup!$C$5+COLUMN()-26),\"x\")","v":"x"},{"$f":"IF($E38=\"Y\",INDEX(OIQraw,ROW(),Setup!$C$5+COLUMN()-26),\"x\")","v":"x"},{"$f":"IF($E38=\"Y\",INDEX(OIQraw,ROW(),Setup!$C$5+COLUMN()-26),\"x\")","v":"x"},{"$f":"IF($E38=\"Y\",INDEX(OIQraw,ROW(),Setup!$C$5+COLUMN()-26),\"x\")","v":"x"},{"$f":"IF($E38=\"Y\",INDEX(OIQraw,ROW(),Setup!$C$5+COLUMN()-26),\"x\")","v":"x"},{"$f":"IF($E38=\"Y\",INDEX(OIQraw,ROW(),Setup!$C$5+COLUMN()-26),\"x\")","v":"x"},{"$f":"IF($E38=\"Y\",INDEX(OIQraw,ROW(),Setup!$C$5+COLUMN()-26),\"x\")","v":"x"},{"$f":"IF($E38=\"Y\",INDEX(OIQraw,ROW(),Setup!$C$5+COLUMN()-26),\"x\")","v":"x"},{"$f":"IF($E38=\"Y\",INDEX(OIQraw,ROW(),Setup!$C$5+COLUMN()-26),\"x\")","v":"x"},{"$f":"IF($E38=\"Y\",INDEX(OIQraw,ROW(),Setup!$C$5+COLUMN()-26),\"x\")","v":"x"},{"$f":"IF($E38=\"Y\",INDEX(OIQraw,ROW(),Setup!$C$5+COLUMN()-26),\"x\")","v":"x"},{"$f":"IF($E38=\"Y\",INDEX(OIQraw,ROW(),Setup!$C$5+COLUMN()-26),\"x\")","v":"x"},{"$f":"IF($E38=\"Y\",INDEX(OIQraw,ROW(),Setup!$C$5+COLUMN()-26),\"x\")","v":"x"},{"$f":"IF($E38=\"Y\",INDEX(OIQraw,ROW(),Setup!$C$5+COLUMN()-26),\"x\")","v":"x"},{"$f":"IF($E38=\"Y\",INDEX(OIQraw,ROW(),Setup!$C$5+COLUMN()-26),\"x\")","v":"x"},{"$f":"IF($E38=\"Y\",INDEX(OIQraw,ROW(),Setup!$C$5+COLUMN()-26),\"x\")","v":"x"},{"$f":"IF($E38=\"Y\",INDEX(OIQraw,ROW(),Setup!$C$5+COLUMN()-26),\"x\")","v":"x"},{"$f":"IF($E38=\"Y\",INDEX(OIQraw,ROW(),Setup!$C$5+COLUMN()-26),\"x\")","v":"x"},{"$f":"IF($E38=\"Y\",INDEX(OIQraw,ROW(),Setup!$C$5+COLUMN()-26),\"x\")","v":"x"},{"$f":"IF($E38=\"Y\",INDEX(OIQraw,ROW(),Setup!$C$5+COLUMN()-26),\"x\")","v":"x"},{"$f":"IF($E38=\"Y\",INDEX(OIQraw,ROW(),Setup!$C$5+COLUMN()-26),\"x\")","v":"x"},{"$f":"IF($E38=\"Y\",INDEX(OIQraw,ROW(),Setup!$C$5+COLUMN()-26),\"x\")","v":"x"},{"$f":"IF($E38=\"Y\",INDEX(OIQraw,ROW(),Setup!$C$5+COLUMN()-26),\"x\")","v":"x"},{"$f":"IF($E38=\"Y\",INDEX(OIQraw,ROW(),Setup!$C$5+COLUMN()-26),\"x\")","v":"x"},{"$f":"IF($E38=\"Y\",INDEX(OIQraw,ROW(),Setup!$C$5+COLUMN()-26),\"x\")","v":"x"},{"$f":"IF($E38=\"Y\",INDEX(OIQraw,ROW(),Setup!$C$5+COLUMN()-26),\"x\")","v":"x"},{"$f":"IF($E38=\"Y\",INDEX(OIQraw,ROW(),Setup!$C$5+COLUMN()-26),\"x\")","v":"x"},{"$f":"IF($E38=\"Y\",INDEX(OIQraw,ROW(),Setup!$C$5+COLUMN()-26),\"x\")","v":"x"},{"$f":"IF($E38=\"Y\",INDEX(OIQraw,ROW(),Setup!$C$5+COLUMN()-26),\"x\")","v":"x"},{"$f":"IF($E38=\"Y\",INDEX(OIQraw,ROW(),Setup!$C$5+COLUMN()-26),\"x\")","v":"x"},{"$f":"IF($E38=\"Y\",INDEX(OIQraw,ROW(),Setup!$C$5+COLUMN()-26),\"x\")","v":"x"},{"$f":"IF($E38=\"Y\",INDEX(OIQraw,ROW(),Setup!$C$5+COLUMN()-26),\"x\")","v":"x"},{"$f":"IF($E38=\"Y\",INDEX(OIQraw,ROW(),Setup!$C$5+COLUMN()-26),\"x\")","v":"x"},{"$f":"IF($E38=\"Y\",INDEX(OIQraw,ROW(),Setup!$C$5+COLUMN()-26),\"x\")","v":"x"},{"$f":"IF($E38=\"Y\",INDEX(OIQraw,ROW(),Setup!$C$5+COLUMN()-26),\"x\")","v":"x"},{"$f":"IF($E38=\"Y\",INDEX(OIQraw,ROW(),Setup!$C$5+COLUMN()-26),\"x\")","v":"x"},{"$f":"IF($E38=\"Y\",INDEX(OIQraw,ROW(),Setup!$C$5+COLUMN()-26),\"x\")","v":"x"},{"$f":"IF($E38=\"Y\",INDEX(OIQraw,ROW(),Setup!$C$5+COLUMN()-26),\"x\")","v":"x"},{"$f":"IF($E38=\"Y\",INDEX(OIQraw,ROW(),Setup!$C$5+COLUMN()-26),\"x\")","v":"x"},{"$f":"IF($E38=\"Y\",INDEX(OIQraw,ROW(),Setup!$C$5+COLUMN()-26),\"x\")","v":"x"},{"$f":"IF($E38=\"Y\",INDEX(OIQraw,ROW(),Setup!$C$5+COLUMN()-26),\"x\")","v":"x"},{"$f":"IF($E38=\"Y\",INDEX(OIQraw,ROW(),Setup!$C$5+COLUMN()-26),\"x\")","v":"x"},{"$f":"IF($E38=\"Y\",INDEX(OIQraw,ROW(),Setup!$C$5+COLUMN()-26),\"x\")","v":"x"},{"$f":"IF($E38=\"Y\",INDEX(OIQraw,ROW(),Setup!$C$5+COLUMN()-26),\"x\")","v":"x"},{"$f":"IF($E38=\"Y\",INDEX(OIQraw,ROW(),Setup!$C$5+COLUMN()-26),\"x\")","v":"x"},{"$f":"IF($E38=\"Y\",INDEX(OIQraw,ROW(),Setup!$C$5+COLUMN()-26),\"x\")","v":"x"},{"$f":"IF($E38=\"Y\",INDEX(OIQraw,ROW(),Setup!$C$5+COLUMN()-26),\"x\")","v":"x"},{"$f":"IF($E38=\"Y\",INDEX(OIQraw,ROW(),Setup!$C$5+COLUMN()-26),\"x\")","v":"x"},{"$f":"IF($E38=\"Y\",INDEX(OIQraw,ROW(),Setup!$C$5+COLUMN()-26),\"x\")","v":"x"},{"$f":"IF($E38=\"Y\",INDEX(OIQraw,ROW(),Setup!$C$5+COLUMN()-26),\"x\")","v":"x"},{"$f":"IF($E38=\"Y\",INDEX(OIQraw,ROW(),Setup!$C$5+COLUMN()-26),\"x\")","v":"x"},{"$f":"IF($E38=\"Y\",INDEX(OIQraw,ROW(),Setup!$C$5+COLUMN()-26),\"x\")","v":"x"},{"$f":"IF($E38=\"Y\",INDEX(OIQraw,ROW(),Setup!$C$5+COLUMN()-26),\"x\")","v":"x"},{"$f":"IF($E38=\"Y\",INDEX(OIQraw,ROW(),Setup!$C$5+COLUMN()-26),\"x\")","v":"x"},{"$f":"IF($E38=\"Y\",INDEX(OIQraw,ROW(),Setup!$C$5+COLUMN()-26),\"x\")","v":"x"},{"$f":"IF($E38=\"Y\",INDEX(OIQraw,ROW(),Setup!$C$5+COLUMN()-26),\"x\")","v":"x"},{"$f":"IF($E38=\"Y\",INDEX(OIQraw,ROW(),Setup!$C$5+COLUMN()-26),\"x\")","v":"x"},{"$f":"IF($E38=\"Y\",INDEX(OIQraw,ROW(),Setup!$C$5+COLUMN()-26),\"x\")","v":"x"},{"$f":"IF($E38=\"Y\",INDEX(OIQraw,ROW(),Setup!$C$5+COLUMN()-26),\"x\")","v":"x"},{"$f":"IF($E38=\"Y\",INDEX(OIQraw,ROW(),Setup!$C$5+COLUMN()-26),\"x\")","v":"x"},{"$f":"IF($E38=\"Y\",INDEX(OIQraw,ROW(),Setup!$C$5+COLUMN()-26),\"x\")","v":"x"},{"$f":"IF($E38=\"Y\",INDEX(OIQraw,ROW(),Setup!$C$5+COLUMN()-26),\"x\")","v":"x"},{"$f":"IF($E38=\"Y\",INDEX(OIQraw,ROW(),Setup!$C$5+COLUMN()-26),\"x\")","v":"x"},{"$f":"IF($E38=\"Y\",INDEX(OIQraw,ROW(),Setup!$C$5+COLUMN()-26),\"x\")","v":"x"},{"$f":"IF($E38=\"Y\",INDEX(OIQraw,ROW(),Setup!$C$5+COLUMN()-26),\"x\")","v":"x"},{"$f":"IF($E38=\"Y\",INDEX(OIQraw,ROW(),Setup!$C$5+COLUMN()-26),\"x\")","v":"x"},{"$f":"IF($E38=\"Y\",INDEX(OIQraw,ROW(),Setup!$C$5+COLUMN()-26),\"x\")","v":"x"},{"$f":"IF($E38=\"Y\",INDEX(OIQraw,ROW(),Setup!$C$5+COLUMN()-26),\"x\")","v":"x"},{"$f":"IF($E38=\"Y\",INDEX(OIQraw,ROW(),Setup!$C$5+COLUMN()-26),\"x\")","v":"x"},{"$f":"IF($E38=\"Y\",INDEX(OIQraw,ROW(),Setup!$C$5+COLUMN()-26),\"x\")","v":"x"},{"$f":"IF($E38=\"Y\",INDEX(OIQraw,ROW(),Setup!$C$5+COLUMN()-26),\"x\")","v":"x"},{"$f":"IF($E38=\"Y\",INDEX(OIQraw,ROW(),Setup!$C$5+COLUMN()-26),\"x\")","v":"x"},{"$f":"IF($E38=\"Y\",INDEX(OIQraw,ROW(),Setup!$C$5+COLUMN()-26),\"x\")","v":"x"},{"$f":"IF($E38=\"Y\",INDEX(OIQraw,ROW(),Setup!$C$5+COLUMN()-26),\"x\")","v":"x"},{"$f":"IF($E38=\"Y\",INDEX(OIQraw,ROW(),Setup!$C$5+COLUMN()-26),\"x\")","v":"x"},{"$f":"IF($E38=\"Y\",INDEX(OIQraw,ROW(),Setup!$C$5+COLUMN()-26),\"x\")","v":"x"},{"$f":"IF($E38=\"Y\",INDEX(OIQraw,ROW(),Setup!$C$5+COLUMN()-26),\"x\")","v":"x"},{"$f":"IF($E38=\"Y\",INDEX(OIQraw,ROW(),Setup!$C$5+COLUMN()-26),\"x\")","v":"x"},{"$f":"IF($E38=\"Y\",INDEX(OIQraw,ROW(),Setup!$C$5+COLUMN()-26),\"x\")","v":"x"},{"$f":"IF($E38=\"Y\",INDEX(OIQraw,ROW(),Setup!$C$5+COLUMN()-26),\"x\")","v":"x"},{"$f":"IF($E38=\"Y\",INDEX(OIQraw,ROW(),Setup!$C$5+COLUMN()-26),\"x\")","v":"x"},{"$f":"IF($E38=\"Y\",INDEX(OIQraw,ROW(),Setup!$C$5+COLUMN()-26),\"x\")","v":"x"},{"$f":"IF($E38=\"Y\",INDEX(OIQraw,ROW(),Setup!$C$5+COLUMN()-26),\"x\")","v":"x"},{"$f":"IF($E38=\"Y\",INDEX(OIQraw,ROW(),Setup!$C$5+COLUMN()-26),\"x\")","v":"x"},{"$f":"IF($E38=\"Y\",INDEX(OIQraw,ROW(),Setup!$C$5+COLUMN()-26),\"x\")","v":"x"},{"$f":"IF($E38=\"Y\",INDEX(OIQraw,ROW(),Setup!$C$5+COLUMN()-26),\"x\")","v":"x"},{"$f":"IF($E38=\"Y\",INDEX(OIQraw,ROW(),Setup!$C$5+COLUMN()-26),\"x\")","v":"x"},{"$f":"IF($E38=\"Y\",INDEX(OIQraw,ROW(),Setup!$C$5+COLUMN()-26),\"x\")","v":"x"},{"$f":"IF($E38=\"Y\",INDEX(OIQraw,ROW(),Setup!$C$5+COLUMN()-26),\"x\")","v":"x"},{"$f":"IF($E38=\"Y\",INDEX(OIQraw,ROW(),Setup!$C$5+COLUMN()-26),\"x\")","v":"x"},{"$f":"IF($E38=\"Y\",INDEX(OIQraw,ROW(),Setup!$C$5+COLUMN()-26),\"x\")","v":"x"},{"$f":"IF($E38=\"Y\",INDEX(OIQraw,ROW(),Setup!$C$5+COLUMN()-26),\"x\")","v":"x"},{"$f":"IF($E38=\"Y\",INDEX(OIQraw,ROW(),Setup!$C$5+COLUMN()-26),\"x\")","v":"x"},{"$f":"IF($E38=\"Y\",INDEX(OIQraw,ROW(),Setup!$C$5+COLUMN()-26),\"x\")","v":"x"},{"$f":"IF($E38=\"Y\",INDEX(OIQraw,ROW(),Setup!$C$5+COLUMN()-26),\"x\")","v":"x"},{"$f":"IF($E38=\"Y\",INDEX(OIQraw,ROW(),Setup!$C$5+COLUMN()-26),\"x\")","v":"x"},{"$f":"IF($E38=\"Y\",INDEX(OIQraw,ROW(),Setup!$C$5+COLUMN()-26),\"x\")","v":"x"},{"$f":"IF($E38=\"Y\",INDEX(OIQraw,ROW(),Setup!$C$5+COLUMN()-26),\"x\")","v":"x"},{"$f":"IF($E38=\"Y\",INDEX(OIQraw,ROW(),Setup!$C$5+COLUMN()-26),\"x\")","v":"x"},{"$f":"IF($E38=\"Y\",INDEX(OIQraw,ROW(),Setup!$C$5+COLUMN()-26),\"x\")","v":"x"},{"$f":"IF($E38=\"Y\",INDEX(OIQraw,ROW(),Setup!$C$5+COLUMN()-26),\"x\")","v":"x"},{"$f":"IF($E38=\"Y\",INDEX(OIQraw,ROW(),Setup!$C$5+COLUMN()-26),\"x\")","v":"x"},{"$f":"IF($E38=\"Y\",INDEX(OIQraw,ROW(),Setup!$C$5+COLUMN()-26),\"x\")","v":"x"},{"$f":"IF($E38=\"Y\",INDEX(OIQraw,ROW(),Setup!$C$5+COLUMN()-26),\"x\")","v":"x"},{"$f":"IF($E38=\"Y\",INDEX(OIQraw,ROW(),Setup!$C$5+COLUMN()-26),\"x\")","v":"x"},{"$f":"IF($E38=\"Y\",INDEX(OIQraw,ROW(),Setup!$C$5+COLUMN()-26),\"x\")","v":"x"},{"$f":"IF($E38=\"Y\",INDEX(OIQraw,ROW(),Setup!$C$5+COLUMN()-26),\"x\")","v":"x"},{"$f":"IF($E38=\"Y\",INDEX(OIQraw,ROW(),Setup!$C$5+COLUMN()-26),\"x\")","v":"x"},{"$f":"IF($E38=\"Y\",INDEX(OIQraw,ROW(),Setup!$C$5+COLUMN()-26),\"x\")","v":"x"},{"$f":"IF($E38=\"Y\",INDEX(OIQraw,ROW(),Setup!$C$5+COLUMN()-26),\"x\")","v":"x"},{"$f":"IF($E38=\"Y\",INDEX(OIQraw,ROW(),Setup!$C$5+COLUMN()-26),\"x\")","v":"x"},{"$f":"IF($E38=\"Y\",INDEX(OIQraw,ROW(),Setup!$C$5+COLUMN()-26),\"x\")","v":"x"},{"$f":"IF($E38=\"Y\",INDEX(OIQraw,ROW(),Setup!$C$5+COLUMN()-26),\"x\")","v":"x"},{"$f":"IF($E38=\"Y\",INDEX(OIQraw,ROW(),Setup!$C$5+COLUMN()-26),\"x\")","v":"x"},{"$f":"IF($E38=\"Y\",INDEX(OIQraw,ROW(),Setup!$C$5+COLUMN()-26),\"x\")","v":"x"},{"$f":"IF($E38=\"Y\",INDEX(OIQraw,ROW(),Setup!$C$5+COLUMN()-26),\"x\")","v":"x"},{"$f":"IF($E38=\"Y\",INDEX(OIQraw,ROW(),Setup!$C$5+COLUMN()-26),\"x\")","v":"x"},{"$f":"IF($E38=\"Y\",INDEX(OIQraw,ROW(),Setup!$C$5+COLUMN()-26),\"x\")","v":"x"},{"$f":"IF($E38=\"Y\",INDEX(OIQraw,ROW(),Setup!$C$5+COLUMN()-26),\"x\")","v":"x"},{"$f":"IF($E38=\"Y\",INDEX(OIQraw,ROW(),Setup!$C$5+COLUMN()-26),\"x\")","v":"x"},{"$f":"IF($E38=\"Y\",INDEX(OIQraw,ROW(),Setup!$C$5+COLUMN()-26),\"x\")","v":"x"},{"$f":"IF($E38=\"Y\",INDEX(OIQraw,ROW(),Setup!$C$5+COLUMN()-26),\"x\")","v":"x"},{"$f":"IF($E38=\"Y\",INDEX(OIQraw,ROW(),Setup!$C$5+COLUMN()-26),\"x\")","v":"x"},{"$f":"IF($E38=\"Y\",INDEX(OIQraw,ROW(),Setup!$C$5+COLUMN()-26),\"x\")","v":"x"},{"$f":"IF($E38=\"Y\",INDEX(OIQraw,ROW(),Setup!$C$5+COLUMN()-26),\"x\")","v":"x"},{"$f":"IF($E38=\"Y\",INDEX(OIQraw,ROW(),Setup!$C$5+COLUMN()-26),\"x\")","v":"x"},{"$f":"IF($E38=\"Y\",INDEX(OIQraw,ROW(),Setup!$C$5+COLUMN()-26),\"x\")","v":"x"},{"$f":"IF($E38=\"Y\",INDEX(OIQraw,ROW(),Setup!$C$5+COLUMN()-26),\"x\")","v":"x"},{"$f":"IF($E38=\"Y\",INDEX(OIQraw,ROW(),Setup!$C$5+COLUMN()-26),\"x\")","v":"x"},{"$f":"IF($E38=\"Y\",INDEX(OIQraw,ROW(),Setup!$C$5+COLUMN()-26),\"x\")","v":"x"},{"$f":"IF($E38=\"Y\",INDEX(OIQraw,ROW(),Setup!$C$5+COLUMN()-26),\"x\")","v":"x"},{"$f":"IF($E38=\"Y\",INDEX(OIQraw,ROW(),Setup!$C$5+COLUMN()-26),\"x\")","v":"x"},{"$f":"IF($E38=\"Y\",INDEX(OIQraw,ROW(),Setup!$C$5+COLUMN()-26),\"x\")","v":"x"},{"$f":"IF($E38=\"Y\",INDEX(OIQraw,ROW(),Setup!$C$5+COLUMN()-26),\"x\")","v":"x"},{"$f":"IF($E38=\"Y\",INDEX(OIQraw,ROW(),Setup!$C$5+COLUMN()-26),\"x\")","v":"x"},{"$f":"IF($E38=\"Y\",INDEX(OIQraw,ROW(),Setup!$C$5+COLUMN()-26),\"x\")","v":"x"},{"$f":"IF($E38=\"Y\",INDEX(OIQraw,ROW(),Setup!$C$5+COLUMN()-26),\"x\")","v":"x"},{"$f":"IF($E38=\"Y\",INDEX(OIQraw,ROW(),Setup!$C$5+COLUMN()-26),\"x\")","v":"x"},{"$f":"IF($E38=\"Y\",INDEX(OIQraw,ROW(),Setup!$C$5+COLUMN()-26),\"x\")","v":"x"},{"$f":"IF($E38=\"Y\",INDEX(OIQraw,ROW(),Setup!$C$5+COLUMN()-26),\"x\")","v":"x"},{"$f":"IF($E38=\"Y\",INDEX(OIQraw,ROW(),Setup!$C$5+COLUMN()-26),\"x\")","v":"x"},{"$f":"IF($E38=\"Y\",INDEX(OIQraw,ROW(),Setup!$C$5+COLUMN()-26),\"x\")","v":"x"},{"$f":"IF($E38=\"Y\",INDEX(OIQraw,ROW(),Setup!$C$5+COLUMN()-26),\"x\")","v":"x"},{"$f":"IF($E38=\"Y\",INDEX(OIQraw,ROW(),Setup!$C$5+COLUMN()-26),\"x\")","v":"x"},{"$f":"IF($E38=\"Y\",INDEX(OIQraw,ROW(),Setup!$C$5+COLUMN()-26),\"x\")","v":"x"},{"$f":"IF($E38=\"Y\",INDEX(OIQraw,ROW(),Setup!$C$5+COLUMN()-26),\"x\")","v":"x"},{"$f":"IF($E38=\"Y\",INDEX(OIQraw,ROW(),Setup!$C$5+COLUMN()-26),\"x\")","v":"x"},{"$f":"IF($E38=\"Y\",INDEX(OIQraw,ROW(),Setup!$C$5+COLUMN()-26),\"x\")","v":"x"},{"$f":"IF($E38=\"Y\",INDEX(OIQraw,ROW(),Setup!$C$5+COLUMN()-26),\"x\")","v":"x"},{"$f":"IF($E38=\"Y\",INDEX(OIQraw,ROW(),Setup!$C$5+COLUMN()-26),\"x\")","v":"x"},{"$f":"IF($E38=\"Y\",INDEX(OIQraw,ROW(),Setup!$C$5+COLUMN()-26),\"x\")","v":"x"},{"$f":"IF($E38=\"Y\",INDEX(OIQraw,ROW(),Setup!$C$5+COLUMN()-26),\"x\")","v":"x"},{"$f":"IF($E38=\"Y\",INDEX(OIQraw,ROW(),Setup!$C$5+COLUMN()-26),\"x\")","v":"x"},{"$f":"IF($E38=\"Y\",INDEX(OIQraw,ROW(),Setup!$C$5+COLUMN()-26),\"x\")","v":"x"},{"$f":"IF($E38=\"Y\",INDEX(OIQraw,ROW(),Setup!$C$5+COLUMN()-26),\"x\")","v":"x"},{"$f":"IF($E38=\"Y\",INDEX(OIQraw,ROW(),Setup!$C$5+COLUMN()-26),\"x\")","v":"x"},{"$f":"IF($E38=\"Y\",INDEX(OIQraw,ROW(),Setup!$C$5+COLUMN()-26),\"x\")","v":"x"}]
[1,"","",{"$f":"IF(ISERROR(FIND(\"Withdrew\",RawScores!B43)),RawScores!B43,RIGHT(RawScores!B43,LEN(RawScores!B43)-17))&\", \"&RawScores!C43","v":", "},{"$f":"IF(OR(ISERROR(FIND(\"Withdrew\",RawScores!B43))=FALSE,INDEX(OIQraw,ROW(),LastInputCol-3)=0),\"N\",IF(AND(Setup!$B$22=\"Yes\",INDEX(OIQraw,ROW(),LastInputCol)=1),\"N\",\"Y\"))","v":"N"},"X","X","X",{"$f":"IF(AND(ISNUMBER(F39),F39>Setup!$B$14-1),1,0)","v":0},{"$f":"IF(AND(F39>Setup!$B$14-1,Conv!H39<5),1,0)","v":0},{"$f":"IF(AND(F39>Setup!$B$14-1,Conv!G39=\"F\"),1,0)","v":0},"","","","","","","","","","","","","X","X",{"$f":"IF($E39=\"Y\",INDEX(OIQraw,ROW(),Setup!$C$5+COLUMN()-26),\"x\")","v":"x"},{"$f":"IF($E39=\"Y\",INDEX(OIQraw,ROW(),Setup!$C$5+COLUMN()-26),\"x\")","v":"x"},{"$f":"IF($E39=\"Y\",INDEX(OIQraw,ROW(),Setup!$C$5+COLUMN()-26),\"x\")","v":"x"},{"$f":"IF($E39=\"Y\",INDEX(OIQraw,ROW(),Setup!$C$5+COLUMN()-26),\"x\")","v":"x"},{"$f":"IF($E39=\"Y\",INDEX(OIQraw,ROW(),Setup!$C$5+COLUMN()-26),\"x\")","v":"x"},{"$f":"IF($E39=\"Y\",INDEX(OIQraw,ROW(),Setup!$C$5+COLUMN()-26),\"x\")","v":"x"},{"$f":"IF($E39=\"Y\",INDEX(OIQraw,ROW(),Setup!$C$5+COLUMN()-26),\"x\")","v":"x"},{"$f":"IF($E39=\"Y\",INDEX(OIQraw,ROW(),Setup!$C$5+COLUMN()-26),\"x\")","v":"x"},{"$f":"IF($E39=\"Y\",INDEX(OIQraw,ROW(),Setup!$C$5+COLUMN()-26),\"x\")","v":"x"},{"$f":"IF($E39=\"Y\",INDEX(OIQraw,ROW(),Setup!$C$5+COLUMN()-26),\"x\")","v":"x"},{"$f":"IF($E39=\"Y\",INDEX(OIQraw,ROW(),Setup!$C$5+COLUMN()-26),\"x\")","v":"x"},{"$f":"IF($E39=\"Y\",INDEX(OIQraw,ROW(),Setup!$C$5+COLUMN()-26),\"x\")","v":"x"},{"$f":"IF($E39=\"Y\",INDEX(OIQraw,ROW(),Setup!$C$5+COLUMN()-26),\"x\")","v":"x"},{"$f":"IF($E39=\"Y\",INDEX(OIQraw,ROW(),Setup!$C$5+COLUMN()-26),\"x\")","v":"x"},{"$f":"IF($E39=\"Y\",INDEX(OIQraw,ROW(),Setup!$C$5+COLUMN()-26),\"x\")","v":"x"},{"$f":"IF($E39=\"Y\",INDEX(OIQraw,ROW(),Setup!$C$5+COLUMN()-26),\"x\")","v":"x"},{"$f":"IF($E39=\"Y\",INDEX(OIQraw,ROW(),Setup!$C$5+COLUMN()-26),\"x\")","v":"x"},{"$f":"IF($E39=\"Y\",INDEX(OIQraw,ROW(),Setup!$C$5+COLUMN()-26),\"x\")","v":"x"},{"$f":"IF($E39=\"Y\",INDEX(OIQraw,ROW(),Setup!$C$5+COLUMN()-26),\"x\")","v":"x"},{"$f":"IF($E39=\"Y\",INDEX(OIQraw,ROW(),Setup!$C$5+COLUMN()-26),\"x\")","v":"x"},{"$f":"IF($E39=\"Y\",INDEX(OIQraw,ROW(),Setup!$C$5+COLUMN()-26),\"x\")","v":"x"},{"$f":"IF($E39=\"Y\",INDEX(OIQraw,ROW(),Setup!$C$5+COLUMN()-26),\"x\")","v":"x"},{"$f":"IF($E39=\"Y\",INDEX(OIQraw,ROW(),Setup!$C$5+COLUMN()-26),\"x\")","v":"x"},{"$f":"IF($E39=\"Y\",INDEX(OIQraw,ROW(),Setup!$C$5+COLUMN()-26),\"x\")","v":"x"},{"$f":"IF($E39=\"Y\",INDEX(OIQraw,ROW(),Setup!$C$5+COLUMN()-26),\"x\")","v":"x"},{"$f":"IF($E39=\"Y\",INDEX(OIQraw,ROW(),Setup!$C$5+COLUMN()-26),\"x\")","v":"x"},{"$f":"IF($E39=\"Y\",INDEX(OIQraw,ROW(),Setup!$C$5+COLUMN()-26),\"x\")","v":"x"},{"$f":"IF($E39=\"Y\",INDEX(OIQraw,ROW(),Setup!$C$5+COLUMN()-26),\"x\")","v":"x"},{"$f":"IF($E39=\"Y\",INDEX(OIQraw,ROW(),Setup!$C$5+COLUMN()-26),\"x\")","v":"x"},{"$f":"IF($E39=\"Y\",INDEX(OIQraw,ROW(),Setup!$C$5+COLUMN()-26),\"x\")","v":"x"},{"$f":"IF($E39=\"Y\",INDEX(OIQraw,ROW(),Setup!$C$5+COLUMN()-26),\"x\")","v":"x"},{"$f":"IF($E39=\"Y\",INDEX(OIQraw,ROW(),Setup!$C$5+COLUMN()-26),\"x\")","v":"x"},{"$f":"IF($E39=\"Y\",INDEX(OIQraw,ROW(),Setup!$C$5+COLUMN()-26),\"x\")","v":"x"},{"$f":"IF($E39=\"Y\",INDEX(OIQraw,ROW(),Setup!$C$5+COLUMN()-26),\"x\")","v":"x"},{"$f":"IF($E39=\"Y\",INDEX(OIQraw,ROW(),Setup!$C$5+COLUMN()-26),\"x\")","v":"x"},{"$f":"IF($E39=\"Y\",INDEX(OIQraw,ROW(),Setup!$C$5+COLUMN()-26),\"x\")","v":"x"},{"$f":"IF($E39=\"Y\",INDEX(OIQraw,ROW(),Setup!$C$5+COLUMN()-26),\"x\")","v":"x"},{"$f":"IF($E39=\"Y\",INDEX(OIQraw,ROW(),Setup!$C$5+COLUMN()-26),\"x\")","v":"x"},{"$f":"IF($E39=\"Y\",INDEX(OIQraw,ROW(),Setup!$C$5+COLUMN()-26),\"x\")","v":"x"},{"$f":"IF($E39=\"Y\",INDEX(OIQraw,ROW(),Setup!$C$5+COLUMN()-26),\"x\")","v":"x"},{"$f":"IF($E39=\"Y\",INDEX(OIQraw,ROW(),Setup!$C$5+COLUMN()-26),\"x\")","v":"x"},{"$f":"IF($E39=\"Y\",INDEX(OIQraw,ROW(),Setup!$C$5+COLUMN()-26),\"x\")","v":"x"},{"$f":"IF($E39=\"Y\",INDEX(OIQraw,ROW(),Setup!$C$5+COLUMN()-26),\"x\")","v":"x"},{"$f":"IF($E39=\"Y\",INDEX(OIQraw,ROW(),Setup!$C$5+COLUMN()-26),\"x\")","v":"x"},{"$f":"IF($E39=\"Y\",INDEX(OIQraw,ROW(),Setup!$C$5+COLUMN()-26),\"x\")","v":"x"},{"$f":"IF($E39=\"Y\",INDEX(OIQraw,ROW(),Setup!$C$5+COLUMN()-26),\"x\")","v":"x"},{"$f":"IF($E39=\"Y\",INDEX(OIQraw,ROW(),Setup!$C$5+COLUMN()-26),\"x\")","v":"x"},{"$f":"IF($E39=\"Y\",INDEX(OIQraw,ROW(),Setup!$C$5+COLUMN()-26),\"x\")","v":"x"},{"$f":"IF($E39=\"Y\",INDEX(OIQraw,ROW(),Setup!$C$5+COLUMN()-26),\"x\")","v":"x"},{"$f":"IF($E39=\"Y\",INDEX(OIQraw,ROW(),Setup!$C$5+COLUMN()-26),\"x\")","v":"x"},{"$f":"IF($E39=\"Y\",INDEX(OIQraw,ROW(),Setup!$C$5+COLUMN()-26),\"x\")","v":"x"},{"$f":"IF($E39=\"Y\",INDEX(OIQraw,ROW(),Setup!$C$5+COLUMN()-26),\"x\")","v":"x"},{"$f":"IF($E39=\"Y\",INDEX(OIQraw,ROW(),Setup!$C$5+COLUMN()-26),\"x\")","v":"x"},{"$f":"IF($E39=\"Y\",INDEX(OIQraw,ROW(),Setup!$C$5+COLUMN()-26),\"x\")","v":"x"},{"$f":"IF($E39=\"Y\",INDEX(OIQraw,ROW(),Setup!$C$5+COLUMN()-26),\"x\")","v":"x"},{"$f":"IF($E39=\"Y\",INDEX(OIQraw,ROW(),Setup!$C$5+COLUMN()-26),\"x\")","v":"x"},{"$f":"IF($E39=\"Y\",INDEX(OIQraw,ROW(),Setup!$C$5+COLUMN()-26),\"x\")","v":"x"},{"$f":"IF($E39=\"Y\",INDEX(OIQraw,ROW(),Setup!$C$5+COLUMN()-26),\"x\")","v":"x"},{"$f":"IF($E39=\"Y\",INDEX(OIQraw,ROW(),Setup!$C$5+COLUMN()-26),\"x\")","v":"x"},{"$f":"IF($E39=\"Y\",INDEX(OIQraw,ROW(),Setup!$C$5+COLUMN()-26),\"x\")","v":"x"},{"$f":"IF($E39=\"Y\",INDEX(OIQraw,ROW(),Setup!$C$5+COLUMN()-26),\"x\")","v":"x"},{"$f":"IF($E39=\"Y\",INDEX(OIQraw,ROW(),Setup!$C$5+COLUMN()-26),\"x\")","v":"x"},{"$f":"IF($E39=\"Y\",INDEX(OIQraw,ROW(),Setup!$C$5+COLUMN()-26),\"x\")","v":"x"},{"$f":"IF($E39=\"Y\",INDEX(OIQraw,ROW(),Setup!$C$5+COLUMN()-26),\"x\")","v":"x"},{"$f":"IF($E39=\"Y\",INDEX(OIQraw,ROW(),Setup!$C$5+COLUMN()-26),\"x\")","v":"x"},{"$f":"IF($E39=\"Y\",INDEX(OIQraw,ROW(),Setup!$C$5+COLUMN()-26),\"x\")","v":"x"},{"$f":"IF($E39=\"Y\",INDEX(OIQraw,ROW(),Setup!$C$5+COLUMN()-26),\"x\")","v":"x"},{"$f":"IF($E39=\"Y\",INDEX(OIQraw,ROW(),Setup!$C$5+COLUMN()-26),\"x\")","v":"x"},{"$f":"IF($E39=\"Y\",INDEX(OIQraw,ROW(),Setup!$C$5+COLUMN()-26),\"x\")","v":"x"},{"$f":"IF($E39=\"Y\",INDEX(OIQraw,ROW(),Setup!$C$5+COLUMN()-26),\"x\")","v":"x"},{"$f":"IF($E39=\"Y\",INDEX(OIQraw,ROW(),Setup!$C$5+COLUMN()-26),\"x\")","v":"x"},{"$f":"IF($E39=\"Y\",INDEX(OIQraw,ROW(),Setup!$C$5+COLUMN()-26),\"x\")","v":"x"},{"$f":"IF($E39=\"Y\",INDEX(OIQraw,ROW(),Setup!$C$5+COLUMN()-26),\"x\")","v":"x"},{"$f":"IF($E39=\"Y\",INDEX(OIQraw,ROW(),Setup!$C$5+COLUMN()-26),\"x\")","v":"x"},{"$f":"IF($E39=\"Y\",INDEX(OIQraw,ROW(),Setup!$C$5+COLUMN()-26),\"x\")","v":"x"},{"$f":"IF($E39=\"Y\",INDEX(OIQraw,ROW(),Setup!$C$5+COLUMN()-26),\"x\")","v":"x"},{"$f":"IF($E39=\"Y\",INDEX(OIQraw,ROW(),Setup!$C$5+COLUMN()-26),\"x\")","v":"x"},{"$f":"IF($E39=\"Y\",INDEX(OIQraw,ROW(),Setup!$C$5+COLUMN()-26),\"x\")","v":"x"},{"$f":"IF($E39=\"Y\",INDEX(OIQraw,ROW(),Setup!$C$5+COLUMN()-26),\"x\")","v":"x"},{"$f":"IF($E39=\"Y\",INDEX(OIQraw,ROW(),Setup!$C$5+COLUMN()-26),\"x\")","v":"x"},{"$f":"IF($E39=\"Y\",INDEX(OIQraw,ROW(),Setup!$C$5+COLUMN()-26),\"x\")","v":"x"},{"$f":"IF($E39=\"Y\",INDEX(OIQraw,ROW(),Setup!$C$5+COLUMN()-26),\"x\")","v":"x"},{"$f":"IF($E39=\"Y\",INDEX(OIQraw,ROW(),Setup!$C$5+COLUMN()-26),\"x\")","v":"x"},{"$f":"IF($E39=\"Y\",INDEX(OIQraw,ROW(),Setup!$C$5+COLUMN()-26),\"x\")","v":"x"},{"$f":"IF($E39=\"Y\",INDEX(OIQraw,ROW(),Setup!$C$5+COLUMN()-26),\"x\")","v":"x"},{"$f":"IF($E39=\"Y\",INDEX(OIQraw,ROW(),Setup!$C$5+COLUMN()-26),\"x\")","v":"x"},{"$f":"IF($E39=\"Y\",INDEX(OIQraw,ROW(),Setup!$C$5+COLUMN()-26),\"x\")","v":"x"},{"$f":"IF($E39=\"Y\",INDEX(OIQraw,ROW(),Setup!$C$5+COLUMN()-26),\"x\")","v":"x"},{"$f":"IF($E39=\"Y\",INDEX(OIQraw,ROW(),Setup!$C$5+COLUMN()-26),\"x\")","v":"x"},{"$f":"IF($E39=\"Y\",INDEX(OIQraw,ROW(),Setup!$C$5+COLUMN()-26),\"x\")","v":"x"},{"$f":"IF($E39=\"Y\",INDEX(OIQraw,ROW(),Setup!$C$5+COLUMN()-26),\"x\")","v":"x"},{"$f":"IF($E39=\"Y\",INDEX(OIQraw,ROW(),Setup!$C$5+COLUMN()-26),\"x\")","v":"x"},{"$f":"IF($E39=\"Y\",INDEX(OIQraw,ROW(),Setup!$C$5+COLUMN()-26),\"x\")","v":"x"},{"$f":"IF($E39=\"Y\",INDEX(OIQraw,ROW(),Setup!$C$5+COLUMN()-26),\"x\")","v":"x"},{"$f":"IF($E39=\"Y\",INDEX(OIQraw,ROW(),Setup!$C$5+COLUMN()-26),\"x\")","v":"x"},{"$f":"IF($E39=\"Y\",INDEX(OIQraw,ROW(),Setup!$C$5+COLUMN()-26),\"x\")","v":"x"},{"$f":"IF($E39=\"Y\",INDEX(OIQraw,ROW(),Setup!$C$5+COLUMN()-26),\"x\")","v":"x"},{"$f":"IF($E39=\"Y\",INDEX(OIQraw,ROW(),Setup!$C$5+COLUMN()-26),\"x\")","v":"x"},{"$f":"IF($E39=\"Y\",INDEX(OIQraw,ROW(),Setup!$C$5+COLUMN()-26),\"x\")","v":"x"},{"$f":"IF($E39=\"Y\",INDEX(OIQraw,ROW(),Setup!$C$5+COLUMN()-26),\"x\")","v":"x"},{"$f":"IF($E39=\"Y\",INDEX(OIQraw,ROW(),Setup!$C$5+COLUMN()-26),\"x\")","v":"x"},{"$f":"IF($E39=\"Y\",INDEX(OIQraw,ROW(),Setup!$C$5+COLUMN()-26),\"x\")","v":"x"},{"$f":"IF($E39=\"Y\",INDEX(OIQraw,ROW(),Setup!$C$5+COLUMN()-26),\"x\")","v":"x"},{"$f":"IF($E39=\"Y\",INDEX(OIQraw,ROW(),Setup!$C$5+COLUMN()-26),\"x\")","v":"x"},{"$f":"IF($E39=\"Y\",INDEX(OIQraw,ROW(),Setup!$C$5+COLUMN()-26),\"x\")","v":"x"},{"$f":"IF($E39=\"Y\",INDEX(OIQraw,ROW(),Setup!$C$5+COLUMN()-26),\"x\")","v":"x"},{"$f":"IF($E39=\"Y\",INDEX(OIQraw,ROW(),Setup!$C$5+COLUMN()-26),\"x\")","v":"x"},{"$f":"IF($E39=\"Y\",INDEX(OIQraw,ROW(),Setup!$C$5+COLUMN()-26),\"x\")","v":"x"},{"$f":"IF($E39=\"Y\",INDEX(OIQraw,ROW(),Setup!$C$5+COLUMN()-26),\"x\")","v":"x"},{"$f":"IF($E39=\"Y\",INDEX(OIQraw,ROW(),Setup!$C$5+COLUMN()-26),\"x\")","v":"x"},{"$f":"IF($E39=\"Y\",INDEX(OIQraw,ROW(),Setup!$C$5+COLUMN()-26),\"x\")","v":"x"},{"$f":"IF($E39=\"Y\",INDEX(OIQraw,ROW(),Setup!$C$5+COLUMN()-26),\"x\")","v":"x"},{"$f":"IF($E39=\"Y\",INDEX(OIQraw,ROW(),Setup!$C$5+COLUMN()-26),\"x\")","v":"x"},{"$f":"IF($E39=\"Y\",INDEX(OIQraw,ROW(),Setup!$C$5+COLUMN()-26),\"x\")","v":"x"},{"$f":"IF($E39=\"Y\",INDEX(OIQraw,ROW(),Setup!$C$5+COLUMN()-26),\"x\")","v":"x"},{"$f":"IF($E39=\"Y\",INDEX(OIQraw,ROW(),Setup!$C$5+COLUMN()-26),\"x\")","v":"x"},{"$f":"IF($E39=\"Y\",INDEX(OIQraw,ROW(),Setup!$C$5+COLUMN()-26),\"x\")","v":"x"},{"$f":"IF($E39=\"Y\",INDEX(OIQraw,ROW(),Setup!$C$5+COLUMN()-26),\"x\")","v":"x"},{"$f":"IF($E39=\"Y\",INDEX(OIQraw,ROW(),Setup!$C$5+COLUMN()-26),\"x\")","v":"x"},{"$f":"IF($E39=\"Y\",INDEX(OIQraw,ROW(),Setup!$C$5+COLUMN()-26),\"x\")","v":"x"},{"$f":"IF($E39=\"Y\",INDEX(OIQraw,ROW(),Setup!$C$5+COLUMN()-26),\"x\")","v":"x"},{"$f":"IF($E39=\"Y\",INDEX(OIQraw,ROW(),Setup!$C$5+COLUMN()-26),\"x\")","v":"x"},{"$f":"IF($E39=\"Y\",INDEX(OIQraw,ROW(),Setup!$C$5+COLUMN()-26),\"x\")","v":"x"},{"$f":"IF($E39=\"Y\",INDEX(OIQraw,ROW(),Setup!$C$5+COLUMN()-26),\"x\")","v":"x"},{"$f":"IF($E39=\"Y\",INDEX(OIQraw,ROW(),Setup!$C$5+COLUMN()-26),\"x\")","v":"x"},{"$f":"IF($E39=\"Y\",INDEX(OIQraw,ROW(),Setup!$C$5+COLUMN()-26),\"x\")","v":"x"},{"$f":"IF($E39=\"Y\",INDEX(OIQraw,ROW(),Setup!$C$5+COLUMN()-26),\"x\")","v":"x"},{"$f":"IF($E39=\"Y\",INDEX(OIQraw,ROW(),Setup!$C$5+COLUMN()-26),\"x\")","v":"x"},{"$f":"IF($E39=\"Y\",INDEX(OIQraw,ROW(),Setup!$C$5+COLUMN()-26),\"x\")","v":"x"},{"$f":"IF($E39=\"Y\",INDEX(OIQraw,ROW(),Setup!$C$5+COLUMN()-26),\"x\")","v":"x"},{"$f":"IF($E39=\"Y\",INDEX(OIQraw,ROW(),Setup!$C$5+COLUMN()-26),\"x\")","v":"x"},{"$f":"IF($E39=\"Y\",INDEX(OIQraw,ROW(),Setup!$C$5+COLUMN()-26),\"x\")","v":"x"},{"$f":"IF($E39=\"Y\",INDEX(OIQraw,ROW(),Setup!$C$5+COLUMN()-26),\"x\")","v":"x"},{"$f":"IF($E39=\"Y\",INDEX(OIQraw,ROW(),Setup!$C$5+COLUMN()-26),\"x\")","v":"x"},{"$f":"IF($E39=\"Y\",INDEX(OIQraw,ROW(),Setup!$C$5+COLUMN()-26),\"x\")","v":"x"},{"$f":"IF($E39=\"Y\",INDEX(OIQraw,ROW(),Setup!$C$5+COLUMN()-26),\"x\")","v":"x"},{"$f":"IF($E39=\"Y\",INDEX(OIQraw,ROW(),Setup!$C$5+COLUMN()-26),\"x\")","v":"x"},{"$f":"IF($E39=\"Y\",INDEX(OIQraw,ROW(),Setup!$C$5+COLUMN()-26),\"x\")","v":"x"},{"$f":"IF($E39=\"Y\",INDEX(OIQraw,ROW(),Setup!$C$5+COLUMN()-26),\"x\")","v":"x"},{"$f":"IF($E39=\"Y\",INDEX(OIQraw,ROW(),Setup!$C$5+COLUMN()-26),\"x\")","v":"x"},{"$f":"IF($E39=\"Y\",INDEX(OIQraw,ROW(),Setup!$C$5+COLUMN()-26),\"x\")","v":"x"},{"$f":"IF($E39=\"Y\",INDEX(OIQraw,ROW(),Setup!$C$5+COLUMN()-26),\"x\")","v":"x"},{"$f":"IF($E39=\"Y\",INDEX(OIQraw,ROW(),Setup!$C$5+COLUMN()-26),\"x\")","v":"x"},{"$f":"IF($E39=\"Y\",INDEX(OIQraw,ROW(),Setup!$C$5+COLUMN()-26),\"x\")","v":"x"},{"$f":"IF($E39=\"Y\",INDEX(OIQraw,ROW(),Setup!$C$5+COLUMN()-26),\"x\")","v":"x"},{"$f":"IF($E39=\"Y\",INDEX(OIQraw,ROW(),Setup!$C$5+COLUMN()-26),\"x\")","v":"x"},{"$f":"IF($E39=\"Y\",INDEX(OIQraw,ROW(),Setup!$C$5+COLUMN()-26),\"x\")","v":"x"},{"$f":"IF($E39=\"Y\",INDEX(OIQraw,ROW(),Setup!$C$5+COLUMN()-26),\"x\")","v":"x"},{"$f":"IF($E39=\"Y\",INDEX(OIQraw,ROW(),Setup!$C$5+COLUMN()-26),\"x\")","v":"x"},{"$f":"IF($E39=\"Y\",INDEX(OIQraw,ROW(),Setup!$C$5+COLUMN()-26),\"x\")","v":"x"},{"$f":"IF($E39=\"Y\",INDEX(OIQraw,ROW(),Setup!$C$5+COLUMN()-26),\"x\")","v":"x"},{"$f":"IF($E39=\"Y\",INDEX(OIQraw,ROW(),Setup!$C$5+COLUMN()-26),\"x\")","v":"x"},{"$f":"IF($E39=\"Y\",INDEX(OIQraw,ROW(),Setup!$C$5+COLUMN()-26),\"x\")","v":"x"},{"$f":"IF($E39=\"Y\",INDEX(OIQraw,ROW(),Setup!$C$5+COLUMN()-26),\"x\")","v":"x"},{"$f":"IF($E39=\"Y\",INDEX(OIQraw,ROW(),Setup!$C$5+COLUMN()-26),\"x\")","v":"x"},{"$f":"IF($E39=\"Y\",INDEX(OIQraw,ROW(),Setup!$C$5+COLUMN()-26),\"x\")","v":"x"},{"$f":"IF($E39=\"Y\",INDEX(OIQraw,ROW(),Setup!$C$5+COLUMN()-26),\"x\")","v":"x"},{"$f":"IF($E39=\"Y\",INDEX(OIQraw,ROW(),Setup!$C$5+COLUMN()-26),\"x\")","v":"x"},{"$f":"IF($E39=\"Y\",INDEX(OIQraw,ROW(),Setup!$C$5+COLUMN()-26),\"x\")","v":"x"},{"$f":"IF($E39=\"Y\",INDEX(OIQraw,ROW(),Setup!$C$5+COLUMN()-26),\"x\")","v":"x"},{"$f":"IF($E39=\"Y\",INDEX(OIQraw,ROW(),Setup!$C$5+COLUMN()-26),\"x\")","v":"x"},{"$f":"IF($E39=\"Y\",INDEX(OIQraw,ROW(),Setup!$C$5+COLUMN()-26),\"x\")","v":"x"},{"$f":"IF($E39=\"Y\",INDEX(OIQraw,ROW(),Setup!$C$5+COLUMN()-26),\"x\")","v":"x"},{"$f":"IF($E39=\"Y\",INDEX(OIQraw,ROW(),Setup!$C$5+COLUMN()-26),\"x\")","v":"x"},{"$f":"IF($E39=\"Y\",INDEX(OIQraw,ROW(),Setup!$C$5+COLUMN()-26),\"x\")","v":"x"},{"$f":"IF($E39=\"Y\",INDEX(OIQraw,ROW(),Setup!$C$5+COLUMN()-26),\"x\")","v":"x"},{"$f":"IF($E39=\"Y\",INDEX(OIQraw,ROW(),Setup!$C$5+COLUMN()-26),\"x\")","v":"x"},{"$f":"IF($E39=\"Y\",INDEX(OIQraw,ROW(),Setup!$C$5+COLUMN()-26),\"x\")","v":"x"},{"$f":"IF($E39=\"Y\",INDEX(OIQraw,ROW(),Setup!$C$5+COLUMN()-26),\"x\")","v":"x"},{"$f":"IF($E39=\"Y\",INDEX(OIQraw,ROW(),Setup!$C$5+COLUMN()-26),\"x\")","v":"x"},{"$f":"IF($E39=\"Y\",INDEX(OIQraw,ROW(),Setup!$C$5+COLUMN()-26),\"x\")","v":"x"},{"$f":"IF($E39=\"Y\",INDEX(OIQraw,ROW(),Setup!$C$5+COLUMN()-26),\"x\")","v":"x"},{"$f":"IF($E39=\"Y\",INDEX(OIQraw,ROW(),Setup!$C$5+COLUMN()-26),\"x\")","v":"x"},{"$f":"IF($E39=\"Y\",INDEX(OIQraw,ROW(),Setup!$C$5+COLUMN()-26),\"x\")","v":"x"},{"$f":"IF($E39=\"Y\",INDEX(OIQraw,ROW(),Setup!$C$5+COLUMN()-26),\"x\")","v":"x"},{"$f":"IF($E39=\"Y\",INDEX(OIQraw,ROW(),Setup!$C$5+COLUMN()-26),\"x\")","v":"x"},{"$f":"IF($E39=\"Y\",INDEX(OIQraw,ROW(),Setup!$C$5+COLUMN()-26),\"x\")","v":"x"},{"$f":"IF($E39=\"Y\",INDEX(OIQraw,ROW(),Setup!$C$5+COLUMN()-26),\"x\")","v":"x"},{"$f":"IF($E39=\"Y\",INDEX(OIQraw,ROW(),Setup!$C$5+COLUMN()-26),\"x\")","v":"x"},{"$f":"IF($E39=\"Y\",INDEX(OIQraw,ROW(),Setup!$C$5+COLUMN()-26),\"x\")","v":"x"},{"$f":"IF($E39=\"Y\",INDEX(OIQraw,ROW(),Setup!$C$5+COLUMN()-26),\"x\")","v":"x"},{"$f":"IF($E39=\"Y\",INDEX(OIQraw,ROW(),Setup!$C$5+COLUMN()-26),\"x\")","v":"x"},{"$f":"IF($E39=\"Y\",INDEX(OIQraw,ROW(),Setup!$C$5+COLUMN()-26),\"x\")","v":"x"},{"$f":"IF($E39=\"Y\",INDEX(OIQraw,ROW(),Setup!$C$5+COLUMN()-26),\"x\")","v":"x"},{"$f":"IF($E39=\"Y\",INDEX(OIQraw,ROW(),Setup!$C$5+COLUMN()-26),\"x\")","v":"x"},{"$f":"IF($E39=\"Y\",INDEX(OIQraw,ROW(),Setup!$C$5+COLUMN()-26),\"x\")","v":"x"},{"$f":"IF($E39=\"Y\",INDEX(OIQraw,ROW(),Setup!$C$5+COLUMN()-26),\"x\")","v":"x"},{"$f":"IF($E39=\"Y\",INDEX(OIQraw,ROW(),Setup!$C$5+COLUMN()-26),\"x\")","v":"x"},{"$f":"IF($E39=\"Y\",INDEX(OIQraw,ROW(),Setup!$C$5+COLUMN()-26),\"x\")","v":"x"},{"$f":"IF($E39=\"Y\",INDEX(OIQraw,ROW(),Setup!$C$5+COLUMN()-26),\"x\")","v":"x"},{"$f":"IF($E39=\"Y\",INDEX(OIQraw,ROW(),Setup!$C$5+COLUMN()-26),\"x\")","v":"x"},{"$f":"IF($E39=\"Y\",INDEX(OIQraw,ROW(),Setup!$C$5+COLUMN()-26),\"x\")","v":"x"},{"$f":"IF($E39=\"Y\",INDEX(OIQraw,ROW(),Setup!$C$5+COLUMN()-26),\"x\")","v":"x"},{"$f":"IF($E39=\"Y\",INDEX(OIQraw,ROW(),Setup!$C$5+COLUMN()-26),\"x\")","v":"x"},{"$f":"IF($E39=\"Y\",INDEX(OIQraw,ROW(),Setup!$C$5+COLUMN()-26),\"x\")","v":"x"},{"$f":"IF($E39=\"Y\",INDEX(OIQraw,ROW(),Setup!$C$5+COLUMN()-26),\"x\")","v":"x"},{"$f":"IF($E39=\"Y\",INDEX(OIQraw,ROW(),Setup!$C$5+COLUMN()-26),\"x\")","v":"x"},{"$f":"IF($E39=\"Y\",INDEX(OIQraw,ROW(),Setup!$C$5+COLUMN()-26),\"x\")","v":"x"},{"$f":"IF($E39=\"Y\",INDEX(OIQraw,ROW(),Setup!$C$5+COLUMN()-26),\"x\")","v":"x"},{"$f":"IF($E39=\"Y\",INDEX(OIQraw,ROW(),Setup!$C$5+COLUMN()-26),\"x\")","v":"x"},{"$f":"IF($E39=\"Y\",INDEX(OIQraw,ROW(),Setup!$C$5+COLUMN()-26),\"x\")","v":"x"},{"$f":"IF($E39=\"Y\",INDEX(OIQraw,ROW(),Setup!$C$5+COLUMN()-26),\"x\")","v":"x"},{"$f":"IF($E39=\"Y\",INDEX(OIQraw,ROW(),Setup!$C$5+COLUMN()-26),\"x\")","v":"x"},{"$f":"IF($E39=\"Y\",INDEX(OIQraw,ROW(),Setup!$C$5+COLUMN()-26),\"x\")","v":"x"},{"$f":"IF($E39=\"Y\",INDEX(OIQraw,ROW(),Setup!$C$5+COLUMN()-26),\"x\")","v":"x"},{"$f":"IF($E39=\"Y\",INDEX(OIQraw,ROW(),Setup!$C$5+COLUMN()-26),\"x\")","v":"x"},{"$f":"IF($E39=\"Y\",INDEX(OIQraw,ROW(),Setup!$C$5+COLUMN()-26),\"x\")","v":"x"},{"$f":"IF($E39=\"Y\",INDEX(OIQraw,ROW(),Setup!$C$5+COLUMN()-26),\"x\")","v":"x"},{"$f":"IF($E39=\"Y\",INDEX(OIQraw,ROW(),Setup!$C$5+COLUMN()-26),\"x\")","v":"x"},{"$f":"IF($E39=\"Y\",INDEX(OIQraw,ROW(),Setup!$C$5+COLUMN()-26),\"x\")","v":"x"},{"$f":"IF($E39=\"Y\",INDEX(OIQraw,ROW(),Setup!$C$5+COLUMN()-26),\"x\")","v":"x"},{"$f":"IF($E39=\"Y\",INDEX(OIQraw,ROW(),Setup!$C$5+COLUMN()-26),\"x\")","v":"x"},{"$f":"IF($E39=\"Y\",INDEX(OIQraw,ROW(),Setup!$C$5+COLUMN()-26),\"x\")","v":"x"},{"$f":"IF($E39=\"Y\",INDEX(OIQraw,ROW(),Setup!$C$5+COLUMN()-26),\"x\")","v":"x"},{"$f":"IF($E39=\"Y\",INDEX(OIQraw,ROW(),Setup!$C$5+COLUMN()-26),\"x\")","v":"x"},{"$f":"IF($E39=\"Y\",INDEX(OIQraw,ROW(),Setup!$C$5+COLUMN()-26),\"x\")","v":"x"},{"$f":"IF($E39=\"Y\",INDEX(OIQraw,ROW(),Setup!$C$5+COLUMN()-26),\"x\")","v":"x"},{"$f":"IF($E39=\"Y\",INDEX(OIQraw,ROW(),Setup!$C$5+COLUMN()-26),\"x\")","v":"x"},{"$f":"IF($E39=\"Y\",INDEX(OIQraw,ROW(),Setup!$C$5+COLUMN()-26),\"x\")","v":"x"},{"$f":"IF($E39=\"Y\",INDEX(OIQraw,ROW(),Setup!$C$5+COLUMN()-26),\"x\")","v":"x"},{"$f":"IF($E39=\"Y\",INDEX(OIQraw,ROW(),Setup!$C$5+COLUMN()-26),\"x\")","v":"x"},{"$f":"IF($E39=\"Y\",INDEX(OIQraw,ROW(),Setup!$C$5+COLUMN()-26),\"x\")","v":"x"},{"$f":"IF($E39=\"Y\",INDEX(OIQraw,ROW(),Setup!$C$5+COLUMN()-26),\"x\")","v":"x"},{"$f":"IF($E39=\"Y\",INDEX(OIQraw,ROW(),Setup!$C$5+COLUMN()-26),\"x\")","v":"x"},{"$f":"IF($E39=\"Y\",INDEX(OIQraw,ROW(),Setup!$C$5+COLUMN()-26),\"x\")","v":"x"},{"$f":"IF($E39=\"Y\",INDEX(OIQraw,ROW(),Setup!$C$5+COLUMN()-26),\"x\")","v":"x"},{"$f":"IF($E39=\"Y\",INDEX(OIQraw,ROW(),Setup!$C$5+COLUMN()-26),\"x\")","v":"x"},{"$f":"IF($E39=\"Y\",INDEX(OIQraw,ROW(),Setup!$C$5+COLUMN()-26),\"x\")","v":"x"},{"$f":"IF($E39=\"Y\",INDEX(OIQraw,ROW(),Setup!$C$5+COLUMN()-26),\"x\")","v":"x"},{"$f":"IF($E39=\"Y\",INDEX(OIQraw,ROW(),Setup!$C$5+COLUMN()-26),\"x\")","v":"x"},{"$f":"IF($E39=\"Y\",INDEX(OIQraw,ROW(),Setup!$C$5+COLUMN()-26),\"x\")","v":"x"},{"$f":"IF($E39=\"Y\",INDEX(OIQraw,ROW(),Setup!$C$5+COLUMN()-26),\"x\")","v":"x"},{"$f":"IF($E39=\"Y\",INDEX(OIQraw,ROW(),Setup!$C$5+COLUMN()-26),\"x\")","v":"x"},{"$f":"IF($E39=\"Y\",INDEX(OIQraw,ROW(),Setup!$C$5+COLUMN()-26),\"x\")","v":"x"},{"$f":"IF($E39=\"Y\",INDEX(OIQraw,ROW(),Setup!$C$5+COLUMN()-26),\"x\")","v":"x"},{"$f":"IF($E39=\"Y\",INDEX(OIQraw,ROW(),Setup!$C$5+COLUMN()-26),\"x\")","v":"x"},{"$f":"IF($E39=\"Y\",INDEX(OIQraw,ROW(),Setup!$C$5+COLUMN()-26),\"x\")","v":"x"},{"$f":"IF($E39=\"Y\",INDEX(OIQraw,ROW(),Setup!$C$5+COLUMN()-26),\"x\")","v":"x"},{"$f":"IF($E39=\"Y\",INDEX(OIQraw,ROW(),Setup!$C$5+COLUMN()-26),\"x\")","v":"x"},{"$f":"IF($E39=\"Y\",INDEX(OIQraw,ROW(),Setup!$C$5+COLUMN()-26),\"x\")","v":"x"},{"$f":"IF($E39=\"Y\",INDEX(OIQraw,ROW(),Setup!$C$5+COLUMN()-26),\"x\")","v":"x"},{"$f":"IF($E39=\"Y\",INDEX(OIQraw,ROW(),Setup!$C$5+COLUMN()-26),\"x\")","v":"x"},{"$f":"IF($E39=\"Y\",INDEX(OIQraw,ROW(),Setup!$C$5+COLUMN()-26),\"x\")","v":"x"},{"$f":"IF($E39=\"Y\",INDEX(OIQraw,ROW(),Setup!$C$5+COLUMN()-26),\"x\")","v":"x"},{"$f":"IF($E39=\"Y\",INDEX(OIQraw,ROW(),Setup!$C$5+COLUMN()-26),\"x\")","v":"x"},{"$f":"IF($E39=\"Y\",INDEX(OIQraw,ROW(),Setup!$C$5+COLUMN()-26),\"x\")","v":"x"},{"$f":"IF($E39=\"Y\",INDEX(OIQraw,ROW(),Setup!$C$5+COLUMN()-26),\"x\")","v":"x"},{"$f":"IF($E39=\"Y\",INDEX(OIQraw,ROW(),Setup!$C$5+COLUMN()-26),\"x\")","v":"x"},{"$f":"IF($E39=\"Y\",INDEX(OIQraw,ROW(),Setup!$C$5+COLUMN()-26),\"x\")","v":"x"},{"$f":"IF($E39=\"Y\",INDEX(OIQraw,ROW(),Setup!$C$5+COLUMN()-26),\"x\")","v":"x"},{"$f":"IF($E39=\"Y\",INDEX(OIQraw,ROW(),Setup!$C$5+COLUMN()-26),\"x\")","v":"x"},{"$f":"IF($E39=\"Y\",INDEX(OIQraw,ROW(),Setup!$C$5+COLUMN()-26),\"x\")","v":"x"},{"$f":"IF($E39=\"Y\",INDEX(OIQraw,ROW(),Setup!$C$5+COLUMN()-26),\"x\")","v":"x"}]
[1,"","",{"$f":"IF(ISERROR(FIND(\"Withdrew\",RawScores!B44)),RawScores!B44,RIGHT(RawScores!B44,LEN(RawScores!B44)-17))&\", \"&RawScores!C44","v":", "},{"$f":"IF(OR(ISERROR(FIND(\"Withdrew\",RawScores!B44))=FALSE,INDEX(OIQraw,ROW(),LastInputCol-3)=0),\"N\",IF(AND(Setup!$B$22=\"Yes\",INDEX(OIQraw,ROW(),LastInputCol)=1),\"N\",\"Y\"))","v":"N"},"X","X","X",{"$f":"IF(AND(ISNUMBER(F40),F40>Setup!$B$14-1),1,0)","v":0},{"$f":"IF(AND(F40>Setup!$B$14-1,Conv!H40<5),1,0)","v":0},{"$f":"IF(AND(F40>Setup!$B$14-1,Conv!G40=\"F\"),1,0)","v":0},"","","","","","","","","","","","","X","X",{"$f":"IF($E40=\"Y\",INDEX(OIQraw,ROW(),Setup!$C$5+COLUMN()-26),\"x\")","v":"x"},{"$f":"IF($E40=\"Y\",INDEX(OIQraw,ROW(),Setup!$C$5+COLUMN()-26),\"x\")","v":"x"},{"$f":"IF($E40=\"Y\",INDEX(OIQraw,ROW(),Setup!$C$5+COLUMN()-26),\"x\")","v":"x"},{"$f":"IF($E40=\"Y\",INDEX(OIQraw,ROW(),Setup!$C$5+COLUMN()-26),\"x\")","v":"x"},{"$f":"IF($E40=\"Y\",INDEX(OIQraw,ROW(),Setup!$C$5+COLUMN()-26),\"x\")","v":"x"},{"$f":"IF($E40=\"Y\",INDEX(OIQraw,ROW(),Setup!$C$5+COLUMN()-26),\"x\")","v":"x"},{"$f":"IF($E40=\"Y\",INDEX(OIQraw,ROW(),Setup!$C$5+COLUMN()-26),\"x\")","v":"x"},{"$f":"IF($E40=\"Y\",INDEX(OIQraw,ROW(),Setup!$C$5+COLUMN()-26),\"x\")","v":"x"},{"$f":"IF($E40=\"Y\",INDEX(OIQraw,ROW(),Setup!$C$5+COLUMN()-26),\"x\")","v":"x"},{"$f":"IF($E40=\"Y\",INDEX(OIQraw,ROW(),Setup!$C$5+COLUMN()-26),\"x\")","v":"x"},{"$f":"IF($E40=\"Y\",INDEX(OIQraw,ROW(),Setup!$C$5+COLUMN()-26),\"x\")","v":"x"},{"$f":"IF($E40=\"Y\",INDEX(OIQraw,ROW(),Setup!$C$5+COLUMN()-26),\"x\")","v":"x"},{"$f":"IF($E40=\"Y\",INDEX(OIQraw,ROW(),Setup!$C$5+COLUMN()-26),\"x\")","v":"x"},{"$f":"IF($E40=\"Y\",INDEX(OIQraw,ROW(),Setup!$C$5+COLUMN()-26),\"x\")","v":"x"},{"$f":"IF($E40=\"Y\",INDEX(OIQraw,ROW(),Setup!$C$5+COLUMN()-26),\"x\")","v":"x"},{"$f":"IF($E40=\"Y\",INDEX(OIQraw,ROW(),Setup!$C$5+COLUMN()-26),\"x\")","v":"x"},{"$f":"IF($E40=\"Y\",INDEX(OIQraw,ROW(),Setup!$C$5+COLUMN()-26),\"x\")","v":"x"},{"$f":"IF($E40=\"Y\",INDEX(OIQraw,ROW(),Setup!$C$5+COLUMN()-26),\"x\")","v":"x"},{"$f":"IF($E40=\"Y\",INDEX(OIQraw,ROW(),Setup!$C$5+COLUMN()-26),\"x\")","v":"x"},{"$f":"IF($E40=\"Y\",INDEX(OIQraw,ROW(),Setup!$C$5+COLUMN()-26),\"x\")","v":"x"},{"$f":"IF($E40=\"Y\",INDEX(OIQraw,ROW(),Setup!$C$5+COLUMN()-26),\"x\")","v":"x"},{"$f":"IF($E40=\"Y\",INDEX(OIQraw,ROW(),Setup!$C$5+COLUMN()-26),\"x\")","v":"x"},{"$f":"IF($E40=\"Y\",INDEX(OIQraw,ROW(),Setup!$C$5+COLUMN()-26),\"x\")","v":"x"},{"$f":"IF($E40=\"Y\",INDEX(OIQraw,ROW(),Setup!$C$5+COLUMN()-26),\"x\")","v":"x"},{"$f":"IF($E40=\"Y\",INDEX(OIQraw,ROW(),Setup!$C$5+COLUMN()-26),\"x\")","v":"x"},{"$f":"IF($E40=\"Y\",INDEX(OIQraw,ROW(),Setup!$C$5+COLUMN()-26),\"x\")","v":"x"},{"$f":"IF($E40=\"Y\",INDEX(OIQraw,ROW(),Setup!$C$5+COLUMN()-26),\"x\")","v":"x"},{"$f":"IF($E40=\"Y\",INDEX(OIQraw,ROW(),Setup!$C$5+COLUMN()-26),\"x\")","v":"x"},{"$f":"IF($E40=\"Y\",INDEX(OIQraw,ROW(),Setup!$C$5+COLUMN()-26),\"x\")","v":"x"},{"$f":"IF($E40=\"Y\",INDEX(OIQraw,ROW(),Setup!$C$5+COLUMN()-26),\"x\")","v":"x"},{"$f":"IF($E40=\"Y\",INDEX(OIQraw,ROW(),Setup!$C$5+COLUMN()-26),\"x\")","v":"x"},{"$f":"IF($E40=\"Y\",INDEX(OIQraw,ROW(),Setup!$C$5+COLUMN()-26),\"x\")","v":"x"},{"$f":"IF($E40=\"Y\",INDEX(OIQraw,ROW(),Setup!$C$5+COLUMN()-26),\"x\")","v":"x"},{"$f":"IF($E40=\"Y\",INDEX(OIQraw,ROW(),Setup!$C$5+COLUMN()-26),\"x\")","v":"x"},{"$f":"IF($E40=\"Y\",INDEX(OIQraw,ROW(),Setup!$C$5+COLUMN()-26),\"x\")","v":"x"},{"$f":"IF($E40=\"Y\",INDEX(OIQraw,ROW(),Setup!$C$5+COLUMN()-26),\"x\")","v":"x"},{"$f":"IF($E40=\"Y\",INDEX(OIQraw,ROW(),Setup!$C$5+COLUMN()-26),\"x\")","v":"x"},{"$f":"IF($E40=\"Y\",INDEX(OIQraw,ROW(),Setup!$C$5+COLUMN()-26),\"x\")","v":"x"},{"$f":"IF($E40=\"Y\",INDEX(OIQraw,ROW(),Setup!$C$5+COLUMN()-26),\"x\")","v":"x"},{"$f":"IF($E40=\"Y\",INDEX(OIQraw,ROW(),Setup!$C$5+COLUMN()-26),\"x\")","v":"x"},{"$f":"IF($E40=\"Y\",INDEX(OIQraw,ROW(),Setup!$C$5+COLUMN()-26),\"x\")","v":"x"},{"$f":"IF($E40=\"Y\",INDEX(OIQraw,ROW(),Setup!$C$5+COLUMN()-26),\"x\")","v":"x"},{"$f":"IF($E40=\"Y\",INDEX(OIQraw,ROW(),Setup!$C$5+COLUMN()-26),\"x\")","v":"x"},{"$f":"IF($E40=\"Y\",INDEX(OIQraw,ROW(),Setup!$C$5+COLUMN()-26),\"x\")","v":"x"},{"$f":"IF($E40=\"Y\",INDEX(OIQraw,ROW(),Setup!$C$5+COLUMN()-26),\"x\")","v":"x"},{"$f":"IF($E40=\"Y\",INDEX(OIQraw,ROW(),Setup!$C$5+COLUMN()-26),\"x\")","v":"x"},{"$f":"IF($E40=\"Y\",INDEX(OIQraw,ROW(),Setup!$C$5+COLUMN()-26),\"x\")","v":"x"},{"$f":"IF($E40=\"Y\",INDEX(OIQraw,ROW(),Setup!$C$5+COLUMN()-26),\"x\")","v":"x"},{"$f":"IF($E40=\"Y\",INDEX(OIQraw,ROW(),Setup!$C$5+COLUMN()-26),\"x\")","v":"x"},{"$f":"IF($E40=\"Y\",INDEX(OIQraw,ROW(),Setup!$C$5+COLUMN()-26),\"x\")","v":"x"},{"$f":"IF($E40=\"Y\",INDEX(OIQraw,ROW(),Setup!$C$5+COLUMN()-26),\"x\")","v":"x"},{"$f":"IF($E40=\"Y\",INDEX(OIQraw,ROW(),Setup!$C$5+COLUMN()-26),\"x\")","v":"x"},{"$f":"IF($E40=\"Y\",INDEX(OIQraw,ROW(),Setup!$C$5+COLUMN()-26),\"x\")","v":"x"},{"$f":"IF($E40=\"Y\",INDEX(OIQraw,ROW(),Setup!$C$5+COLUMN()-26),\"x\")","v":"x"},{"$f":"IF($E40=\"Y\",INDEX(OIQraw,ROW(),Setup!$C$5+COLUMN()-26),\"x\")","v":"x"},{"$f":"IF($E40=\"Y\",INDEX(OIQraw,ROW(),Setup!$C$5+COLUMN()-26),\"x\")","v":"x"},{"$f":"IF($E40=\"Y\",INDEX(OIQraw,ROW(),Setup!$C$5+COLUMN()-26),\"x\")","v":"x"},{"$f":"IF($E40=\"Y\",INDEX(OIQraw,ROW(),Setup!$C$5+COLUMN()-26),\"x\")","v":"x"},{"$f":"IF($E40=\"Y\",INDEX(OIQraw,ROW(),Setup!$C$5+COLUMN()-26),\"x\")","v":"x"},{"$f":"IF($E40=\"Y\",INDEX(OIQraw,ROW(),Setup!$C$5+COLUMN()-26),\"x\")","v":"x"},{"$f":"IF($E40=\"Y\",INDEX(OIQraw,ROW(),Setup!$C$5+COLUMN()-26),\"x\")","v":"x"},{"$f":"IF($E40=\"Y\",INDEX(OIQraw,ROW(),Setup!$C$5+COLUMN()-26),\"x\")","v":"x"},{"$f":"IF($E40=\"Y\",INDEX(OIQraw,ROW(),Setup!$C$5+COLUMN()-26),\"x\")","v":"x"},{"$f":"IF($E40=\"Y\",INDEX(OIQraw,ROW(),Setup!$C$5+COLUMN()-26),\"x\")","v":"x"},{"$f":"IF($E40=\"Y\",INDEX(OIQraw,ROW(),Setup!$C$5+COLUMN()-26),\"x\")","v":"x"},{"$f":"IF($E40=\"Y\",INDEX(OIQraw,ROW(),Setup!$C$5+COLUMN()-26),\"x\")","v":"x"},{"$f":"IF($E40=\"Y\",INDEX(OIQraw,ROW(),Setup!$C$5+COLUMN()-26),\"x\")","v":"x"},{"$f":"IF($E40=\"Y\",INDEX(OIQraw,ROW(),Setup!$C$5+COLUMN()-26),\"x\")","v":"x"},{"$f":"IF($E40=\"Y\",INDEX(OIQraw,ROW(),Setup!$C$5+COLUMN()-26),\"x\")","v":"x"},{"$f":"IF($E40=\"Y\",INDEX(OIQraw,ROW(),Setup!$C$5+COLUMN()-26),\"x\")","v":"x"},{"$f":"IF($E40=\"Y\",INDEX(OIQraw,ROW(),Setup!$C$5+COLUMN()-26),\"x\")","v":"x"},{"$f":"IF($E40=\"Y\",INDEX(OIQraw,ROW(),Setup!$C$5+COLUMN()-26),\"x\")","v":"x"},{"$f":"IF($E40=\"Y\",INDEX(OIQraw,ROW(),Setup!$C$5+COLUMN()-26),\"x\")","v":"x"},{"$f":"IF($E40=\"Y\",INDEX(OIQraw,ROW(),Setup!$C$5+COLUMN()-26),\"x\")","v":"x"},{"$f":"IF($E40=\"Y\",INDEX(OIQraw,ROW(),Setup!$C$5+COLUMN()-26),\"x\")","v":"x"},{"$f":"IF($E40=\"Y\",INDEX(OIQraw,ROW(),Setup!$C$5+COLUMN()-26),\"x\")","v":"x"},{"$f":"IF($E40=\"Y\",INDEX(OIQraw,ROW(),Setup!$C$5+COLUMN()-26),\"x\")","v":"x"},{"$f":"IF($E40=\"Y\",INDEX(OIQraw,ROW(),Setup!$C$5+COLUMN()-26),\"x\")","v":"x"},{"$f":"IF($E40=\"Y\",INDEX(OIQraw,ROW(),Setup!$C$5+COLUMN()-26),\"x\")","v":"x"},{"$f":"IF($E40=\"Y\",INDEX(OIQraw,ROW(),Setup!$C$5+COLUMN()-26),\"x\")","v":"x"},{"$f":"IF($E40=\"Y\",INDEX(OIQraw,ROW(),Setup!$C$5+COLUMN()-26),\"x\")","v":"x"},{"$f":"IF($E40=\"Y\",INDEX(OIQraw,ROW(),Setup!$C$5+COLUMN()-26),\"x\")","v":"x"},{"$f":"IF($E40=\"Y\",INDEX(OIQraw,ROW(),Setup!$C$5+COLUMN()-26),\"x\")","v":"x"},{"$f":"IF($E40=\"Y\",INDEX(OIQraw,ROW(),Setup!$C$5+COLUMN()-26),\"x\")","v":"x"},{"$f":"IF($E40=\"Y\",INDEX(OIQraw,ROW(),Setup!$C$5+COLUMN()-26),\"x\")","v":"x"},{"$f":"IF($E40=\"Y\",INDEX(OIQraw,ROW(),Setup!$C$5+COLUMN()-26),\"x\")","v":"x"},{"$f":"IF($E40=\"Y\",INDEX(OIQraw,ROW(),Setup!$C$5+COLUMN()-26),\"x\")","v":"x"},{"$f":"IF($E40=\"Y\",INDEX(OIQraw,ROW(),Setup!$C$5+COLUMN()-26),\"x\")","v":"x"},{"$f":"IF($E40=\"Y\",INDEX(OIQraw,ROW(),Setup!$C$5+COLUMN()-26),\"x\")","v":"x"},{"$f":"IF($E40=\"Y\",INDEX(OIQraw,ROW(),Setup!$C$5+COLUMN()-26),\"x\")","v":"x"},{"$f":"IF($E40=\"Y\",INDEX(OIQraw,ROW(),Setup!$C$5+COLUMN()-26),\"x\")","v":"x"},{"$f":"IF($E40=\"Y\",INDEX(OIQraw,ROW(),Setup!$C$5+COLUMN()-26),\"x\")","v":"x"},{"$f":"IF($E40=\"Y\",INDEX(OIQraw,ROW(),Setup!$C$5+COLUMN()-26),\"x\")","v":"x"},{"$f":"IF($E40=\"Y\",INDEX(OIQraw,ROW(),Setup!$C$5+COLUMN()-26),\"x\")","v":"x"},{"$f":"IF($E40=\"Y\",INDEX(OIQraw,ROW(),Setup!$C$5+COLUMN()-26),\"x\")","v":"x"},{"$f":"IF($E40=\"Y\",INDEX(OIQraw,ROW(),Setup!$C$5+COLUMN()-26),\"x\")","v":"x"},{"$f":"IF($E40=\"Y\",INDEX(OIQraw,ROW(),Setup!$C$5+COLUMN()-26),\"x\")","v":"x"},{"$f":"IF($E40=\"Y\",INDEX(OIQraw,ROW(),Setup!$C$5+COLUMN()-26),\"x\")","v":"x"},{"$f":"IF($E40=\"Y\",INDEX(OIQraw,ROW(),Setup!$C$5+COLUMN()-26),\"x\")","v":"x"},{"$f":"IF($E40=\"Y\",INDEX(OIQraw,ROW(),Setup!$C$5+COLUMN()-26),\"x\")","v":"x"},{"$f":"IF($E40=\"Y\",INDEX(OIQraw,ROW(),Setup!$C$5+COLUMN()-26),\"x\")","v":"x"},{"$f":"IF($E40=\"Y\",INDEX(OIQraw,ROW(),Setup!$C$5+COLUMN()-26),\"x\")","v":"x"},{"$f":"IF($E40=\"Y\",INDEX(OIQraw,ROW(),Setup!$C$5+COLUMN()-26),\"x\")","v":"x"},{"$f":"IF($E40=\"Y\",INDEX(OIQraw,ROW(),Setup!$C$5+COLUMN()-26),\"x\")","v":"x"},{"$f":"IF($E40=\"Y\",INDEX(OIQraw,ROW(),Setup!$C$5+COLUMN()-26),\"x\")","v":"x"},{"$f":"IF($E40=\"Y\",INDEX(OIQraw,ROW(),Setup!$C$5+COLUMN()-26),\"x\")","v":"x"},{"$f":"IF($E40=\"Y\",INDEX(OIQraw,ROW(),Setup!$C$5+COLUMN()-26),\"x\")","v":"x"},{"$f":"IF($E40=\"Y\",INDEX(OIQraw,ROW(),Setup!$C$5+COLUMN()-26),\"x\")","v":"x"},{"$f":"IF($E40=\"Y\",INDEX(OIQraw,ROW(),Setup!$C$5+COLUMN()-26),\"x\")","v":"x"},{"$f":"IF($E40=\"Y\",INDEX(OIQraw,ROW(),Setup!$C$5+COLUMN()-26),\"x\")","v":"x"},{"$f":"IF($E40=\"Y\",INDEX(OIQraw,ROW(),Setup!$C$5+COLUMN()-26),\"x\")","v":"x"},{"$f":"IF($E40=\"Y\",INDEX(OIQraw,ROW(),Setup!$C$5+COLUMN()-26),\"x\")","v":"x"},{"$f":"IF($E40=\"Y\",INDEX(OIQraw,ROW(),Setup!$C$5+COLUMN()-26),\"x\")","v":"x"},{"$f":"IF($E40=\"Y\",INDEX(OIQraw,ROW(),Setup!$C$5+COLUMN()-26),\"x\")","v":"x"},{"$f":"IF($E40=\"Y\",INDEX(OIQraw,ROW(),Setup!$C$5+COLUMN()-26),\"x\")","v":"x"},{"$f":"IF($E40=\"Y\",INDEX(OIQraw,ROW(),Setup!$C$5+COLUMN()-26),\"x\")","v":"x"},{"$f":"IF($E40=\"Y\",INDEX(OIQraw,ROW(),Setup!$C$5+COLUMN()-26),\"x\")","v":"x"},{"$f":"IF($E40=\"Y\",INDEX(OIQraw,ROW(),Setup!$C$5+COLUMN()-26),\"x\")","v":"x"},{"$f":"IF($E40=\"Y\",INDEX(OIQraw,ROW(),Setup!$C$5+COLUMN()-26),\"x\")","v":"x"},{"$f":"IF($E40=\"Y\",INDEX(OIQraw,ROW(),Setup!$C$5+COLUMN()-26),\"x\")","v":"x"},{"$f":"IF($E40=\"Y\",INDEX(OIQraw,ROW(),Setup!$C$5+COLUMN()-26),\"x\")","v":"x"},{"$f":"IF($E40=\"Y\",INDEX(OIQraw,ROW(),Setup!$C$5+COLUMN()-26),\"x\")","v":"x"},{"$f":"IF($E40=\"Y\",INDEX(OIQraw,ROW(),Setup!$C$5+COLUMN()-26),\"x\")","v":"x"},{"$f":"IF($E40=\"Y\",INDEX(OIQraw,ROW(),Setup!$C$5+COLUMN()-26),\"x\")","v":"x"},{"$f":"IF($E40=\"Y\",INDEX(OIQraw,ROW(),Setup!$C$5+COLUMN()-26),\"x\")","v":"x"},{"$f":"IF($E40=\"Y\",INDEX(OIQraw,ROW(),Setup!$C$5+COLUMN()-26),\"x\")","v":"x"},{"$f":"IF($E40=\"Y\",INDEX(OIQraw,ROW(),Setup!$C$5+COLUMN()-26),\"x\")","v":"x"},{"$f":"IF($E40=\"Y\",INDEX(OIQraw,ROW(),Setup!$C$5+COLUMN()-26),\"x\")","v":"x"},{"$f":"IF($E40=\"Y\",INDEX(OIQraw,ROW(),Setup!$C$5+COLUMN()-26),\"x\")","v":"x"},{"$f":"IF($E40=\"Y\",INDEX(OIQraw,ROW(),Setup!$C$5+COLUMN()-26),\"x\")","v":"x"},{"$f":"IF($E40=\"Y\",INDEX(OIQraw,ROW(),Setup!$C$5+COLUMN()-26),\"x\")","v":"x"},{"$f":"IF($E40=\"Y\",INDEX(OIQraw,ROW(),Setup!$C$5+COLUMN()-26),\"x\")","v":"x"},{"$f":"IF($E40=\"Y\",INDEX(OIQraw,ROW(),Setup!$C$5+COLUMN()-26),\"x\")","v":"x"},{"$f":"IF($E40=\"Y\",INDEX(OIQraw,ROW(),Setup!$C$5+COLUMN()-26),\"x\")","v":"x"},{"$f":"IF($E40=\"Y\",INDEX(OIQraw,ROW(),Setup!$C$5+COLUMN()-26),\"x\")","v":"x"},{"$f":"IF($E40=\"Y\",INDEX(OIQraw,ROW(),Setup!$C$5+COLUMN()-26),\"x\")","v":"x"},{"$f":"IF($E40=\"Y\",INDEX(OIQraw,ROW(),Setup!$C$5+COLUMN()-26),\"x\")","v":"x"},{"$f":"IF($E40=\"Y\",INDEX(OIQraw,ROW(),Setup!$C$5+COLUMN()-26),\"x\")","v":"x"},{"$f":"IF($E40=\"Y\",INDEX(OIQraw,ROW(),Setup!$C$5+COLUMN()-26),\"x\")","v":"x"},{"$f":"IF($E40=\"Y\",INDEX(OIQraw,ROW(),Setup!$C$5+COLUMN()-26),\"x\")","v":"x"},{"$f":"IF($E40=\"Y\",INDEX(OIQraw,ROW(),Setup!$C$5+COLUMN()-26),\"x\")","v":"x"},{"$f":"IF($E40=\"Y\",INDEX(OIQraw,ROW(),Setup!$C$5+COLUMN()-26),\"x\")","v":"x"},{"$f":"IF($E40=\"Y\",INDEX(OIQraw,ROW(),Setup!$C$5+COLUMN()-26),\"x\")","v":"x"},{"$f":"IF($E40=\"Y\",INDEX(OIQraw,ROW(),Setup!$C$5+COLUMN()-26),\"x\")","v":"x"},{"$f":"IF($E40=\"Y\",INDEX(OIQraw,ROW(),Setup!$C$5+COLUMN()-26),\"x\")","v":"x"},{"$f":"IF($E40=\"Y\",INDEX(OIQraw,ROW(),Setup!$C$5+COLUMN()-26),\"x\")","v":"x"},{"$f":"IF($E40=\"Y\",INDEX(OIQraw,ROW(),Setup!$C$5+COLUMN()-26),\"x\")","v":"x"},{"$f":"IF($E40=\"Y\",INDEX(OIQraw,ROW(),Setup!$C$5+COLUMN()-26),\"x\")","v":"x"},{"$f":"IF($E40=\"Y\",INDEX(OIQraw,ROW(),Setup!$C$5+COLUMN()-26),\"x\")","v":"x"},{"$f":"IF($E40=\"Y\",INDEX(OIQraw,ROW(),Setup!$C$5+COLUMN()-26),\"x\")","v":"x"},{"$f":"IF($E40=\"Y\",INDEX(OIQraw,ROW(),Setup!$C$5+COLUMN()-26),\"x\")","v":"x"},{"$f":"IF($E40=\"Y\",INDEX(OIQraw,ROW(),Setup!$C$5+COLUMN()-26),\"x\")","v":"x"},{"$f":"IF($E40=\"Y\",INDEX(OIQraw,ROW(),Setup!$C$5+COLUMN()-26),\"x\")","v":"x"},{"$f":"IF($E40=\"Y\",INDEX(OIQraw,ROW(),Setup!$C$5+COLUMN()-26),\"x\")","v":"x"},{"$f":"IF($E40=\"Y\",INDEX(OIQraw,ROW(),Setup!$C$5+COLUMN()-26),\"x\")","v":"x"},{"$f":"IF($E40=\"Y\",INDEX(OIQraw,ROW(),Setup!$C$5+COLUMN()-26),\"x\")","v":"x"},{"$f":"IF($E40=\"Y\",INDEX(OIQraw,ROW(),Setup!$C$5+COLUMN()-26),\"x\")","v":"x"},{"$f":"IF($E40=\"Y\",INDEX(OIQraw,ROW(),Setup!$C$5+COLUMN()-26),\"x\")","v":"x"},{"$f":"IF($E40=\"Y\",INDEX(OIQraw,ROW(),Setup!$C$5+COLUMN()-26),\"x\")","v":"x"},{"$f":"IF($E40=\"Y\",INDEX(OIQraw,ROW(),Setup!$C$5+COLUMN()-26),\"x\")","v":"x"},{"$f":"IF($E40=\"Y\",INDEX(OIQraw,ROW(),Setup!$C$5+COLUMN()-26),\"x\")","v":"x"},{"$f":"IF($E40=\"Y\",INDEX(OIQraw,ROW(),Setup!$C$5+COLUMN()-26),\"x\")","v":"x"},{"$f":"IF($E40=\"Y\",INDEX(OIQraw,ROW(),Setup!$C$5+COLUMN()-26),\"x\")","v":"x"},{"$f":"IF($E40=\"Y\",INDEX(OIQraw,ROW(),Setup!$C$5+COLUMN()-26),\"x\")","v":"x"},{"$f":"IF($E40=\"Y\",INDEX(OIQraw,ROW(),Setup!$C$5+COLUMN()-26),\"x\")","v":"x"},{"$f":"IF($E40=\"Y\",INDEX(OIQraw,ROW(),Setup!$C$5+COLUMN()-26),\"x\")","v":"x"},{"$f":"IF($E40=\"Y\",INDEX(OIQraw,ROW(),Setup!$C$5+COLUMN()-26),\"x\")","v":"x"},{"$f":"IF($E40=\"Y\",INDEX(OIQraw,ROW(),Setup!$C$5+COLUMN()-26),\"x\")","v":"x"},{"$f":"IF($E40=\"Y\",INDEX(OIQraw,ROW(),Setup!$C$5+COLUMN()-26),\"x\")","v":"x"},{"$f":"IF($E40=\"Y\",INDEX(OIQraw,ROW(),Setup!$C$5+COLUMN()-26),\"x\")","v":"x"},{"$f":"IF($E40=\"Y\",INDEX(OIQraw,ROW(),Setup!$C$5+COLUMN()-26),\"x\")","v":"x"},{"$f":"IF($E40=\"Y\",INDEX(OIQraw,ROW(),Setup!$C$5+COLUMN()-26),\"x\")","v":"x"},{"$f":"IF($E40=\"Y\",INDEX(OIQraw,ROW(),Setup!$C$5+COLUMN()-26),\"x\")","v":"x"},{"$f":"IF($E40=\"Y\",INDEX(OIQraw,ROW(),Setup!$C$5+COLUMN()-26),\"x\")","v":"x"},{"$f":"IF($E40=\"Y\",INDEX(OIQraw,ROW(),Setup!$C$5+COLUMN()-26),\"x\")","v":"x"},{"$f":"IF($E40=\"Y\",INDEX(OIQraw,ROW(),Setup!$C$5+COLUMN()-26),\"x\")","v":"x"},{"$f":"IF($E40=\"Y\",INDEX(OIQraw,ROW(),Setup!$C$5+COLUMN()-26),\"x\")","v":"x"},{"$f":"IF($E40=\"Y\",INDEX(OIQraw,ROW(),Setup!$C$5+COLUMN()-26),\"x\")","v":"x"},{"$f":"IF($E40=\"Y\",INDEX(OIQraw,ROW(),Setup!$C$5+COLUMN()-26),\"x\")","v":"x"},{"$f":"IF($E40=\"Y\",INDEX(OIQraw,ROW(),Setup!$C$5+COLUMN()-26),\"x\")","v":"x"},{"$f":"IF($E40=\"Y\",INDEX(OIQraw,ROW(),Setup!$C$5+COLUMN()-26),\"x\")","v":"x"},{"$f":"IF($E40=\"Y\",INDEX(OIQraw,ROW(),Setup!$C$5+COLUMN()-26),\"x\")","v":"x"},{"$f":"IF($E40=\"Y\",INDEX(OIQraw,ROW(),Setup!$C$5+COLUMN()-26),\"x\")","v":"x"},{"$f":"IF($E40=\"Y\",INDEX(OIQraw,ROW(),Setup!$C$5+COLUMN()-26),\"x\")","v":"x"},{"$f":"IF($E40=\"Y\",INDEX(OIQraw,ROW(),Setup!$C$5+COLUMN()-26),\"x\")","v":"x"},{"$f":"IF($E40=\"Y\",INDEX(OIQraw,ROW(),Setup!$C$5+COLUMN()-26),\"x\")","v":"x"},{"$f":"IF($E40=\"Y\",INDEX(OIQraw,ROW(),Setup!$C$5+COLUMN()-26),\"x\")","v":"x"},{"$f":"IF($E40=\"Y\",INDEX(OIQraw,ROW(),Setup!$C$5+COLUMN()-26),\"x\")","v":"x"},{"$f":"IF($E40=\"Y\",INDEX(OIQraw,ROW(),Setup!$C$5+COLUMN()-26),\"x\")","v":"x"},{"$f":"IF($E40=\"Y\",INDEX(OIQraw,ROW(),Setup!$C$5+COLUMN()-26),\"x\")","v":"x"},{"$f":"IF($E40=\"Y\",INDEX(OIQraw,ROW(),Setup!$C$5+COLUMN()-26),\"x\")","v":"x"},{"$f":"IF($E40=\"Y\",INDEX(OIQraw,ROW(),Setup!$C$5+COLUMN()-26),\"x\")","v":"x"},{"$f":"IF($E40=\"Y\",INDEX(OIQraw,ROW(),Setup!$C$5+COLUMN()-26),\"x\")","v":"x"},{"$f":"IF($E40=\"Y\",INDEX(OIQraw,ROW(),Setup!$C$5+COLUMN()-26),\"x\")","v":"x"},{"$f":"IF($E40=\"Y\",INDEX(OIQraw,ROW(),Setup!$C$5+COLUMN()-26),\"x\")","v":"x"},{"$f":"IF($E40=\"Y\",INDEX(OIQraw,ROW(),Setup!$C$5+COLUMN()-26),\"x\")","v":"x"},{"$f":"IF($E40=\"Y\",INDEX(OIQraw,ROW(),Setup!$C$5+COLUMN()-26),\"x\")","v":"x"},{"$f":"IF($E40=\"Y\",INDEX(OIQraw,ROW(),Setup!$C$5+COLUMN()-26),\"x\")","v":"x"},{"$f":"IF($E40=\"Y\",INDEX(OIQraw,ROW(),Setup!$C$5+COLUMN()-26),\"x\")","v":"x"},{"$f":"IF($E40=\"Y\",INDEX(OIQraw,ROW(),Setup!$C$5+COLUMN()-26),\"x\")","v":"x"},{"$f":"IF($E40=\"Y\",INDEX(OIQraw,ROW(),Setup!$C$5+COLUMN()-26),\"x\")","v":"x"},{"$f":"IF($E40=\"Y\",INDEX(OIQraw,ROW(),Setup!$C$5+COLUMN()-26),\"x\")","v":"x"},{"$f":"IF($E40=\"Y\",INDEX(OIQraw,ROW(),Setup!$C$5+COLUMN()-26),\"x\")","v":"x"},{"$f":"IF($E40=\"Y\",INDEX(OIQraw,ROW(),Setup!$C$5+COLUMN()-26),\"x\")","v":"x"},{"$f":"IF($E40=\"Y\",INDEX(OIQraw,ROW(),Setup!$C$5+COLUMN()-26),\"x\")","v":"x"},{"$f":"IF($E40=\"Y\",INDEX(OIQraw,ROW(),Setup!$C$5+COLUMN()-26),\"x\")","v":"x"},{"$f":"IF($E40=\"Y\",INDEX(OIQraw,ROW(),Setup!$C$5+COLUMN()-26),\"x\")","v":"x"},{"$f":"IF($E40=\"Y\",INDEX(OIQraw,ROW(),Setup!$C$5+COLUMN()-26),\"x\")","v":"x"},{"$f":"IF($E40=\"Y\",INDEX(OIQraw,ROW(),Setup!$C$5+COLUMN()-26),\"x\")","v":"x"},{"$f":"IF($E40=\"Y\",INDEX(OIQraw,ROW(),Setup!$C$5+COLUMN()-26),\"x\")","v":"x"},{"$f":"IF($E40=\"Y\",INDEX(OIQraw,ROW(),Setup!$C$5+COLUMN()-26),\"x\")","v":"x"},{"$f":"IF($E40=\"Y\",INDEX(OIQraw,ROW(),Setup!$C$5+COLUMN()-26),\"x\")","v":"x"},{"$f":"IF($E40=\"Y\",INDEX(OIQraw,ROW(),Setup!$C$5+COLUMN()-26),\"x\")","v":"x"},{"$f":"IF($E40=\"Y\",INDEX(OIQraw,ROW(),Setup!$C$5+COLUMN()-26),\"x\")","v":"x"},{"$f":"IF($E40=\"Y\",INDEX(OIQraw,ROW(),Setup!$C$5+COLUMN()-26),\"x\")","v":"x"},{"$f":"IF($E40=\"Y\",INDEX(OIQraw,ROW(),Setup!$C$5+COLUMN()-26),\"x\")","v":"x"},{"$f":"IF($E40=\"Y\",INDEX(OIQraw,ROW(),Setup!$C$5+COLUMN()-26),\"x\")","v":"x"},{"$f":"IF($E40=\"Y\",INDEX(OIQraw,ROW(),Setup!$C$5+COLUMN()-26),\"x\")","v":"x"},{"$f":"IF($E40=\"Y\",INDEX(OIQraw,ROW(),Setup!$C$5+COLUMN()-26),\"x\")","v":"x"},{"$f":"IF($E40=\"Y\",INDEX(OIQraw,ROW(),Setup!$C$5+COLUMN()-26),\"x\")","v":"x"},{"$f":"IF($E40=\"Y\",INDEX(OIQraw,ROW(),Setup!$C$5+COLUMN()-26),\"x\")","v":"x"},{"$f":"IF($E40=\"Y\",INDEX(OIQraw,ROW(),Setup!$C$5+COLUMN()-26),\"x\")","v":"x"},{"$f":"IF($E40=\"Y\",INDEX(OIQraw,ROW(),Setup!$C$5+COLUMN()-26),\"x\")","v":"x"},{"$f":"IF($E40=\"Y\",INDEX(OIQraw,ROW(),Setup!$C$5+COLUMN()-26),\"x\")","v":"x"},{"$f":"IF($E40=\"Y\",INDEX(OIQraw,ROW(),Setup!$C$5+COLUMN()-26),\"x\")","v":"x"},{"$f":"IF($E40=\"Y\",INDEX(OIQraw,ROW(),Setup!$C$5+COLUMN()-26),\"x\")","v":"x"},{"$f":"IF($E40=\"Y\",INDEX(OIQraw,ROW(),Setup!$C$5+COLUMN()-26),\"x\")","v":"x"},{"$f":"IF($E40=\"Y\",INDEX(OIQraw,ROW(),Setup!$C$5+COLUMN()-26),\"x\")","v":"x"},{"$f":"IF($E40=\"Y\",INDEX(OIQraw,ROW(),Setup!$C$5+COLUMN()-26),\"x\")","v":"x"},{"$f":"IF($E40=\"Y\",INDEX(OIQraw,ROW(),Setup!$C$5+COLUMN()-26),\"x\")","v":"x"},{"$f":"IF($E40=\"Y\",INDEX(OIQraw,ROW(),Setup!$C$5+COLUMN()-26),\"x\")","v":"x"},{"$f":"IF($E40=\"Y\",INDEX(OIQraw,ROW(),Setup!$C$5+COLUMN()-26),\"x\")","v":"x"},{"$f":"IF($E40=\"Y\",INDEX(OIQraw,ROW(),Setup!$C$5+COLUMN()-26),\"x\")","v":"x"},{"$f":"IF($E40=\"Y\",INDEX(OIQraw,ROW(),Setup!$C$5+COLUMN()-26),\"x\")","v":"x"},{"$f":"IF($E40=\"Y\",INDEX(OIQraw,ROW(),Setup!$C$5+COLUMN()-26),\"x\")","v":"x"},{"$f":"IF($E40=\"Y\",INDEX(OIQraw,ROW(),Setup!$C$5+COLUMN()-26),\"x\")","v":"x"},{"$f":"IF($E40=\"Y\",INDEX(OIQraw,ROW(),Setup!$C$5+COLUMN()-26),\"x\")","v":"x"},{"$f":"IF($E40=\"Y\",INDEX(OIQraw,ROW(),Setup!$C$5+COLUMN()-26),\"x\")","v":"x"},{"$f":"IF($E40=\"Y\",INDEX(OIQraw,ROW(),Setup!$C$5+COLUMN()-26),\"x\")","v":"x"},{"$f":"IF($E40=\"Y\",INDEX(OIQraw,ROW(),Setup!$C$5+COLUMN()-26),\"x\")","v":"x"},{"$f":"IF($E40=\"Y\",INDEX(OIQraw,ROW(),Setup!$C$5+COLUMN()-26),\"x\")","v":"x"},{"$f":"IF($E40=\"Y\",INDEX(OIQraw,ROW(),Setup!$C$5+COLUMN()-26),\"x\")","v":"x"},{"$f":"IF($E40=\"Y\",INDEX(OIQraw,ROW(),Setup!$C$5+COLUMN()-26),\"x\")","v":"x"},{"$f":"IF($E40=\"Y\",INDEX(OIQraw,ROW(),Setup!$C$5+COLUMN()-26),\"x\")","v":"x"},{"$f":"IF($E40=\"Y\",INDEX(OIQraw,ROW(),Setup!$C$5+COLUMN()-26),\"x\")","v":"x"},{"$f":"IF($E40=\"Y\",INDEX(OIQraw,ROW(),Setup!$C$5+COLUMN()-26),\"x\")","v":"x"},{"$f":"IF($E40=\"Y\",INDEX(OIQraw,ROW(),Setup!$C$5+COLUMN()-26),\"x\")","v":"x"},{"$f":"IF($E40=\"Y\",INDEX(OIQraw,ROW(),Setup!$C$5+COLUMN()-26),\"x\")","v":"x"},{"$f":"IF($E40=\"Y\",INDEX(OIQraw,ROW(),Setup!$C$5+COLUMN()-26),\"x\")","v":"x"},{"$f":"IF($E40=\"Y\",INDEX(OIQraw,ROW(),Setup!$C$5+COLUMN()-26),\"x\")","v":"x"},{"$f":"IF($E40=\"Y\",INDEX(OIQraw,ROW(),Setup!$C$5+COLUMN()-26),\"x\")","v":"x"},{"$f":"IF($E40=\"Y\",INDEX(OIQraw,ROW(),Setup!$C$5+COLUMN()-26),\"x\")","v":"x"},{"$f":"IF($E40=\"Y\",INDEX(OIQraw,ROW(),Setup!$C$5+COLUMN()-26),\"x\")","v":"x"}]
[1,"","",{"$f":"IF(ISERROR(FIND(\"Withdrew\",RawScores!B45)),RawScores!B45,RIGHT(RawScores!B45,LEN(RawScores!B45)-17))&\", \"&RawScores!C45","v":", "},{"$f":"IF(OR(ISERROR(FIND(\"Withdrew\",RawScores!B45))=FALSE,INDEX(OIQraw,ROW(),LastInputCol-3)=0),\"N\",IF(AND(Setup!$B$22=\"Yes\",INDEX(OIQraw,ROW(),LastInputCol)=1),\"N\",\"Y\"))","v":"N"},"X","X","X",{"$f":"IF(AND(ISNUMBER(F41),F41>Setup!$B$14-1),1,0)","v":0},{"$f":"IF(AND(F41>Setup!$B$14-1,Conv!H41<5),1,0)","v":0},{"$f":"IF(AND(F41>Setup!$B$14-1,Conv!G41=\"F\"),1,0)","v":0},"","","","","","","","","","","","","X","X",{"$f":"IF($E41=\"Y\",INDEX(OIQraw,ROW(),Setup!$C$5+COLUMN()-26),\"x\")","v":"x"},{"$f":"IF($E41=\"Y\",INDEX(OIQraw,ROW(),Setup!$C$5+COLUMN()-26),\"x\")","v":"x"},{"$f":"IF($E41=\"Y\",INDEX(OIQraw,ROW(),Setup!$C$5+COLUMN()-26),\"x\")","v":"x"},{"$f":"IF($E41=\"Y\",INDEX(OIQraw,ROW(),Setup!$C$5+COLUMN()-26),\"x\")","v":"x"},{"$f":"IF($E41=\"Y\",INDEX(OIQraw,ROW(),Setup!$C$5+COLUMN()-26),\"x\")","v":"x"},{"$f":"IF($E41=\"Y\",INDEX(OIQraw,ROW(),Setup!$C$5+COLUMN()-26),\"x\")","v":"x"},{"$f":"IF($E41=\"Y\",INDEX(OIQraw,ROW(),Setup!$C$5+COLUMN()-26),\"x\")","v":"x"},{"$f":"IF($E41=\"Y\",INDEX(OIQraw,ROW(),Setup!$C$5+COLUMN()-26),\"x\")","v":"x"},{"$f":"IF($E41=\"Y\",INDEX(OIQraw,ROW(),Setup!$C$5+COLUMN()-26),\"x\")","v":"x"},{"$f":"IF($E41=\"Y\",INDEX(OIQraw,ROW(),Setup!$C$5+COLUMN()-26),\"x\")","v":"x"},{"$f":"IF($E41=\"Y\",INDEX(OIQraw,ROW(),Setup!$C$5+COLUMN()-26),\"x\")","v":"x"},{"$f":"IF($E41=\"Y\",INDEX(OIQraw,ROW(),Setup!$C$5+COLUMN()-26),\"x\")","v":"x"},{"$f":"IF($E41=\"Y\",INDEX(OIQraw,ROW(),Setup!$C$5+COLUMN()-26),\"x\")","v":"x"},{"$f":"IF($E41=\"Y\",INDEX(OIQraw,ROW(),Setup!$C$5+COLUMN()-26),\"x\")","v":"x"},{"$f":"IF($E41=\"Y\",INDEX(OIQraw,ROW(),Setup!$C$5+COLUMN()-26),\"x\")","v":"x"},{"$f":"IF($E41=\"Y\",INDEX(OIQraw,ROW(),Setup!$C$5+COLUMN()-26),\"x\")","v":"x"},{"$f":"IF($E41=\"Y\",INDEX(OIQraw,ROW(),Setup!$C$5+COLUMN()-26),\"x\")","v":"x"},{"$f":"IF($E41=\"Y\",INDEX(OIQraw,ROW(),Setup!$C$5+COLUMN()-26),\"x\")","v":"x"},{"$f":"IF($E41=\"Y\",INDEX(OIQraw,ROW(),Setup!$C$5+COLUMN()-26),\"x\")","v":"x"},{"$f":"IF($E41=\"Y\",INDEX(OIQraw,ROW(),Setup!$C$5+COLUMN()-26),\"x\")","v":"x"},{"$f":"IF($E41=\"Y\",INDEX(OIQraw,ROW(),Setup!$C$5+COLUMN()-26),\"x\")","v":"x"},{"$f":"IF($E41=\"Y\",INDEX(OIQraw,ROW(),Setup!$C$5+COLUMN()-26),\"x\")","v":"x"},{"$f":"IF($E41=\"Y\",INDEX(OIQraw,ROW(),Setup!$C$5+COLUMN()-26),\"x\")","v":"x"},{"$f":"IF($E41=\"Y\",INDEX(OIQraw,ROW(),Setup!$C$5+COLUMN()-26),\"x\")","v":"x"},{"$f":"IF($E41=\"Y\",INDEX(OIQraw,ROW(),Setup!$C$5+COLUMN()-26),\"x\")","v":"x"},{"$f":"IF($E41=\"Y\",INDEX(OIQraw,ROW(),Setup!$C$5+COLUMN()-26),\"x\")","v":"x"},{"$f":"IF($E41=\"Y\",INDEX(OIQraw,ROW(),Setup!$C$5+COLUMN()-26),\"x\")","v":"x"},{"$f":"IF($E41=\"Y\",INDEX(OIQraw,ROW(),Setup!$C$5+COLUMN()-26),\"x\")","v":"x"},{"$f":"IF($E41=\"Y\",INDEX(OIQraw,ROW(),Setup!$C$5+COLUMN()-26),\"x\")","v":"x"},{"$f":"IF($E41=\"Y\",INDEX(OIQraw,ROW(),Setup!$C$5+COLUMN()-26),\"x\")","v":"x"},{"$f":"IF($E41=\"Y\",INDEX(OIQraw,ROW(),Setup!$C$5+COLUMN()-26),\"x\")","v":"x"},{"$f":"IF($E41=\"Y\",INDEX(OIQraw,ROW(),Setup!$C$5+COLUMN()-26),\"x\")","v":"x"},{"$f":"IF($E41=\"Y\",INDEX(OIQraw,ROW(),Setup!$C$5+COLUMN()-26),\"x\")","v":"x"},{"$f":"IF($E41=\"Y\",INDEX(OIQraw,ROW(),Setup!$C$5+COLUMN()-26),\"x\")","v":"x"},{"$f":"IF($E41=\"Y\",INDEX(OIQraw,ROW(),Setup!$C$5+COLUMN()-26),\"x\")","v":"x"},{"$f":"IF($E41=\"Y\",INDEX(OIQraw,ROW(),Setup!$C$5+COLUMN()-26),\"x\")","v":"x"},{"$f":"IF($E41=\"Y\",INDEX(OIQraw,ROW(),Setup!$C$5+COLUMN()-26),\"x\")","v":"x"},{"$f":"IF($E41=\"Y\",INDEX(OIQraw,ROW(),Setup!$C$5+COLUMN()-26),\"x\")","v":"x"},{"$f":"IF($E41=\"Y\",INDEX(OIQraw,ROW(),Setup!$C$5+COLUMN()-26),\"x\")","v":"x"},{"$f":"IF($E41=\"Y\",INDEX(OIQraw,ROW(),Setup!$C$5+COLUMN()-26),\"x\")","v":"x"},{"$f":"IF($E41=\"Y\",INDEX(OIQraw,ROW(),Setup!$C$5+COLUMN()-26),\"x\")","v":"x"},{"$f":"IF($E41=\"Y\",INDEX(OIQraw,ROW(),Setup!$C$5+COLUMN()-26),\"x\")","v":"x"},{"$f":"IF($E41=\"Y\",INDEX(OIQraw,ROW(),Setup!$C$5+COLUMN()-26),\"x\")","v":"x"},{"$f":"IF($E41=\"Y\",INDEX(OIQraw,ROW(),Setup!$C$5+COLUMN()-26),\"x\")","v":"x"},{"$f":"IF($E41=\"Y\",INDEX(OIQraw,ROW(),Setup!$C$5+COLUMN()-26),\"x\")","v":"x"},{"$f":"IF($E41=\"Y\",INDEX(OIQraw,ROW(),Setup!$C$5+COLUMN()-26),\"x\")","v":"x"},{"$f":"IF($E41=\"Y\",INDEX(OIQraw,ROW(),Setup!$C$5+COLUMN()-26),\"x\")","v":"x"},{"$f":"IF($E41=\"Y\",INDEX(OIQraw,ROW(),Setup!$C$5+COLUMN()-26),\"x\")","v":"x"},{"$f":"IF($E41=\"Y\",INDEX(OIQraw,ROW(),Setup!$C$5+COLUMN()-26),\"x\")","v":"x"},{"$f":"IF($E41=\"Y\",INDEX(OIQraw,ROW(),Setup!$C$5+COLUMN()-26),\"x\")","v":"x"},{"$f":"IF($E41=\"Y\",INDEX(OIQraw,ROW(),Setup!$C$5+COLUMN()-26),\"x\")","v":"x"},{"$f":"IF($E41=\"Y\",INDEX(OIQraw,ROW(),Setup!$C$5+COLUMN()-26),\"x\")","v":"x"},{"$f":"IF($E41=\"Y\",INDEX(OIQraw,ROW(),Setup!$C$5+COLUMN()-26),\"x\")","v":"x"},{"$f":"IF($E41=\"Y\",INDEX(OIQraw,ROW(),Setup!$C$5+COLUMN()-26),\"x\")","v":"x"},{"$f":"IF($E41=\"Y\",INDEX(OIQraw,ROW(),Setup!$C$5+COLUMN()-26),\"x\")","v":"x"},{"$f":"IF($E41=\"Y\",INDEX(OIQraw,ROW(),Setup!$C$5+COLUMN()-26),\"x\")","v":"x"},{"$f":"IF($E41=\"Y\",INDEX(OIQraw,ROW(),Setup!$C$5+COLUMN()-26),\"x\")","v":"x"},{"$f":"IF($E41=\"Y\",INDEX(OIQraw,ROW(),Setup!$C$5+COLUMN()-26),\"x\")","v":"x"},{"$f":"IF($E41=\"Y\",INDEX(OIQraw,ROW(),Setup!$C$5+COLUMN()-26),\"x\")","v":"x"},{"$f":"IF($E41=\"Y\",INDEX(OIQraw,ROW(),Setup!$C$5+COLUMN()-26),\"x\")","v":"x"},{"$f":"IF($E41=\"Y\",INDEX(OIQraw,ROW(),Setup!$C$5+COLUMN()-26),\"x\")","v":"x"},{"$f":"IF($E41=\"Y\",INDEX(OIQraw,ROW(),Setup!$C$5+COLUMN()-26),\"x\")","v":"x"},{"$f":"IF($E41=\"Y\",INDEX(OIQraw,ROW(),Setup!$C$5+COLUMN()-26),\"x\")","v":"x"},{"$f":"IF($E41=\"Y\",INDEX(OIQraw,ROW(),Setup!$C$5+COLUMN()-26),\"x\")","v":"x"},{"$f":"IF($E41=\"Y\",INDEX(OIQraw,ROW(),Setup!$C$5+COLUMN()-26),\"x\")","v":"x"},{"$f":"IF($E41=\"Y\",INDEX(OIQraw,ROW(),Setup!$C$5+COLUMN()-26),\"x\")","v":"x"},{"$f":"IF($E41=\"Y\",INDEX(OIQraw,ROW(),Setup!$C$5+COLUMN()-26),\"x\")","v":"x"},{"$f":"IF($E41=\"Y\",INDEX(OIQraw,ROW(),Setup!$C$5+COLUMN()-26),\"x\")","v":"x"},{"$f":"IF($E41=\"Y\",INDEX(OIQraw,ROW(),Setup!$C$5+COLUMN()-26),\"x\")","v":"x"},{"$f":"IF($E41=\"Y\",INDEX(OIQraw,ROW(),Setup!$C$5+COLUMN()-26),\"x\")","v":"x"},{"$f":"IF($E41=\"Y\",INDEX(OIQraw,ROW(),Setup!$C$5+COLUMN()-26),\"x\")","v":"x"},{"$f":"IF($E41=\"Y\",INDEX(OIQraw,ROW(),Setup!$C$5+COLUMN()-26),\"x\")","v":"x"},{"$f":"IF($E41=\"Y\",INDEX(OIQraw,ROW(),Setup!$C$5+COLUMN()-26),\"x\")","v":"x"},{"$f":"IF($E41=\"Y\",INDEX(OIQraw,ROW(),Setup!$C$5+COLUMN()-26),\"x\")","v":"x"},{"$f":"IF($E41=\"Y\",INDEX(OIQraw,ROW(),Setup!$C$5+COLUMN()-26),\"x\")","v":"x"},{"$f":"IF($E41=\"Y\",INDEX(OIQraw,ROW(),Setup!$C$5+COLUMN()-26),\"x\")","v":"x"},{"$f":"IF($E41=\"Y\",INDEX(OIQraw,ROW(),Setup!$C$5+COLUMN()-26),\"x\")","v":"x"},{"$f":"IF($E41=\"Y\",INDEX(OIQraw,ROW(),Setup!$C$5+COLUMN()-26),\"x\")","v":"x"},{"$f":"IF($E41=\"Y\",INDEX(OIQraw,ROW(),Setup!$C$5+COLUMN()-26),\"x\")","v":"x"},{"$f":"IF($E41=\"Y\",INDEX(OIQraw,ROW(),Setup!$C$5+COLUMN()-26),\"x\")","v":"x"},{"$f":"IF($E41=\"Y\",INDEX(OIQraw,ROW(),Setup!$C$5+COLUMN()-26),\"x\")","v":"x"},{"$f":"IF($E41=\"Y\",INDEX(OIQraw,ROW(),Setup!$C$5+COLUMN()-26),\"x\")","v":"x"},{"$f":"IF($E41=\"Y\",INDEX(OIQraw,ROW(),Setup!$C$5+COLUMN()-26),\"x\")","v":"x"},{"$f":"IF($E41=\"Y\",INDEX(OIQraw,ROW(),Setup!$C$5+COLUMN()-26),\"x\")","v":"x"},{"$f":"IF($E41=\"Y\",INDEX(OIQraw,ROW(),Setup!$C$5+COLUMN()-26),\"x\")","v":"x"},{"$f":"IF($E41=\"Y\",INDEX(OIQraw,ROW(),Setup!$C$5+COLUMN()-26),\"x\")","v":"x"},{"$f":"IF($E41=\"Y\",INDEX(OIQraw,ROW(),Setup!$C$5+COLUMN()-26),\"x\")","v":"x"},{"$f":"IF($E41=\"Y\",INDEX(OIQraw,ROW(),Setup!$C$5+COLUMN()-26),\"x\")","v":"x"},{"$f":"IF($E41=\"Y\",INDEX(OIQraw,ROW(),Setup!$C$5+COLUMN()-26),\"x\")","v":"x"},{"$f":"IF($E41=\"Y\",INDEX(OIQraw,ROW(),Setup!$C$5+COLUMN()-26),\"x\")","v":"x"},{"$f":"IF($E41=\"Y\",INDEX(OIQraw,ROW(),Setup!$C$5+COLUMN()-26),\"x\")","v":"x"},{"$f":"IF($E41=\"Y\",INDEX(OIQraw,ROW(),Setup!$C$5+COLUMN()-26),\"x\")","v":"x"},{"$f":"IF($E41=\"Y\",INDEX(OIQraw,ROW(),Setup!$C$5+COLUMN()-26),\"x\")","v":"x"},{"$f":"IF($E41=\"Y\",INDEX(OIQraw,ROW(),Setup!$C$5+COLUMN()-26),\"x\")","v":"x"},{"$f":"IF($E41=\"Y\",INDEX(OIQraw,ROW(),Setup!$C$5+COLUMN()-26),\"x\")","v":"x"},{"$f":"IF($E41=\"Y\",INDEX(OIQraw,ROW(),Setup!$C$5+COLUMN()-26),\"x\")","v":"x"},{"$f":"IF($E41=\"Y\",INDEX(OIQraw,ROW(),Setup!$C$5+COLUMN()-26),\"x\")","v":"x"},{"$f":"IF($E41=\"Y\",INDEX(OIQraw,ROW(),Setup!$C$5+COLUMN()-26),\"x\")","v":"x"},{"$f":"IF($E41=\"Y\",INDEX(OIQraw,ROW(),Setup!$C$5+COLUMN()-26),\"x\")","v":"x"},{"$f":"IF($E41=\"Y\",INDEX(OIQraw,ROW(),Setup!$C$5+COLUMN()-26),\"x\")","v":"x"},{"$f":"IF($E41=\"Y\",INDEX(OIQraw,ROW(),Setup!$C$5+COLUMN()-26),\"x\")","v":"x"},{"$f":"IF($E41=\"Y\",INDEX(OIQraw,ROW(),Setup!$C$5+COLUMN()-26),\"x\")","v":"x"},{"$f":"IF($E41=\"Y\",INDEX(OIQraw,ROW(),Setup!$C$5+COLUMN()-26),\"x\")","v":"x"},{"$f":"IF($E41=\"Y\",INDEX(OIQraw,ROW(),Setup!$C$5+COLUMN()-26),\"x\")","v":"x"},{"$f":"IF($E41=\"Y\",INDEX(OIQraw,ROW(),Setup!$C$5+COLUMN()-26),\"x\")","v":"x"},{"$f":"IF($E41=\"Y\",INDEX(OIQraw,ROW(),Setup!$C$5+COLUMN()-26),\"x\")","v":"x"},{"$f":"IF($E41=\"Y\",INDEX(OIQraw,ROW(),Setup!$C$5+COLUMN()-26),\"x\")","v":"x"},{"$f":"IF($E41=\"Y\",INDEX(OIQraw,ROW(),Setup!$C$5+COLUMN()-26),\"x\")","v":"x"},{"$f":"IF($E41=\"Y\",INDEX(OIQraw,ROW(),Setup!$C$5+COLUMN()-26),\"x\")","v":"x"},{"$f":"IF($E41=\"Y\",INDEX(OIQraw,ROW(),Setup!$C$5+COLUMN()-26),\"x\")","v":"x"},{"$f":"IF($E41=\"Y\",INDEX(OIQraw,ROW(),Setup!$C$5+COLUMN()-26),\"x\")","v":"x"},{"$f":"IF($E41=\"Y\",INDEX(OIQraw,ROW(),Setup!$C$5+COLUMN()-26),\"x\")","v":"x"},{"$f":"IF($E41=\"Y\",INDEX(OIQraw,ROW(),Setup!$C$5+COLUMN()-26),\"x\")","v":"x"},{"$f":"IF($E41=\"Y\",INDEX(OIQraw,ROW(),Setup!$C$5+COLUMN()-26),\"x\")","v":"x"},{"$f":"IF($E41=\"Y\",INDEX(OIQraw,ROW(),Setup!$C$5+COLUMN()-26),\"x\")","v":"x"},{"$f":"IF($E41=\"Y\",INDEX(OIQraw,ROW(),Setup!$C$5+COLUMN()-26),\"x\")","v":"x"},{"$f":"IF($E41=\"Y\",INDEX(OIQraw,ROW(),Setup!$C$5+COLUMN()-26),\"x\")","v":"x"},{"$f":"IF($E41=\"Y\",INDEX(OIQraw,ROW(),Setup!$C$5+COLUMN()-26),\"x\")","v":"x"},{"$f":"IF($E41=\"Y\",INDEX(OIQraw,ROW(),Setup!$C$5+COLUMN()-26),\"x\")","v":"x"},{"$f":"IF($E41=\"Y\",INDEX(OIQraw,ROW(),Setup!$C$5+COLUMN()-26),\"x\")","v":"x"},{"$f":"IF($E41=\"Y\",INDEX(OIQraw,ROW(),Setup!$C$5+COLUMN()-26),\"x\")","v":"x"},{"$f":"IF($E41=\"Y\",INDEX(OIQraw,ROW(),Setup!$C$5+COLUMN()-26),\"x\")","v":"x"},{"$f":"IF($E41=\"Y\",INDEX(OIQraw,ROW(),Setup!$C$5+COLUMN()-26),\"x\")","v":"x"},{"$f":"IF($E41=\"Y\",INDEX(OIQraw,ROW(),Setup!$C$5+COLUMN()-26),\"x\")","v":"x"},{"$f":"IF($E41=\"Y\",INDEX(OIQraw,ROW(),Setup!$C$5+COLUMN()-26),\"x\")","v":"x"},{"$f":"IF($E41=\"Y\",INDEX(OIQraw,ROW(),Setup!$C$5+COLUMN()-26),\"x\")","v":"x"},{"$f":"IF($E41=\"Y\",INDEX(OIQraw,ROW(),Setup!$C$5+COLUMN()-26),\"x\")","v":"x"},{"$f":"IF($E41=\"Y\",INDEX(OIQraw,ROW(),Setup!$C$5+COLUMN()-26),\"x\")","v":"x"},{"$f":"IF($E41=\"Y\",INDEX(OIQraw,ROW(),Setup!$C$5+COLUMN()-26),\"x\")","v":"x"},{"$f":"IF($E41=\"Y\",INDEX(OIQraw,ROW(),Setup!$C$5+COLUMN()-26),\"x\")","v":"x"},{"$f":"IF($E41=\"Y\",INDEX(OIQraw,ROW(),Setup!$C$5+COLUMN()-26),\"x\")","v":"x"},{"$f":"IF($E41=\"Y\",INDEX(OIQraw,ROW(),Setup!$C$5+COLUMN()-26),\"x\")","v":"x"},{"$f":"IF($E41=\"Y\",INDEX(OIQraw,ROW(),Setup!$C$5+COLUMN()-26),\"x\")","v":"x"},{"$f":"IF($E41=\"Y\",INDEX(OIQraw,ROW(),Setup!$C$5+COLUMN()-26),\"x\")","v":"x"},{"$f":"IF($E41=\"Y\",INDEX(OIQraw,ROW(),Setup!$C$5+COLUMN()-26),\"x\")","v":"x"},{"$f":"IF($E41=\"Y\",INDEX(OIQraw,ROW(),Setup!$C$5+COLUMN()-26),\"x\")","v":"x"},{"$f":"IF($E41=\"Y\",INDEX(OIQraw,ROW(),Setup!$C$5+COLUMN()-26),\"x\")","v":"x"},{"$f":"IF($E41=\"Y\",INDEX(OIQraw,ROW(),Setup!$C$5+COLUMN()-26),\"x\")","v":"x"},{"$f":"IF($E41=\"Y\",INDEX(OIQraw,ROW(),Setup!$C$5+COLUMN()-26),\"x\")","v":"x"},{"$f":"IF($E41=\"Y\",INDEX(OIQraw,ROW(),Setup!$C$5+COLUMN()-26),\"x\")","v":"x"},{"$f":"IF($E41=\"Y\",INDEX(OIQraw,ROW(),Setup!$C$5+COLUMN()-26),\"x\")","v":"x"},{"$f":"IF($E41=\"Y\",INDEX(OIQraw,ROW(),Setup!$C$5+COLUMN()-26),\"x\")","v":"x"},{"$f":"IF($E41=\"Y\",INDEX(OIQraw,ROW(),Setup!$C$5+COLUMN()-26),\"x\")","v":"x"},{"$f":"IF($E41=\"Y\",INDEX(OIQraw,ROW(),Setup!$C$5+COLUMN()-26),\"x\")","v":"x"},{"$f":"IF($E41=\"Y\",INDEX(OIQraw,ROW(),Setup!$C$5+COLUMN()-26),\"x\")","v":"x"},{"$f":"IF($E41=\"Y\",INDEX(OIQraw,ROW(),Setup!$C$5+COLUMN()-26),\"x\")","v":"x"},{"$f":"IF($E41=\"Y\",INDEX(OIQraw,ROW(),Setup!$C$5+COLUMN()-26),\"x\")","v":"x"},{"$f":"IF($E41=\"Y\",INDEX(OIQraw,ROW(),Setup!$C$5+COLUMN()-26),\"x\")","v":"x"},{"$f":"IF($E41=\"Y\",INDEX(OIQraw,ROW(),Setup!$C$5+COLUMN()-26),\"x\")","v":"x"},{"$f":"IF($E41=\"Y\",INDEX(OIQraw,ROW(),Setup!$C$5+COLUMN()-26),\"x\")","v":"x"},{"$f":"IF($E41=\"Y\",INDEX(OIQraw,ROW(),Setup!$C$5+COLUMN()-26),\"x\")","v":"x"},{"$f":"IF($E41=\"Y\",INDEX(OIQraw,ROW(),Setup!$C$5+COLUMN()-26),\"x\")","v":"x"},{"$f":"IF($E41=\"Y\",INDEX(OIQraw,ROW(),Setup!$C$5+COLUMN()-26),\"x\")","v":"x"},{"$f":"IF($E41=\"Y\",INDEX(OIQraw,ROW(),Setup!$C$5+COLUMN()-26),\"x\")","v":"x"},{"$f":"IF($E41=\"Y\",INDEX(OIQraw,ROW(),Setup!$C$5+COLUMN()-26),\"x\")","v":"x"},{"$f":"IF($E41=\"Y\",INDEX(OIQraw,ROW(),Setup!$C$5+COLUMN()-26),\"x\")","v":"x"},{"$f":"IF($E41=\"Y\",INDEX(OIQraw,ROW(),Setup!$C$5+COLUMN()-26),\"x\")","v":"x"},{"$f":"IF($E41=\"Y\",INDEX(OIQraw,ROW(),Setup!$C$5+COLUMN()-26),\"x\")","v":"x"},{"$f":"IF($E41=\"Y\",INDEX(OIQraw,ROW(),Setup!$C$5+COLUMN()-26),\"x\")","v":"x"},{"$f":"IF($E41=\"Y\",INDEX(OIQraw,ROW(),Setup!$C$5+COLUMN()-26),\"x\")","v":"x"},{"$f":"IF($E41=\"Y\",INDEX(OIQraw,ROW(),Setup!$C$5+COLUMN()-26),\"x\")","v":"x"},{"$f":"IF($E41=\"Y\",INDEX(OIQraw,ROW(),Setup!$C$5+COLUMN()-26),\"x\")","v":"x"},{"$f":"IF($E41=\"Y\",INDEX(OIQraw,ROW(),Setup!$C$5+COLUMN()-26),\"x\")","v":"x"},{"$f":"IF($E41=\"Y\",INDEX(OIQraw,ROW(),Setup!$C$5+COLUMN()-26),\"x\")","v":"x"},{"$f":"IF($E41=\"Y\",INDEX(OIQraw,ROW(),Setup!$C$5+COLUMN()-26),\"x\")","v":"x"},{"$f":"IF($E41=\"Y\",INDEX(OIQraw,ROW(),Setup!$C$5+COLUMN()-26),\"x\")","v":"x"},{"$f":"IF($E41=\"Y\",INDEX(OIQraw,ROW(),Setup!$C$5+COLUMN()-26),\"x\")","v":"x"},{"$f":"IF($E41=\"Y\",INDEX(OIQraw,ROW(),Setup!$C$5+COLUMN()-26),\"x\")","v":"x"},{"$f":"IF($E41=\"Y\",INDEX(OIQraw,ROW(),Setup!$C$5+COLUMN()-26),\"x\")","v":"x"},{"$f":"IF($E41=\"Y\",INDEX(OIQraw,ROW(),Setup!$C$5+COLUMN()-26),\"x\")","v":"x"},{"$f":"IF($E41=\"Y\",INDEX(OIQraw,ROW(),Setup!$C$5+COLUMN()-26),\"x\")","v":"x"},{"$f":"IF($E41=\"Y\",INDEX(OIQraw,ROW(),Setup!$C$5+COLUMN()-26),\"x\")","v":"x"},{"$f":"IF($E41=\"Y\",INDEX(OIQraw,ROW(),Setup!$C$5+COLUMN()-26),\"x\")","v":"x"},{"$f":"IF($E41=\"Y\",INDEX(OIQraw,ROW(),Setup!$C$5+COLUMN()-26),\"x\")","v":"x"},{"$f":"IF($E41=\"Y\",INDEX(OIQraw,ROW(),Setup!$C$5+COLUMN()-26),\"x\")","v":"x"},{"$f":"IF($E41=\"Y\",INDEX(OIQraw,ROW(),Setup!$C$5+COLUMN()-26),\"x\")","v":"x"},{"$f":"IF($E41=\"Y\",INDEX(OIQraw,ROW(),Setup!$C$5+COLUMN()-26),\"x\")","v":"x"},{"$f":"IF($E41=\"Y\",INDEX(OIQraw,ROW(),Setup!$C$5+COLUMN()-26),\"x\")","v":"x"},{"$f":"IF($E41=\"Y\",INDEX(OIQraw,ROW(),Setup!$C$5+COLUMN()-26),\"x\")","v":"x"},{"$f":"IF($E41=\"Y\",INDEX(OIQraw,ROW(),Setup!$C$5+COLUMN()-26),\"x\")","v":"x"},{"$f":"IF($E41=\"Y\",INDEX(OIQraw,ROW(),Setup!$C$5+COLUMN()-26),\"x\")","v":"x"},{"$f":"IF($E41=\"Y\",INDEX(OIQraw,ROW(),Setup!$C$5+COLUMN()-26),\"x\")","v":"x"},{"$f":"IF($E41=\"Y\",INDEX(OIQraw,ROW(),Setup!$C$5+COLUMN()-26),\"x\")","v":"x"},{"$f":"IF($E41=\"Y\",INDEX(OIQraw,ROW(),Setup!$C$5+COLUMN()-26),\"x\")","v":"x"},{"$f":"IF($E41=\"Y\",INDEX(OIQraw,ROW(),Setup!$C$5+COLUMN()-26),\"x\")","v":"x"},{"$f":"IF($E41=\"Y\",INDEX(OIQraw,ROW(),Setup!$C$5+COLUMN()-26),\"x\")","v":"x"},{"$f":"IF($E41=\"Y\",INDEX(OIQraw,ROW(),Setup!$C$5+COLUMN()-26),\"x\")","v":"x"},{"$f":"IF($E41=\"Y\",INDEX(OIQraw,ROW(),Setup!$C$5+COLUMN()-26),\"x\")","v":"x"},{"$f":"IF($E41=\"Y\",INDEX(OIQraw,ROW(),Setup!$C$5+COLUMN()-26),\"x\")","v":"x"},{"$f":"IF($E41=\"Y\",INDEX(OIQraw,ROW(),Setup!$C$5+COLUMN()-26),\"x\")","v":"x"},{"$f":"IF($E41=\"Y\",INDEX(OIQraw,ROW(),Setup!$C$5+COLUMN()-26),\"x\")","v":"x"},{"$f":"IF($E41=\"Y\",INDEX(OIQraw,ROW(),Setup!$C$5+COLUMN()-26),\"x\")","v":"x"},{"$f":"IF($E41=\"Y\",INDEX(OIQraw,ROW(),Setup!$C$5+COLUMN()-26),\"x\")","v":"x"},{"$f":"IF($E41=\"Y\",INDEX(OIQraw,ROW(),Setup!$C$5+COLUMN()-26),\"x\")","v":"x"},{"$f":"IF($E41=\"Y\",INDEX(OIQraw,ROW(),Setup!$C$5+COLUMN()-26),\"x\")","v":"x"},{"$f":"IF($E41=\"Y\",INDEX(OIQraw,ROW(),Setup!$C$5+COLUMN()-26),\"x\")","v":"x"},{"$f":"IF($E41=\"Y\",INDEX(OIQraw,ROW(),Setup!$C$5+COLUMN()-26),\"x\")","v":"x"},{"$f":"IF($E41=\"Y\",INDEX(OIQraw,ROW(),Setup!$C$5+COLUMN()-26),\"x\")","v":"x"},{"$f":"IF($E41=\"Y\",INDEX(OIQraw,ROW(),Setup!$C$5+COLUMN()-26),\"x\")","v":"x"},{"$f":"IF($E41=\"Y\",INDEX(OIQraw,ROW(),Setup!$C$5+COLUMN()-26),\"x\")","v":"x"},{"$f":"IF($E41=\"Y\",INDEX(OIQraw,ROW(),Setup!$C$5+COLUMN()-26),\"x\")","v":"x"},{"$f":"IF($E41=\"Y\",INDEX(OIQraw,ROW(),Setup!$C$5+COLUMN()-26),\"x\")","v":"x"},{"$f":"IF($E41=\"Y\",INDEX(OIQraw,ROW(),Setup!$C$5+COLUMN()-26),\"x\")","v":"x"},{"$f":"IF($E41=\"Y\",INDEX(OIQraw,ROW(),Setup!$C$5+COLUMN()-26),\"x\")","v":"x"},{"$f":"IF($E41=\"Y\",INDEX(OIQraw,ROW(),Setup!$C$5+COLUMN()-26),\"x\")","v":"x"},{"$f":"IF($E41=\"Y\",INDEX(OIQraw,ROW(),Setup!$C$5+COLUMN()-26),\"x\")","v":"x"},{"$f":"IF($E41=\"Y\",INDEX(OIQraw,ROW(),Setup!$C$5+COLUMN()-26),\"x\")","v":"x"},{"$f":"IF($E41=\"Y\",INDEX(OIQraw,ROW(),Setup!$C$5+COLUMN()-26),\"x\")","v":"x"},{"$f":"IF($E41=\"Y\",INDEX(OIQraw,ROW(),Setup!$C$5+COLUMN()-26),\"x\")","v":"x"},{"$f":"IF($E41=\"Y\",INDEX(OIQraw,ROW(),Setup!$C$5+COLUMN()-26),\"x\")","v":"x"},{"$f":"IF($E41=\"Y\",INDEX(OIQraw,ROW(),Setup!$C$5+COLUMN()-26),\"x\")","v":"x"},{"$f":"IF($E41=\"Y\",INDEX(OIQraw,ROW(),Setup!$C$5+COLUMN()-26),\"x\")","v":"x"},{"$f":"IF($E41=\"Y\",INDEX(OIQraw,ROW(),Setup!$C$5+COLUMN()-26),\"x\")","v":"x"},{"$f":"IF($E41=\"Y\",INDEX(OIQraw,ROW(),Setup!$C$5+COLUMN()-26),\"x\")","v":"x"},{"$f":"IF($E41=\"Y\",INDEX(OIQraw,ROW(),Setup!$C$5+COLUMN()-26),\"x\")","v":"x"},{"$f":"IF($E41=\"Y\",INDEX(OIQraw,ROW(),Setup!$C$5+COLUMN()-26),\"x\")","v":"x"},{"$f":"IF($E41=\"Y\",INDEX(OIQraw,ROW(),Setup!$C$5+COLUMN()-26),\"x\")","v":"x"},{"$f":"IF($E41=\"Y\",INDEX(OIQraw,ROW(),Setup!$C$5+COLUMN()-26),\"x\")","v":"x"},{"$f":"IF($E41=\"Y\",INDEX(OIQraw,ROW(),Setup!$C$5+COLUMN()-26),\"x\")","v":"x"},{"$f":"IF($E41=\"Y\",INDEX(OIQraw,ROW(),Setup!$C$5+COLUMN()-26),\"x\")","v":"x"},{"$f":"IF($E41=\"Y\",INDEX(OIQraw,ROW(),Setup!$C$5+COLUMN()-26),\"x\")","v":"x"},{"$f":"IF($E41=\"Y\",INDEX(OIQraw,ROW(),Setup!$C$5+COLUMN()-26),\"x\")","v":"x"},{"$f":"IF($E41=\"Y\",INDEX(OIQraw,ROW(),Setup!$C$5+COLUMN()-26),\"x\")","v":"x"},{"$f":"IF($E41=\"Y\",INDEX(OIQraw,ROW(),Setup!$C$5+COLUMN()-26),\"x\")","v":"x"},{"$f":"IF($E41=\"Y\",INDEX(OIQraw,ROW(),Setup!$C$5+COLUMN()-26),\"x\")","v":"x"},{"$f":"IF($E41=\"Y\",INDEX(OIQraw,ROW(),Setup!$C$5+COLUMN()-26),\"x\")","v":"x"},{"$f":"IF($E41=\"Y\",INDEX(OIQraw,ROW(),Setup!$C$5+COLUMN()-26),\"x\")","v":"x"},{"$f":"IF($E41=\"Y\",INDEX(OIQraw,ROW(),Setup!$C$5+COLUMN()-26),\"x\")","v":"x"},{"$f":"IF($E41=\"Y\",INDEX(OIQraw,ROW(),Setup!$C$5+COLUMN()-26),\"x\")","v":"x"},{"$f":"IF($E41=\"Y\",INDEX(OIQraw,ROW(),Setup!$C$5+COLUMN()-26),\"x\")","v":"x"},{"$f":"IF($E41=\"Y\",INDEX(OIQraw,ROW(),Setup!$C$5+COLUMN()-26),\"x\")","v":"x"},{"$f":"IF($E41=\"Y\",INDEX(OIQraw,ROW(),Setup!$C$5+COLUMN()-26),\"x\")","v":"x"},{"$f":"IF($E41=\"Y\",INDEX(OIQraw,ROW(),Setup!$C$5+COLUMN()-26),\"x\")","v":"x"},{"$f":"IF($E41=\"Y\",INDEX(OIQraw,ROW(),Setup!$C$5+COLUMN()-26),\"x\")","v":"x"},{"$f":"IF($E41=\"Y\",INDEX(OIQraw,ROW(),Setup!$C$5+COLUMN()-26),\"x\")","v":"x"},{"$f":"IF($E41=\"Y\",INDEX(OIQraw,ROW(),Setup!$C$5+COLUMN()-26),\"x\")","v":"x"},{"$f":"IF($E41=\"Y\",INDEX(OIQraw,ROW(),Setup!$C$5+COLUMN()-26),\"x\")","v":"x"},{"$f":"IF($E41=\"Y\",INDEX(OIQraw,ROW(),Setup!$C$5+COLUMN()-26),\"x\")","v":"x"},{"$f":"IF($E41=\"Y\",INDEX(OIQraw,ROW(),Setup!$C$5+COLUMN()-26),\"x\")","v":"x"},{"$f":"IF($E41=\"Y\",INDEX(OIQraw,ROW(),Setup!$C$5+COLUMN()-26),\"x\")","v":"x"},{"$f":"IF($E41=\"Y\",INDEX(OIQraw,ROW(),Setup!$C$5+COLUMN()-26),\"x\")","v":"x"},{"$f":"IF($E41=\"Y\",INDEX(OIQraw,ROW(),Setup!$C$5+COLUMN()-26),\"x\")","v":"x"},{"$f":"IF($E41=\"Y\",INDEX(OIQraw,ROW(),Setup!$C$5+COLUMN()-26),\"x\")","v":"x"},{"$f":"IF($E41=\"Y\",INDEX(OIQraw,ROW(),Setup!$C$5+COLUMN()-26),\"x\")","v":"x"},{"$f":"IF($E41=\"Y\",INDEX(OIQraw,ROW(),Setup!$C$5+COLUMN()-26),\"x\")","v":"x"},{"$f":"IF($E41=\"Y\",INDEX(OIQraw,ROW(),Setup!$C$5+COLUMN()-26),\"x\")","v":"x"},{"$f":"IF($E41=\"Y\",INDEX(OIQraw,ROW(),Setup!$C$5+COLUMN()-26),\"x\")","v":"x"},{"$f":"IF($E41=\"Y\",INDEX(OIQraw,ROW(),Setup!$C$5+COLUMN()-26),\"x\")","v":"x"},{"$f":"IF($E41=\"Y\",INDEX(OIQraw,ROW(),Setup!$C$5+COLUMN()-26),\"x\")","v":"x"},{"$f":"IF($E41=\"Y\",INDEX(OIQraw,ROW(),Setup!$C$5+COLUMN()-26),\"x\")","v":"x"},{"$f":"IF($E41=\"Y\",INDEX(OIQraw,ROW(),Setup!$C$5+COLUMN()-26),\"x\")","v":"x"},{"$f":"IF($E41=\"Y\",INDEX(OIQraw,ROW(),Setup!$C$5+COLUMN()-26),\"x\")","v":"x"},{"$f":"IF($E41=\"Y\",INDEX(OIQraw,ROW(),Setup!$C$5+COLUMN()-26),\"x\")","v":"x"}]
[1,"","",{"$f":"IF(ISERROR(FIND(\"Withdrew\",RawScores!B46)),RawScores!B46,RIGHT(RawScores!B46,LEN(RawScores!B46)-17))&\", \"&RawScores!C46","v":", "},{"$f":"IF(OR(ISERROR(FIND(\"Withdrew\",RawScores!B46))=FALSE,INDEX(OIQraw,ROW(),LastInputCol-3)=0),\"N\",IF(AND(Setup!$B$22=\"Yes\",INDEX(OIQraw,ROW(),LastInputCol)=1),\"N\",\"Y\"))","v":"N"},"X","X","X",{"$f":"IF(AND(ISNUMBER(F42),F42>Setup!$B$14-1),1,0)","v":0},{"$f":"IF(AND(F42>Setup!$B$14-1,Conv!H42<5),1,0)","v":0},{"$f":"IF(AND(F42>Setup!$B$14-1,Conv!G42=\"F\"),1,0)","v":0},"","","","","","","","","","","","","X","X",{"$f":"IF($E42=\"Y\",INDEX(OIQraw,ROW(),Setup!$C$5+COLUMN()-26),\"x\")","v":"x"},{"$f":"IF($E42=\"Y\",INDEX(OIQraw,ROW(),Setup!$C$5+COLUMN()-26),\"x\")","v":"x"},{"$f":"IF($E42=\"Y\",INDEX(OIQraw,ROW(),Setup!$C$5+COLUMN()-26),\"x\")","v":"x"},{"$f":"IF($E42=\"Y\",INDEX(OIQraw,ROW(),Setup!$C$5+COLUMN()-26),\"x\")","v":"x"},{"$f":"IF($E42=\"Y\",INDEX(OIQraw,ROW(),Setup!$C$5+COLUMN()-26),\"x\")","v":"x"},{"$f":"IF($E42=\"Y\",INDEX(OIQraw,ROW(),Setup!$C$5+COLUMN()-26),\"x\")","v":"x"},{"$f":"IF($E42=\"Y\",INDEX(OIQraw,ROW(),Setup!$C$5+COLUMN()-26),\"x\")","v":"x"},{"$f":"IF($E42=\"Y\",INDEX(OIQraw,ROW(),Setup!$C$5+COLUMN()-26),\"x\")","v":"x"},{"$f":"IF($E42=\"Y\",INDEX(OIQraw,ROW(),Setup!$C$5+COLUMN()-26),\"x\")","v":"x"},{"$f":"IF($E42=\"Y\",INDEX(OIQraw,ROW(),Setup!$C$5+COLUMN()-26),\"x\")","v":"x"},{"$f":"IF($E42=\"Y\",INDEX(OIQraw,ROW(),Setup!$C$5+COLUMN()-26),\"x\")","v":"x"},{"$f":"IF($E42=\"Y\",INDEX(OIQraw,ROW(),Setup!$C$5+COLUMN()-26),\"x\")","v":"x"},{"$f":"IF($E42=\"Y\",INDEX(OIQraw,ROW(),Setup!$C$5+COLUMN()-26),\"x\")","v":"x"},{"$f":"IF($E42=\"Y\",INDEX(OIQraw,ROW(),Setup!$C$5+COLUMN()-26),\"x\")","v":"x"},{"$f":"IF($E42=\"Y\",INDEX(OIQraw,ROW(),Setup!$C$5+COLUMN()-26),\"x\")","v":"x"},{"$f":"IF($E42=\"Y\",INDEX(OIQraw,ROW(),Setup!$C$5+COLUMN()-26),\"x\")","v":"x"},{"$f":"IF($E42=\"Y\",INDEX(OIQraw,ROW(),Setup!$C$5+COLUMN()-26),\"x\")","v":"x"},{"$f":"IF($E42=\"Y\",INDEX(OIQraw,ROW(),Setup!$C$5+COLUMN()-26),\"x\")","v":"x"},{"$f":"IF($E42=\"Y\",INDEX(OIQraw,ROW(),Setup!$C$5+COLUMN()-26),\"x\")","v":"x"},{"$f":"IF($E42=\"Y\",INDEX(OIQraw,ROW(),Setup!$C$5+COLUMN()-26),\"x\")","v":"x"},{"$f":"IF($E42=\"Y\",INDEX(OIQraw,ROW(),Setup!$C$5+COLUMN()-26),\"x\")","v":"x"},{"$f":"IF($E42=\"Y\",INDEX(OIQraw,ROW(),Setup!$C$5+COLUMN()-26),\"x\")","v":"x"},{"$f":"IF($E42=\"Y\",INDEX(OIQraw,ROW(),Setup!$C$5+COLUMN()-26),\"x\")","v":"x"},{"$f":"IF($E42=\"Y\",INDEX(OIQraw,ROW(),Setup!$C$5+COLUMN()-26),\"x\")","v":"x"},{"$f":"IF($E42=\"Y\",INDEX(OIQraw,ROW(),Setup!$C$5+COLUMN()-26),\"x\")","v":"x"},{"$f":"IF($E42=\"Y\",INDEX(OIQraw,ROW(),Setup!$C$5+COLUMN()-26),\"x\")","v":"x"},{"$f":"IF($E42=\"Y\",INDEX(OIQraw,ROW(),Setup!$C$5+COLUMN()-26),\"x\")","v":"x"},{"$f":"IF($E42=\"Y\",INDEX(OIQraw,ROW(),Setup!$C$5+COLUMN()-26),\"x\")","v":"x"},{"$f":"IF($E42=\"Y\",INDEX(OIQraw,ROW(),Setup!$C$5+COLUMN()-26),\"x\")","v":"x"},{"$f":"IF($E42=\"Y\",INDEX(OIQraw,ROW(),Setup!$C$5+COLUMN()-26),\"x\")","v":"x"},{"$f":"IF($E42=\"Y\",INDEX(OIQraw,ROW(),Setup!$C$5+COLUMN()-26),\"x\")","v":"x"},{"$f":"IF($E42=\"Y\",INDEX(OIQraw,ROW(),Setup!$C$5+COLUMN()-26),\"x\")","v":"x"},{"$f":"IF($E42=\"Y\",INDEX(OIQraw,ROW(),Setup!$C$5+COLUMN()-26),\"x\")","v":"x"},{"$f":"IF($E42=\"Y\",INDEX(OIQraw,ROW(),Setup!$C$5+COLUMN()-26),\"x\")","v":"x"},{"$f":"IF($E42=\"Y\",INDEX(OIQraw,ROW(),Setup!$C$5+COLUMN()-26),\"x\")","v":"x"},{"$f":"IF($E42=\"Y\",INDEX(OIQraw,ROW(),Setup!$C$5+COLUMN()-26),\"x\")","v":"x"},{"$f":"IF($E42=\"Y\",INDEX(OIQraw,ROW(),Setup!$C$5+COLUMN()-26),\"x\")","v":"x"},{"$f":"IF($E42=\"Y\",INDEX(OIQraw,ROW(),Setup!$C$5+COLUMN()-26),\"x\")","v":"x"},{"$f":"IF($E42=\"Y\",INDEX(OIQraw,ROW(),Setup!$C$5+COLUMN()-26),\"x\")","v":"x"},{"$f":"IF($E42=\"Y\",INDEX(OIQraw,ROW(),Setup!$C$5+COLUMN()-26),\"x\")","v":"x"},{"$f":"IF($E42=\"Y\",INDEX(OIQraw,ROW(),Setup!$C$5+COLUMN()-26),\"x\")","v":"x"},{"$f":"IF($E42=\"Y\",INDEX(OIQraw,ROW(),Setup!$C$5+COLUMN()-26),\"x\")","v":"x"},{"$f":"IF($E42=\"Y\",INDEX(OIQraw,ROW(),Setup!$C$5+COLUMN()-26),\"x\")","v":"x"},{"$f":"IF($E42=\"Y\",INDEX(OIQraw,ROW(),Setup!$C$5+COLUMN()-26),\"x\")","v":"x"},{"$f":"IF($E42=\"Y\",INDEX(OIQraw,ROW(),Setup!$C$5+COLUMN()-26),\"x\")","v":"x"},{"$f":"IF($E42=\"Y\",INDEX(OIQraw,ROW(),Setup!$C$5+COLUMN()-26),\"x\")","v":"x"},{"$f":"IF($E42=\"Y\",INDEX(OIQraw,ROW(),Setup!$C$5+COLUMN()-26),\"x\")","v":"x"},{"$f":"IF($E42=\"Y\",INDEX(OIQraw,ROW(),Setup!$C$5+COLUMN()-26),\"x\")","v":"x"},{"$f":"IF($E42=\"Y\",INDEX(OIQraw,ROW(),Setup!$C$5+COLUMN()-26),\"x\")","v":"x"},{"$f":"IF($E42=\"Y\",INDEX(OIQraw,ROW(),Setup!$C$5+COLUMN()-26),\"x\")","v":"x"},{"$f":"IF($E42=\"Y\",INDEX(OIQraw,ROW(),Setup!$C$5+COLUMN()-26),\"x\")","v":"x"},{"$f":"IF($E42=\"Y\",INDEX(OIQraw,ROW(),Setup!$C$5+COLUMN()-26),\"x\")","v":"x"},{"$f":"IF($E42=\"Y\",INDEX(OIQraw,ROW(),Setup!$C$5+COLUMN()-26),\"x\")","v":"x"},{"$f":"IF($E42=\"Y\",INDEX(OIQraw,ROW(),Setup!$C$5+COLUMN()-26),\"x\")","v":"x"},{"$f":"IF($E42=\"Y\",INDEX(OIQraw,ROW(),Setup!$C$5+COLUMN()-26),\"x\")","v":"x"},{"$f":"IF($E42=\"Y\",INDEX(OIQraw,ROW(),Setup!$C$5+COLUMN()-26),\"x\")","v":"x"},{"$f":"IF($E42=\"Y\",INDEX(OIQraw,ROW(),Setup!$C$5+COLUMN()-26),\"x\")","v":"x"},{"$f":"IF($E42=\"Y\",INDEX(OIQraw,ROW(),Setup!$C$5+COLUMN()-26),\"x\")","v":"x"},{"$f":"IF($E42=\"Y\",INDEX(OIQraw,ROW(),Setup!$C$5+COLUMN()-26),\"x\")","v":"x"},{"$f":"IF($E42=\"Y\",INDEX(OIQraw,ROW(),Setup!$C$5+COLUMN()-26),\"x\")","v":"x"},{"$f":"IF($E42=\"Y\",INDEX(OIQraw,ROW(),Setup!$C$5+COLUMN()-26),\"x\")","v":"x"},{"$f":"IF($E42=\"Y\",INDEX(OIQraw,ROW(),Setup!$C$5+COLUMN()-26),\"x\")","v":"x"},{"$f":"IF($E42=\"Y\",INDEX(OIQraw,ROW(),Setup!$C$5+COLUMN()-26),\"x\")","v":"x"},{"$f":"IF($E42=\"Y\",INDEX(OIQraw,ROW(),Setup!$C$5+COLUMN()-26),\"x\")","v":"x"},{"$f":"IF($E42=\"Y\",INDEX(OIQraw,ROW(),Setup!$C$5+COLUMN()-26),\"x\")","v":"x"},{"$f":"IF($E42=\"Y\",INDEX(OIQraw,ROW(),Setup!$C$5+COLUMN()-26),\"x\")","v":"x"},{"$f":"IF($E42=\"Y\",INDEX(OIQraw,ROW(),Setup!$C$5+COLUMN()-26),\"x\")","v":"x"},{"$f":"IF($E42=\"Y\",INDEX(OIQraw,ROW(),Setup!$C$5+COLUMN()-26),\"x\")","v":"x"},{"$f":"IF($E42=\"Y\",INDEX(OIQraw,ROW(),Setup!$C$5+COLUMN()-26),\"x\")","v":"x"},{"$f":"IF($E42=\"Y\",INDEX(OIQraw,ROW(),Setup!$C$5+COLUMN()-26),\"x\")","v":"x"},{"$f":"IF($E42=\"Y\",INDEX(OIQraw,ROW(),Setup!$C$5+COLUMN()-26),\"x\")","v":"x"},{"$f":"IF($E42=\"Y\",INDEX(OIQraw,ROW(),Setup!$C$5+COLUMN()-26),\"x\")","v":"x"},{"$f":"IF($E42=\"Y\",INDEX(OIQraw,ROW(),Setup!$C$5+COLUMN()-26),\"x\")","v":"x"},{"$f":"IF($E42=\"Y\",INDEX(OIQraw,ROW(),Setup!$C$5+COLUMN()-26),\"x\")","v":"x"},{"$f":"IF($E42=\"Y\",INDEX(OIQraw,ROW(),Setup!$C$5+COLUMN()-26),\"x\")","v":"x"},{"$f":"IF($E42=\"Y\",INDEX(OIQraw,ROW(),Setup!$C$5+COLUMN()-26),\"x\")","v":"x"},{"$f":"IF($E42=\"Y\",INDEX(OIQraw,ROW(),Setup!$C$5+COLUMN()-26),\"x\")","v":"x"},{"$f":"IF($E42=\"Y\",INDEX(OIQraw,ROW(),Setup!$C$5+COLUMN()-26),\"x\")","v":"x"},{"$f":"IF($E42=\"Y\",INDEX(OIQraw,ROW(),Setup!$C$5+COLUMN()-26),\"x\")","v":"x"},{"$f":"IF($E42=\"Y\",INDEX(OIQraw,ROW(),Setup!$C$5+COLUMN()-26),\"x\")","v":"x"},{"$f":"IF($E42=\"Y\",INDEX(OIQraw,ROW(),Setup!$C$5+COLUMN()-26),\"x\")","v":"x"},{"$f":"IF($E42=\"Y\",INDEX(OIQraw,ROW(),Setup!$C$5+COLUMN()-26),\"x\")","v":"x"},{"$f":"IF($E42=\"Y\",INDEX(OIQraw,ROW(),Setup!$C$5+COLUMN()-26),\"x\")","v":"x"},{"$f":"IF($E42=\"Y\",INDEX(OIQraw,ROW(),Setup!$C$5+COLUMN()-26),\"x\")","v":"x"},{"$f":"IF($E42=\"Y\",INDEX(OIQraw,ROW(),Setup!$C$5+COLUMN()-26),\"x\")","v":"x"},{"$f":"IF($E42=\"Y\",INDEX(OIQraw,ROW(),Setup!$C$5+COLUMN()-26),\"x\")","v":"x"},{"$f":"IF($E42=\"Y\",INDEX(OIQraw,ROW(),Setup!$C$5+COLUMN()-26),\"x\")","v":"x"},{"$f":"IF($E42=\"Y\",INDEX(OIQraw,ROW(),Setup!$C$5+COLUMN()-26),\"x\")","v":"x"},{"$f":"IF($E42=\"Y\",INDEX(OIQraw,ROW(),Setup!$C$5+COLUMN()-26),\"x\")","v":"x"},{"$f":"IF($E42=\"Y\",INDEX(OIQraw,ROW(),Setup!$C$5+COLUMN()-26),\"x\")","v":"x"},{"$f":"IF($E42=\"Y\",INDEX(OIQraw,ROW(),Setup!$C$5+COLUMN()-26),\"x\")","v":"x"},{"$f":"IF($E42=\"Y\",INDEX(OIQraw,ROW(),Setup!$C$5+COLUMN()-26),\"x\")","v":"x"},{"$f":"IF($E42=\"Y\",INDEX(OIQraw,ROW(),Setup!$C$5+COLUMN()-26),\"x\")","v":"x"},{"$f":"IF($E42=\"Y\",INDEX(OIQraw,ROW(),Setup!$C$5+COLUMN()-26),\"x\")","v":"x"},{"$f":"IF($E42=\"Y\",INDEX(OIQraw,ROW(),Setup!$C$5+COLUMN()-26),\"x\")","v":"x"},{"$f":"IF($E42=\"Y\",INDEX(OIQraw,ROW(),Setup!$C$5+COLUMN()-26),\"x\")","v":"x"},{"$f":"IF($E42=\"Y\",INDEX(OIQraw,ROW(),Setup!$C$5+COLUMN()-26),\"x\")","v":"x"},{"$f":"IF($E42=\"Y\",INDEX(OIQraw,ROW(),Setup!$C$5+COLUMN()-26),\"x\")","v":"x"},{"$f":"IF($E42=\"Y\",INDEX(OIQraw,ROW(),Setup!$C$5+COLUMN()-26),\"x\")","v":"x"},{"$f":"IF($E42=\"Y\",INDEX(OIQraw,ROW(),Setup!$C$5+COLUMN()-26),\"x\")","v":"x"},{"$f":"IF($E42=\"Y\",INDEX(OIQraw,ROW(),Setup!$C$5+COLUMN()-26),\"x\")","v":"x"},{"$f":"IF($E42=\"Y\",INDEX(OIQraw,ROW(),Setup!$C$5+COLUMN()-26),\"x\")","v":"x"},{"$f":"IF($E42=\"Y\",INDEX(OIQraw,ROW(),Setup!$C$5+COLUMN()-26),\"x\")","v":"x"},{"$f":"IF($E42=\"Y\",INDEX(OIQraw,ROW(),Setup!$C$5+COLUMN()-26),\"x\")","v":"x"},{"$f":"IF($E42=\"Y\",INDEX(OIQraw,ROW(),Setup!$C$5+COLUMN()-26),\"x\")","v":"x"},{"$f":"IF($E42=\"Y\",INDEX(OIQraw,ROW(),Setup!$C$5+COLUMN()-26),\"x\")","v":"x"},{"$f":"IF($E42=\"Y\",INDEX(OIQraw,ROW(),Setup!$C$5+COLUMN()-26),\"x\")","v":"x"},{"$f":"IF($E42=\"Y\",INDEX(OIQraw,ROW(),Setup!$C$5+COLUMN()-26),\"x\")","v":"x"},{"$f":"IF($E42=\"Y\",INDEX(OIQraw,ROW(),Setup!$C$5+COLUMN()-26),\"x\")","v":"x"},{"$f":"IF($E42=\"Y\",INDEX(OIQraw,ROW(),Setup!$C$5+COLUMN()-26),\"x\")","v":"x"},{"$f":"IF($E42=\"Y\",INDEX(OIQraw,ROW(),Setup!$C$5+COLUMN()-26),\"x\")","v":"x"},{"$f":"IF($E42=\"Y\",INDEX(OIQraw,ROW(),Setup!$C$5+COLUMN()-26),\"x\")","v":"x"},{"$f":"IF($E42=\"Y\",INDEX(OIQraw,ROW(),Setup!$C$5+COLUMN()-26),\"x\")","v":"x"},{"$f":"IF($E42=\"Y\",INDEX(OIQraw,ROW(),Setup!$C$5+COLUMN()-26),\"x\")","v":"x"},{"$f":"IF($E42=\"Y\",INDEX(OIQraw,ROW(),Setup!$C$5+COLUMN()-26),\"x\")","v":"x"},{"$f":"IF($E42=\"Y\",INDEX(OIQraw,ROW(),Setup!$C$5+COLUMN()-26),\"x\")","v":"x"},{"$f":"IF($E42=\"Y\",INDEX(OIQraw,ROW(),Setup!$C$5+COLUMN()-26),\"x\")","v":"x"},{"$f":"IF($E42=\"Y\",INDEX(OIQraw,ROW(),Setup!$C$5+COLUMN()-26),\"x\")","v":"x"},{"$f":"IF($E42=\"Y\",INDEX(OIQraw,ROW(),Setup!$C$5+COLUMN()-26),\"x\")","v":"x"},{"$f":"IF($E42=\"Y\",INDEX(OIQraw,ROW(),Setup!$C$5+COLUMN()-26),\"x\")","v":"x"},{"$f":"IF($E42=\"Y\",INDEX(OIQraw,ROW(),Setup!$C$5+COLUMN()-26),\"x\")","v":"x"},{"$f":"IF($E42=\"Y\",INDEX(OIQraw,ROW(),Setup!$C$5+COLUMN()-26),\"x\")","v":"x"},{"$f":"IF($E42=\"Y\",INDEX(OIQraw,ROW(),Setup!$C$5+COLUMN()-26),\"x\")","v":"x"},{"$f":"IF($E42=\"Y\",INDEX(OIQraw,ROW(),Setup!$C$5+COLUMN()-26),\"x\")","v":"x"},{"$f":"IF($E42=\"Y\",INDEX(OIQraw,ROW(),Setup!$C$5+COLUMN()-26),\"x\")","v":"x"},{"$f":"IF($E42=\"Y\",INDEX(OIQraw,ROW(),Setup!$C$5+COLUMN()-26),\"x\")","v":"x"},{"$f":"IF($E42=\"Y\",INDEX(OIQraw,ROW(),Setup!$C$5+COLUMN()-26),\"x\")","v":"x"},{"$f":"IF($E42=\"Y\",INDEX(OIQraw,ROW(),Setup!$C$5+COLUMN()-26),\"x\")","v":"x"},{"$f":"IF($E42=\"Y\",INDEX(OIQraw,ROW(),Setup!$C$5+COLUMN()-26),\"x\")","v":"x"},{"$f":"IF($E42=\"Y\",INDEX(OIQraw,ROW(),Setup!$C$5+COLUMN()-26),\"x\")","v":"x"},{"$f":"IF($E42=\"Y\",INDEX(OIQraw,ROW(),Setup!$C$5+COLUMN()-26),\"x\")","v":"x"},{"$f":"IF($E42=\"Y\",INDEX(OIQraw,ROW(),Setup!$C$5+COLUMN()-26),\"x\")","v":"x"},{"$f":"IF($E42=\"Y\",INDEX(OIQraw,ROW(),Setup!$C$5+COLUMN()-26),\"x\")","v":"x"},{"$f":"IF($E42=\"Y\",INDEX(OIQraw,ROW(),Setup!$C$5+COLUMN()-26),\"x\")","v":"x"},{"$f":"IF($E42=\"Y\",INDEX(OIQraw,ROW(),Setup!$C$5+COLUMN()-26),\"x\")","v":"x"},{"$f":"IF($E42=\"Y\",INDEX(OIQraw,ROW(),Setup!$C$5+COLUMN()-26),\"x\")","v":"x"},{"$f":"IF($E42=\"Y\",INDEX(OIQraw,ROW(),Setup!$C$5+COLUMN()-26),\"x\")","v":"x"},{"$f":"IF($E42=\"Y\",INDEX(OIQraw,ROW(),Setup!$C$5+COLUMN()-26),\"x\")","v":"x"},{"$f":"IF($E42=\"Y\",INDEX(OIQraw,ROW(),Setup!$C$5+COLUMN()-26),\"x\")","v":"x"},{"$f":"IF($E42=\"Y\",INDEX(OIQraw,ROW(),Setup!$C$5+COLUMN()-26),\"x\")","v":"x"},{"$f":"IF($E42=\"Y\",INDEX(OIQraw,ROW(),Setup!$C$5+COLUMN()-26),\"x\")","v":"x"},{"$f":"IF($E42=\"Y\",INDEX(OIQraw,ROW(),Setup!$C$5+COLUMN()-26),\"x\")","v":"x"},{"$f":"IF($E42=\"Y\",INDEX(OIQraw,ROW(),Setup!$C$5+COLUMN()-26),\"x\")","v":"x"},{"$f":"IF($E42=\"Y\",INDEX(OIQraw,ROW(),Setup!$C$5+COLUMN()-26),\"x\")","v":"x"},{"$f":"IF($E42=\"Y\",INDEX(OIQraw,ROW(),Setup!$C$5+COLUMN()-26),\"x\")","v":"x"},{"$f":"IF($E42=\"Y\",INDEX(OIQraw,ROW(),Setup!$C$5+COLUMN()-26),\"x\")","v":"x"},{"$f":"IF($E42=\"Y\",INDEX(OIQraw,ROW(),Setup!$C$5+COLUMN()-26),\"x\")","v":"x"},{"$f":"IF($E42=\"Y\",INDEX(OIQraw,ROW(),Setup!$C$5+COLUMN()-26),\"x\")","v":"x"},{"$f":"IF($E42=\"Y\",INDEX(OIQraw,ROW(),Setup!$C$5+COLUMN()-26),\"x\")","v":"x"},{"$f":"IF($E42=\"Y\",INDEX(OIQraw,ROW(),Setup!$C$5+COLUMN()-26),\"x\")","v":"x"},{"$f":"IF($E42=\"Y\",INDEX(OIQraw,ROW(),Setup!$C$5+COLUMN()-26),\"x\")","v":"x"},{"$f":"IF($E42=\"Y\",INDEX(OIQraw,ROW(),Setup!$C$5+COLUMN()-26),\"x\")","v":"x"},{"$f":"IF($E42=\"Y\",INDEX(OIQraw,ROW(),Setup!$C$5+COLUMN()-26),\"x\")","v":"x"},{"$f":"IF($E42=\"Y\",INDEX(OIQraw,ROW(),Setup!$C$5+COLUMN()-26),\"x\")","v":"x"},{"$f":"IF($E42=\"Y\",INDEX(OIQraw,ROW(),Setup!$C$5+COLUMN()-26),\"x\")","v":"x"},{"$f":"IF($E42=\"Y\",INDEX(OIQraw,ROW(),Setup!$C$5+COLUMN()-26),\"x\")","v":"x"},{"$f":"IF($E42=\"Y\",INDEX(OIQraw,ROW(),Setup!$C$5+COLUMN()-26),\"x\")","v":"x"},{"$f":"IF($E42=\"Y\",INDEX(OIQraw,ROW(),Setup!$C$5+COLUMN()-26),\"x\")","v":"x"},{"$f":"IF($E42=\"Y\",INDEX(OIQraw,ROW(),Setup!$C$5+COLUMN()-26),\"x\")","v":"x"},{"$f":"IF($E42=\"Y\",INDEX(OIQraw,ROW(),Setup!$C$5+COLUMN()-26),\"x\")","v":"x"},{"$f":"IF($E42=\"Y\",INDEX(OIQraw,ROW(),Setup!$C$5+COLUMN()-26),\"x\")","v":"x"},{"$f":"IF($E42=\"Y\",INDEX(OIQraw,ROW(),Setup!$C$5+COLUMN()-26),\"x\")","v":"x"},{"$f":"IF($E42=\"Y\",INDEX(OIQraw,ROW(),Setup!$C$5+COLUMN()-26),\"x\")","v":"x"},{"$f":"IF($E42=\"Y\",INDEX(OIQraw,ROW(),Setup!$C$5+COLUMN()-26),\"x\")","v":"x"},{"$f":"IF($E42=\"Y\",INDEX(OIQraw,ROW(),Setup!$C$5+COLUMN()-26),\"x\")","v":"x"},{"$f":"IF($E42=\"Y\",INDEX(OIQraw,ROW(),Setup!$C$5+COLUMN()-26),\"x\")","v":"x"},{"$f":"IF($E42=\"Y\",INDEX(OIQraw,ROW(),Setup!$C$5+COLUMN()-26),\"x\")","v":"x"},{"$f":"IF($E42=\"Y\",INDEX(OIQraw,ROW(),Setup!$C$5+COLUMN()-26),\"x\")","v":"x"},{"$f":"IF($E42=\"Y\",INDEX(OIQraw,ROW(),Setup!$C$5+COLUMN()-26),\"x\")","v":"x"},{"$f":"IF($E42=\"Y\",INDEX(OIQraw,ROW(),Setup!$C$5+COLUMN()-26),\"x\")","v":"x"},{"$f":"IF($E42=\"Y\",INDEX(OIQraw,ROW(),Setup!$C$5+COLUMN()-26),\"x\")","v":"x"},{"$f":"IF($E42=\"Y\",INDEX(OIQraw,ROW(),Setup!$C$5+COLUMN()-26),\"x\")","v":"x"},{"$f":"IF($E42=\"Y\",INDEX(OIQraw,ROW(),Setup!$C$5+COLUMN()-26),\"x\")","v":"x"},{"$f":"IF($E42=\"Y\",INDEX(OIQraw,ROW(),Setup!$C$5+COLUMN()-26),\"x\")","v":"x"},{"$f":"IF($E42=\"Y\",INDEX(OIQraw,ROW(),Setup!$C$5+COLUMN()-26),\"x\")","v":"x"},{"$f":"IF($E42=\"Y\",INDEX(OIQraw,ROW(),Setup!$C$5+COLUMN()-26),\"x\")","v":"x"},{"$f":"IF($E42=\"Y\",INDEX(OIQraw,ROW(),Setup!$C$5+COLUMN()-26),\"x\")","v":"x"},{"$f":"IF($E42=\"Y\",INDEX(OIQraw,ROW(),Setup!$C$5+COLUMN()-26),\"x\")","v":"x"},{"$f":"IF($E42=\"Y\",INDEX(OIQraw,ROW(),Setup!$C$5+COLUMN()-26),\"x\")","v":"x"},{"$f":"IF($E42=\"Y\",INDEX(OIQraw,ROW(),Setup!$C$5+COLUMN()-26),\"x\")","v":"x"},{"$f":"IF($E42=\"Y\",INDEX(OIQraw,ROW(),Setup!$C$5+COLUMN()-26),\"x\")","v":"x"},{"$f":"IF($E42=\"Y\",INDEX(OIQraw,ROW(),Setup!$C$5+COLUMN()-26),\"x\")","v":"x"},{"$f":"IF($E42=\"Y\",INDEX(OIQraw,ROW(),Setup!$C$5+COLUMN()-26),\"x\")","v":"x"},{"$f":"IF($E42=\"Y\",INDEX(OIQraw,ROW(),Setup!$C$5+COLUMN()-26),\"x\")","v":"x"},{"$f":"IF($E42=\"Y\",INDEX(OIQraw,ROW(),Setup!$C$5+COLUMN()-26),\"x\")","v":"x"},{"$f":"IF($E42=\"Y\",INDEX(OIQraw,ROW(),Setup!$C$5+COLUMN()-26),\"x\")","v":"x"},{"$f":"IF($E42=\"Y\",INDEX(OIQraw,ROW(),Setup!$C$5+COLUMN()-26),\"x\")","v":"x"},{"$f":"IF($E42=\"Y\",INDEX(OIQraw,ROW(),Setup!$C$5+COLUMN()-26),\"x\")","v":"x"},{"$f":"IF($E42=\"Y\",INDEX(OIQraw,ROW(),Setup!$C$5+COLUMN()-26),\"x\")","v":"x"},{"$f":"IF($E42=\"Y\",INDEX(OIQraw,ROW(),Setup!$C$5+COLUMN()-26),\"x\")","v":"x"},{"$f":"IF($E42=\"Y\",INDEX(OIQraw,ROW(),Setup!$C$5+COLUMN()-26),\"x\")","v":"x"},{"$f":"IF($E42=\"Y\",INDEX(OIQraw,ROW(),Setup!$C$5+COLUMN()-26),\"x\")","v":"x"},{"$f":"IF($E42=\"Y\",INDEX(OIQraw,ROW(),Setup!$C$5+COLUMN()-26),\"x\")","v":"x"},{"$f":"IF($E42=\"Y\",INDEX(OIQraw,ROW(),Setup!$C$5+COLUMN()-26),\"x\")","v":"x"},{"$f":"IF($E42=\"Y\",INDEX(OIQraw,ROW(),Setup!$C$5+COLUMN()-26),\"x\")","v":"x"},{"$f":"IF($E42=\"Y\",INDEX(OIQraw,ROW(),Setup!$C$5+COLUMN()-26),\"x\")","v":"x"},{"$f":"IF($E42=\"Y\",INDEX(OIQraw,ROW(),Setup!$C$5+COLUMN()-26),\"x\")","v":"x"},{"$f":"IF($E42=\"Y\",INDEX(OIQraw,ROW(),Setup!$C$5+COLUMN()-26),\"x\")","v":"x"},{"$f":"IF($E42=\"Y\",INDEX(OIQraw,ROW(),Setup!$C$5+COLUMN()-26),\"x\")","v":"x"},{"$f":"IF($E42=\"Y\",INDEX(OIQraw,ROW(),Setup!$C$5+COLUMN()-26),\"x\")","v":"x"},{"$f":"IF($E42=\"Y\",INDEX(OIQraw,ROW(),Setup!$C$5+COLUMN()-26),\"x\")","v":"x"},{"$f":"IF($E42=\"Y\",INDEX(OIQraw,ROW(),Setup!$C$5+COLUMN()-26),\"x\")","v":"x"},{"$f":"IF($E42=\"Y\",INDEX(OIQraw,ROW(),Setup!$C$5+COLUMN()-26),\"x\")","v":"x"},{"$f":"IF($E42=\"Y\",INDEX(OIQraw,ROW(),Setup!$C$5+COLUMN()-26),\"x\")","v":"x"},{"$f":"IF($E42=\"Y\",INDEX(OIQraw,ROW(),Setup!$C$5+COLUMN()-26),\"x\")","v":"x"},{"$f":"IF($E42=\"Y\",INDEX(OIQraw,ROW(),Setup!$C$5+COLUMN()-26),\"x\")","v":"x"},{"$f":"IF($E42=\"Y\",INDEX(OIQraw,ROW(),Setup!$C$5+COLUMN()-26),\"x\")","v":"x"},{"$f":"IF($E42=\"Y\",INDEX(OIQraw,ROW(),Setup!$C$5+COLUMN()-26),\"x\")","v":"x"},{"$f":"IF($E42=\"Y\",INDEX(OIQraw,ROW(),Setup!$C$5+COLUMN()-26),\"x\")","v":"x"},{"$f":"IF($E42=\"Y\",INDEX(OIQraw,ROW(),Setup!$C$5+COLUMN()-26),\"x\")","v":"x"},{"$f":"IF($E42=\"Y\",INDEX(OIQraw,ROW(),Setup!$C$5+COLUMN()-26),\"x\")","v":"x"},{"$f":"IF($E42=\"Y\",INDEX(OIQraw,ROW(),Setup!$C$5+COLUMN()-26),\"x\")","v":"x"},{"$f":"IF($E42=\"Y\",INDEX(OIQraw,ROW(),Setup!$C$5+COLUMN()-26),\"x\")","v":"x"},{"$f":"IF($E42=\"Y\",INDEX(OIQraw,ROW(),Setup!$C$5+COLUMN()-26),\"x\")","v":"x"},{"$f":"IF($E42=\"Y\",INDEX(OIQraw,ROW(),Setup!$C$5+COLUMN()-26),\"x\")","v":"x"},{"$f":"IF($E42=\"Y\",INDEX(OIQraw,ROW(),Setup!$C$5+COLUMN()-26),\"x\")","v":"x"},{"$f":"IF($E42=\"Y\",INDEX(OIQraw,ROW(),Setup!$C$5+COLUMN()-26),\"x\")","v":"x"},{"$f":"IF($E42=\"Y\",INDEX(OIQraw,ROW(),Setup!$C$5+COLUMN()-26),\"x\")","v":"x"},{"$f":"IF($E42=\"Y\",INDEX(OIQraw,ROW(),Setup!$C$5+COLUMN()-26),\"x\")","v":"x"},{"$f":"IF($E42=\"Y\",INDEX(OIQraw,ROW(),Setup!$C$5+COLUMN()-26),\"x\")","v":"x"},{"$f":"IF($E42=\"Y\",INDEX(OIQraw,ROW(),Setup!$C$5+COLUMN()-26),\"x\")","v":"x"},{"$f":"IF($E42=\"Y\",INDEX(OIQraw,ROW(),Setup!$C$5+COLUMN()-26),\"x\")","v":"x"},{"$f":"IF($E42=\"Y\",INDEX(OIQraw,ROW(),Setup!$C$5+COLUMN()-26),\"x\")","v":"x"},{"$f":"IF($E42=\"Y\",INDEX(OIQraw,ROW(),Setup!$C$5+COLUMN()-26),\"x\")","v":"x"},{"$f":"IF($E42=\"Y\",INDEX(OIQraw,ROW(),Setup!$C$5+COLUMN()-26),\"x\")","v":"x"},{"$f":"IF($E42=\"Y\",INDEX(OIQraw,ROW(),Setup!$C$5+COLUMN()-26),\"x\")","v":"x"},{"$f":"IF($E42=\"Y\",INDEX(OIQraw,ROW(),Setup!$C$5+COLUMN()-26),\"x\")","v":"x"},{"$f":"IF($E42=\"Y\",INDEX(OIQraw,ROW(),Setup!$C$5+COLUMN()-26),\"x\")","v":"x"},{"$f":"IF($E42=\"Y\",INDEX(OIQraw,ROW(),Setup!$C$5+COLUMN()-26),\"x\")","v":"x"},{"$f":"IF($E42=\"Y\",INDEX(OIQraw,ROW(),Setup!$C$5+COLUMN()-26),\"x\")","v":"x"},{"$f":"IF($E42=\"Y\",INDEX(OIQraw,ROW(),Setup!$C$5+COLUMN()-26),\"x\")","v":"x"},{"$f":"IF($E42=\"Y\",INDEX(OIQraw,ROW(),Setup!$C$5+COLUMN()-26),\"x\")","v":"x"},{"$f":"IF($E42=\"Y\",INDEX(OIQraw,ROW(),Setup!$C$5+COLUMN()-26),\"x\")","v":"x"},{"$f":"IF($E42=\"Y\",INDEX(OIQraw,ROW(),Setup!$C$5+COLUMN()-26),\"x\")","v":"x"},{"$f":"IF($E42=\"Y\",INDEX(OIQraw,ROW(),Setup!$C$5+COLUMN()-26),\"x\")","v":"x"},{"$f":"IF($E42=\"Y\",INDEX(OIQraw,ROW(),Setup!$C$5+COLUMN()-26),\"x\")","v":"x"},{"$f":"IF($E42=\"Y\",INDEX(OIQraw,ROW(),Setup!$C$5+COLUMN()-26),\"x\")","v":"x"},{"$f":"IF($E42=\"Y\",INDEX(OIQraw,ROW(),Setup!$C$5+COLUMN()-26),\"x\")","v":"x"},{"$f":"IF($E42=\"Y\",INDEX(OIQraw,ROW(),Setup!$C$5+COLUMN()-26),\"x\")","v":"x"},{"$f":"IF($E42=\"Y\",INDEX(OIQraw,ROW(),Setup!$C$5+COLUMN()-26),\"x\")","v":"x"},{"$f":"IF($E42=\"Y\",INDEX(OIQraw,ROW(),Setup!$C$5+COLUMN()-26),\"x\")","v":"x"},{"$f":"IF($E42=\"Y\",INDEX(OIQraw,ROW(),Setup!$C$5+COLUMN()-26),\"x\")","v":"x"},{"$f":"IF($E42=\"Y\",INDEX(OIQraw,ROW(),Setup!$C$5+COLUMN()-26),\"x\")","v":"x"},{"$f":"IF($E42=\"Y\",INDEX(OIQraw,ROW(),Setup!$C$5+COLUMN()-26),\"x\")","v":"x"},{"$f":"IF($E42=\"Y\",INDEX(OIQraw,ROW(),Setup!$C$5+COLUMN()-26),\"x\")","v":"x"},{"$f":"IF($E42=\"Y\",INDEX(OIQraw,ROW(),Setup!$C$5+COLUMN()-26),\"x\")","v":"x"},{"$f":"IF($E42=\"Y\",INDEX(OIQraw,ROW(),Setup!$C$5+COLUMN()-26),\"x\")","v":"x"},{"$f":"IF($E42=\"Y\",INDEX(OIQraw,ROW(),Setup!$C$5+COLUMN()-26),\"x\")","v":"x"},{"$f":"IF($E42=\"Y\",INDEX(OIQraw,ROW(),Setup!$C$5+COLUMN()-26),\"x\")","v":"x"},{"$f":"IF($E42=\"Y\",INDEX(OIQraw,ROW(),Setup!$C$5+COLUMN()-26),\"x\")","v":"x"},{"$f":"IF($E42=\"Y\",INDEX(OIQraw,ROW(),Setup!$C$5+COLUMN()-26),\"x\")","v":"x"},{"$f":"IF($E42=\"Y\",INDEX(OIQraw,ROW(),Setup!$C$5+COLUMN()-26),\"x\")","v":"x"},{"$f":"IF($E42=\"Y\",INDEX(OIQraw,ROW(),Setup!$C$5+COLUMN()-26),\"x\")","v":"x"}]
[1,"","",{"$f":"IF(ISERROR(FIND(\"Withdrew\",RawScores!B47)),RawScores!B47,RIGHT(RawScores!B47,LEN(RawScores!B47)-17))&\", \"&RawScores!C47","v":", "},{"$f":"IF(OR(ISERROR(FIND(\"Withdrew\",RawScores!B47))=FALSE,INDEX(OIQraw,ROW(),LastInputCol-3)=0),\"N\",IF(AND(Setup!$B$22=\"Yes\",INDEX(OIQraw,ROW(),LastInputCol)=1),\"N\",\"Y\"))","v":"N"},"X","X","X",{"$f":"IF(AND(ISNUMBER(F43),F43>Setup!$B$14-1),1,0)","v":0},{"$f":"IF(AND(F43>Setup!$B$14-1,Conv!H43<5),1,0)","v":0},{"$f":"IF(AND(F43>Setup!$B$14-1,Conv!G43=\"F\"),1,0)","v":0},"","","","","","","","","","","","","X","X",{"$f":"IF($E43=\"Y\",INDEX(OIQraw,ROW(),Setup!$C$5+COLUMN()-26),\"x\")","v":"x"},{"$f":"IF($E43=\"Y\",INDEX(OIQraw,ROW(),Setup!$C$5+COLUMN()-26),\"x\")","v":"x"},{"$f":"IF($E43=\"Y\",INDEX(OIQraw,ROW(),Setup!$C$5+COLUMN()-26),\"x\")","v":"x"},{"$f":"IF($E43=\"Y\",INDEX(OIQraw,ROW(),Setup!$C$5+COLUMN()-26),\"x\")","v":"x"},{"$f":"IF($E43=\"Y\",INDEX(OIQraw,ROW(),Setup!$C$5+COLUMN()-26),\"x\")","v":"x"},{"$f":"IF($E43=\"Y\",INDEX(OIQraw,ROW(),Setup!$C$5+COLUMN()-26),\"x\")","v":"x"},{"$f":"IF($E43=\"Y\",INDEX(OIQraw,ROW(),Setup!$C$5+COLUMN()-26),\"x\")","v":"x"},{"$f":"IF($E43=\"Y\",INDEX(OIQraw,ROW(),Setup!$C$5+COLUMN()-26),\"x\")","v":"x"},{"$f":"IF($E43=\"Y\",INDEX(OIQraw,ROW(),Setup!$C$5+COLUMN()-26),\"x\")","v":"x"},{"$f":"IF($E43=\"Y\",INDEX(OIQraw,ROW(),Setup!$C$5+COLUMN()-26),\"x\")","v":"x"},{"$f":"IF($E43=\"Y\",INDEX(OIQraw,ROW(),Setup!$C$5+COLUMN()-26),\"x\")","v":"x"},{"$f":"IF($E43=\"Y\",INDEX(OIQraw,ROW(),Setup!$C$5+COLUMN()-26),\"x\")","v":"x"},{"$f":"IF($E43=\"Y\",INDEX(OIQraw,ROW(),Setup!$C$5+COLUMN()-26),\"x\")","v":"x"},{"$f":"IF($E43=\"Y\",INDEX(OIQraw,ROW(),Setup!$C$5+COLUMN()-26),\"x\")","v":"x"},{"$f":"IF($E43=\"Y\",INDEX(OIQraw,ROW(),Setup!$C$5+COLUMN()-26),\"x\")","v":"x"},{"$f":"IF($E43=\"Y\",INDEX(OIQraw,ROW(),Setup!$C$5+COLUMN()-26),\"x\")","v":"x"},{"$f":"IF($E43=\"Y\",INDEX(OIQraw,ROW(),Setup!$C$5+COLUMN()-26),\"x\")","v":"x"},{"$f":"IF($E43=\"Y\",INDEX(OIQraw,ROW(),Setup!$C$5+COLUMN()-26),\"x\")","v":"x"},{"$f":"IF($E43=\"Y\",INDEX(OIQraw,ROW(),Setup!$C$5+COLUMN()-26),\"x\")","v":"x"},{"$f":"IF($E43=\"Y\",INDEX(OIQraw,ROW(),Setup!$C$5+COLUMN()-26),\"x\")","v":"x"},{"$f":"IF($E43=\"Y\",INDEX(OIQraw,ROW(),Setup!$C$5+COLUMN()-26),\"x\")","v":"x"},{"$f":"IF($E43=\"Y\",INDEX(OIQraw,ROW(),Setup!$C$5+COLUMN()-26),\"x\")","v":"x"},{"$f":"IF($E43=\"Y\",INDEX(OIQraw,ROW(),Setup!$C$5+COLUMN()-26),\"x\")","v":"x"},{"$f":"IF($E43=\"Y\",INDEX(OIQraw,ROW(),Setup!$C$5+COLUMN()-26),\"x\")","v":"x"},{"$f":"IF($E43=\"Y\",INDEX(OIQraw,ROW(),Setup!$C$5+COLUMN()-26),\"x\")","v":"x"},{"$f":"IF($E43=\"Y\",INDEX(OIQraw,ROW(),Setup!$C$5+COLUMN()-26),\"x\")","v":"x"},{"$f":"IF($E43=\"Y\",INDEX(OIQraw,ROW(),Setup!$C$5+COLUMN()-26),\"x\")","v":"x"},{"$f":"IF($E43=\"Y\",INDEX(OIQraw,ROW(),Setup!$C$5+COLUMN()-26),\"x\")","v":"x"},{"$f":"IF($E43=\"Y\",INDEX(OIQraw,ROW(),Setup!$C$5+COLUMN()-26),\"x\")","v":"x"},{"$f":"IF($E43=\"Y\",INDEX(OIQraw,ROW(),Setup!$C$5+COLUMN()-26),\"x\")","v":"x"},{"$f":"IF($E43=\"Y\",INDEX(OIQraw,ROW(),Setup!$C$5+COLUMN()-26),\"x\")","v":"x"},{"$f":"IF($E43=\"Y\",INDEX(OIQraw,ROW(),Setup!$C$5+COLUMN()-26),\"x\")","v":"x"},{"$f":"IF($E43=\"Y\",INDEX(OIQraw,ROW(),Setup!$C$5+COLUMN()-26),\"x\")","v":"x"},{"$f":"IF($E43=\"Y\",INDEX(OIQraw,ROW(),Setup!$C$5+COLUMN()-26),\"x\")","v":"x"},{"$f":"IF($E43=\"Y\",INDEX(OIQraw,ROW(),Setup!$C$5+COLUMN()-26),\"x\")","v":"x"},{"$f":"IF($E43=\"Y\",INDEX(OIQraw,ROW(),Setup!$C$5+COLUMN()-26),\"x\")","v":"x"},{"$f":"IF($E43=\"Y\",INDEX(OIQraw,ROW(),Setup!$C$5+COLUMN()-26),\"x\")","v":"x"},{"$f":"IF($E43=\"Y\",INDEX(OIQraw,ROW(),Setup!$C$5+COLUMN()-26),\"x\")","v":"x"},{"$f":"IF($E43=\"Y\",INDEX(OIQraw,ROW(),Setup!$C$5+COLUMN()-26),\"x\")","v":"x"},{"$f":"IF($E43=\"Y\",INDEX(OIQraw,ROW(),Setup!$C$5+COLUMN()-26),\"x\")","v":"x"},{"$f":"IF($E43=\"Y\",INDEX(OIQraw,ROW(),Setup!$C$5+COLUMN()-26),\"x\")","v":"x"},{"$f":"IF($E43=\"Y\",INDEX(OIQraw,ROW(),Setup!$C$5+COLUMN()-26),\"x\")","v":"x"},{"$f":"IF($E43=\"Y\",INDEX(OIQraw,ROW(),Setup!$C$5+COLUMN()-26),\"x\")","v":"x"},{"$f":"IF($E43=\"Y\",INDEX(OIQraw,ROW(),Setup!$C$5+COLUMN()-26),\"x\")","v":"x"},{"$f":"IF($E43=\"Y\",INDEX(OIQraw,ROW(),Setup!$C$5+COLUMN()-26),\"x\")","v":"x"},{"$f":"IF($E43=\"Y\",INDEX(OIQraw,ROW(),Setup!$C$5+COLUMN()-26),\"x\")","v":"x"},{"$f":"IF($E43=\"Y\",INDEX(OIQraw,ROW(),Setup!$C$5+COLUMN()-26),\"x\")","v":"x"},{"$f":"IF($E43=\"Y\",INDEX(OIQraw,ROW(),Setup!$C$5+COLUMN()-26),\"x\")","v":"x"},{"$f":"IF($E43=\"Y\",INDEX(OIQraw,ROW(),Setup!$C$5+COLUMN()-26),\"x\")","v":"x"},{"$f":"IF($E43=\"Y\",INDEX(OIQraw,ROW(),Setup!$C$5+COLUMN()-26),\"x\")","v":"x"},{"$f":"IF($E43=\"Y\",INDEX(OIQraw,ROW(),Setup!$C$5+COLUMN()-26),\"x\")","v":"x"},{"$f":"IF($E43=\"Y\",INDEX(OIQraw,ROW(),Setup!$C$5+COLUMN()-26),\"x\")","v":"x"},{"$f":"IF($E43=\"Y\",INDEX(OIQraw,ROW(),Setup!$C$5+COLUMN()-26),\"x\")","v":"x"},{"$f":"IF($E43=\"Y\",INDEX(OIQraw,ROW(),Setup!$C$5+COLUMN()-26),\"x\")","v":"x"},{"$f":"IF($E43=\"Y\",INDEX(OIQraw,ROW(),Setup!$C$5+COLUMN()-26),\"x\")","v":"x"},{"$f":"IF($E43=\"Y\",INDEX(OIQraw,ROW(),Setup!$C$5+COLUMN()-26),\"x\")","v":"x"},{"$f":"IF($E43=\"Y\",INDEX(OIQraw,ROW(),Setup!$C$5+COLUMN()-26),\"x\")","v":"x"},{"$f":"IF($E43=\"Y\",INDEX(OIQraw,ROW(),Setup!$C$5+COLUMN()-26),\"x\")","v":"x"},{"$f":"IF($E43=\"Y\",INDEX(OIQraw,ROW(),Setup!$C$5+COLUMN()-26),\"x\")","v":"x"},{"$f":"IF($E43=\"Y\",INDEX(OIQraw,ROW(),Setup!$C$5+COLUMN()-26),\"x\")","v":"x"},{"$f":"IF($E43=\"Y\",INDEX(OIQraw,ROW(),Setup!$C$5+COLUMN()-26),\"x\")","v":"x"},{"$f":"IF($E43=\"Y\",INDEX(OIQraw,ROW(),Setup!$C$5+COLUMN()-26),\"x\")","v":"x"},{"$f":"IF($E43=\"Y\",INDEX(OIQraw,ROW(),Setup!$C$5+COLUMN()-26),\"x\")","v":"x"},{"$f":"IF($E43=\"Y\",INDEX(OIQraw,ROW(),Setup!$C$5+COLUMN()-26),\"x\")","v":"x"},{"$f":"IF($E43=\"Y\",INDEX(OIQraw,ROW(),Setup!$C$5+COLUMN()-26),\"x\")","v":"x"},{"$f":"IF($E43=\"Y\",INDEX(OIQraw,ROW(),Setup!$C$5+COLUMN()-26),\"x\")","v":"x"},{"$f":"IF($E43=\"Y\",INDEX(OIQraw,ROW(),Setup!$C$5+COLUMN()-26),\"x\")","v":"x"},{"$f":"IF($E43=\"Y\",INDEX(OIQraw,ROW(),Setup!$C$5+COLUMN()-26),\"x\")","v":"x"},{"$f":"IF($E43=\"Y\",INDEX(OIQraw,ROW(),Setup!$C$5+COLUMN()-26),\"x\")","v":"x"},{"$f":"IF($E43=\"Y\",INDEX(OIQraw,ROW(),Setup!$C$5+COLUMN()-26),\"x\")","v":"x"},{"$f":"IF($E43=\"Y\",INDEX(OIQraw,ROW(),Setup!$C$5+COLUMN()-26),\"x\")","v":"x"},{"$f":"IF($E43=\"Y\",INDEX(OIQraw,ROW(),Setup!$C$5+COLUMN()-26),\"x\")","v":"x"},{"$f":"IF($E43=\"Y\",INDEX(OIQraw,ROW(),Setup!$C$5+COLUMN()-26),\"x\")","v":"x"},{"$f":"IF($E43=\"Y\",INDEX(OIQraw,ROW(),Setup!$C$5+COLUMN()-26),\"x\")","v":"x"},{"$f":"IF($E43=\"Y\",INDEX(OIQraw,ROW(),Setup!$C$5+COLUMN()-26),\"x\")","v":"x"},{"$f":"IF($E43=\"Y\",INDEX(OIQraw,ROW(),Setup!$C$5+COLUMN()-26),\"x\")","v":"x"},{"$f":"IF($E43=\"Y\",INDEX(OIQraw,ROW(),Setup!$C$5+COLUMN()-26),\"x\")","v":"x"},{"$f":"IF($E43=\"Y\",INDEX(OIQraw,ROW(),Setup!$C$5+COLUMN()-26),\"x\")","v":"x"},{"$f":"IF($E43=\"Y\",INDEX(OIQraw,ROW(),Setup!$C$5+COLUMN()-26),\"x\")","v":"x"},{"$f":"IF($E43=\"Y\",INDEX(OIQraw,ROW(),Setup!$C$5+COLUMN()-26),\"x\")","v":"x"},{"$f":"IF($E43=\"Y\",INDEX(OIQraw,ROW(),Setup!$C$5+COLUMN()-26),\"x\")","v":"x"},{"$f":"IF($E43=\"Y\",INDEX(OIQraw,ROW(),Setup!$C$5+COLUMN()-26),\"x\")","v":"x"},{"$f":"IF($E43=\"Y\",INDEX(OIQraw,ROW(),Setup!$C$5+COLUMN()-26),\"x\")","v":"x"},{"$f":"IF($E43=\"Y\",INDEX(OIQraw,ROW(),Setup!$C$5+COLUMN()-26),\"x\")","v":"x"},{"$f":"IF($E43=\"Y\",INDEX(OIQraw,ROW(),Setup!$C$5+COLUMN()-26),\"x\")","v":"x"},{"$f":"IF($E43=\"Y\",INDEX(OIQraw,ROW(),Setup!$C$5+COLUMN()-26),\"x\")","v":"x"},{"$f":"IF($E43=\"Y\",INDEX(OIQraw,ROW(),Setup!$C$5+COLUMN()-26),\"x\")","v":"x"},{"$f":"IF($E43=\"Y\",INDEX(OIQraw,ROW(),Setup!$C$5+COLUMN()-26),\"x\")","v":"x"},{"$f":"IF($E43=\"Y\",INDEX(OIQraw,ROW(),Setup!$C$5+COLUMN()-26),\"x\")","v":"x"},{"$f":"IF($E43=\"Y\",INDEX(OIQraw,ROW(),Setup!$C$5+COLUMN()-26),\"x\")","v":"x"},{"$f":"IF($E43=\"Y\",INDEX(OIQraw,ROW(),Setup!$C$5+COLUMN()-26),\"x\")","v":"x"},{"$f":"IF($E43=\"Y\",INDEX(OIQraw,ROW(),Setup!$C$5+COLUMN()-26),\"x\")","v":"x"},{"$f":"IF($E43=\"Y\",INDEX(OIQraw,ROW(),Setup!$C$5+COLUMN()-26),\"x\")","v":"x"},{"$f":"IF($E43=\"Y\",INDEX(OIQraw,ROW(),Setup!$C$5+COLUMN()-26),\"x\")","v":"x"},{"$f":"IF($E43=\"Y\",INDEX(OIQraw,ROW(),Setup!$C$5+COLUMN()-26),\"x\")","v":"x"},{"$f":"IF($E43=\"Y\",INDEX(OIQraw,ROW(),Setup!$C$5+COLUMN()-26),\"x\")","v":"x"},{"$f":"IF($E43=\"Y\",INDEX(OIQraw,ROW(),Setup!$C$5+COLUMN()-26),\"x\")","v":"x"},{"$f":"IF($E43=\"Y\",INDEX(OIQraw,ROW(),Setup!$C$5+COLUMN()-26),\"x\")","v":"x"},{"$f":"IF($E43=\"Y\",INDEX(OIQraw,ROW(),Setup!$C$5+COLUMN()-26),\"x\")","v":"x"},{"$f":"IF($E43=\"Y\",INDEX(OIQraw,ROW(),Setup!$C$5+COLUMN()-26),\"x\")","v":"x"},{"$f":"IF($E43=\"Y\",INDEX(OIQraw,ROW(),Setup!$C$5+COLUMN()-26),\"x\")","v":"x"},{"$f":"IF($E43=\"Y\",INDEX(OIQraw,ROW(),Setup!$C$5+COLUMN()-26),\"x\")","v":"x"},{"$f":"IF($E43=\"Y\",INDEX(OIQraw,ROW(),Setup!$C$5+COLUMN()-26),\"x\")","v":"x"},{"$f":"IF($E43=\"Y\",INDEX(OIQraw,ROW(),Setup!$C$5+COLUMN()-26),\"x\")","v":"x"},{"$f":"IF($E43=\"Y\",INDEX(OIQraw,ROW(),Setup!$C$5+COLUMN()-26),\"x\")","v":"x"},{"$f":"IF($E43=\"Y\",INDEX(OIQraw,ROW(),Setup!$C$5+COLUMN()-26),\"x\")","v":"x"},{"$f":"IF($E43=\"Y\",INDEX(OIQraw,ROW(),Setup!$C$5+COLUMN()-26),\"x\")","v":"x"},{"$f":"IF($E43=\"Y\",INDEX(OIQraw,ROW(),Setup!$C$5+COLUMN()-26),\"x\")","v":"x"},{"$f":"IF($E43=\"Y\",INDEX(OIQraw,ROW(),Setup!$C$5+COLUMN()-26),\"x\")","v":"x"},{"$f":"IF($E43=\"Y\",INDEX(OIQraw,ROW(),Setup!$C$5+COLUMN()-26),\"x\")","v":"x"},{"$f":"IF($E43=\"Y\",INDEX(OIQraw,ROW(),Setup!$C$5+COLUMN()-26),\"x\")","v":"x"},{"$f":"IF($E43=\"Y\",INDEX(OIQraw,ROW(),Setup!$C$5+COLUMN()-26),\"x\")","v":"x"},{"$f":"IF($E43=\"Y\",INDEX(OIQraw,ROW(),Setup!$C$5+COLUMN()-26),\"x\")","v":"x"},{"$f":"IF($E43=\"Y\",INDEX(OIQraw,ROW(),Setup!$C$5+COLUMN()-26),\"x\")","v":"x"},{"$f":"IF($E43=\"Y\",INDEX(OIQraw,ROW(),Setup!$C$5+COLUMN()-26),\"x\")","v":"x"},{"$f":"IF($E43=\"Y\",INDEX(OIQraw,ROW(),Setup!$C$5+COLUMN()-26),\"x\")","v":"x"},{"$f":"IF($E43=\"Y\",INDEX(OIQraw,ROW(),Setup!$C$5+COLUMN()-26),\"x\")","v":"x"},{"$f":"IF($E43=\"Y\",INDEX(OIQraw,ROW(),Setup!$C$5+COLUMN()-26),\"x\")","v":"x"},{"$f":"IF($E43=\"Y\",INDEX(OIQraw,ROW(),Setup!$C$5+COLUMN()-26),\"x\")","v":"x"},{"$f":"IF($E43=\"Y\",INDEX(OIQraw,ROW(),Setup!$C$5+COLUMN()-26),\"x\")","v":"x"},{"$f":"IF($E43=\"Y\",INDEX(OIQraw,ROW(),Setup!$C$5+COLUMN()-26),\"x\")","v":"x"},{"$f":"IF($E43=\"Y\",INDEX(OIQraw,ROW(),Setup!$C$5+COLUMN()-26),\"x\")","v":"x"},{"$f":"IF($E43=\"Y\",INDEX(OIQraw,ROW(),Setup!$C$5+COLUMN()-26),\"x\")","v":"x"},{"$f":"IF($E43=\"Y\",INDEX(OIQraw,ROW(),Setup!$C$5+COLUMN()-26),\"x\")","v":"x"},{"$f":"IF($E43=\"Y\",INDEX(OIQraw,ROW(),Setup!$C$5+COLUMN()-26),\"x\")","v":"x"},{"$f":"IF($E43=\"Y\",INDEX(OIQraw,ROW(),Setup!$C$5+COLUMN()-26),\"x\")","v":"x"},{"$f":"IF($E43=\"Y\",INDEX(OIQraw,ROW(),Setup!$C$5+COLUMN()-26),\"x\")","v":"x"},{"$f":"IF($E43=\"Y\",INDEX(OIQraw,ROW(),Setup!$C$5+COLUMN()-26),\"x\")","v":"x"},{"$f":"IF($E43=\"Y\",INDEX(OIQraw,ROW(),Setup!$C$5+COLUMN()-26),\"x\")","v":"x"},{"$f":"IF($E43=\"Y\",INDEX(OIQraw,ROW(),Setup!$C$5+COLUMN()-26),\"x\")","v":"x"},{"$f":"IF($E43=\"Y\",INDEX(OIQraw,ROW(),Setup!$C$5+COLUMN()-26),\"x\")","v":"x"},{"$f":"IF($E43=\"Y\",INDEX(OIQraw,ROW(),Setup!$C$5+COLUMN()-26),\"x\")","v":"x"},{"$f":"IF($E43=\"Y\",INDEX(OIQraw,ROW(),Setup!$C$5+COLUMN()-26),\"x\")","v":"x"},{"$f":"IF($E43=\"Y\",INDEX(OIQraw,ROW(),Setup!$C$5+COLUMN()-26),\"x\")","v":"x"},{"$f":"IF($E43=\"Y\",INDEX(OIQraw,ROW(),Setup!$C$5+COLUMN()-26),\"x\")","v":"x"},{"$f":"IF($E43=\"Y\",INDEX(OIQraw,ROW(),Setup!$C$5+COLUMN()-26),\"x\")","v":"x"},{"$f":"IF($E43=\"Y\",INDEX(OIQraw,ROW(),Setup!$C$5+COLUMN()-26),\"x\")","v":"x"},{"$f":"IF($E43=\"Y\",INDEX(OIQraw,ROW(),Setup!$C$5+COLUMN()-26),\"x\")","v":"x"},{"$f":"IF($E43=\"Y\",INDEX(OIQraw,ROW(),Setup!$C$5+COLUMN()-26),\"x\")","v":"x"},{"$f":"IF($E43=\"Y\",INDEX(OIQraw,ROW(),Setup!$C$5+COLUMN()-26),\"x\")","v":"x"},{"$f":"IF($E43=\"Y\",INDEX(OIQraw,ROW(),Setup!$C$5+COLUMN()-26),\"x\")","v":"x"},{"$f":"IF($E43=\"Y\",INDEX(OIQraw,ROW(),Setup!$C$5+COLUMN()-26),\"x\")","v":"x"},{"$f":"IF($E43=\"Y\",INDEX(OIQraw,ROW(),Setup!$C$5+COLUMN()-26),\"x\")","v":"x"},{"$f":"IF($E43=\"Y\",INDEX(OIQraw,ROW(),Setup!$C$5+COLUMN()-26),\"x\")","v":"x"},{"$f":"IF($E43=\"Y\",INDEX(OIQraw,ROW(),Setup!$C$5+COLUMN()-26),\"x\")","v":"x"},{"$f":"IF($E43=\"Y\",INDEX(OIQraw,ROW(),Setup!$C$5+COLUMN()-26),\"x\")","v":"x"},{"$f":"IF($E43=\"Y\",INDEX(OIQraw,ROW(),Setup!$C$5+COLUMN()-26),\"x\")","v":"x"},{"$f":"IF($E43=\"Y\",INDEX(OIQraw,ROW(),Setup!$C$5+COLUMN()-26),\"x\")","v":"x"},{"$f":"IF($E43=\"Y\",INDEX(OIQraw,ROW(),Setup!$C$5+COLUMN()-26),\"x\")","v":"x"},{"$f":"IF($E43=\"Y\",INDEX(OIQraw,ROW(),Setup!$C$5+COLUMN()-26),\"x\")","v":"x"},{"$f":"IF($E43=\"Y\",INDEX(OIQraw,ROW(),Setup!$C$5+COLUMN()-26),\"x\")","v":"x"},{"$f":"IF($E43=\"Y\",INDEX(OIQraw,ROW(),Setup!$C$5+COLUMN()-26),\"x\")","v":"x"},{"$f":"IF($E43=\"Y\",INDEX(OIQraw,ROW(),Setup!$C$5+COLUMN()-26),\"x\")","v":"x"},{"$f":"IF($E43=\"Y\",INDEX(OIQraw,ROW(),Setup!$C$5+COLUMN()-26),\"x\")","v":"x"},{"$f":"IF($E43=\"Y\",INDEX(OIQraw,ROW(),Setup!$C$5+COLUMN()-26),\"x\")","v":"x"},{"$f":"IF($E43=\"Y\",INDEX(OIQraw,ROW(),Setup!$C$5+COLUMN()-26),\"x\")","v":"x"},{"$f":"IF($E43=\"Y\",INDEX(OIQraw,ROW(),Setup!$C$5+COLUMN()-26),\"x\")","v":"x"},{"$f":"IF($E43=\"Y\",INDEX(OIQraw,ROW(),Setup!$C$5+COLUMN()-26),\"x\")","v":"x"},{"$f":"IF($E43=\"Y\",INDEX(OIQraw,ROW(),Setup!$C$5+COLUMN()-26),\"x\")","v":"x"},{"$f":"IF($E43=\"Y\",INDEX(OIQraw,ROW(),Setup!$C$5+COLUMN()-26),\"x\")","v":"x"},{"$f":"IF($E43=\"Y\",INDEX(OIQraw,ROW(),Setup!$C$5+COLUMN()-26),\"x\")","v":"x"},{"$f":"IF($E43=\"Y\",INDEX(OIQraw,ROW(),Setup!$C$5+COLUMN()-26),\"x\")","v":"x"},{"$f":"IF($E43=\"Y\",INDEX(OIQraw,ROW(),Setup!$C$5+COLUMN()-26),\"x\")","v":"x"},{"$f":"IF($E43=\"Y\",INDEX(OIQraw,ROW(),Setup!$C$5+COLUMN()-26),\"x\")","v":"x"},{"$f":"IF($E43=\"Y\",INDEX(OIQraw,ROW(),Setup!$C$5+COLUMN()-26),\"x\")","v":"x"},{"$f":"IF($E43=\"Y\",INDEX(OIQraw,ROW(),Setup!$C$5+COLUMN()-26),\"x\")","v":"x"},{"$f":"IF($E43=\"Y\",INDEX(OIQraw,ROW(),Setup!$C$5+COLUMN()-26),\"x\")","v":"x"},{"$f":"IF($E43=\"Y\",INDEX(OIQraw,ROW(),Setup!$C$5+COLUMN()-26),\"x\")","v":"x"},{"$f":"IF($E43=\"Y\",INDEX(OIQraw,ROW(),Setup!$C$5+COLUMN()-26),\"x\")","v":"x"},{"$f":"IF($E43=\"Y\",INDEX(OIQraw,ROW(),Setup!$C$5+COLUMN()-26),\"x\")","v":"x"},{"$f":"IF($E43=\"Y\",INDEX(OIQraw,ROW(),Setup!$C$5+COLUMN()-26),\"x\")","v":"x"},{"$f":"IF($E43=\"Y\",INDEX(OIQraw,ROW(),Setup!$C$5+COLUMN()-26),\"x\")","v":"x"},{"$f":"IF($E43=\"Y\",INDEX(OIQraw,ROW(),Setup!$C$5+COLUMN()-26),\"x\")","v":"x"},{"$f":"IF($E43=\"Y\",INDEX(OIQraw,ROW(),Setup!$C$5+COLUMN()-26),\"x\")","v":"x"},{"$f":"IF($E43=\"Y\",INDEX(OIQraw,ROW(),Setup!$C$5+COLUMN()-26),\"x\")","v":"x"},{"$f":"IF($E43=\"Y\",INDEX(OIQraw,ROW(),Setup!$C$5+COLUMN()-26),\"x\")","v":"x"},{"$f":"IF($E43=\"Y\",INDEX(OIQraw,ROW(),Setup!$C$5+COLUMN()-26),\"x\")","v":"x"},{"$f":"IF($E43=\"Y\",INDEX(OIQraw,ROW(),Setup!$C$5+COLUMN()-26),\"x\")","v":"x"},{"$f":"IF($E43=\"Y\",INDEX(OIQraw,ROW(),Setup!$C$5+COLUMN()-26),\"x\")","v":"x"},{"$f":"IF($E43=\"Y\",INDEX(OIQraw,ROW(),Setup!$C$5+COLUMN()-26),\"x\")","v":"x"},{"$f":"IF($E43=\"Y\",INDEX(OIQraw,ROW(),Setup!$C$5+COLUMN()-26),\"x\")","v":"x"},{"$f":"IF($E43=\"Y\",INDEX(OIQraw,ROW(),Setup!$C$5+COLUMN()-26),\"x\")","v":"x"},{"$f":"IF($E43=\"Y\",INDEX(OIQraw,ROW(),Setup!$C$5+COLUMN()-26),\"x\")","v":"x"},{"$f":"IF($E43=\"Y\",INDEX(OIQraw,ROW(),Setup!$C$5+COLUMN()-26),\"x\")","v":"x"},{"$f":"IF($E43=\"Y\",INDEX(OIQraw,ROW(),Setup!$C$5+COLUMN()-26),\"x\")","v":"x"},{"$f":"IF($E43=\"Y\",INDEX(OIQraw,ROW(),Setup!$C$5+COLUMN()-26),\"x\")","v":"x"},{"$f":"IF($E43=\"Y\",INDEX(OIQraw,ROW(),Setup!$C$5+COLUMN()-26),\"x\")","v":"x"},{"$f":"IF($E43=\"Y\",INDEX(OIQraw,ROW(),Setup!$C$5+COLUMN()-26),\"x\")","v":"x"},{"$f":"IF($E43=\"Y\",INDEX(OIQraw,ROW(),Setup!$C$5+COLUMN()-26),\"x\")","v":"x"},{"$f":"IF($E43=\"Y\",INDEX(OIQraw,ROW(),Setup!$C$5+COLUMN()-26),\"x\")","v":"x"},{"$f":"IF($E43=\"Y\",INDEX(OIQraw,ROW(),Setup!$C$5+COLUMN()-26),\"x\")","v":"x"},{"$f":"IF($E43=\"Y\",INDEX(OIQraw,ROW(),Setup!$C$5+COLUMN()-26),\"x\")","v":"x"},{"$f":"IF($E43=\"Y\",INDEX(OIQraw,ROW(),Setup!$C$5+COLUMN()-26),\"x\")","v":"x"},{"$f":"IF($E43=\"Y\",INDEX(OIQraw,ROW(),Setup!$C$5+COLUMN()-26),\"x\")","v":"x"},{"$f":"IF($E43=\"Y\",INDEX(OIQraw,ROW(),Setup!$C$5+COLUMN()-26),\"x\")","v":"x"},{"$f":"IF($E43=\"Y\",INDEX(OIQraw,ROW(),Setup!$C$5+COLUMN()-26),\"x\")","v":"x"},{"$f":"IF($E43=\"Y\",INDEX(OIQraw,ROW(),Setup!$C$5+COLUMN()-26),\"x\")","v":"x"},{"$f":"IF($E43=\"Y\",INDEX(OIQraw,ROW(),Setup!$C$5+COLUMN()-26),\"x\")","v":"x"},{"$f":"IF($E43=\"Y\",INDEX(OIQraw,ROW(),Setup!$C$5+COLUMN()-26),\"x\")","v":"x"},{"$f":"IF($E43=\"Y\",INDEX(OIQraw,ROW(),Setup!$C$5+COLUMN()-26),\"x\")","v":"x"},{"$f":"IF($E43=\"Y\",INDEX(OIQraw,ROW(),Setup!$C$5+COLUMN()-26),\"x\")","v":"x"},{"$f":"IF($E43=\"Y\",INDEX(OIQraw,ROW(),Setup!$C$5+COLUMN()-26),\"x\")","v":"x"},{"$f":"IF($E43=\"Y\",INDEX(OIQraw,ROW(),Setup!$C$5+COLUMN()-26),\"x\")","v":"x"},{"$f":"IF($E43=\"Y\",INDEX(OIQraw,ROW(),Setup!$C$5+COLUMN()-26),\"x\")","v":"x"},{"$f":"IF($E43=\"Y\",INDEX(OIQraw,ROW(),Setup!$C$5+COLUMN()-26),\"x\")","v":"x"},{"$f":"IF($E43=\"Y\",INDEX(OIQraw,ROW(),Setup!$C$5+COLUMN()-26),\"x\")","v":"x"},{"$f":"IF($E43=\"Y\",INDEX(OIQraw,ROW(),Setup!$C$5+COLUMN()-26),\"x\")","v":"x"},{"$f":"IF($E43=\"Y\",INDEX(OIQraw,ROW(),Setup!$C$5+COLUMN()-26),\"x\")","v":"x"},{"$f":"IF($E43=\"Y\",INDEX(OIQraw,ROW(),Setup!$C$5+COLUMN()-26),\"x\")","v":"x"},{"$f":"IF($E43=\"Y\",INDEX(OIQraw,ROW(),Setup!$C$5+COLUMN()-26),\"x\")","v":"x"},{"$f":"IF($E43=\"Y\",INDEX(OIQraw,ROW(),Setup!$C$5+COLUMN()-26),\"x\")","v":"x"},{"$f":"IF($E43=\"Y\",INDEX(OIQraw,ROW(),Setup!$C$5+COLUMN()-26),\"x\")","v":"x"},{"$f":"IF($E43=\"Y\",INDEX(OIQraw,ROW(),Setup!$C$5+COLUMN()-26),\"x\")","v":"x"},{"$f":"IF($E43=\"Y\",INDEX(OIQraw,ROW(),Setup!$C$5+COLUMN()-26),\"x\")","v":"x"},{"$f":"IF($E43=\"Y\",INDEX(OIQraw,ROW(),Setup!$C$5+COLUMN()-26),\"x\")","v":"x"},{"$f":"IF($E43=\"Y\",INDEX(OIQraw,ROW(),Setup!$C$5+COLUMN()-26),\"x\")","v":"x"},{"$f":"IF($E43=\"Y\",INDEX(OIQraw,ROW(),Setup!$C$5+COLUMN()-26),\"x\")","v":"x"},{"$f":"IF($E43=\"Y\",INDEX(OIQraw,ROW(),Setup!$C$5+COLUMN()-26),\"x\")","v":"x"},{"$f":"IF($E43=\"Y\",INDEX(OIQraw,ROW(),Setup!$C$5+COLUMN()-26),\"x\")","v":"x"},{"$f":"IF($E43=\"Y\",INDEX(OIQraw,ROW(),Setup!$C$5+COLUMN()-26),\"x\")","v":"x"},{"$f":"IF($E43=\"Y\",INDEX(OIQraw,ROW(),Setup!$C$5+COLUMN()-26),\"x\")","v":"x"},{"$f":"IF($E43=\"Y\",INDEX(OIQraw,ROW(),Setup!$C$5+COLUMN()-26),\"x\")","v":"x"},{"$f":"IF($E43=\"Y\",INDEX(OIQraw,ROW(),Setup!$C$5+COLUMN()-26),\"x\")","v":"x"},{"$f":"IF($E43=\"Y\",INDEX(OIQraw,ROW(),Setup!$C$5+COLUMN()-26),\"x\")","v":"x"},{"$f":"IF($E43=\"Y\",INDEX(OIQraw,ROW(),Setup!$C$5+COLUMN()-26),\"x\")","v":"x"},{"$f":"IF($E43=\"Y\",INDEX(OIQraw,ROW(),Setup!$C$5+COLUMN()-26),\"x\")","v":"x"},{"$f":"IF($E43=\"Y\",INDEX(OIQraw,ROW(),Setup!$C$5+COLUMN()-26),\"x\")","v":"x"},{"$f":"IF($E43=\"Y\",INDEX(OIQraw,ROW(),Setup!$C$5+COLUMN()-26),\"x\")","v":"x"},{"$f":"IF($E43=\"Y\",INDEX(OIQraw,ROW(),Setup!$C$5+COLUMN()-26),\"x\")","v":"x"},{"$f":"IF($E43=\"Y\",INDEX(OIQraw,ROW(),Setup!$C$5+COLUMN()-26),\"x\")","v":"x"},{"$f":"IF($E43=\"Y\",INDEX(OIQraw,ROW(),Setup!$C$5+COLUMN()-26),\"x\")","v":"x"},{"$f":"IF($E43=\"Y\",INDEX(OIQraw,ROW(),Setup!$C$5+COLUMN()-26),\"x\")","v":"x"},{"$f":"IF($E43=\"Y\",INDEX(OIQraw,ROW(),Setup!$C$5+COLUMN()-26),\"x\")","v":"x"},{"$f":"IF($E43=\"Y\",INDEX(OIQraw,ROW(),Setup!$C$5+COLUMN()-26),\"x\")","v":"x"},{"$f":"IF($E43=\"Y\",INDEX(OIQraw,ROW(),Setup!$C$5+COLUMN()-26),\"x\")","v":"x"},{"$f":"IF($E43=\"Y\",INDEX(OIQraw,ROW(),Setup!$C$5+COLUMN()-26),\"x\")","v":"x"},{"$f":"IF($E43=\"Y\",INDEX(OIQraw,ROW(),Setup!$C$5+COLUMN()-26),\"x\")","v":"x"},{"$f":"IF($E43=\"Y\",INDEX(OIQraw,ROW(),Setup!$C$5+COLUMN()-26),\"x\")","v":"x"},{"$f":"IF($E43=\"Y\",INDEX(OIQraw,ROW(),Setup!$C$5+COLUMN()-26),\"x\")","v":"x"},{"$f":"IF($E43=\"Y\",INDEX(OIQraw,ROW(),Setup!$C$5+COLUMN()-26),\"x\")","v":"x"},{"$f":"IF($E43=\"Y\",INDEX(OIQraw,ROW(),Setup!$C$5+COLUMN()-26),\"x\")","v":"x"},{"$f":"IF($E43=\"Y\",INDEX(OIQraw,ROW(),Setup!$C$5+COLUMN()-26),\"x\")","v":"x"},{"$f":"IF($E43=\"Y\",INDEX(OIQraw,ROW(),Setup!$C$5+COLUMN()-26),\"x\")","v":"x"},{"$f":"IF($E43=\"Y\",INDEX(OIQraw,ROW(),Setup!$C$5+COLUMN()-26),\"x\")","v":"x"},{"$f":"IF($E43=\"Y\",INDEX(OIQraw,ROW(),Setup!$C$5+COLUMN()-26),\"x\")","v":"x"},{"$f":"IF($E43=\"Y\",INDEX(OIQraw,ROW(),Setup!$C$5+COLUMN()-26),\"x\")","v":"x"},{"$f":"IF($E43=\"Y\",INDEX(OIQraw,ROW(),Setup!$C$5+COLUMN()-26),\"x\")","v":"x"},{"$f":"IF($E43=\"Y\",INDEX(OIQraw,ROW(),Setup!$C$5+COLUMN()-26),\"x\")","v":"x"},{"$f":"IF($E43=\"Y\",INDEX(OIQraw,ROW(),Setup!$C$5+COLUMN()-26),\"x\")","v":"x"},{"$f":"IF($E43=\"Y\",INDEX(OIQraw,ROW(),Setup!$C$5+COLUMN()-26),\"x\")","v":"x"},{"$f":"IF($E43=\"Y\",INDEX(OIQraw,ROW(),Setup!$C$5+COLUMN()-26),\"x\")","v":"x"},{"$f":"IF($E43=\"Y\",INDEX(OIQraw,ROW(),Setup!$C$5+COLUMN()-26),\"x\")","v":"x"},{"$f":"IF($E43=\"Y\",INDEX(OIQraw,ROW(),Setup!$C$5+COLUMN()-26),\"x\")","v":"x"}]

{"sheet":"Ranked List","index":6,"n_rows":43,"n_cols":3,"rows_kept":43,"cut":false,"hidden":false,"merged":[]}
["Name","Rank","Score"]
[{"$f":"IF(ROW()-1>Setup!$B$9,\"\",PROPER(VLOOKUP(ROW()-1,Conv!$B$2:$H$3004,3,FALSE)))","v":""},{"$f":"IF(ROW()-1>Setup!$B$9,\"\",ROW()-1)","v":""},{"$f":"IF(ROW()-1>Setup!$B$9,\"\",VLOOKUP(ROW()-1,Conv!$B$2:$H$3004,5,FALSE))","v":""}]
[{"$f":"IF(ROW()-1>Setup!$B$9,\"\",PROPER(VLOOKUP(ROW()-1,Conv!$B$2:$H$3004,3,FALSE)))","v":""},{"$f":"IF(ROW()-1>Setup!$B$9,\"\",ROW()-1)","v":""},{"$f":"IF(ROW()-1>Setup!$B$9,\"\",VLOOKUP(ROW()-1,Conv!$B$2:$H$3004,5,FALSE))","v":""}]
[{"$f":"IF(ROW()-1>Setup!$B$9,\"\",PROPER(VLOOKUP(ROW()-1,Conv!$B$2:$H$3004,3,FALSE)))","v":""},{"$f":"IF(ROW()-1>Setup!$B$9,\"\",ROW()-1)","v":""},{"$f":"IF(ROW()-1>Setup!$B$9,\"\",VLOOKUP(ROW()-1,Conv!$B$2:$H$3004,5,FALSE))","v":""}]
[{"$f":"IF(ROW()-1>Setup!$B$9,\"\",PROPER(VLOOKUP(ROW()-1,Conv!$B$2:$H$3004,3,FALSE)))","v":""},{"$f":"IF(ROW()-1>Setup!$B$9,\"\",ROW()-1)","v":""},{"$f":"IF(ROW()-1>Setup!$B$9,\"\",VLOOKUP(ROW()-1,Conv!$B$2:$H$3004,5,FALSE))","v":""}]
[{"$f":"IF(ROW()-1>Setup!$B$9,\"\",PROPER(VLOOKUP(ROW()-1,Conv!$B$2:$H$3004,3,FALSE)))","v":""},{"$f":"IF(ROW()-1>Setup!$B$9,\"\",ROW()-1)","v":""},{"$f":"IF(ROW()-1>Setup!$B$9,\"\",VLOOKUP(ROW()-1,Conv!$B$2:$H$3004,5,FALSE))","v":""}]
[{"$f":"IF(ROW()-1>Setup!$B$9,\"\",PROPER(VLOOKUP(ROW()-1,Conv!$B$2:$H$3004,3,FALSE)))","v":""},{"$f":"IF(ROW()-1>Setup!$B$9,\"\",ROW()-1)","v":""},{"$f":"IF(ROW()-1>Setup!$B$9,\"\",VLOOKUP(ROW()-1,Conv!$B$2:$H$3004,5,FALSE))","v":""}]
[{"$f":"IF(ROW()-1>Setup!$B$9,\"\",PROPER(VLOOKUP(ROW()-1,Conv!$B$2:$H$3004,3,FALSE)))","v":""},{"$f":"IF(ROW()-1>Setup!$B$9,\"\",ROW()-1)","v":""},{"$f":"IF(ROW()-1>Setup!$B$9,\"\",VLOOKUP(ROW()-1,Conv!$B$2:$H$3004,5,FALSE))","v":""}]
[{"$f":"IF(ROW()-1>Setup!$B$9,\"\",PROPER(VLOOKUP(ROW()-1,Conv!$B$2:$H$3004,3,FALSE)))","v":""},{"$f":"IF(ROW()-1>Setup!$B$9,\"\",ROW()-1)","v":""},{"$f":"IF(ROW()-1>Setup!$B$9,\"\",VLOOKUP(ROW()-1,Conv!$B$2:$H$3004,5,FALSE))","v":""}]
[{"$f":"IF(ROW()-1>Setup!$B$9,\"\",PROPER(VLOOKUP(ROW()-1,Conv!$B$2:$H$3004,3,FALSE)))","v":""},{"$f":"IF(ROW()-1>Setup!$B$9,\"\",ROW()-1)","v":""},{"$f":"IF(ROW()-1>Setup!$B$9,\"\",VLOOKUP(ROW()-1,Conv!$B$2:$H$3004,5,FALSE))","v":""}]
[{"$f":"IF(ROW()-1>Setup!$B$9,\"\",PROPER(VLOOKUP(ROW()-1,Conv!$B$2:$H$3004,3,FALSE)))","v":""},{"$f":"IF(ROW()-1>Setup!$B$9,\"\",ROW()-1)","v":""},{"$f":"IF(ROW()-1>Setup!$B$9,\"\",VLOOKUP(ROW()-1,Conv!$B$2:$H$3004,5,FALSE))","v":""}]
[{"$f":"IF(ROW()-1>Setup!$B$9,\"\",PROPER(VLOOKUP(ROW()-1,Conv!$B$2:$H$3004,3,FALSE)))","v":""},{"$f":"IF(ROW()-1>Setup!$B$9,\"\",ROW()-1)","v":""},{"$f":"IF(ROW()-1>Setup!$B$9,\"\",VLOOKUP(ROW()-1,Conv!$B$2:$H$3004,5,FALSE))","v":""}]
[{"$f":"IF(ROW()-1>Setup!$B$9,\"\",PROPER(VLOOKUP(ROW()-1,Conv!$B$2:$H$3004,3,FALSE)))","v":""},{"$f":"IF(ROW()-1>Setup!$B$9,\"\",ROW()-1)","v":""},{"$f":"IF(ROW()-1>Setup!$B$9,\"\",VLOOKUP(ROW()-1,Conv!$B$2:$H$3004,5,FALSE))","v":""}]
[{"$f":"IF(ROW()-1>Setup!$B$9,\"\",PROPER(VLOOKUP(ROW()-1,Conv!$B$2:$H$3004,3,FALSE)))","v":""},{"$f":"IF(ROW()-1>Setup!$B$9,\"\",ROW()-1)","v":""},{"$f":"IF(ROW()-1>Setup!$B$9,\"\",VLOOKUP(ROW()-1,Conv!$B$2:$H$3004,5,FALSE))","v":""}]
[{"$f":"IF(ROW()-1>Setup!$B$9,\"\",PROPER(VLOOKUP(ROW()-1,Conv!$B$2:$H$3004,3,FALSE)))","v":""},{"$f":"IF(ROW()-1>Setup!$B$9,\"\",ROW()-1)","v":""},{"$f":"IF(ROW()-1>Setup!$B$9,\"\",VLOOKUP(ROW()-1,Conv!$B$2:$H$3004,5,FALSE))","v":""}]
[{"$f":"IF(ROW()-1>Setup!$B$9,\"\",PROPER(VLOOKUP(ROW()-1,Conv!$B$2:$H$3004,3,FALSE)))","v":""},{"$f":"IF(ROW()-1>Setup!$B$9,\"\",ROW()-1)","v":""},{"$f":"IF(ROW()-1>Setup!$B$9,\"\",VLOOKUP(ROW()-1,Conv!$B$2:$H$3004,5,FALSE))","v":""}]
[{"$f":"IF(ROW()-1>Setup!$B$9,\"\",PROPER(VLOOKUP(ROW()-1,Conv!$B$2:$H$3004,3,FALSE)))","v":""},{"$f":"IF(ROW()-1>Setup!$B$9,\"\",ROW()-1)","v":""},{"$f":"IF(ROW()-1>Setup!$B$9,\"\",VLOOKUP(ROW()-1,Conv!$B$2:$H$3004,5,FALSE))","v":""}]
[{"$f":"IF(ROW()-1>Setup!$B$9,\"\",PROPER(VLOOKUP(ROW()-1,Conv!$B$2:$H$3004,3,FALSE)))","v":""},{"$f":"IF(ROW()-1>Setup!$B$9,\"\",ROW()-1)","v":""},{"$f":"IF(ROW()-1>Setup!$B$9,\"\",VLOOKUP(ROW()-1,Conv!$B$2:$H$3004,5,FALSE))","v":""}]
[{"$f":"IF(ROW()-1>Setup!$B$9,\"\",PROPER(VLOOKUP(ROW()-1,Conv!$B$2:$H$3004,3,FALSE)))","v":""},{"$f":"IF(ROW()-1>Setup!$B$9,\"\",ROW()-1)","v":""},{"$f":"IF(ROW()-1>Setup!$B$9,\"\",VLOOKUP(ROW()-1,Conv!$B$2:$H$3004,5,FALSE))","v":""}]
[{"$f":"IF(ROW()-1>Setup!$B$9,\"\",PROPER(VLOOKUP(ROW()-1,Conv!$B$2:$H$3004,3,FALSE)))","v":""},{"$f":"IF(ROW()-1>Setup!$B$9,\"\",ROW()-1)","v":""},{"$f":"IF(ROW()-1>Setup!$B$9,\"\",VLOOKUP(ROW()-1,Conv!$B$2:$H$3004,5,FALSE))","v":""}]
[{"$f":"IF(ROW()-1>Setup!$B$9,\"\",PROPER(VLOOKUP(ROW()-1,Conv!$B$2:$H$3004,3,FALSE)))","v":""},{"$f":"IF(ROW()-1>Setup!$B$9,\"\",ROW()-1)","v":""},{"$f":"IF(ROW()-1>Setup!$B$9,\"\",VLOOKUP(ROW()-1,Conv!$B$2:$H$3004,5,FALSE))","v":""}]
[{"$f":"IF(ROW()-1>Setup!$B$9,\"\",PROPER(VLOOKUP(ROW()-1,Conv!$B$2:$H$3004,3,FALSE)))","v":""},{"$f":"IF(ROW()-1>Setup!$B$9,\"\",ROW()-1)","v":""},{"$f":"IF(ROW()-1>Setup!$B$9,\"\",VLOOKUP(ROW()-1,Conv!$B$2:$H$3004,5,FALSE))","v":""}]
[{"$f":"IF(ROW()-1>Setup!$B$9,\"\",PROPER(VLOOKUP(ROW()-1,Conv!$B$2:$H$3004,3,FALSE)))","v":""},{"$f":"IF(ROW()-1>Setup!$B$9,\"\",ROW()-1)","v":""},{"$f":"IF(ROW()-1>Setup!$B$9,\"\",VLOOKUP(ROW()-1,Conv!$B$2:$H$3004,5,FALSE))","v":""}]
[{"$f":"IF(ROW()-1>Setup!$B$9,\"\",PROPER(VLOOKUP(ROW()-1,Conv!$B$2:$H$3004,3,FALSE)))","v":""},{"$f":"IF(ROW()-1>Setup!$B$9,\"\",ROW()-1)","v":""},{"$f":"IF(ROW()-1>Setup!$B$9,\"\",VLOOKUP(ROW()-1,Conv!$B$2:$H$3004,5,FALSE))","v":""}]
[{"$f":"IF(ROW()-1>Setup!$B$9,\"\",PROPER(VLOOKUP(ROW()-1,Conv!$B$2:$H$3004,3,FALSE)))","v":""},{"$f":"IF(ROW()-1>Setup!$B$9,\"\",ROW()-1)","v":""},{"$f":"IF(ROW()-1>Setup!$B$9,\"\",VLOOKUP(ROW()-1,Conv!$B$2:$H$3004,5,FALSE))","v":""}]
[{"$f":"IF(ROW()-1>Setup!$B$9,\"\",PROPER(VLOOKUP(ROW()-1,Conv!$B$2:$H$3004,3,FALSE)))","v":""},{"$f":"IF(ROW()-1>Setup!$B$9,\"\",ROW()-1)","v":""},{"$f":"IF(ROW()-1>Setup!$B$9,\"\",VLOOKUP(ROW()-1,Conv!$B$2:$H$3004,5,FALSE))","v":""}]
[{"$f":"IF(ROW()-1>Setup!$B$9,\"\",PROPER(VLOOKUP(ROW()-1,Conv!$B$2:$H$3004,3,FALSE)))","v":""},{"$f":"IF(ROW()-1>Setup!$B$9,\"\",ROW()-1)","v":""},{"$f":"IF(ROW()-1>Setup!$B$9,\"\",VLOOKUP(ROW()-1,Conv!$B$2:$H$3004,5,FALSE))","v":""}]
[{"$f":"IF(ROW()-1>Setup!$B$9,\"\",PROPER(VLOOKUP(ROW()-1,Conv!$B$2:$H$3004,3,FALSE)))","v":""},{"$f":"IF(ROW()-1>Setup!$B$9,\"\",ROW()-1)","v":""},{"$f":"IF(ROW()-1>Setup!$B$9,\"\",VLOOKUP(ROW()-1,Conv!$B$2:$H$3004,5,FALSE))","v":""}]
[{"$f":"IF(ROW()-1>Setup!$B$9,\"\",PROPER(VLOOKUP(ROW()-1,Conv!$B$2:$H$3004,3,FALSE)))","v":""},{"$f":"IF(ROW()-1>Setup!$B$9,\"\",ROW()-1)","v":""},{"$f":"IF(ROW()-1>Setup!$B$9,\"\",VLOOKUP(ROW()-1,Conv!$B$2:$H$3004,5,FALSE))","v":""}]
[{"$f":"IF(ROW()-1>Setup!$B$9,\"\",PROPER(VLOOKUP(ROW()-1,Conv!$B$2:$H$3004,3,FALSE)))","v":""},{"$f":"IF(ROW()-1>Setup!$B$9,\"\",ROW()-1)","v":""},{"$f":"IF(ROW()-1>Setup!$B$9,\"\",VLOOKUP(ROW()-1,Conv!$B$2:$H$3004,5,FALSE))","v":""}]
[{"$f":"IF(ROW()-1>Setup!$B$9,\"\",PROPER(VLOOKUP(ROW()-1,Conv!$B$2:$H$3004,3,FALSE)))","v":""},{"$f":"IF(ROW()-1>Setup!$B$9,\"\",ROW()-1)","v":""},{"$f":"IF(ROW()-1>Setup!$B$9,\"\",VLOOKUP(ROW()-1,Conv!$B$2:$H$3004,5,FALSE))","v":""}]
[{"$f":"IF(ROW()-1>Setup!$B$9,\"\",PROPER(VLOOKUP(ROW()-1,Conv!$B$2:$H$3004,3,FALSE)))","v":""},{"$f":"IF(ROW()-1>Setup!$B$9,\"\",ROW()-1)","v":""},{"$f":"IF(ROW()-1>Setup!$B$9,\"\",VLOOKUP(ROW()-1,Conv!$B$2:$H$3004,5,FALSE))","v":""}]
[{"$f":"IF(ROW()-1>Setup!$B$9,\"\",PROPER(VLOOKUP(ROW()-1,Conv!$B$2:$H$3004,3,FALSE)))","v":""},{"$f":"IF(ROW()-1>Setup!$B$9,\"\",ROW()-1)","v":""},{"$f":"IF(ROW()-1>Setup!$B$9,\"\",VLOOKUP(ROW()-1,Conv!$B$2:$H$3004,5,FALSE))","v":""}]
[{"$f":"IF(ROW()-1>Setup!$B$9,\"\",PROPER(VLOOKUP(ROW()-1,Conv!$B$2:$H$3004,3,FALSE)))","v":""},{"$f":"IF(ROW()-1>Setup!$B$9,\"\",ROW()-1)","v":""},{"$f":"IF(ROW()-1>Setup!$B$9,\"\",VLOOKUP(ROW()-1,Conv!$B$2:$H$3004,5,FALSE))","v":""}]
[{"$f":"IF(ROW()-1>Setup!$B$9,\"\",PROPER(VLOOKUP(ROW()-1,Conv!$B$2:$H$3004,3,FALSE)))","v":""},{"$f":"IF(ROW()-1>Setup!$B$9,\"\",ROW()-1)","v":""},{"$f":"IF(ROW()-1>Setup!$B$9,\"\",VLOOKUP(ROW()-1,Conv!$B$2:$H$3004,5,FALSE))","v":""}]
[{"$f":"IF(ROW()-1>Setup!$B$9,\"\",PROPER(VLOOKUP(ROW()-1,Conv!$B$2:$H$3004,3,FALSE)))","v":""},{"$f":"IF(ROW()-1>Setup!$B$9,\"\",ROW()-1)","v":""},{"$f":"IF(ROW()-1>Setup!$B$9,\"\",VLOOKUP(ROW()-1,Conv!$B$2:$H$3004,5,FALSE))","v":""}]
[{"$f":"IF(ROW()-1>Setup!$B$9,\"\",PROPER(VLOOKUP(ROW()-1,Conv!$B$2:$H$3004,3,FALSE)))","v":""},{"$f":"IF(ROW()-1>Setup!$B$9,\"\",ROW()-1)","v":""},{"$f":"IF(ROW()-1>Setup!$B$9,\"\",VLOOKUP(ROW()-1,Conv!$B$2:$H$3004,5,FALSE))","v":""}]
[{"$f":"IF(ROW()-1>Setup!$B$9,\"\",PROPER(VLOOKUP(ROW()-1,Conv!$B$2:$H$3004,3,FALSE)))","v":""},{"$f":"IF(ROW()-1>Setup!$B$9,\"\",ROW()-1)","v":""},{"$f":"IF(ROW()-1>Setup!$B$9,\"\",VLOOKUP(ROW()-1,Conv!$B$2:$H$3004,5,FALSE))","v":""}]
[{"$f":"IF(ROW()-1>Setup!$B$9,\"\",PROPER(VLOOKUP(ROW()-1,Conv!$B$2:$H$3004,3,FALSE)))","v":""},{"$f":"IF(ROW()-1>Setup!$B$9,\"\",ROW()-1)","v":""},{"$f":"IF(ROW()-1>Setup!$B$9,\"\",VLOOKUP(ROW()-1,Conv!$B$2:$H$3004,5,FALSE))","v":""}]
[{"$f":"IF(ROW()-1>Setup!$B$9,\"\",PROPER(VLOOKUP(ROW()-1,Conv!$B$2:$H$3004,3,FALSE)))","v":""},{"$f":"IF(ROW()-1>Setup!$B$9,\"\",ROW()-1)","v":""},{"$f":"IF(ROW()-1>Setup!$B$9,\"\",VLOOKUP(ROW()-1,Conv!$B$2:$H$3004,5,FALSE))","v":""}]
[{"$f":"IF(ROW()-1>Setup!$B$9,\"\",PROPER(VLOOKUP(ROW()-1,Conv!$B$2:$H$3004,3,FALSE)))","v":""},{"$f":"IF(ROW()-1>Setup!$B$9,\"\",ROW()-1)","v":""},{"$f":"IF(ROW()-1>Setup!$B$9,\"\",VLOOKUP(ROW()-1,Conv!$B$2:$H$3004,5,FALSE))","v":""}]
[{"$f":"IF(ROW()-1>Setup!$B$9,\"\",PROPER(VLOOKUP(ROW()-1,Conv!$B$2:$H$3004,3,FALSE)))","v":""},{"$f":"IF(ROW()-1>Setup!$B$9,\"\",ROW()-1)","v":""},{"$f":"IF(ROW()-1>Setup!$B$9,\"\",VLOOKUP(ROW()-1,Conv!$B$2:$H$3004,5,FALSE))","v":""}]
[{"$f":"IF(ROW()-1>Setup!$B$9,\"\",PROPER(VLOOKUP(ROW()-1,Conv!$B$2:$H$3004,3,FALSE)))","v":""},{"$f":"IF(ROW()-1>Setup!$B$9,\"\",ROW()-1)","v":""},{"$f":"IF(ROW()-1>Setup!$B$9,\"\",VLOOKUP(ROW()-1,Conv!$B$2:$H$3004,5,FALSE))","v":""}]

{"sheet":"Structure","index":7,"n_rows":4,"n_cols":265,"rows_kept":4,"cut":false,"hidden":false,"merged":[]}
[{"$f":"IF(AND(A3=1,B3=0),\"Start\",\"\")","v":""},{"$f":"IF(AND(B3=1,C3=0),\"End\",IF(AND(A3=0,B3=1),\"Start\",IF(B3=\"MDF\",\"MDF\",\"\")))","v":""},{"$f":"IF(AND(C3=1,D3=0),\"End\",IF(AND(B3=0,C3=1),\"Start\",IF(C3=\"MDF\",\"MDF\",\"\")))","v":""},"","","","","","","","","","","Start","","","","","","","","","","","","","","","","","","","","","","","","","","","","","","","","","","","","","","","","","","","","","","","","","","","","",{"$f":"IF(AND(BO3=1,BP3=0),\"End\",IF(AND(BN3=0,BO3=1),\"Start\",IF(BO3=\"MDF\",\"MDF\",\"\")))","v":""},"","","","","","","","","","","","","","","","End","","","","MDF","","","","","","","","","","","","","","","","","","","","","","","","","","","","","","","","","","","","","","","","","","","",{"$f":"IF(AND(EA3=1,EB3=0),\"End\",IF(AND(DZ3=0,EA3=1),\"Start\",IF(EA3=\"MDF\",\"MDF\",\"\")))","v":""},"","","","","","","","","","","","","","","","","","","","","","","","","","","","","","","","","","","","","","","","","","","","","","","","","","","","","","","","","","","","","","","",{"$f":"IF(AND(GM3=1,GN3=0),\"End\",IF(AND(GL3=0,GM3=1),\"Start\",IF(GM3=\"MDF\",\"MDF\",\"\")))","v":""},"","","","","","","","","","","","","","","","","","","","","","","","","","","","","","","","","","","","","","","","","","","","","","","","","","","","","","","","","","","","","","","",{"$f":"IF(AND(IY3=1,IZ3=0),\"End\",IF(AND(IX3=0,IY3=1),\"Start\",IF(IY3=\"MDF\",\"MDF\",\"\")))","v":""},"","","","","",""]
[1,2,3,4,5,6,7,8,9,10,11,12,13,14,15,16,17,18,19,20,21,22,23,24,25,26,27,28,29,30,31,32,33,34,35,36,37,38,39,40,41,42,43,44,45,46,47,48,49,50,51,52,53,54,55,56,57,58,59,60,61,62,63,64,65,66,67,68,69,70,71,72,73,74,75,76,77,78,79,80,81,82,83,84,85,86,87,88,89,90,91,92,93,94,95,96,97,98,99,100,101,102,103,104,105,106,107,108,109,110,111,112,113,114,115,116,117,118,119,120,121,122,123,124,125,126,127,128,129,130,131,132,133,134,135,136,137,138,139,140,141,142,143,144,145,146,147,148,149,150,151,152,153,154,155,156,157,158,159,160,161,162,163,164,165,166,167,168,169,170,171,172,173,174,175,176,177,178,179,180,181,182,183,184,185,186,187,188,189,190,191,192,193,194,195,196,197,198,199,200,201,202,203,204,205,206,207,208,209,210,211,212,213,214,215,216,217,218,219,220,221,222,223,224,225,226,227,228,229,230,231,232,233,234,235,236,237,238,239,240,241,242,243,244,245,246,247,248,249,250,251,252,253,254,255,256,257,258,259,260,261,262,263,264,265]
[{"$f":"IF(ISERROR(FIND(\"Item\",RawScores!A5))=FALSE,1,IF(ISERROR(FIND(\"MDF\",RawScores!A5)),0,\"MDF\"))","v":0},{"$f":"IF(ISERROR(FIND(\"Item\",RawScores!B5))=FALSE,1,IF(ISERROR(FIND(\"MDF\",RawScores!B5)),0,\"MDF\"))","v":0},{"$f":"IF(ISERROR(FIND(\"Item\",RawScores!C5))=FALSE,1,IF(ISERROR(FIND(\"MDF\",RawScores!C5)),0,\"MDF\"))","v":0},{"$f":"IF(ISERROR(FIND(\"Item\",RawScores!D5))=FALSE,1,IF(ISERROR(FIND(\"MDF\",RawScores!D5)),0,\"MDF\"))","v":0},{"$f":"IF(ISERROR(FIND(\"Item\",RawScores!E5))=FALSE,1,IF(ISERROR(FIND(\"MDF\",RawScores!E5)),0,\"MDF\"))","v":0},{"$f":"IF(ISERROR(FIND(\"Item\",RawScores!F5))=FALSE,1,IF(ISERROR(FIND(\"MDF\",RawScores!F5)),0,\"MDF\"))","v":0},{"$f":"IF(ISERROR(FIND(\"Item\",RawScores!G5))=FALSE,1,IF(ISERROR(FIND(\"MDF\",RawScores!G5)),0,\"MDF\"))","v":0},{"$f":"IF(ISERROR(FIND(\"Item\",RawScores!H5))=FALSE,1,IF(ISERROR(FIND(\"MDF\",RawScores!H5)),0,\"MDF\"))","v":0},{"$f":"IF(ISERROR(FIND(\"Item\",RawScores!I5))=FALSE,1,IF(ISERROR(FIND(\"MDF\",RawScores!I5)),0,\"MDF\"))","v":0},{"$f":"IF(ISERROR(FIND(\"Item\",RawScores!J5))=FALSE,1,IF(ISERROR(FIND(\"MDF\",RawScores!J5)),0,\"MDF\"))","v":0},{"$f":"IF(ISERROR(FIND(\"Item\",RawScores!K5))=FALSE,1,IF(ISERROR(FIND(\"MDF\",RawScores!K5)),0,\"MDF\"))","v":0},{"$f":"IF(ISERROR(FIND(\"Item\",RawScores!L5))=FALSE,1,IF(ISERROR(FIND(\"MDF\",RawScores!L5)),0,\"MDF\"))","v":0},{"$f":"IF(ISERROR(FIND(\"Item\",RawScores!M5))=FALSE,1,IF(ISERROR(FIND(\"MDF\",RawScores!M5)),0,\"MDF\"))","v":0},{"$f":"IF(ISERROR(FIND(\"Item\",RawScores!N5))=FALSE,1,IF(ISERROR(FIND(\"MDF\",RawScores!N5)),0,\"MDF\"))","v":1},{"$f":"IF(ISERROR(FIND(\"Item\",RawScores!O5))=FALSE,1,IF(ISERROR(FIND(\"MDF\",RawScores!O5)),0,\"MDF\"))","v":1},{"$f":"IF(ISERROR(FIND(\"Item\",RawScores!P5))=FALSE,1,IF(ISERROR(FIND(\"MDF\",RawScores!P5)),0,\"MDF\"))","v":1},{"$f":"IF(ISERROR(FIND(\"Item\",RawScores!Q5))=FALSE,1,IF(ISERROR(FIND(\"MDF\",RawScores!Q5)),0,\"MDF\"))","v":1},{"$f":"IF(ISERROR(FIND(\"Item\",RawScores!R5))=FALSE,1,IF(ISERROR(FIND(\"MDF\",RawScores!R5)),0,\"MDF\"))","v":1},{"$f":"IF(ISERROR(FIND(\"Item\",RawScores!S5))=FALSE,1,IF(ISERROR(FIND(\"MDF\",RawScores!S5)),0,\"MDF\"))","v":1},{"$f":"IF(ISERROR(FIND(\"Item\",RawScores!T5))=FALSE,1,IF(ISERROR(FIND(\"MDF\",RawScores!T5)),0,\"MDF\"))","v":1},{"$f":"IF(ISERROR(FIND(\"Item\",RawScores!U5))=FALSE,1,IF(ISERROR(FIND(\"MDF\",RawScores!U5)),0,\"MDF\"))","v":1},{"$f":"IF(ISERROR(FIND(\"Item\",RawScores!V5))=FALSE,1,IF(ISERROR(FIND(\"MDF\",RawScores!V5)),0,\"MDF\"))","v":1},{"$f":"IF(ISERROR(FIND(\"Item\",RawScores!W5))=FALSE,1,IF(ISERROR(FIND(\"MDF\",RawScores!W5)),0,\"MDF\"))","v":1},{"$f":"IF(ISERROR(FIND(\"Item\",RawScores!X5))=FALSE,1,IF(ISERROR(FIND(\"MDF\",RawScores!X5)),0,\"MDF\"))","v":1},{"$f":"IF(ISERROR(FIND(\"Item\",RawScores!Y5))=FALSE,1,IF(ISERROR(FIND(\"MDF\",RawScores!Y5)),0,\"MDF\"))","v":1},{"$f":"IF(ISERROR(FIND(\"Item\",RawScores!Z5))=FALSE,1,IF(ISERROR(FIND(\"MDF\",RawScores!Z5)),0,\"MDF\"))","v":1},{"$f":"IF(ISERROR(FIND(\"Item\",RawScores!AA5))=FALSE,1,IF(ISERROR(FIND(\"MDF\",RawScores!AA5)),0,\"MDF\"))","v":1},{"$f":"IF(ISERROR(FIND(\"Item\",RawScores!AB5))=FALSE,1,IF(ISERROR(FIND(\"MDF\",RawScores!AB5)),0,\"MDF\"))","v":1},{"$f":"IF(ISERROR(FIND(\"Item\",RawScores!AC5))=FALSE,1,IF(ISERROR(FIND(\"MDF\",RawScores!AC5)),0,\"MDF\"))","v":1},{"$f":"IF(ISERROR(FIND(\"Item\",RawScores!AD5))=FALSE,1,IF(ISERROR(FIND(\"MDF\",RawScores!AD5)),0,\"MDF\"))","v":1},{"$f":"IF(ISERROR(FIND(\"Item\",RawScores!AE5))=FALSE,1,IF(ISERROR(FIND(\"MDF\",RawScores!AE5)),0,\"MDF\"))","v":1},{"$f":"IF(ISERROR(FIND(\"Item\",RawScores!AF5))=FALSE,1,IF(ISERROR(FIND(\"MDF\",RawScores!AF5)),0,\"MDF\"))","v":1},{"$f":"IF(ISERROR(FIND(\"Item\",RawScores!AG5))=FALSE,1,IF(ISERROR(FIND(\"MDF\",RawScores!AG5)),0,\"MDF\"))","v":1},{"$f":"IF(ISERROR(FIND(\"Item\",RawScores!AH5))=FALSE,1,IF(ISERROR(FIND(\"MDF\",RawScores!AH5)),0,\"MDF\"))","v":1},{"$f":"IF(ISERROR(FIND(\"Item\",RawScores!AI5))=FALSE,1,IF(ISERROR(FIND(\"MDF\",RawScores!AI5)),0,\"MDF\"))","v":1},{"$f":"IF(ISERROR(FIND(\"Item\",RawScores!AJ5))=FALSE,1,IF(ISERROR(FIND(\"MDF\",RawScores!AJ5)),0,\"MDF\"))","v":1},{"$f":"IF(ISERROR(FIND(\"Item\",RawScores!AK5))=FALSE,1,IF(ISERROR(FIND(\"MDF\",RawScores!AK5)),0,\"MDF\"))","v":1},{"$f":"IF(ISERROR(FIND(\"Item\",RawScores!AL5))=FALSE,1,IF(ISERROR(FIND(\"MDF\",RawScores!AL5)),0,\"MDF\"))","v":1},{"$f":"IF(ISERROR(FIND(\"Item\",RawScores!AM5))=FALSE,1,IF(ISERROR(FIND(\"MDF\",RawScores!AM5)),0,\"MDF\"))","v":1},{"$f":"IF(ISERROR(FIND(\"Item\",RawScores!AN5))=FALSE,1,IF(ISERROR(FIND(\"MDF\",RawScores!AN5)),0,\"MDF\"))","v":1},{"$f":"IF(ISERROR(FIND(\"Item\",RawScores!AO5))=FALSE,1,IF(ISERROR(FIND(\"MDF\",RawScores!AO5)),0,\"MDF\"))","v":1},{"$f":"IF(ISERROR(FIND(\"Item\",RawScores!AP5))=FALSE,1,IF(ISERROR(FIND(\"MDF\",RawScores!AP5)),0,\"MDF\"))","v":1},{"$f":"IF(ISERROR(FIND(\"Item\",RawScores!AQ5))=FALSE,1,IF(ISERROR(FIND(\"MDF\",RawScores!AQ5)),0,\"MDF\"))","v":1},{"$f":"IF(ISERROR(FIND(\"Item\",RawScores!AR5))=FALSE,1,IF(ISERROR(FIND(\"MDF\",RawScores!AR5)),0,\"MDF\"))","v":1},{"$f":"IF(ISERROR(FIND(\"Item\",RawScores!AS5))=FALSE,1,IF(ISERROR(FIND(\"MDF\",RawScores!AS5)),0,\"MDF\"))","v":1},{"$f":"IF(ISERROR(FIND(\"Item\",RawScores!AT5))=FALSE,1,IF(ISERROR(FIND(\"MDF\",RawScores!AT5)),0,\"MDF\"))","v":1},{"$f":"IF(ISERROR(FIND(\"Item\",RawScores!AU5))=FALSE,1,IF(ISERROR(FIND(\"MDF\",RawScores!AU5)),0,\"MDF\"))","v":1},{"$f":"IF(ISERROR(FIND(\"Item\",RawScores!AV5))=FALSE,1,IF(ISERROR(FIND(\"MDF\",RawScores!AV5)),0,\"MDF\"))","v":1},{"$f":"IF(ISERROR(FIND(\"Item\",RawScores!AW5))=FALSE,1,IF(ISERROR(FIND(\"MDF\",RawScores!AW5)),0,\"MDF\"))","v":1},{"$f":"IF(ISERROR(FIND(\"Item\",RawScores!AX5))=FALSE,1,IF(ISERROR(FIND(\"MDF\",RawScores!AX5)),0,\"MDF\"))","v":1},{"$f":"IF(ISERROR(FIND(\"Item\",RawScores!AY5))=FALSE,1,IF(ISERROR(FIND(\"MDF\",RawScores!AY5)),0,\"MDF\"))","v":1},{"$f":"IF(ISERROR(FIND(\"Item\",RawScores!AZ5))=FALSE,1,IF(ISERROR(FIND(\"MDF\",RawScores!AZ5)),0,\"MDF\"))","v":1},{"$f":"IF(ISERROR(FIND(\"Item\",RawScores!BA5))=FALSE,1,IF(ISERROR(FIND(\"MDF\",RawScores!BA5)),0,\"MDF\"))","v":1},{"$f":"IF(ISERROR(FIND(\"Item\",RawScores!BB5))=FALSE,1,IF(ISERROR(FIND(\"MDF\",RawScores!BB5)),0,\"MDF\"))","v":1},{"$f":"IF(ISERROR(FIND(\"Item\",RawScores!BC5))=FALSE,1,IF(ISERROR(FIND(\"MDF\",RawScores!BC5)),0,\"MDF\"))","v":1},{"$f":"IF(ISERROR(FIND(\"Item\",RawScores!BD5))=FALSE,1,IF(ISERROR(FIND(\"MDF\",RawScores!BD5)),0,\"MDF\"))","v":1},{"$f":"IF(ISERROR(FIND(\"Item\",RawScores!BE5))=FALSE,1,IF(ISERROR(FIND(\"MDF\",RawScores!BE5)),0,\"MDF\"))","v":1},{"$f":"IF(ISERROR(FIND(\"Item\",RawScores!BF5))=FALSE,1,IF(ISERROR(FIND(\"MDF\",RawScores!BF5)),0,\"MDF\"))","v":1},{"$f":"IF(ISERROR(FIND(\"Item\",RawScores!BG5))=FALSE,1,IF(ISERROR(FIND(\"MDF\",RawScores!BG5)),0,\"MDF\"))","v":1},{"$f":"IF(ISERROR(FIND(\"Item\",RawScores!BH5))=FALSE,1,IF(ISERROR(FIND(\"MDF\",RawScores!BH5)),0,\"MDF\"))","v":1},{"$f":"IF(ISERROR(FIND(\"Item\",RawScores!BI5))=FALSE,1,IF(ISERROR(FIND(\"MDF\",RawScores!BI5)),0,\"MDF\"))","v":1},{"$f":"IF(ISERROR(FIND(\"Item\",RawScores!BJ5))=FALSE,1,IF(ISERROR(FIND(\"MDF\",RawScores!BJ5)),0,\"MDF\"))","v":1},{"$f":"IF(ISERROR(FIND(\"Item\",RawScores!BK5))=FALSE,1,IF(ISERROR(FIND(\"MDF\",RawScores!BK5)),0,\"MDF\"))","v":1},{"$f":"IF(ISERROR(FIND(\"Item\",RawScores!BL5))=FALSE,1,IF(ISERROR(FIND(\"MDF\",RawScores!BL5)),0,\"MDF\"))","v":1},{"$f":"IF(ISERROR(FIND(\"Item\",RawScores!BM5))=FALSE,1,IF(ISERROR(FIND(\"MDF\",RawScores!BM5)),0,\"MDF\"))","v":1},{"$f":"IF(ISERROR(FIND(\"Item\",RawScores!BN5))=FALSE,1,IF(ISERROR(FIND(\"MDF\",RawScores!BN5)),0,\"MDF\"))","v":1},{"$f":"IF(ISERROR(FIND(\"Item\",RawScores!BO5))=FALSE,1,IF(ISERROR(FIND(\"MDF\",RawScores!BO5)),0,\"MDF\"))","v":1},{"$f":"IF(ISERROR(FIND(\"Item\",RawScores!BP5))=FALSE,1,IF(ISERROR(FIND(\"MDF\",RawScores!BP5)),0,\"MDF\"))","v":1},{"$f":"IF(ISERROR(FIND(\"Item\",RawScores!BQ5))=FALSE,1,IF(ISERROR(FIND(\"MDF\",RawScores!BQ5)),0,\"MDF\"))","v":1},{"$f":"IF(ISERROR(FIND(\"Item\",RawScores!BR5))=FALSE,1,IF(ISERROR(FIND(\"MDF\",RawScores!BR5)),0,\"MDF\"))","v":1},{"$f":"IF(ISERROR(FIND(\"Item\",RawScores!BS5))=FALSE,1,IF(ISERROR(FIND(\"MDF\",RawScores!BS5)),0,\"MDF\"))","v":1},{"$f":"IF(ISERROR(FIND(\"Item\",RawScores!BT5))=FALSE,1,IF(ISERROR(FIND(\"MDF\",RawScores!BT5)),0,\"MDF\"))","v":1},{"$f":"IF(ISERROR(FIND(\"Item\",RawScores!BU5))=FALSE,1,IF(ISERROR(FIND(\"MDF\",RawScores!BU5)),0,\"MDF\"))","v":1},{"$f":"IF(ISERROR(FIND(\"Item\",RawScores!BV5))=FALSE,1,IF(ISERROR(FIND(\"MDF\",RawScores!BV5)),0,\"MDF\"))","v":1},{"$f":"IF(ISERROR(FIND(\"Item\",RawScores!BW5))=FALSE,1,IF(ISERROR(FIND(\"MDF\",RawScores!BW5)),0,\"MDF\"))","v":1},{"$f":"IF(ISERROR(FIND(\"Item\",RawScores!BX5))=FALSE,1,IF(ISERROR(FIND(\"MDF\",RawScores!BX5)),0,\"MDF\"))","v":1},{"$f":"IF(ISERROR(FIND(\"Item\",RawScores!BY5))=FALSE,1,IF(ISERROR(FIND(\"MDF\",RawScores!BY5)),0,\"MDF\"))","v":1},{"$f":"IF(ISERROR(FIND(\"Item\",RawScores!BZ5))=FALSE,1,IF(ISERROR(FIND(\"MDF\",RawScores!BZ5)),0,\"MDF\"))","v":1},{"$f":"IF(ISERROR(FIND(\"Item\",RawScores!CA5))=FALSE,1,IF(ISERROR(FIND(\"MDF\",RawScores!CA5)),0,\"MDF\"))","v":1},{"$f":"IF(ISERROR(FIND(\"Item\",RawScores!CB5))=FALSE,1,IF(ISERROR(FIND(\"MDF\",RawScores!CB5)),0,\"MDF\"))","v":1},{"$f":"IF(ISERROR(FIND(\"Item\",RawScores!CC5))=FALSE,1,IF(ISERROR(FIND(\"MDF\",RawScores!CC5)),0,\"MDF\"))","v":1},{"$f":"IF(ISERROR(FIND(\"Item\",RawScores!CD5))=FALSE,1,IF(ISERROR(FIND(\"MDF\",RawScores!CD5)),0,\"MDF\"))","v":1},{"$f":"IF(ISERROR(FIND(\"Item\",RawScores!CE5))=FALSE,1,IF(ISERROR(FIND(\"MDF\",RawScores!CE5)),0,\"MDF\"))","v":1},{"$f":"IF(ISERROR(FIND(\"Item\",RawScores!CF5))=FALSE,1,IF(ISERROR(FIND(\"MDF\",RawScores!CF5)),0,\"MDF\"))","v":0},{"$f":"IF(ISERROR(FIND(\"Item\",RawScores!CG5))=FALSE,1,IF(ISERROR(FIND(\"MDF\",RawScores!CG5)),0,\"MDF\"))","v":0},{"$f":"IF(ISERROR(FIND(\"Item\",RawScores!CH5))=FALSE,1,IF(ISERROR(FIND(\"MDF\",RawScores!CH5)),0,\"MDF\"))","v":0},{"$f":"IF(ISERROR(FIND(\"Item\",RawScores!CI5))=FALSE,1,IF(ISERROR(FIND(\"MDF\",RawScores!CI5)),0,\"MDF\"))","v":"MDF"},{"$f":"IF(ISERROR(FIND(\"Item\",RawScores!CJ5))=FALSE,1,IF(ISERROR(FIND(\"MDF\",RawScores!CJ5)),0,\"MDF\"))","v":0},{"$f":"IF(ISERROR(FIND(\"Item\",RawScores!CK5))=FALSE,1,IF(ISERROR(FIND(\"MDF\",RawScores!CK5)),0,\"MDF\"))","v":0},{"$f":"IF(ISERROR(FIND(\"Item\",RawScores!CL5))=FALSE,1,IF(ISERROR(FIND(\"MDF\",RawScores!CL5)),0,\"MDF\"))","v":0},{"$f":"IF(ISERROR(FIND(\"Item\",RawScores!CM5))=FALSE,1,IF(ISERROR(FIND(\"MDF\",RawScores!CM5)),0,\"MDF\"))","v":0},{"$f":"IF(ISERROR(FIND(\"Item\",RawScores!CN5))=FALSE,1,IF(ISERROR(FIND(\"MDF\",RawScores!CN5)),0,\"MDF\"))","v":0},{"$f":"IF(ISERROR(FIND(\"Item\",RawScores!CO5))=FALSE,1,IF(ISERROR(FIND(\"MDF\",RawScores!CO5)),0,\"MDF\"))","v":0},{"$f":"IF(ISERROR(FIND(\"Item\",RawScores!CP5))=FALSE,1,IF(ISERROR(FIND(\"MDF\",RawScores!CP5)),0,\"MDF\"))","v":0},{"$f":"IF(ISERROR(FIND(\"Item\",RawScores!CQ5))=FALSE,1,IF(ISERROR(FIND(\"MDF\",RawScores!CQ5)),0,\"MDF\"))","v":0},{"$f":"IF(ISERROR(FIND(\"Item\",RawScores!CR5))=FALSE,1,IF(ISERROR(FIND(\"MDF\",RawScores!CR5)),0,\"MDF\"))","v":0},{"$f":"IF(ISERROR(FIND(\"Item\",RawScores!CS5))=FALSE,1,IF(ISERROR(FIND(\"MDF\",RawScores!CS5)),0,\"MDF\"))","v":0},{"$f":"IF(ISERROR(FIND(\"Item\",RawScores!CT5))=FALSE,1,IF(ISERROR(FIND(\"MDF\",RawScores!CT5)),0,\"MDF\"))","v":0},{"$f":"IF(ISERROR(FIND(\"Item\",RawScores!CU5))=FALSE,1,IF(ISERROR(FIND(\"MDF\",RawScores!CU5)),0,\"MDF\"))","v":0},{"$f":"IF(ISERROR(FIND(\"Item\",RawScores!CV5))=FALSE,1,IF(ISERROR(FIND(\"MDF\",RawScores!CV5)),0,\"MDF\"))","v":0},{"$f":"IF(ISERROR(FIND(\"Item\",RawScores!CW5))=FALSE,1,IF(ISERROR(FIND(\"MDF\",RawScores!CW5)),0,\"MDF\"))","v":0},{"$f":"IF(ISERROR(FIND(\"Item\",RawScores!CX5))=FALSE,1,IF(ISERROR(FIND(\"MDF\",RawScores!CX5)),0,\"MDF\"))","v":0},{"$f":"IF(ISERROR(FIND(\"Item\",RawScores!CY5))=FALSE,1,IF(ISERROR(FIND(\"MDF\",RawScores!CY5)),0,\"MDF\"))","v":0},{"$f":"IF(ISERROR(FIND(\"Item\",RawScores!CZ5))=FALSE,1,IF(ISERROR(FIND(\"MDF\",RawScores!CZ5)),0,\"MDF\"))","v":0},{"$f":"IF(ISERROR(FIND(\"Item\",RawScores!DA5))=FALSE,1,IF(ISERROR(FIND(\"MDF\",RawScores!DA5)),0,\"MDF\"))","v":0},{"$f":"IF(ISERROR(FIND(\"Item\",RawScores!DB5))=FALSE,1,IF(ISERROR(FIND(\"MDF\",RawScores!DB5)),0,\"MDF\"))","v":0},{"$f":"IF(ISERROR(FIND(\"Item\",RawScores!DC5))=FALSE,1,IF(ISERROR(FIND(\"MDF\",RawScores!DC5)),0,\"MDF\"))","v":0},{"$f":"IF(ISERROR(FIND(\"Item\",RawScores!DD5))=FALSE,1,IF(ISERROR(FIND(\"MDF\",RawScores!DD5)),0,\"MDF\"))","v":0},{"$f":"IF(ISERROR(FIND(\"Item\",RawScores!DE5))=FALSE,1,IF(ISERROR(FIND(\"MDF\",RawScores!DE5)),0,\"MDF\"))","v":0},{"$f":"IF(ISERROR(FIND(\"Item\",RawScores!DF5))=FALSE,1,IF(ISERROR(FIND(\"MDF\",RawScores!DF5)),0,\"MDF\"))","v":0},{"$f":"IF(ISERROR(FIND(\"Item\",RawScores!DG5))=FALSE,1,IF(ISERROR(FIND(\"MDF\",RawScores!DG5)),0,\"MDF\"))","v":0},{"$f":"IF(ISERROR(FIND(\"Item\",RawScores!DH5))=FALSE,1,IF(ISERROR(FIND(\"MDF\",RawScores!DH5)),0,\"MDF\"))","v":0},{"$f":"IF(ISERROR(FIND(\"Item\",RawScores!DI5))=FALSE,1,IF(ISERROR(FIND(\"MDF\",RawScores!DI5)),0,\"MDF\"))","v":0},{"$f":"IF(ISERROR(FIND(\"Item\",RawScores!DJ5))=FALSE,1,IF(ISERROR(FIND(\"MDF\",RawScores!DJ5)),0,\"MDF\"))","v":0},{"$f":"IF(ISERROR(FIND(\"Item\",RawScores!DK5))=FALSE,1,IF(ISERROR(FIND(\"MDF\",RawScores!DK5)),0,\"MDF\"))","v":0},{"$f":"IF(ISERROR(FIND(\"Item\",RawScores!DL5))=FALSE,1,IF(ISERROR(FIND(\"MDF\",RawScores!DL5)),0,\"MDF\"))","v":0},{"$f":"IF(ISERROR(FIND(\"Item\",RawScores!DM5))=FALSE,1,IF(ISERROR(FIND(\"MDF\",RawScores!DM5)),0,\"MDF\"))","v":0},{"$f":"IF(ISERROR(FIND(\"Item\",RawScores!DN5))=FALSE,1,IF(ISERROR(FIND(\"MDF\",RawScores!DN5)),0,\"MDF\"))","v":0},{"$f":"IF(ISERROR(FIND(\"Item\",RawScores!DO5))=FALSE,1,IF(ISERROR(FIND(\"MDF\",RawScores!DO5)),0,\"MDF\"))","v":0},{"$f":"IF(ISERROR(FIND(\"Item\",RawScores!DP5))=FALSE,1,IF(ISERROR(FIND(\"MDF\",RawScores!DP5)),0,\"MDF\"))","v":0},{"$f":"IF(ISERROR(FIND(\"Item\",RawScores!DQ5))=FALSE,1,IF(ISERROR(FIND(\"MDF\",RawScores!DQ5)),0,\"MDF\"))","v":0},{"$f":"IF(ISERROR(FIND(\"Item\",RawScores!DR5))=FALSE,1,IF(ISERROR(FIND(\"MDF\",RawScores!DR5)),0,\"MDF\"))","v":0},{"$f":"IF(ISERROR(FIND(\"Item\",RawScores!DS5))=FALSE,1,IF(ISERROR(FIND(\"MDF\",RawScores!DS5)),0,\"MDF\"))","v":0},{"$f":"IF(ISERROR(FIND(\"Item\",RawScores!DT5))=FALSE,1,IF(ISERROR(FIND(\"MDF\",RawScores!DT5)),0,\"MDF\"))","v":0},{"$f":"IF(ISERROR(FIND(\"Item\",RawScores!DU5))=FALSE,1,IF(ISERROR(FIND(\"MDF\",RawScores!DU5)),0,\"MDF\"))","v":0},{"$f":"IF(ISERROR(FIND(\"Item\",RawScores!DV5))=FALSE,1,IF(ISERROR(FIND(\"MDF\",RawScores!DV5)),0,\"MDF\"))","v":0},{"$f":"IF(ISERROR(FIND(\"Item\",RawScores!DW5))=FALSE,1,IF(ISERROR(FIND(\"MDF\",RawScores!DW5)),0,\"MDF\"))","v":0},{"$f":"IF(ISERROR(FIND(\"Item\",RawScores!DX5))=FALSE,1,IF(ISERROR(FIND(\"MDF\",RawScores!DX5)),0,\"MDF\"))","v":0},{"$f":"IF(ISERROR(FIND(\"Item\",RawScores!DY5))=FALSE,1,IF(ISERROR(FIND(\"MDF\",RawScores!DY5)),0,\"MDF\"))","v":0},{"$f":"IF(ISERROR(FIND(\"Item\",RawScores!DZ5))=FALSE,1,IF(ISERROR(FIND(\"MDF\",RawScores!DZ5)),0,\"MDF\"))","v":0},{"$f":"IF(ISERROR(FIND(\"Item\",RawScores!EA5))=FALSE,1,IF(ISERROR(FIND(\"MDF\",RawScores!EA5)),0,\"MDF\"))","v":0},{"$f":"IF(ISERROR(FIND(\"Item\",RawScores!EB5))=FALSE,1,IF(ISERROR(FIND(\"MDF\",RawScores!EB5)),0,\"MDF\"))","v":0},{"$f":"IF(ISERROR(FIND(\"Item\",RawScores!EC5))=FALSE,1,IF(ISERROR(FIND(\"MDF\",RawScores!EC5)),0,\"MDF\"))","v":0},{"$f":"IF(ISERROR(FIND(\"Item\",RawScores!ED5))=FALSE,1,IF(ISERROR(FIND(\"MDF\",RawScores!ED5)),0,\"MDF\"))","v":0},{"$f":"IF(ISERROR(FIND(\"Item\",RawScores!EE5))=FALSE,1,IF(ISERROR(FIND(\"MDF\",RawScores!EE5)),0,\"MDF\"))","v":0},{"$f":"IF(ISERROR(FIND(\"Item\",RawScores!EF5))=FALSE,1,IF(ISERROR(FIND(\"MDF\",RawScores!EF5)),0,\"MDF\"))","v":0},{"$f":"IF(ISERROR(FIND(\"Item\",RawScores!EG5))=FALSE,1,IF(ISERROR(FIND(\"MDF\",RawScores!EG5)),0,\"MDF\"))","v":0},{"$f":"IF(ISERROR(FIND(\"Item\",RawScores!EH5))=FALSE,1,IF(ISERROR(FIND(\"MDF\",RawScores!EH5)),0,\"MDF\"))","v":0},{"$f":"IF(ISERROR(FIND(\"Item\",RawScores!EI5))=FALSE,1,IF(ISERROR(FIND(\"MDF\",RawScores!EI5)),0,\"MDF\"))","v":0},{"$f":"IF(ISERROR(FIND(\"Item\",RawScores!EJ5))=FALSE,1,IF(ISERROR(FIND(\"MDF\",RawScores!EJ5)),0,\"MDF\"))","v":0},{"$f":"IF(ISERROR(FIND(\"Item\",RawScores!EK5))=FALSE,1,IF(ISERROR(FIND(\"MDF\",RawScores!EK5)),0,\"MDF\"))","v":0},{"$f":"IF(ISERROR(FIND(\"Item\",RawScores!EL5))=FALSE,1,IF(ISERROR(FIND(\"MDF\",RawScores!EL5)),0,\"MDF\"))","v":0},{"$f":"IF(ISERROR(FIND(\"Item\",RawScores!EM5))=FALSE,1,IF(ISERROR(FIND(\"MDF\",RawScores!EM5)),0,\"MDF\"))","v":0},{"$f":"IF(ISERROR(FIND(\"Item\",RawScores!EN5))=FALSE,1,IF(ISERROR(FIND(\"MDF\",RawScores!EN5)),0,\"MDF\"))","v":0},{"$f":"IF(ISERROR(FIND(\"Item\",RawScores!EO5))=FALSE,1,IF(ISERROR(FIND(\"MDF\",RawScores!EO5)),0,\"MDF\"))","v":0},{"$f":"IF(ISERROR(FIND(\"Item\",RawScores!EP5))=FALSE,1,IF(ISERROR(FIND(\"MDF\",RawScores!EP5)),0,\"MDF\"))","v":0},{"$f":"IF(ISERROR(FIND(\"Item\",RawScores!EQ5))=FALSE,1,IF(ISERROR(FIND(\"MDF\",RawScores!EQ5)),0,\"MDF\"))","v":0},{"$f":"IF(ISERROR(FIND(\"Item\",RawScores!ER5))=FALSE,1,IF(ISERROR(FIND(\"MDF\",RawScores!ER5)),0,\"MDF\"))","v":0},{"$f":"IF(ISERROR(FIND(\"Item\",RawScores!ES5))=FALSE,1,IF(ISERROR(FIND(\"MDF\",RawScores!ES5)),0,\"MDF\"))","v":0},{"$f":"IF(ISERROR(FIND(\"Item\",RawScores!ET5))=FALSE,1,IF(ISERROR(FIND(\"MDF\",RawScores!ET5)),0,\"MDF\"))","v":0},{"$f":"IF(ISERROR(FIND(\"Item\",RawScores!EU5))=FALSE,1,IF(ISERROR(FIND(\"MDF\",RawScores!EU5)),0,\"MDF\"))","v":0},{"$f":"IF(ISERROR(FIND(\"Item\",RawScores!EV5))=FALSE,1,IF(ISERROR(FIND(\"MDF\",RawScores!EV5)),0,\"MDF\"))","v":0},{"$f":"IF(ISERROR(FIND(\"Item\",RawScores!EW5))=FALSE,1,IF(ISERROR(FIND(\"MDF\",RawScores!EW5)),0,\"MDF\"))","v":0},{"$f":"IF(ISERROR(FIND(\"Item\",RawScores!EX5))=FALSE,1,IF(ISERROR(FIND(\"MDF\",RawScores!EX5)),0,\"MDF\"))","v":0},{"$f":"IF(ISERROR(FIND(\"Item\",RawScores!EY5))=FALSE,1,IF(ISERROR(FIND(\"MDF\",RawScores!EY5)),0,\"MDF\"))","v":0},{"$f":"IF(ISERROR(FIND(\"Item\",RawScores!EZ5))=FALSE,1,IF(ISERROR(FIND(\"MDF\",RawScores!EZ5)),0,\"MDF\"))","v":0},{"$f":"IF(ISERROR(FIND(\"Item\",RawScores!FA5))=FALSE,1,IF(ISERROR(FIND(\"MDF\",RawScores!FA5)),0,\"MDF\"))","v":0},{"$f":"IF(ISERROR(FIND(\"Item\",RawScores!FB5))=FALSE,1,IF(ISERROR(FIND(\"MDF\",RawScores!FB5)),0,\"MDF\"))","v":0},{"$f":"IF(ISERROR(FIND(\"Item\",RawScores!FC5))=FALSE,1,IF(ISERROR(FIND(\"MDF\",RawScores!FC5)),0,\"MDF\"))","v":0},{"$f":"IF(ISERROR(FIND(\"Item\",RawScores!FD5))=FALSE,1,IF(ISERROR(FIND(\"MDF\",RawScores!FD5)),0,\"MDF\"))","v":0},{"$f":"IF(ISERROR(FIND(\"Item\",RawScores!FE5))=FALSE,1,IF(ISERROR(FIND(\"MDF\",RawScores!FE5)),0,\"MDF\"))","v":0},{"$f":"IF(ISERROR(FIND(\"Item\",RawScores!FF5))=FALSE,1,IF(ISERROR(FIND(\"MDF\",RawScores!FF5)),0,\"MDF\"))","v":0},{"$f":"IF(ISERROR(FIND(\"Item\",RawScores!FG5))=FALSE,1,IF(ISERROR(FIND(\"MDF\",RawScores!FG5)),0,\"MDF\"))","v":0},{"$f":"IF(ISERROR(FIND(\"Item\",RawScores!FH5))=FALSE,1,IF(ISERROR(FIND(\"MDF\",RawScores!FH5)),0,\"MDF\"))","v":0},{"$f":"IF(ISERROR(FIND(\"Item\",RawScores!FI5))=FALSE,1,IF(ISERROR(FIND(\"MDF\",RawScores!FI5)),0,\"MDF\"))","v":0},{"$f":"IF(ISERROR(FIND(\"Item\",RawScores!FJ5))=FALSE,1,IF(ISERROR(FIND(\"MDF\",RawScores!FJ5)),0,\"MDF\"))","v":0},{"$f":"IF(ISERROR(FIND(\"Item\",RawScores!FK5))=FALSE,1,IF(ISERROR(FIND(\"MDF\",RawScores!FK5)),0,\"MDF\"))","v":0},{"$f":"IF(ISERROR(FIND(\"Item\",RawScores!FL5))=FALSE,1,IF(ISERROR(FIND(\"MDF\",RawScores!FL5)),0,\"MDF\"))","v":0},{"$f":"IF(ISERROR(FIND(\"Item\",RawScores!FM5))=FALSE,1,IF(ISERROR(FIND(\"MDF\",RawScores!FM5)),0,\"MDF\"))","v":0},{"$f":"IF(ISERROR(FIND(\"Item\",RawScores!FN5))=FALSE,1,IF(ISERROR(FIND(\"MDF\",RawScores!FN5)),0,\"MDF\"))","v":0},{"$f":"IF(ISERROR(FIND(\"Item\",RawScores!FO5))=FALSE,1,IF(ISERROR(FIND(\"MDF\",RawScores!FO5)),0,\"MDF\"))","v":0},{"$f":"IF(ISERROR(FIND(\"Item\",RawScores!FP5))=FALSE,1,IF(ISERROR(FIND(\"MDF\",RawScores!FP5)),0,\"MDF\"))","v":0},{"$f":"IF(ISERROR(FIND(\"Item\",RawScores!FQ5))=FALSE,1,IF(ISERROR(FIND(\"MDF\",RawScores!FQ5)),0,\"MDF\"))","v":0},{"$f":"IF(ISERROR(FIND(\"Item\",RawScores!FR5))=FALSE,1,IF(ISERROR(FIND(\"MDF\",RawScores!FR5)),0,\"MDF\"))","v":0},{"$f":"IF(ISERROR(FIND(\"Item\",RawScores!FS5))=FALSE,1,IF(ISERROR(FIND(\"MDF\",RawScores!FS5)),0,\"MDF\"))","v":0},{"$f":"IF(ISERROR(FIND(\"Item\",RawScores!FT5))=FALSE,1,IF(ISERROR(FIND(\"MDF\",RawScores!FT5)),0,\"MDF\"))","v":0},{"$f":"IF(ISERROR(FIND(\"Item\",RawScores!FU5))=FALSE,1,IF(ISERROR(FIND(\"MDF\",RawScores!FU5)),0,\"MDF\"))","v":0},{"$f":"IF(ISERROR(FIND(\"Item\",RawScores!FV5))=FALSE,1,IF(ISERROR(FIND(\"MDF\",RawScores!FV5)),0,\"MDF\"))","v":0},{"$f":"IF(ISERROR(FIND(\"Item\",RawScores!FW5))=FALSE,1,IF(ISERROR(FIND(\"MDF\",RawScores!FW5)),0,\"MDF\"))","v":0},{"$f":"IF(ISERROR(FIND(\"Item\",RawScores!FX5))=FALSE,1,IF(ISERROR(FIND(\"MDF\",RawScores!FX5)),0,\"MDF\"))","v":0},{"$f":"IF(ISERROR(FIND(\"Item\",RawScores!FY5))=FALSE,1,IF(ISERROR(FIND(\"MDF\",RawScores!FY5)),0,\"MDF\"))","v":0},{"$f":"IF(ISERROR(FIND(\"Item\",RawScores!FZ5))=FALSE,1,IF(ISERROR(FIND(\"MDF\",RawScores!FZ5)),0,\"MDF\"))","v":0},{"$f":"IF(ISERROR(FIND(\"Item\",RawScores!GA5))=FALSE,1,IF(ISERROR(FIND(\"MDF\",RawScores!GA5)),0,\"MDF\"))","v":0},{"$f":"IF(ISERROR(FIND(\"Item\",RawScores!GB5))=FALSE,1,IF(ISERROR(FIND(\"MDF\",RawScores!GB5)),0,\"MDF\"))","v":0},{"$f":"IF(ISERROR(FIND(\"Item\",RawScores!GC5))=FALSE,1,IF(ISERROR(FIND(\"MDF\",RawScores!GC5)),0,\"MDF\"))","v":0},{"$f":"IF(ISERROR(FIND(\"Item\",RawScores!GD5))=FALSE,1,IF(ISERROR(FIND(\"MDF\",RawScores!GD5)),0,\"MDF\"))","v":0},{"$f":"IF(ISERROR(FIND(\"Item\",RawScores!GE5))=FALSE,1,IF(ISERROR(FIND(\"MDF\",RawScores!GE5)),0,\"MDF\"))","v":0},{"$f":"IF(ISERROR(FIND(\"Item\",RawScores!GF5))=FALSE,1,IF(ISERROR(FIND(\"MDF\",RawScores!GF5)),0,\"MDF\"))","v":0},{"$f":"IF(ISERROR(FIND(\"Item\",RawScores!GG5))=FALSE,1,IF(ISERROR(FIND(\"MDF\",RawScores!GG5)),0,\"MDF\"))","v":0},{"$f":"IF(ISERROR(FIND(\"Item\",RawScores!GH5))=FALSE,1,IF(ISERROR(FIND(\"MDF\",RawScores!GH5)),0,\"MDF\"))","v":0},{"$f":"IF(ISERROR(FIND(\"Item\",RawScores!GI5))=FALSE,1,IF(ISERROR(FIND(\"MDF\",RawScores!GI5)),0,\"MDF\"))","v":0},{"$f":"IF(ISERROR(FIND(\"Item\",RawScores!GJ5))=FALSE,1,IF(ISERROR(FIND(\"MDF\",RawScores!GJ5)),0,\"MDF\"))","v":0},{"$f":"IF(ISERROR(FIND(\"Item\",RawScores!GK5))=FALSE,1,IF(ISERROR(FIND(\"MDF\",RawScores!GK5)),0,\"MDF\"))","v":0},{"$f":"IF(ISERROR(FIND(\"Item\",RawScores!GL5))=FALSE,1,IF(ISERROR(FIND(\"MDF\",RawScores!GL5)),0,\"MDF\"))","v":0},{"$f":"IF(ISERROR(FIND(\"Item\",RawScores!GM5))=FALSE,1,IF(ISERROR(FIND(\"MDF\",RawScores!GM5)),0,\"MDF\"))","v":0},{"$f":"IF(ISERROR(FIND(\"Item\",RawScores!GN5))=FALSE,1,IF(ISERROR(FIND(\"MDF\",RawScores!GN5)),0,\"MDF\"))","v":0},{"$f":"IF(ISERROR(FIND(\"Item\",RawScores!GO5))=FALSE,1,IF(ISERROR(FIND(\"MDF\",RawScores!GO5)),0,\"MDF\"))","v":0},{"$f":"IF(ISERROR(FIND(\"Item\",RawScores!GP5))=FALSE,1,IF(ISERROR(FIND(\"MDF\",RawScores!GP5)),0,\"MDF\"))","v":0},{"$f":"IF(ISERROR(FIND(\"Item\",RawScores!GQ5))=FALSE,1,IF(ISERROR(FIND(\"MDF\",RawScores!GQ5)),0,\"MDF\"))","v":0},{"$f":"IF(ISERROR(FIND(\"Item\",RawScores!GR5))=FALSE,1,IF(ISERROR(FIND(\"MDF\",RawScores!GR5)),0,\"MDF\"))","v":0},{"$f":"IF(ISERROR(FIND(\"Item\",RawScores!GS5))=FALSE,1,IF(ISERROR(FIND(\"MDF\",RawScores!GS5)),0,\"MDF\"))","v":0},{"$f":"IF(ISERROR(FIND(\"Item\",RawScores!GT5))=FALSE,1,IF(ISERROR(FIND(\"MDF\",RawScores!GT5)),0,\"MDF\"))","v":0},{"$f":"IF(ISERROR(FIND(\"Item\",RawScores!GU5))=FALSE,1,IF(ISERROR(FIND(\"MDF\",RawScores!GU5)),0,\"MDF\"))","v":0},{"$f":"IF(ISERROR(FIND(\"Item\",RawScores!GV5))=FALSE,1,IF(ISERROR(FIND(\"MDF\",RawScores!GV5)),0,\"MDF\"))","v":0},{"$f":"IF(ISERROR(FIND(\"Item\",RawScores!GW5))=FALSE,1,IF(ISERROR(FIND(\"MDF\",RawScores!GW5)),0,\"MDF\"))","v":0},{"$f":"IF(ISERROR(FIND(\"Item\",RawScores!GX5))=FALSE,1,IF(ISERROR(FIND(\"MDF\",RawScores!GX5)),0,\"MDF\"))","v":0},{"$f":"IF(ISERROR(FIND(\"Item\",RawScores!GY5))=FALSE,1,IF(ISERROR(FIND(\"MDF\",RawScores!GY5)),0,\"MDF\"))","v":0},{"$f":"IF(ISERROR(FIND(\"Item\",RawScores!GZ5))=FALSE,1,IF(ISERROR(FIND(\"MDF\",RawScores!GZ5)),0,\"MDF\"))","v":0},{"$f":"IF(ISERROR(FIND(\"Item\",RawScores!HA5))=FALSE,1,IF(ISERROR(FIND(\"MDF\",RawScores!HA5)),0,\"MDF\"))","v":0},{"$f":"IF(ISERROR(FIND(\"Item\",RawScores!HB5))=FALSE,1,IF(ISERROR(FIND(\"MDF\",RawScores!HB5)),0,\"MDF\"))","v":0},{"$f":"IF(ISERROR(FIND(\"Item\",RawScores!HC5))=FALSE,1,IF(ISERROR(FIND(\"MDF\",RawScores!HC5)),0,\"MDF\"))","v":0},{"$f":"IF(ISERROR(FIND(\"Item\",RawScores!HD5))=FALSE,1,IF(ISERROR(FIND(\"MDF\",RawScores!HD5)),0,\"MDF\"))","v":0},{"$f":"IF(ISERROR(FIND(\"Item\",RawScores!HE5))=FALSE,1,IF(ISERROR(FIND(\"MDF\",RawScores!HE5)),0,\"MDF\"))","v":0},{"$f":"IF(ISERROR(FIND(\"Item\",RawScores!HF5))=FALSE,1,IF(ISERROR(FIND(\"MDF\",RawScores!HF5)),0,\"MDF\"))","v":0},{"$f":"IF(ISERROR(FIND(\"Item\",RawScores!HG5))=FALSE,1,IF(ISERROR(FIND(\"MDF\",RawScores!HG5)),0,\"MDF\"))","v":0},{"$f":"IF(ISERROR(FIND(\"Item\",RawScores!HH5))=FALSE,1,IF(ISERROR(FIND(\"MDF\",RawScores!HH5)),0,\"MDF\"))","v":0},{"$f":"IF(ISERROR(FIND(\"Item\",RawScores!HI5))=FALSE,1,IF(ISERROR(FIND(\"MDF\",RawScores!HI5)),0,\"MDF\"))","v":0},{"$f":"IF(ISERROR(FIND(\"Item\",RawScores!HJ5))=FALSE,1,IF(ISERROR(FIND(\"MDF\",RawScores!HJ5)),0,\"MDF\"))","v":0},{"$f":"IF(ISERROR(FIND(\"Item\",RawScores!HK5))=FALSE,1,IF(ISERROR(FIND(\"MDF\",RawScores!HK5)),0,\"MDF\"))","v":0},{"$f":"IF(ISERROR(FIND(\"Item\",RawScores!HL5))=FALSE,1,IF(ISERROR(FIND(\"MDF\",RawScores!HL5)),0,\"MDF\"))","v":0},{"$f":"IF(ISERROR(FIND(\"Item\",RawScores!HM5))=FALSE,1,IF(ISERROR(FIND(\"MDF\",RawScores!HM5)),0,\"MDF\"))","v":0},{"$f":"IF(ISERROR(FIND(\"Item\",RawScores!HN5))=FALSE,1,IF(ISERROR(FIND(\"MDF\",RawScores!HN5)),0,\"MDF\"))","v":0},{"$f":"IF(ISERROR(FIND(\"Item\",RawScores!HO5))=FALSE,1,IF(ISERROR(FIND(\"MDF\",RawScores!HO5)),0,\"MDF\"))","v":0},{"$f":"IF(ISERROR(FIND(\"Item\",RawScores!HP5))=FALSE,1,IF(ISERROR(FIND(\"MDF\",RawScores!HP5)),0,\"MDF\"))","v":0},{"$f":"IF(ISERROR(FIND(\"Item\",RawScores!HQ5))=FALSE,1,IF(ISERROR(FIND(\"MDF\",RawScores!HQ5)),0,\"MDF\"))","v":0},{"$f":"IF(ISERROR(FIND(\"Item\",RawScores!HR5))=FALSE,1,IF(ISERROR(FIND(\"MDF\",RawScores!HR5)),0,\"MDF\"))","v":0},{"$f":"IF(ISERROR(FIND(\"Item\",RawScores!HS5))=FALSE,1,IF(ISERROR(FIND(\"MDF\",RawScores!HS5)),0,\"MDF\"))","v":0},{"$f":"IF(ISERROR(FIND(\"Item\",RawScores!HT5))=FALSE,1,IF(ISERROR(FIND(\"MDF\",RawScores!HT5)),0,\"MDF\"))","v":0},{"$f":"IF(ISERROR(FIND(\"Item\",RawScores!HU5))=FALSE,1,IF(ISERROR(FIND(\"MDF\",RawScores!HU5)),0,\"MDF\"))","v":0},{"$f":"IF(ISERROR(FIND(\"Item\",RawScores!HV5))=FALSE,1,IF(ISERROR(FIND(\"MDF\",RawScores!HV5)),0,\"MDF\"))","v":0},{"$f":"IF(ISERROR(FIND(\"Item\",RawScores!HW5))=FALSE,1,IF(ISERROR(FIND(\"MDF\",RawScores!HW5)),0,\"MDF\"))","v":0},{"$f":"IF(ISERROR(FIND(\"Item\",RawScores!HX5))=FALSE,1,IF(ISERROR(FIND(\"MDF\",RawScores!HX5)),0,\"MDF\"))","v":0},{"$f":"IF(ISERROR(FIND(\"Item\",RawScores!HY5))=FALSE,1,IF(ISERROR(FIND(\"MDF\",RawScores!HY5)),0,\"MDF\"))","v":0},{"$f":"IF(ISERROR(FIND(\"Item\",RawScores!HZ5))=FALSE,1,IF(ISERROR(FIND(\"MDF\",RawScores!HZ5)),0,\"MDF\"))","v":0},{"$f":"IF(ISERROR(FIND(\"Item\",RawScores!IA5))=FALSE,1,IF(ISERROR(FIND(\"MDF\",RawScores!IA5)),0,\"MDF\"))","v":0},{"$f":"IF(ISERROR(FIND(\"Item\",RawScores!IB5))=FALSE,1,IF(ISERROR(FIND(\"MDF\",RawScores!IB5)),0,\"MDF\"))","v":0},{"$f":"IF(ISERROR(FIND(\"Item\",RawScores!IC5))=FALSE,1,IF(ISERROR(FIND(\"MDF\",RawScores!IC5)),0,\"MDF\"))","v":0},{"$f":"IF(ISERROR(FIND(\"Item\",RawScores!ID5))=FALSE,1,IF(ISERROR(FIND(\"MDF\",RawScores!ID5)),0,\"MDF\"))","v":0},{"$f":"IF(ISERROR(FIND(\"Item\",RawScores!IE5))=FALSE,1,IF(ISERROR(FIND(\"MDF\",RawScores!IE5)),0,\"MDF\"))","v":0},{"$f":"IF(ISERROR(FIND(\"Item\",RawScores!IF5))=FALSE,1,IF(ISERROR(FIND(\"MDF\",RawScores!IF5)),0,\"MDF\"))","v":0},{"$f":"IF(ISERROR(FIND(\"Item\",RawScores!IG5))=FALSE,1,IF(ISERROR(FIND(\"MDF\",RawScores!IG5)),0,\"MDF\"))","v":0},{"$f":"IF(ISERROR(FIND(\"Item\",RawScores!IH5))=FALSE,1,IF(ISERROR(FIND(\"MDF\",RawScores!IH5)),0,\"MDF\"))","v":0},{"$f":"IF(ISERROR(FIND(\"Item\",RawScores!II5))=FALSE,1,IF(ISERROR(FIND(\"MDF\",RawScores!II5)),0,\"MDF\"))","v":0},{"$f":"IF(ISERROR(FIND(\"Item\",RawScores!IJ5))=FALSE,1,IF(ISERROR(FIND(\"MDF\",RawScores!IJ5)),0,\"MDF\"))","v":0},{"$f":"IF(ISERROR(FIND(\"Item\",RawScores!IK5))=FALSE,1,IF(ISERROR(FIND(\"MDF\",RawScores!IK5)),0,\"MDF\"))","v":0},{"$f":"IF(ISERROR(FIND(\"Item\",RawScores!IL5))=FALSE,1,IF(ISERROR(FIND(\"MDF\",RawScores!IL5)),0,\"MDF\"))","v":0},{"$f":"IF(ISERROR(FIND(\"Item\",RawScores!IM5))=FALSE,1,IF(ISERROR(FIND(\"MDF\",RawScores!IM5)),0,\"MDF\"))","v":0},{"$f":"IF(ISERROR(FIND(\"Item\",RawScores!IN5))=FALSE,1,IF(ISERROR(FIND(\"MDF\",RawScores!IN5)),0,\"MDF\"))","v":0},{"$f":"IF(ISERROR(FIND(\"Item\",RawScores!IO5))=FALSE,1,IF(ISERROR(FIND(\"MDF\",RawScores!IO5)),0,\"MDF\"))","v":0},{"$f":"IF(ISERROR(FIND(\"Item\",RawScores!IP5))=FALSE,1,IF(ISERROR(FIND(\"MDF\",RawScores!IP5)),0,\"MDF\"))","v":0},{"$f":"IF(ISERROR(FIND(\"Item\",RawScores!IQ5))=FALSE,1,IF(ISERROR(FIND(\"MDF\",RawScores!IQ5)),0,\"MDF\"))","v":0},{"$f":"IF(ISERROR(FIND(\"Item\",RawScores!IR5))=FALSE,1,IF(ISERROR(FIND(\"MDF\",RawScores!IR5)),0,\"MDF\"))","v":0},{"$f":"IF(ISERROR(FIND(\"Item\",RawScores!IS5))=FALSE,1,IF(ISERROR(FIND(\"MDF\",RawScores!IS5)),0,\"MDF\"))","v":0},{"$f":"IF(ISERROR(FIND(\"Item\",RawScores!IT5))=FALSE,1,IF(ISERROR(FIND(\"MDF\",RawScores!IT5)),0,\"MDF\"))","v":0},{"$f":"IF(ISERROR(FIND(\"Item\",RawScores!IU5))=FALSE,1,IF(ISERROR(FIND(\"MDF\",RawScores!IU5)),0,\"MDF\"))","v":0},{"$f":"IF(ISERROR(FIND(\"Item\",RawScores!IV5))=FALSE,1,IF(ISERROR(FIND(\"MDF\",RawScores!IV5)),0,\"MDF\"))","v":0},{"$f":"IF(ISERROR(FIND(\"Item\",RawScores!IW5))=FALSE,1,IF(ISERROR(FIND(\"MDF\",RawScores!IW5)),0,\"MDF\"))","v":0},{"$f":"IF(ISERROR(FIND(\"Item\",RawScores!IX5))=FALSE,1,IF(ISERROR(FIND(\"MDF\",RawScores!IX5)),0,\"MDF\"))","v":0},{"$f":"IF(ISERROR(FIND(\"Item\",RawScores!IY5))=FALSE,1,IF(ISERROR(FIND(\"MDF\",RawScores!IY5)),0,\"MDF\"))","v":0},{"$f":"IF(ISERROR(FIND(\"Item\",RawScores!IZ5))=FALSE,1,IF(ISERROR(FIND(\"MDF\",RawScores!IZ5)),0,\"MDF\"))","v":0},{"$f":"IF(ISERROR(FIND(\"Item\",RawScores!JA5))=FALSE,1,IF(ISERROR(FIND(\"MDF\",RawScores!JA5)),0,\"MDF\"))","v":0},{"$f":"IF(ISERROR(FIND(\"Item\",RawScores!JB5))=FALSE,1,IF(ISERROR(FIND(\"MDF\",RawScores!JB5)),0,\"MDF\"))","v":0},{"$f":"IF(ISERROR(FIND(\"Item\",RawScores!JC5))=FALSE,1,IF(ISERROR(FIND(\"MDF\",RawScores!JC5)),0,\"MDF\"))","v":0},{"$f":"IF(ISERROR(FIND(\"Item\",RawScores!JD5))=FALSE,1,IF(ISERROR(FIND(\"MDF\",RawScores!JD5)),0,\"MDF\"))","v":0},{"$f":"IF(ISERROR(FIND(\"Item\",RawScores!JE5))=FALSE,1,IF(ISERROR(FIND(\"MDF\",RawScores!JE5)),0,\"MDF\"))","v":0}]
[{"$f":"MID(CELL(\"address\",A1),2,FIND(\"$\",RIGHT(CELL(\"address\",A1),LEN(CELL(\"address\",A1))-2)))","v":"A"},{"$f":"MID(CELL(\"address\",B1),2,FIND(\"$\",RIGHT(CELL(\"address\",B1),LEN(CELL(\"address\",B1))-2)))","v":"B"},"C","D","E","F","G","H","I","J","K","L","M","N","O","P","Q","R","S","T","U","V","W","X","Y","Z","AA","AB","AC","AD","AE","AF","AG","AH","AI","AJ","AK","AL","AM","AN","AO","AP","AQ","AR","AS","AT","AU","AV","AW","AX","AY","AZ","BA","BB","BC","BD","BE","BF","BG","BH","BI","BJ","BK","BL","BM",{"$f":"MID(CELL(\"address\",BN1),2,FIND(\"$\",RIGHT(CELL(\"address\",BN1),LEN(CELL(\"address\",BN1))-2)))","v":"BN"},"BO","BP","BQ","BR","BS","BT","BU","BV","BW","BX","BY","BZ","CA","CB","CC","CD","CE","CF","CG","CH","CI","CJ","CK","CL","CM","CN","CO","CP","CQ","CR","CS","CT","CU","CV","CW","CX","CY","CZ","DA","DB","DC","DD","DE","DF","DG","DH","DI","DJ","DK","DL","DM","DN","DO","DP","DQ","DR","DS","DT","DU","DV","DW","DX","DY",{"$f":"MID(CELL(\"address\",DZ1),2,FIND(\"$\",RIGHT(CELL(\"address\",DZ1),LEN(CELL(\"address\",DZ1))-2)))","v":"DZ"},"EA","EB","EC","ED","EE","EF","EG","EH","EI","EJ","EK","EL","EM","EN","EO","EP","EQ","ER","ES","ET","EU","EV","EW","EX","EY","EZ","FA","FB","FC","FD","FE","FF","FG","FH","FI","FJ","FK","FL","FM","FN","FO","FP","FQ","FR","FS","FT","FU","FV","FW","FX","FY","FZ","GA","GB","GC","GD","GE","GF","GG","GH","GI","GJ","GK",{"$f":"MID(CELL(\"address\",GL1),2,FIND(\"$\",RIGHT(CELL(\"address\",GL1),LEN(CELL(\"address\",GL1))-2)))","v":"GL"},"GM","GN","GO","GP","GQ","GR","GS","GT","GU","GV","GW","GX","GY","GZ","HA","HB","HC","HD","HE","HF","HG","HH","HI","HJ","HK","HL","HM","HN","HO","HP","HQ","HR","HS","HT","HU","HV","HW","HX","HY","HZ","IA","IB","IC","ID","IE","IF","IG","IH","II","IJ","IK","IL","IM","IN","IO","IP","IQ","IR","IS","IT","IU","IV","IW",{"$f":"MID(CELL(\"address\",IX1),2,FIND(\"$\",RIGHT(CELL(\"address\",IX1),LEN(CELL(\"address\",IX1))-2)))","v":"IX"},"IY","IZ","JA","JB","JC","JD","JE"]